BEGIN:VCALENDAR
VERSION:2.0
PRODID:-//クリエイティブセンター大阪（CCO） - ECPv6.2.1//NONSGML v1.0//EN
CALSCALE:GREGORIAN
METHOD:PUBLISH
X-WR-CALNAME:クリエイティブセンター大阪（CCO）
X-ORIGINAL-URL:https://namura.cc
X-WR-CALDESC:クリエイティブセンター大阪（CCO） のイベント
REFRESH-INTERVAL;VALUE=DURATION:PT1H
X-Robots-Tag:noindex
X-PUBLISHED-TTL:PT1H
BEGIN:VTIMEZONE
TZID:Asia/Tokyo
BEGIN:STANDARD
TZOFFSETFROM:+0900
TZOFFSETTO:+0900
TZNAME:JST
DTSTART:20090101T000000
END:STANDARD
END:VTIMEZONE
BEGIN:VEVENT
DTSTART;VALUE=DATE:20090815
DTEND;VALUE=DATE:20090816
DTSTAMP:20260425T095202
CREATED:20230215T091628Z
LAST-MODIFIED:20230215T091639Z
UID:1155-1250294400-1250380799@namura.cc
SUMMARY:FREESTYLE LAB JAPAN TOUR
DESCRIPTION:*Freestyle Lab Japan tour\nSound produded by DJ KENTARO\nAUG.15.SAT 22:00 OPEN@名村造船所跡地\nADV:\2\,000 DOOR:\3\,000 \n日本人だから創れるものがある。違う角度からダンスフロアーから見続けてきたジャンルレスな日本人アーティストが集結！ \nhttp://www.myspace.com/freestylelabjapantour \n前売り情報(OSAKA)\nローソンチケット:0570-084-005(Lコード:53319)\nチケットぴあ:0570-02-9999(Pコード:329-041)\nイープラス:http://eplus.jp/fljt \n*当イベントは20歳未満の方のご入場は一切お断りさせて頂きます。\n入場の際には全ての方にIDチェックをさせて頂きますので、運転免許証、パスポート、住民基本台帳カード(写真付きのみ)、外国人登録証のいずれか(コピー不可)をお持ちください。流行も廃りも早い音楽シーン。\n日々チャートは塗り替えられ、昨年大ブレークしたアーティストが消えていくのも珍しいことではありません。\nしかしその反面、音楽の歴史を紐解くと一時代を築いたアーティストがいるのも事実です。\nジャンルや年代を問わず国境を越えて、熱狂的なファンを獲得した類稀なる才能を持つ者達も存在するのです。\n日本にも世界に誇れるアーティストがいます。\n欧米やアジア各国を渡り歩き、日の丸を背負ってオーディエンスの前に立っている男達がいるのは紛れもない事実です。\nジャンルやルーツは違えど信念を持って音楽に向き合い、自らの感性を研ぎ澄ませてきた者のみ到達できる新境地に達したアーティスト達…。 \n今年で2回目を迎える FREESTYLE LAB JAPAN TOUR はジャンルの壁を取り払い、世界的に高い評価を受ける日本人DJ/アーティストが一同に介し、東京・大阪の2大都市で開催します。 \nジャンルなし、ルールなし、そこにあるのは国境さえも超えることのできた感性のみ。日本人と言葉ではできないコミュニケーショを！ \nLINE UP:\nDJ KENTARO\nDJ KRUSH\nAKIHIRO NAMBA(Hi-STANDARD×ULTRA BRAIN)\nAKIRA TSUNEOKA(Hi-STANDARD/cbsmgfc five)\nDEXPISTOLS\nTetsushi Hiroyama(RYUKYUDISKO)\nYosuke Hiroyama(RYUKYUDISKO) \nJUSE(A SCORE DISC)\nKUNIMITSU&DJ YASUHISA(TETRA LOGISTICS)\nDJ MASAAKI FUJIMOTO \nVJ:\nKimgym \nDJ MASASHI&MC AOI(NEW GENERATION)\nDJ Aru\nDJ HI-C(KIREEK)\nDJ JUN(GRIND KRU)\nDJ YUDA\nHARUTAKA
URL:https://namura.cc/event/20090815/
ATTACH;FMTTYPE=image/jpeg:https://namura.cc/wp-content/uploads/2023/02/20090803-2009.08.15.22Flyeromoteh.jpg
END:VEVENT
BEGIN:VEVENT
DTSTART;VALUE=DATE:20090827
DTEND;VALUE=DATE:20090828
DTSTAMP:20260425T095202
CREATED:20230215T091459Z
LAST-MODIFIED:20230215T091508Z
UID:1153-1251331200-1251417599@namura.cc
SUMMARY:SOUND SHOCK 09' -関西軽音大学祭-
DESCRIPTION:３ステージ同時進行で行われる関西最大級のジョイントフェス \n◆日程：2009年8月27日(木)\nOPEN 11:30\nSTART 12:00 \n◆協力：神戸VARIT. \n◆チケット：2000円/1人\n(ドリンク制なし・前売/当日同料金) \n◆お問合せ先\n代表者：井上卓也 080-1431-9248　副代表者：三木要 080-3849-0648\nsoundshock2009@gmail.com ＜参加確定団体＞\n・関西学院大学「AVANTGARDE」\n・関西大学「BANDITZ」\n・甲南大学軽音楽部\n・兵庫教育大学軽音楽部\n・大手前大学軽音楽部\n・宝塚造形芸術大学軽音楽部\n・武庫川女子大学軽音楽部\n・京都教育大学「Freak Box」\n・大阪経済法科大文化会音楽研究会\n・相愛大学軽音楽部\n・近畿医療大学軽音楽部\n・大阪歯科大学軽音楽部\n・兵庫医療大学軽音楽部\n・立命館大学軽音楽部\nand more… \n＜スペシャルゲスト＞\n●THE BAWDIES\n●UNISON SQUARE GARDEN
URL:https://namura.cc/event/20090827/
ATTACH;FMTTYPE=image/jpeg:https://namura.cc/wp-content/uploads/2023/02/20090811-090827_SS_A5_FRONT.jpg
END:VEVENT
BEGIN:VEVENT
DTSTART;VALUE=DATE:20090829
DTEND;VALUE=DATE:20090830
DTSTAMP:20260425T095202
CREATED:20230215T091323Z
LAST-MODIFIED:20230215T091323Z
UID:1150-1251504000-1251590399@namura.cc
SUMMARY:FREE STYLE OUTRO’6
DESCRIPTION:2009/8/29@STUDIO PARTITA\nOPEN 17:30 START 18:00-ALL NIGHT\nADV 3\,500-YEN\nADM 4\,500-YEN \n-LIVE GROOVE-\n★MAD BALL[NYC]\n★SAND\n★DJ BAKU HYBRID DHARMA BAND\n★NUMB\n★EDGE OF SPIRIT\n★DAMAGE\n★palm\n★fate in spiral\n★BURNING SIGN \n-ON THE TURNTABLE-\n★OZROSAURUS\n★般若\n★AK-69 a.k.a. Kallassy Nikoff\n★ANARCHY\n★HB FAMILIA\n★WOLFPACK\n★4WD\,Smoking-P\,T-es\n★SHIKI DOSGROW ARMY’Z\n★STARZ BLOCK\n★TORNADO \n-BLOCK PARTY DJ-\n★DJ TANKO\n★DJ GEORGE\n★DJ JHETT a.k.a. YAKKO\n★DJ TY”LUV”HUNTER\n★DJ RYOW\n★DJ BIGAI\n★DJ DOLLPHIN\n★DJ B=BALL\n★DJ TAKE\n★DJ COSSI\n★DJ Woody from C.S.M\n★DJ MIYAZI from C.S.M\n★DJ CARRELA\n★DJ HIDE\n★DJ SAYEED\n★DJ IKB \n-GRAFFITI-\n★CMK \n-BLOCK PARTY HOST MC-\n★MOGGYY\n★MAINTAIN
URL:https://namura.cc/event/20090829/
ATTACH;FMTTYPE=image/jpeg:https://namura.cc/wp-content/uploads/2023/02/20090613-o0500036210187457346.jpg
END:VEVENT
END:VCALENDAR