BEGIN:VCALENDAR
VERSION:2.0
PRODID:-//クリエイティブセンター大阪（CCO） - ECPv6.2.1//NONSGML v1.0//EN
CALSCALE:GREGORIAN
METHOD:PUBLISH
X-WR-CALNAME:クリエイティブセンター大阪（CCO）
X-ORIGINAL-URL:https://namura.cc
X-WR-CALDESC:クリエイティブセンター大阪（CCO） のイベント
REFRESH-INTERVAL;VALUE=DURATION:PT1H
X-Robots-Tag:noindex
X-PUBLISHED-TTL:PT1H
BEGIN:VTIMEZONE
TZID:Asia/Tokyo
BEGIN:STANDARD
TZOFFSETFROM:+0900
TZOFFSETTO:+0900
TZNAME:JST
DTSTART:20100101T000000
END:STANDARD
END:VTIMEZONE
BEGIN:VEVENT
DTSTART;VALUE=DATE:20100925
DTEND;VALUE=DATE:20100926
DTSTAMP:20260423T210849
CREATED:20230215T065621Z
LAST-MODIFIED:20230215T065632Z
UID:944-1285372800-1285459199@namura.cc
SUMMARY:Zettai-Mu the 15th Anniversary 2010
DESCRIPTION:日程： 2010.9.25 (SAT)\n場所： CCO 名村造船所跡地\nBLACK CHAMBER & WHITE CHAMBER & studio PARTITA & Red Flame \n第２段アーティストに、DJ KENTARO、OKI DUB AINU BAND、\nMASAMATIX(AUDIO ACTIVE)、OLIVE OIL、若野 桂等が追加出演決定！！ \n《ZETTAI-MU 15th ANNIVERSARY 特設サイト》\nhttp://www.zettai-mu.net/15th/ \n《チケット詳細ページ》\nhttp://www.zettai-mu.net/15th/ticket/index.html \n住所：〒559-0011　大阪市住之江区北加賀屋4-1-55\nTEL : 06-4702-7085（BLACK CHAMBER事務局）\nE-MAIL : 15th@zettai-mu.net（Zettai-Mu） \n（現時点で第２段の出演者のみの記載になっています。今後の出演アーティストの追加\n等の詳細等は、ホームページ、フライヤー等をご覧下さい。） \n□■□■□■□■□■□■□■□■□■□■□■□■□■□■□■□■□■□■□■□■ \nチケット詳細 \n★★ ZETTAI-MU.NET先行前売券：２０１０年７月４日（日）? 受付中 ★★\n【前売券 – ５０００円】\n【前売券”グループ割”４枚１セット – １８０００円】\n【前売券”15周年手拭い付き” – ５５００円】*特設サイトのみ* \n★★ プレイガイド先行前売券：２０１０年７月１１日（日）? ★★\n【前売券 – ５０００円】\n【前売券”グループ券”４枚１セット – １８０００円】 \n◎ チケットぴあ　（P-CODE：59105） http://t.pia.jp/\n◎ ローソンチケット　（L-CODE：111-136）　http://l-tike.com/\n◎ e+（イープラス） http://eplus.jp/　（”ZETTAI-MU”でご検索頂けます。） \n★★ 一般チケット販売：２０１０年７月２０日（火）? ★★ \n【前売券 – ５０００円】\n【前売券”グループ割”４枚１セット – １８０００円】\n【前売券”15周年手拭い付き” – ５５００円】*特設サイトのみ* \n◎ チケットぴあ　（P-CODE：59105） http://t.pia.jp/\n◎ ローソンチケット　（L-CODE：111-136）　http://l-tike.com/\n◎ e+（イープラス） http://eplus.jp/　（”ZETTAI-MU”でご検索頂けます。）\n◎ ZETTAI-MU 15th ANNIVERSARY 特設サイト　http://www.zettai-mu.net/15th\n◎ 各プレイガイド、全国のローソン、ファミリーマート、チケットぴあ、サークルK・\nサンクス、ZETTAI-MU 15th ANNIVERSARY 特設サイト、協力各店舗にてご購入頂けます。 \n※ 15周年手拭い付き前売りチケットの販売は、15th特設サイトのみとなっています。\n※ 取り扱い店舗ですが、後日フライヤー＆当ホームページ等にて発表致します。（７\n月２１日 発売開始）\n※ 入場券は規定枚数に達し次第、販売を終了させて頂きますので、\n当日券の販売が行われない場合もございます。ご希望の方はなるべく早めにご購\n入下さい。 \n□■□■□■□■□■□■□■□■□■□■□■□■□■□■□■□■□■□■□■□■
URL:https://namura.cc/event/20100925/
ATTACH;FMTTYPE=image/jpeg:https://namura.cc/wp-content/uploads/2023/02/20100717-20100925_v2_a3.jpg
END:VEVENT
END:VCALENDAR