BEGIN:VCALENDAR
VERSION:2.0
PRODID:-//クリエイティブセンター大阪（CCO） - ECPv6.2.1//NONSGML v1.0//EN
CALSCALE:GREGORIAN
METHOD:PUBLISH
X-WR-CALNAME:クリエイティブセンター大阪（CCO）
X-ORIGINAL-URL:https://namura.cc
X-WR-CALDESC:クリエイティブセンター大阪（CCO） のイベント
REFRESH-INTERVAL;VALUE=DURATION:PT1H
X-Robots-Tag:noindex
X-PUBLISHED-TTL:PT1H
BEGIN:VTIMEZONE
TZID:Asia/Tokyo
BEGIN:STANDARD
TZOFFSETFROM:+0900
TZOFFSETTO:+0900
TZNAME:JST
DTSTART:20100101T000000
END:STANDARD
END:VTIMEZONE
BEGIN:VEVENT
DTSTART;VALUE=DATE:20101023
DTEND;VALUE=DATE:20101024
DTSTAMP:20260423T194909
CREATED:20230215T065214Z
LAST-MODIFIED:20230215T065214Z
UID:938-1287792000-1287878399@namura.cc
SUMMARY:bud music & THE STARFESTIVAL presents music festival in osaka『D!SPORT』
DESCRIPTION:2010年10月23日（土）\nOPEN　22：00 \n【前売】2\,500円\n【当日】3\,000円\n【学生】2\,000円＜要証明書＞\n【グループ割】(4枚1セット)7\,500円\n古い歴史と様々な文化が混在する古都、京都の個性あふれるアーティストの活性化を目指す\nbud music\,incと一緒にイベントを開催！！ \n■出演 \nDACHAMBO\n日本が宇宙に誇るサイケデリックJAMBAND、もしくは快楽探求楽団。ツインドラムにディジュリドゥー、極太ベース、爆音ギター、そしてデジタル音からなる、ジャム、トランス、ラテン、ファンク、サイケ、オーガニック、民族音楽といったジャンルの枠をひょいひょいと変幻自在に飛び越えるPEACE＆SMILEに溢れた彼らのライブは、自分達とその場に息づく空気、居合わせたお客さんとのバイブレーションの交換から生まれ、常に変化しつづける形容のしがたい、することの出来ない音を産み続けてゆく。それは「人が踊る」ことへの初期衝動を覚醒させる中毒性をもったサウンドであり、現世と彼岸の境界線を遥かに越えてビヨンド・ビリーヴな踊りのサークルから生まれるカオスでもある。そんなDACHAMBOの世界観にグイっと惹き付けられた老若男女によって、草の根的に”DACHAMBO村”日々拡大中。gravity freeデザインのド派手なバイオディーゼルBUSに乗り全国のFESやPARYに駆け\nつけてはシーンを騒がし、ついには『朝霧JAM’08』ではオオトリに抜擢、2009年も『FUJI ROCK FESTIVAL』/『RISING SUN ROCK FESTIVAL』/『SunSet Live』等のビッグ・フェスを総ナメにしたのも記憶に新しいところ。 2010年も待望のNewアルバム発売、リリースツアー、各地の夏フェス出演と目が離せない。 \nCro-magnon (Jazzy Sport )\n1996年、米国ボストンにて、Dr＆Per:大竹重寿、 G&B:コスガツヨシ、Key:金子巧が出会いジャムを始める。 99年帰国後、Loop Junktionを結成。1枚のミニアルバム、\n2枚のフルアルバムをリリースし2004年惜しまれつつも活動停止。同年、進化した三人が原点に立ち返り、cro-magnonとして活\n動開始。ジャンルを軽く超越したgrooveでトリオの可能性を追求中。ステージの大小を問わず必ずオーディエンスを踊らせる。韓国や東\n南アジアでも人気爆発。2009年には2度目のヨーロッパツアーを成功させ、同年8月５日に通算4枚目のフルアルバム\nをリリース！現在2010年12月リリース予定のcro-magnon初となる全曲Vocalist とのコラボアルバム制作中。 \nSOFT\n京都が世界に誇るスペース・ジャム・バンド。野外でのライブや、各地でのDIY なパーティー、クラブ、時には大きなフェスで、10年以上に渡りわたりパーティーピープルと特別な時間を共有してきたシーンのパイオニア。太古の記憶を呼び起こすマジカルな宇宙感覚に、ポリリズミックなアフロビートやファンク的なダイナミズムを併せ持つ唯一無二のサウンド！これまでに6枚のオリジナル・アルバムと、1枚のリミックス・アルバム、アメリカ・ツアーでのライブを収録した「Live at Westcott House Garden」をリリース。新しいメン\nバーが加わって録音された2009年リリースのアルバム「The Whole World Is Sacred\nSound Music Touches You」は、彼らの新しいスタンダード。2010年7月7日にはベスト・ライブ盤「Live Touches You」をリリース、更にはJUZU a.k.a. MOOCHYとのコラヴォレー\nションリリースも予定 !!\nwww.softribe.jp\nwww.myspace.com/softribe \nNabowa\n2004年4月、山本啓(ヴァイオリン)、景山奏(ギター)、川上優(ドラム/パーカッション)の三人で活動をスタート し、 2006年3月、堀川達(ベース)が加入。ストリートライブを中心に\n活動し、ダブ、ジャズ、ロック、アンビエント、現代音楽など、様々なジャンルを取り入れたインプロビゼーション(即興)で構成されたライブが好評を博し、ライブハウス、クラブ、ストリート、百貨店、寺院、カフェ、バー、結婚式場などなど、瞬く間に多方面からライブオファーが殺到。聴き手が自由にその曲を創造することができ、老若男女、国籍問わず、誰もが心奪われる暖かなメロディーが唯一無二の世界観を放つバンドとして圧倒的支持を得る。2007年10月にはデビュー12インチ『Pole Pole/Continental Landscape』を発表、2008年3月に\nタワーレコード限定ミニ・アルバム『River』、同年5月にはファースト・アルバム『flow』を発表、また、これに伴った初の全国ツアを行い各地で好評を得た。2009 年2月にはミニ・アルバム『view』、4月には\nリミックス・アルバム『Re-flow』と立て続けに発表し、今春5月12日には2年振りとなる待望のセカンド・アルバム『Nabowa』を発表！The Baker Brothersや、Tommy Guerreroといったビッグネームと\nも競演し、FUJI ROCK FESTIVAL’10、FESTA de RAMA’10、SUNSET LIVE 2009 & 2010、Natural\nHigh！’10をはじめ、多数のフェスにも出演、更には時計メーカー『CITIZEN\nATTESA』の最新PVの音楽を担当するなど、シーンを代表する人気バンドへと成長を続けている。\nofficial website : www.nabowa.com\nmyspace : www.myspace.com/nabowa \nEXPE.NISHI “INVISIBLE DUO”\nYOSHITAKE EXPE・西滝太 (from PARA)による、スペースギターとシンセサイザーの音が溶け合い、暖かく透明で浮遊感ある未知の音楽２重奏。既に音楽関係者から絶賛されている1stアルバムは、2010/9/29リリース予定。HPとライブ会場にて視聴可能＆先行発売中。 \nあらかじめ決められた恋人達へ\n鍵盤ハーモニカｘベースｘドラムスｘテルミンｘDUB P.A.ｘDUB照明からなる叙情派エレクトロ・ダブ・バンド。これまでに4枚のフルアルバム『釘』（03年）、『ブレ』（05年）、『カラ』（08 年）、『ラッシュ』（09年）を\n発表。そのほか、あがた森魚、はっぴぃえんど、加藤和彦、等のアルバム／リミックスワークに参加する一方で、映像的なセンスを持った音楽性が高く評価され、映画音楽、演劇音楽の製作、バンドのプロデュースも手掛けている。現在、ニューアルバム制作中。 \n環ROY\nラッパー/MC。2006年に1stアルバム「少年モンスター」でソロデビュー。2010年には2ndアルバム「BREAK BOY」をリリース、七尾旅人を招いたリード曲「Break Boy in the Dream」\nが話題となる。その他、ソロと並行してOLIVE OILや鎮座DOPENESS、□□□、Fragment、Eccy、NEWDEAL、DJ YUI、DJ MOTIVEなどのアーティストとコラボレート、5枚のミニアルバ\nムと4枚のレコードを発表。FUJI ROCK FESTIVAL’09出演。ヒップホップを軸に、様々な音楽を咀嚼する独自の活動でフィールドを拡大している。\nhttp://www.tamakiroy.com/ \nやけのはら＆ドリアン\n年間100本以上の多種多様なパーティーに出演、リリースするMIX CDの評価も高い、DJ／ラッパーであり、バンド「younGSounds」ではサンプラー?ボーカルを担当している。2010年夏、ソロ・ラップ・アルバム「THIS NIGHT IS STILL YOUNG」を\nリリース。\nhttp://yakenohara.blog73.fc2.com/ \nDJ YOGURT & KOYAS\nDJ/クリエイターのDJ YOGURTと、エンジニア/DJ/クリエイターのKOYASが2007年に京都のジャムバンドNABOWAの1ST シングル曲”POLE POLE”を共同でリミックスしたのを契機にコンビを結\n成。その後日本を代表するジャムバンドの一つDACHAMBOやTEGWONの曲をリミックスしてそれぞれが12インチシングルとしてリリースされ全て完売。DJ 光、EYE(BOREDOMS)、DJ KENTやALTZらに賞賛される\n等高い評価を得る。他に曽我部恵一のレーベルROSE RECORDのコンピレーション”PERFECT!”やSWC、RAMBLINGなどのレーベルコンピに曲を提供した後、10 年3月にTHIRD EARから1stアルバム”CHILL OUT”をリリース\nして各方面で話題 を集める。YOGURT の15年を越えるDJキャリアと1万枚以上の所蔵レコードから得たインスピレーションを、最新のソフトウェア事情に精通していてAPPLE認定システムアドミニストレーターでもあるKOYASが卓越した楽曲制作能力で「プロ」のクオリティーの楽曲に仕上げる手腕に定評があり、サイケデリックをも感じさせるハードなダンスナンバーから、眠る時に聴くようなアンビエント、ソウルフルな歌ものまで追求する音楽性は奥深く幅広い。2010年春に1stアルバム “CHILL OUT”リリース後は毎月DOMMUNEやFUJI ROCK FES\n等各所でライブをおこない好評を博している。10年冬には”ダンスアルバム”をリリースする予定で、9月には先行12インチシングルINTO THE PEAKをリリース！ \nADALTZ\nFLOWER OF LIFEを核に\,トラックライブ・DJ・スタジオワークを様々な名義を使い分け、しかける奇人。U.K.「BEAR FUNK」、US 「DFA」、「LUNAFLICKS」\,JP「時空」レーベルからのアルバ\nムやepのリリースで知られる。ローカルからフェスまでを自由に渡り歩き、アルツの愉快で不思議な音世界はゆっくりとだが確実に浸透中!!! WALTZ、ADaltz名義でのブート制作や、国内外のアー\nティストの数々のリミックスプロダクションなど、今後も目がはなせない存在である。近作では、BOREDOMSのリミックス、 UKAWANIMATIONへの参加やCMのプロダクションなどでも手腕を振る\nう。EMジャパンより、70S` サンフランシスコジャズの巨匠ローランド P. ヤングのエディットアルバム Escape : The Reconstruction of Isophonic Boogie Woogie を世界同時\nリリース。そして、自身のレーベルAltzmusicaもスタート\nhttp://www.altzmusica.com\nhttp://www.myspace.com/altzmusica \nAFNICA\n2007年結成その瞬間にやりたい音楽を追求しセッションを重ね曲を創作その音はジャズをベースにロックやダブ、ドラムンベース、レゲエなど枠に囚われず、様々な心象や情景を映し出す結成一年目から雑誌やラジオに取り上げられ、MIMAMI\nWHEEL2009ではFM802のDJ中島ヒロトの番組で野外で見たいアーティストに選ばれpush\nup をうけ、当日フロアを満員に。様々なフェスに出演し、各地で観客の胸に熱い感動を焼き付け、国内外のアーティストに高い評価を受けるまた、結成と同時に主催イベント“Impression”をはじめ、去年からは、みんなの笑顔が平和のかけら、をコンセプトにngoma、JABBER\nLOOPと“piece of PEACE”を共同主催している。 \nTAN IKEDA \nナカムライタル \nPODD \nSHINYA \nYASUHISA \nLIGHTING:YAMACHANG\nVJ:HASIM\nnatural food village(FOOD)\nSOTO(FOOD)\n世界食堂(FOOD)\nDestine(水タバコ)\nJAPONICA(Music Store) \n■チケット取扱\nチケットぴあ\n0570-02-9999 (P-code : 117-801) \nローソンチケット\n0570-084-005 (L-code : 59334) \nCN playguide\n0570-08-9999 \ne+ http://eplus.jp \n■問合せ\nTRIANGLE (06-6212-2264 begin_of_the_skype_highlighting              06-6212-2264      end_of_the_skype_highlighting begin_of_the_skype_highlighting              06-6212-2264      end_of_the_skype_highlighting)\nJAPONICA (075-211-8580)\nNEWTONE RECORDS (06-6281-0403)\nnatural food Village (075-712-3372)\nDestine (06-6363-6341)\nSC WORLD (06-6599-8948)\nGRIND RECORDS (06-6245-2439)\ndigmeout cafe (06-6213-1007)\nレストアの森 (075-212-7756)
URL:https://namura.cc/event/20101023/
ATTACH;FMTTYPE=:
END:VEVENT
BEGIN:VEVENT
DTSTART;VALUE=DATE:20101030
DTEND;VALUE=DATE:20101031
DTSTAMP:20260423T194909
CREATED:20230215T064927Z
LAST-MODIFIED:20230215T064935Z
UID:936-1288396800-1288483199@namura.cc
SUMMARY:LAB3 11th Anniversary『RUNNIN'』
DESCRIPTION:2010年10月30日（土）\nopen 15:00　start 16:00　close 22:00 \n【前売】3\,000円\n【当日】3\,500円\n＊別途1ドリンク代 500円\nダンススクール スタジオLAB3の11周年記念パーティー、「RUNNIN’」開催！ \n■LAB3 DANCER\nGIDDAP\, HEX BEX＋sucreamgoodman\, MAV●Z\, NANA＋Zipp 69.＋BEAST\,\nOUTSET\, SAKURA\, TRUST\, WORK SNAKER\, ジャスタブーブー \n■INSTRUCTOR WORK\nAI(VENOM)\, CHEKE(HEX BEX)\, CHIKA(STEP WORKS)\,\nFUZZIN(GIDDAP\, BNL\, 鼓舞道)\, HAL(OUTSET)\, Hi-SAE(GANG☆MANISH)\,\nKIE(Shawty4\, 大阪☆おとめちっくがーるず)\, KUCHA(HEX BEX)\,\nKYOKO(HARD CORE J)\, MAYU(VERY)\, MEG(BABY JACK)\, MIHO(GEMINI)\,\nMIO(獅カカケケ\, 大阪☆おとめちっくがーるず)\, NAMI(PINK DIP\, DOWNY)\,\nNAOMI(VENOM)\, NENE(SAKURA)\, QUE(RAJAH-BROOKS)\,\nTAICHI(ジャスタブーブー)\, TAKE(GROOVIN/SLASH)\,\nTAKENO(WORK SNAKER)\, TATSUYA(GIDDAP\, BNL\, 鼓舞道)\,\nTOM(1981\, TRUST)\, T☆riy(BOOGIE TRAP)\, yuki(MAV●Z\, 0919)\,\nよ?へい(sucreamgoodman) \n■HOST MC\nキー暴(A-Q-A) \n■VJ\nVJXY \n■PHOTO SHOOTER\nB-boogie \n■OPENING DJ\nDJ 551(ROOKIE\, BINGO) \n■BLOCK PARTY\n▼CRAZY MONDAY\n[SOUND]\nMAKE LOVE SOUND\, SOUND ENERGY\, らくらCREW\nand more… \n▼HOUSE BLOCK PARTY\n(Lovers Rock\, The 5 Circle\, So Deep\, Monday Channel\, 4 Rapture\, Staple)\n[DJ]\nK-Katsu\, masaaki\, Naomi K.\, Canoo\n[STAGE DANCER]\nikigai(PE & sakapon)\, Cat Whisker(Mutsu\, Kana\, Sana)\,\ndualleaper(はっしー & なおみ)\, Pulsecode(さっこ & 恵子akaうっず)\n[MC]\nYUKARI \n▼LIBERALISM\n[DJ]\nURATA\, KAN\n[HOST MC]\nSAL the soul\n[SHOT LIVE]\nBOIL RHYME\, コッペパン\n[DANCE]\nIGAKI＋KATSUYA＋KEIJI\, WOOZY\, DONUTS\, So!Yummy\, LOCA\nand more… \n■FOOD\n炭焼笑店 陽\, フリースタイル居酒屋 ゆめ八 \n■DRINK\nフリースタイル居酒屋 ゆめ八 \n■GOODS BOOTH\nASHANTie For TUNNEL\, BOMBSHELL\, Brick Entertainment\, Funky fruit\,\nINSIDE OUTxxx\, Lovers Rock & The 5 Circle\, MAPLE COMICS\, RUNNIN’\, VIP \n■チケット取扱\nダンススクール スタジオLAB3\nTEL 06-6538-2057\nWEB http://www.studio-lab3.com \nダンススクール スタジオLAB3 神戸\nTEL 078-331-5585\nWEB http://dance-lab3.jp \nダンススクール スタジオLAB3 西宮\nTEL 078-331-5585\nWEB http://nishinomiya.dance-lab3.jp \nチケットぴあ　TEL 0570-02-9999 (Pコード:120-502) \nローソンチケット　TEL 0570-084-005 (Lコード:52277) \nCNプレイガイド　TEL 0570-08-9999 \ne＋　http://eplus.jp \n■問合せ\nダンススクール スタジオLAB3\nTEL 06-6538-2057\nWEB http://www.studio-lab3.com
URL:https://namura.cc/event/20101030/
ATTACH;FMTTYPE=:
END:VEVENT
END:VCALENDAR