BEGIN:VCALENDAR
VERSION:2.0
PRODID:-//クリエイティブセンター大阪（CCO） - ECPv6.2.1//NONSGML v1.0//EN
CALSCALE:GREGORIAN
METHOD:PUBLISH
X-ORIGINAL-URL:https://namura.cc
X-WR-CALDESC:クリエイティブセンター大阪（CCO） のイベント
REFRESH-INTERVAL;VALUE=DURATION:PT1H
X-Robots-Tag:noindex
X-PUBLISHED-TTL:PT1H
BEGIN:VTIMEZONE
TZID:Asia/Tokyo
BEGIN:STANDARD
TZOFFSETFROM:+0900
TZOFFSETTO:+0900
TZNAME:JST
DTSTART:20110101T000000
END:STANDARD
END:VTIMEZONE
BEGIN:VEVENT
DTSTART;VALUE=DATE:20110717
DTEND;VALUE=DATE:20110718
DTSTAMP:20260423T020253
CREATED:20230214T094220Z
LAST-MODIFIED:20230214T094220Z
UID:817-1310860800-1310947199@namura.cc
SUMMARY:THE STAR FESTIVAL -2011 SUMMER-
DESCRIPTION:OPEN 20:00\n今年も開催!! 恒例夏のスターフェスティバルが今年も開催決定！！\n最強タッグが集結！！ \nADV:\3\,500 DOOR:\4\,000\nグループ割:\10\,500(4枚セット/1枚\2\,625)\n※グループ割なら3枚分の料金で4名入場できます。 \nチケットぴあ 0570-02-9999（P-code：140-940）\nローソンチケット 0570-084-005（L-code：52452）\nCN playguide 0570-08-9999\ne+ http://eplus.jp
URL:https://namura.cc/event/the-star-festival-2011-summer/
ATTACH;FMTTYPE=image/jpeg:https://namura.cc/wp-content/uploads/2023/02/20110618-stafes2011summer_flyer_front.jpg
END:VEVENT
BEGIN:VEVENT
DTSTART;VALUE=DATE:20110723
DTEND;VALUE=DATE:20110724
DTSTAMP:20260423T020253
CREATED:20230214T094106Z
LAST-MODIFIED:20230214T094117Z
UID:815-1311379200-1311465599@namura.cc
SUMMARY:THE CARNIVAL 2011 -5th Anniversary-
DESCRIPTION:開場:13:00 / 終了予定:5:00 \n前売り:￥3\,500 当日:￥4\,500\n(要：入場時に別途ドリンク代￥500) \n注：前売りチケットお持ちの方は、入場混雑時最優先でご案内致します。 \n■ローソンチケット：0570-084-005 [Lコード : 59441]\n■チケットぴあ：0570-02-9999 [Pコード : 134-549]\n■e＋： http://eplus.jp \n※（入場時に身分証明書を提示させていただきます。）\n※（未成年者入場不可。[22:00以降]）\n※（20才未満の方は、アルコール飲料は購入できません。）\n※ 出演者の急遽キャンセルによるチケット払い戻しはできません。 \nhttp://www.focus-k.com/index.html
URL:https://namura.cc/event/20110723/
ATTACH;FMTTYPE=image/jpeg:https://namura.cc/wp-content/uploads/2023/02/20110614-carnival2011_723.jpg
END:VEVENT
BEGIN:VEVENT
DTSTART;VALUE=DATE:20110730
DTEND;VALUE=DATE:20110731
DTSTAMP:20260423T020253
CREATED:20230214T093846Z
LAST-MODIFIED:20230214T093857Z
UID:810-1311984000-1312070399@namura.cc
SUMMARY:capsule-"WORLD OF FANTASY"RELEASE PARTY-
DESCRIPTION:DOOR:4\,000yen / ADV:3\,500yen\n※共に別途1ドリンク代（500YEN）がかかります \n■前売り券発売中\n・イープラス :\nファミリーマート店内Famiポート\nまたは http://eplus.jp/capsule （PC / 携帯共通）にアクセス！！！ \n・ローソンチケット [L – 52159] :\nローソン店内Loppi\nまたは http://l-tike.com （PC / 携帯共通）にアクセス！！！ \nなお、5/21公演分のチケットが御利用できます。 \n■SPECEIAL GUEST LIVE\ncapsule \n■SPECIAL GUEST DJ\n中田ヤスタカ(capsule) \n■GUEST VJ\n滝紘平 \n■DJs\nYA-KAN / kohsuke / MAYO / Mizkino \nand MORE! MORE! MORE! \n■INFORMATION\n・ASOBISYSTEM\nhttp://asobisystem.com
URL:https://namura.cc/event/20110730/
ATTACH;FMTTYPE=image/jpeg:https://namura.cc/wp-content/uploads/2023/02/20110614-110730.jpg
END:VEVENT
END:VCALENDAR