BEGIN:VCALENDAR
VERSION:2.0
PRODID:-//クリエイティブセンター大阪（CCO） - ECPv6.2.1//NONSGML v1.0//EN
CALSCALE:GREGORIAN
METHOD:PUBLISH
X-WR-CALNAME:クリエイティブセンター大阪（CCO）
X-ORIGINAL-URL:https://namura.cc
X-WR-CALDESC:クリエイティブセンター大阪（CCO） のイベント
REFRESH-INTERVAL;VALUE=DURATION:PT1H
X-Robots-Tag:noindex
X-PUBLISHED-TTL:PT1H
BEGIN:VTIMEZONE
TZID:Asia/Tokyo
BEGIN:STANDARD
TZOFFSETFROM:+0900
TZOFFSETTO:+0900
TZNAME:JST
DTSTART:20130101T000000
END:STANDARD
END:VTIMEZONE
BEGIN:VEVENT
DTSTART;VALUE=DATE:20130901
DTEND;VALUE=DATE:20130902
DTSTAMP:20260421T063024
CREATED:20230213T092836Z
LAST-MODIFIED:20230213T110623Z
UID:642-1377993600-1378079999@namura.cc
SUMMARY:K.O.C 2013' (kansai otaku collecltion2013)
DESCRIPTION:□日時\n2013年9月1日(日)\nOPEN12:00／ CLOSE20:00 \n【TICKET】\n前売り券￥2500-(別途2drink代 ￥500)\n当日券￥3000-(別途2drink代 \500)\n＊コスプレ来場者は、上記より\500 OFF。\n（男女別更衣室完備） \n＊クローク￥200- \n《チケット前売り予約方法》\n＊mixi\nhttp://mixi.jp/view_event.pl?comment_count=0&comm_id=4586486&id=74716756\nhttp://page.mixi.jp/view_page.pl?page_id=140310 \n＊twitter\nhttp://twipla.jp/events/59798 \n＊各出演者取り置きにて 【FOOD】\n※IDOL@MATE CAFE ブース\n8月にOPENしたばかりの、現役アイドルが働くcafe\n【IDOL@MATE】がお絵描きカレーや、オリジナルカキ氷等をひっさげて登場♪暑い中こちらのブースで癒されてください♪ \n※炭火焼鳥 en-count\n激戦区心斎橋は、南船場で本格宮崎県産地鶏を提供し、連日大人気のお店が登場!!\n外で食べる焼き鳥は、これまた絶品です♪ \n【LINE UP!】 \n☆Vress\n☆DIANA☆SWEET(from.愛知)\n☆Perky\n☆IDOL@MATE\n☆にじいろクロワッサン０\n☆フレア・ラ・モード\n☆みゅ?ず \n☆jyukcho(K.O.C/さきおた!!/もののふ☆ナイト)\n☆yu-ichi(さきおた!!)\n☆いくそ(さきおた!!)\n☆彩☆ぷちろっく(さきおた!!/Anime Virgin)\n☆RAM(anime-nation/ヲタ霊)\n☆一凛(異臭騒ぎ)\n☆やまーと(LOG IN)\n☆MAR(onion night)\n☆KAZ aka TinPero(Anime Virgin)\n☆ぺこ&ch1_1(VOCAL☆NIGHT)\n☆ITO(E3 OSAKA)\n☆豚☆豚(スワロウテイル) from 京都\n☆su_nya(ジャニヲタNIGHT)\n☆ya-man.com(ROCK IT UP!!)\n☆空気(2 Dimensions)\n☆よーこ(にじいろクロワッサン０)\n☆えん(ヲタ霊)\n☆よし(ヲタ霊)\n☆たいち(アンセム大好き)\n☆かあむ(ヲタステーション)\n☆TAMA(Assorted Night)\n☆月夜(Anime Virgin/Anime Concert)\n☆macim(w.m.d) \n【イベント内容】\n※アイドルライブパフォーマンス\n※DJ パフォーマンス\n※歌ってみた、踊ってみたパフォーマンス\n※コスプレ撮影会スペース\n※飲食ブース\nなどなど…☆ \n前回他に類を見ない野外フェスとして関西サブカルシーン、雑誌媒体等から大きな注目を浴び大成功を収めたイベントが\n開催から2年たち、新たな進化を遂げ再び開催となりました。 \n今日、日本のオタクシーンが様々なTV\,ラジオ\,メディア等から注目されるようになりました。音楽、GAME、コスプレ、アイドル…等。その様々なシーンの中で’’新たな日本の文化を生み出す’’という意味でも日本のオタクシーンは大きな役割を果たしている要素の１つではないかと考えます。\n関東に比べ関西ではまだまだなシーンではある中『オタクを愛するオタクたち』による、音楽*ファッション*アート*食など、様々な文化の集大成を、今までに無かった全く新しい形のフェスティバル!!\n音楽を核とする様々なオタクカルチャーの集合体として、大阪という地においてオタクカルチャーフェス、KANSAI OTAKU\nCOLLECTION 2013’を開催します。
URL:https://namura.cc/event/2030901/
ATTACH;FMTTYPE=image/jpeg:https://namura.cc/wp-content/uploads/2023/02/20130830-KOC2013.jpg
END:VEVENT
END:VCALENDAR