BEGIN:VCALENDAR
VERSION:2.0
PRODID:-//クリエイティブセンター大阪（CCO） - ECPv6.2.1//NONSGML v1.0//EN
CALSCALE:GREGORIAN
METHOD:PUBLISH
X-WR-CALNAME:クリエイティブセンター大阪（CCO）
X-ORIGINAL-URL:https://namura.cc
X-WR-CALDESC:クリエイティブセンター大阪（CCO） のイベント
REFRESH-INTERVAL;VALUE=DURATION:PT1H
X-Robots-Tag:noindex
X-PUBLISHED-TTL:PT1H
BEGIN:VTIMEZONE
TZID:Asia/Tokyo
BEGIN:STANDARD
TZOFFSETFROM:+0900
TZOFFSETTO:+0900
TZNAME:JST
DTSTART:20080101T000000
END:STANDARD
END:VTIMEZONE
BEGIN:VEVENT
DTSTART;VALUE=DATE:20080413
DTEND;VALUE=DATE:20080414
DTSTAMP:20260425T200659
CREATED:20230217T100958Z
LAST-MODIFIED:20230217T101009Z
UID:1383-1208044800-1208131199@namura.cc
SUMMARY:LABYRINTH01 KEYHOLE!!
DESCRIPTION:兎町十三番地 Presents\n『 LABYRINTH01 KEYHOLE!! 』\n2008/4/13[SUN]\nOPEN 18:00\nCLOSE 22:00\nADV 2000Yen\nDOOR 2500Yen\n1ドリンク込 兎町にあるクラブハウス「ラビリンス」が不定期に行うイベント。現実世界と兎町の人間が交錯する、兎町のようで兎町ではない、そんな場所。兎町を知っている人も知らない人も楽しめるデイイベント！\nさあ！パルティッ…じゃないや ラビリンスに迷い込め！ \nDJ：顎（まこと） \nMC：マリーゴールド \nCAST：\n新良エツ子\n谷口ゆうな\n一応夫婦\nCOTCHA\na-Guf\n低男お節介\nteamバキューム\n他 \nTICKET：\n兎町十三番地 予約フォーム\nhttp://www.theater-reservation.com/ticket1/ticket_reservation.cgi?id=20080413usa13&c=1 \nINFO：\n兎町十三番地\nhttp://www.usagimachi13.net/
URL:https://namura.cc/event/20080413/
END:VEVENT
END:VCALENDAR