BEGIN:VCALENDAR
VERSION:2.0
PRODID:-//クリエイティブセンター大阪（CCO） - ECPv6.2.1//NONSGML v1.0//EN
CALSCALE:GREGORIAN
METHOD:PUBLISH
X-ORIGINAL-URL:https://namura.cc
X-WR-CALDESC:クリエイティブセンター大阪（CCO） のイベント
REFRESH-INTERVAL;VALUE=DURATION:PT1H
X-Robots-Tag:noindex
X-PUBLISHED-TTL:PT1H
BEGIN:VTIMEZONE
TZID:Asia/Tokyo
BEGIN:STANDARD
TZOFFSETFROM:+0900
TZOFFSETTO:+0900
TZNAME:JST
DTSTART:20080101T000000
END:STANDARD
END:VTIMEZONE
BEGIN:VEVENT
DTSTART;VALUE=DATE:20081205
DTEND;VALUE=DATE:20081208
DTSTAMP:20260425T061859
CREATED:20230215T110238Z
LAST-MODIFIED:20230215T110238Z
UID:1295-1228435200-1228694399@namura.cc
SUMMARY:空羽『蟻巣』
DESCRIPTION:-ISTフェスティバル ’08-’09 参加作品\n空羽-KUU-　第5回公演『蟻巣』 \n2008年\n12月5日(金) 15:00 / 19:30\n12月6日(土) 15:00 / 19:30\n12月7日(日) 13:00 / 17:00\n受付開始、及び開場は開演の40分前 \n【前売】2\,000円\n【当日】2\,500円 大変混雑する日時がございます。お越し頂ける場合はチケットフォーム、または出演者にご連絡下さい。 \n■脚本・演出・振付\n野道綾子 \n■出演\n伊藤由樹 / 上田篤 / 大谷ぴぃこ / 緒方香苗 / キャンディー / 九寸（劇団ヴァダー） / こたつさちこ / 清水愛 / 鈴坂昌子（XO-T） / 多田昌代（関西芸術座） / 橘耕作 / ドヰタイジ（STAR★JACKS） / 中川友里 / 野道綾子 / 浜口望海（STAR★JACKS） / 平田美輪子 / 松本茜（劇団レトルト内閣） / 松元玲子 \n■チケット取扱\nチケットぴあ　Pコード： 389-625\n空羽WEB予約 http://ku-u.net/form/arisu_ticketform.htm \n■スタッフ\n［テーマ振付］　清水愛\n［舞台監督］　堀田誠（CQ）\n［照明］　K・ファクター\n［舞台美術］　長谷川裕士\n［音響］　兼元美弥（SHOWDOWN）\n［美術］　橘耕作\n［音楽］　清水愛 / 平田美輪子 / 野道綾子\n［写真］　直塚里江子\n［衣装］　空羽\n［宣伝美術］　鈴坂昌子\n［保安］　櫻本真樹\n［制作］　楠橋優里 / 松元玲子 / 豊村哲\n［WEBデザイン］　佐藤はな \n■問合せ\n空羽 -KUU-\nhttp://ku-u.net/
URL:https://namura.cc/event/20081205/
END:VEVENT
END:VCALENDAR