BEGIN:VCALENDAR
VERSION:2.0
PRODID:-//クリエイティブセンター大阪（CCO） - ECPv6.2.1//NONSGML v1.0//EN
CALSCALE:GREGORIAN
METHOD:PUBLISH
X-ORIGINAL-URL:https://namura.cc
X-WR-CALDESC:クリエイティブセンター大阪（CCO） のイベント
REFRESH-INTERVAL;VALUE=DURATION:PT1H
X-Robots-Tag:noindex
X-PUBLISHED-TTL:PT1H
BEGIN:VTIMEZONE
TZID:Asia/Tokyo
BEGIN:STANDARD
TZOFFSETFROM:+0900
TZOFFSETTO:+0900
TZNAME:JST
DTSTART:20090101T000000
END:STANDARD
END:VTIMEZONE
BEGIN:VEVENT
DTSTART;VALUE=DATE:20090228
DTEND;VALUE=DATE:20090301
DTSTAMP:20260425T012122
CREATED:20230215T094617Z
LAST-MODIFIED:20230215T094617Z
UID:1219-1235779200-1235865599@namura.cc
SUMMARY:旧劇団スカイフィッシュ公演　「適切な距離」
DESCRIPTION:2009年2月28日（土）\n17：00-\n前売り・web予約・当日　\2\,500 \n会場：CCOドラフティングルーム \n受付開始は開演の30分前 \n作：松山賢史\n演出：小嶋一郎\n出演：井上竜由、萩原宏紀、山下佐和子、\n藤咲雪音、真塩優 \n問い合わせ　旧劇団スカイフィッシュ　090-9255-5144\nsky_fish06@yahoo.co.jp\nhttp://skyfish07.blog33.fc2.com
URL:https://namura.cc/event/%e6%97%a7%e5%8a%87%e5%9b%a3%e3%82%b9%e3%82%ab%e3%82%a4%e3%83%95%e3%82%a3%e3%83%83%e3%82%b7%e3%83%a5%e5%85%ac%e6%bc%94%e3%80%80%e3%80%8c%e9%81%a9%e5%88%87%e3%81%aa%e8%b7%9d%e9%9b%a2%e3%80%8d/
END:VEVENT
END:VCALENDAR