BEGIN:VCALENDAR
VERSION:2.0
PRODID:-//クリエイティブセンター大阪（CCO） - ECPv6.2.1//NONSGML v1.0//EN
CALSCALE:GREGORIAN
METHOD:PUBLISH
X-ORIGINAL-URL:https://namura.cc
X-WR-CALDESC:クリエイティブセンター大阪（CCO） のイベント
REFRESH-INTERVAL;VALUE=DURATION:PT1H
X-Robots-Tag:noindex
X-PUBLISHED-TTL:PT1H
BEGIN:VTIMEZONE
TZID:Asia/Tokyo
BEGIN:STANDARD
TZOFFSETFROM:+0900
TZOFFSETTO:+0900
TZNAME:JST
DTSTART:20090101T000000
END:STANDARD
END:VTIMEZONE
BEGIN:VEVENT
DTSTART;VALUE=DATE:20090815
DTEND;VALUE=DATE:20090817
DTSTAMP:20260424T023855
CREATED:20230215T092058Z
LAST-MODIFIED:20230215T092107Z
UID:1158-1250294400-1250467199@namura.cc
SUMMARY:エンゲキング×シバイズム
DESCRIPTION:詳細随時更新します。\nCreative Center Osakaの新空間・sidechamberにて \n鞦韆館presents　自己満足シアターvol.2\nエンゲキング×シバイズム \n□サリngと山田とコーディー\n□BISCO\n□ピンク地底人\n□へそＣＨＡプロジェクト \n短編4作品公演 \n前売・当日：2\,000円\n2009年8月15日（土）\n16:00開演\nサリngROCKと山田とコーディー\nピンク地底人\nへそCHAプロジェクト \n19:30開演\nBISCO\nピンク地底人\nサリngROCKと山田とコーディー \n2009年8月16日（日）\n14:30開演\nへそCHAプロジェクト\nピンク地底人\nBISCO \n17:30開演\nサリngROCKと山田とコーディー\nへそCHAプロジェクト\nBISCO \n【１】\n■団体名\nサリngと山田とコーディー\n■タイトル\n絶対の村上くん\n■作・演出\nサリngROCK\n■出演\n山田将之\nコーディー\n■message\n灰色の小さい部屋にいる男子。\n本を読んでいて、そして自分も文章を書いている。\n四方、壁に囲まれた部屋には何もない。\nもしかしたら、トイレや布団があるかもしれないけれど、「何もない」でいい。\nただ、本を読んで、書いている。\nたまにグルグルグルメガネをかけて、空想する。\nそうすると、小さい部屋は、海に満たされて、全部、海の中に沈む。\n海の中で、見渡すと、ニワトリ頭がこっちを見てる。\nじっと見てる。 \n【２】\n■団体名\nBISCO\n■タイトル\n読?ザ・２本立て\n■振付・演出\n小夜里\n■出演者\n戎　敦子\nスワ　ユリコ\n村上　恵理\nノブタ　アイコ\n松本　芽紅見\nてらにし　めぐみ\n■message\n朗読ダンスパフォーマンス集団。\n生活の中での仕草や行動を振付に取り入れたり、音楽に歌謡曲、朗読に絵本などを用\nい、言葉の持つ力にインスピレーションを受けて、ＢＩＳＣＯ独自のユーモア溢れる\n作品と、ダンサーの体だけでなく顔面いっぱいに踊る様が特長的。\n作品に言葉が関わってくることから、全てのタイトルの初めに「読」（どく）をつけ、\nシリーズ化している。\n白いパーカーに白い半ズボン、ピンクのホッペがトレードマーク。 \n【３】\n■団体名\nピンク地底人\n■タイトル\n月になって\n■作・演出\nピンク地底人３号\n■出演\nピンク地底人２号　松田菜穗\n■message\nピンク地底人は2005年に京都の墨染で生まれました三人兄妹です。一ヵ月前に地底人\nに関心をもった男の子が現れたので一緒に行動しています。\n演劇をすれば人間になれるっぽいので演劇してます。 \n【４】\n■団体名\nへそＣＨＡプロジェクト\n■タイトル\nへそちゃ始めました。\n■作・演出\nへそＣＨＡプロジェクト\n■message\n我々は大阪の北摂地域を中心にコントと芝居を融合させた、新しい笑いを追及してい\nます。\n定期公演のほか、イベントの司会・学校公演など依頼を受けての興行と幅広く活動し\nています。
URL:https://namura.cc/event/20090815-2/
END:VEVENT
END:VCALENDAR