BEGIN:VCALENDAR
VERSION:2.0
PRODID:-//クリエイティブセンター大阪（CCO） - ECPv6.2.1//NONSGML v1.0//EN
CALSCALE:GREGORIAN
METHOD:PUBLISH
X-ORIGINAL-URL:https://namura.cc
X-WR-CALDESC:クリエイティブセンター大阪（CCO） のイベント
REFRESH-INTERVAL;VALUE=DURATION:PT1H
X-Robots-Tag:noindex
X-PUBLISHED-TTL:PT1H
BEGIN:VTIMEZONE
TZID:Asia/Tokyo
BEGIN:STANDARD
TZOFFSETFROM:+0900
TZOFFSETTO:+0900
TZNAME:JST
DTSTART:20090101T000000
END:STANDARD
END:VTIMEZONE
BEGIN:VEVENT
DTSTART;VALUE=DATE:20091107
DTEND;VALUE=DATE:20091109
DTSTAMP:20260423T211045
CREATED:20230215T084956Z
LAST-MODIFIED:20230215T085008Z
UID:1122-1257552000-1257724799@namura.cc
SUMMARY:げきだんホーカスポーカス「tomato soup　2009」
DESCRIPTION:会場　sidechamber\n2009\n11/7　14：00-　/　18：00-\n11/8　14：00-\n（各回とも20分前開場） \nキャスト\nげきだん HOCUS POCUS\n竹村 美佳 / 山田 キヨシ \n料　金\n￥2\,000（前売）/ ￥2\,200（当日） \nハロルド・ピンターを偲んで \nこの作品は、昨年亡くなったイギリスの劇作家、ハロルド・ピンター作「The Black & White」という短編戯曲をモチーフにし、その前後にオリジナルのストーリーを組み合わせたもの。 \n物語は、オカマとおばあの二人のホームレスの日常。男と女？　女と女？…。\nとてもぎこちない関係だけれど、やたらしっくりくる「ふたり」。\nいつも一緒にいるけれど、互いがどこで寝ているのかも知らないし、 約束された待ち合わせも存在しない。\nただ「ふたり」にはお気に入りの場所があるだけ。\nここに来れば、ヤツもきっと来る。\nどんづまりの現実と息が詰まるほどの孤独を抱えつつ、 ガラクタを集めたような夢を持ち寄り、 二人は今日も生きている。\nげきだん HOCUS POCUS の遊びごころたっぷりの「自己満足」をお楽しみに…。 \nハロルド・ピンター（Harold Pinter） \n1930年、イギリス、ロンドンでユダヤ系ポルトガル人の仕立屋の家庭に生まれる。 元々は俳優として活動していたが、詩や小説を執筆。不条理劇の手法を確立する。 映画の脚本なども手掛ける。2005年ノーベル文学賞受賞。 受賞理由では「日常の何気ない会話に潜む危うさを浮き彫りにし、抑圧された物事の本質に迫った」と評価された。 反戦思想家としても知られ、晩年は政治活動を中心とし、様々な武力介入に抗議をしていた。 代表作に『ダム・ウェイター』(1957年)、『管理人』(59年)、『帰郷』(64年)など。 2008年12月24日、死去。 \n「HOCUS POCUS」ってどういう意味？ \n劇団名になっている HOCUS POCUS （ホーカス・ポーカス）という言葉は、馴染みのある言葉でいうと “ちちんぷいぷい”　”アブラカターブラ”　”イタイのイタイのとんでいけ?” といったところだろうか。幼い頃、自分は魔法使いになれるかもしれないと本気で思っていたあの頃、身近にあったあの秘密の呪文たち。\n辞書で引くと「ラテン語が起源、（奇術師などの）呪文、まじない、手品、奇術、ごまかし、でたらめ、いんちき」とある。
URL:https://namura.cc/event/20091107/
END:VEVENT
END:VCALENDAR