BEGIN:VCALENDAR
VERSION:2.0
PRODID:-//クリエイティブセンター大阪（CCO） - ECPv6.2.1//NONSGML v1.0//EN
CALSCALE:GREGORIAN
METHOD:PUBLISH
X-WR-CALNAME:クリエイティブセンター大阪（CCO）
X-ORIGINAL-URL:https://namura.cc
X-WR-CALDESC:クリエイティブセンター大阪（CCO） のイベント
REFRESH-INTERVAL;VALUE=DURATION:PT1H
X-Robots-Tag:noindex
X-PUBLISHED-TTL:PT1H
BEGIN:VTIMEZONE
TZID:Asia/Tokyo
BEGIN:STANDARD
TZOFFSETFROM:+0900
TZOFFSETTO:+0900
TZNAME:JST
DTSTART:20090101T000000
END:STANDARD
END:VTIMEZONE
BEGIN:VEVENT
DTSTART;VALUE=DATE:20091115
DTEND;VALUE=DATE:20091116
DTSTAMP:20260423T211010
CREATED:20230215T084525Z
LAST-MODIFIED:20230215T084525Z
UID:1115-1258243200-1258329599@namura.cc
SUMMARY:かすみ荘劇団『二分咲ノ奇跡』
DESCRIPTION:■日時　2009年11月15日（日）\n1回目公演/12:00、2回目公演15:00\n■会場　SIDE CHAMBER\n■料金　 【前売】1\,000円　【当日】 1\,500円\n■お問合せ\nTEL：0721-56-3123\nkasumisougekidan@yahoo.co.jp \n◆作　伊佐美康成/演出　日比初子（劇団つつじ満開座）\n障がいのある人もない人も共に演じるかすみ荘劇団　新たな舞台（ステージ）へ！
URL:https://namura.cc/event/%e3%81%8b%e3%81%99%e3%81%bf%e8%8d%98%e5%8a%87%e5%9b%a3%e3%80%8e%e4%ba%8c%e5%88%86%e5%92%b2%e3%83%8e%e5%a5%87%e8%b7%a1%e3%80%8f/
END:VEVENT
END:VCALENDAR