BEGIN:VCALENDAR
VERSION:2.0
PRODID:-//クリエイティブセンター大阪（CCO） - ECPv6.2.1//NONSGML v1.0//EN
CALSCALE:GREGORIAN
METHOD:PUBLISH
X-WR-CALNAME:クリエイティブセンター大阪（CCO）
X-ORIGINAL-URL:https://namura.cc
X-WR-CALDESC:クリエイティブセンター大阪（CCO） のイベント
REFRESH-INTERVAL;VALUE=DURATION:PT1H
X-Robots-Tag:noindex
X-PUBLISHED-TTL:PT1H
BEGIN:VTIMEZONE
TZID:Asia/Tokyo
BEGIN:STANDARD
TZOFFSETFROM:+0900
TZOFFSETTO:+0900
TZNAME:JST
DTSTART:20090101T000000
END:STANDARD
END:VTIMEZONE
BEGIN:VEVENT
DTSTART;VALUE=DATE:20091128
DTEND;VALUE=DATE:20091130
DTSTAMP:20260423T211012
CREATED:20230215T084205Z
LAST-MODIFIED:20230215T084215Z
UID:1109-1259366400-1259539199@namura.cc
SUMMARY:くじらん本舗 劇団無卍垢公演 「虚像の英雄」
DESCRIPTION:鞦韆館(しゅうせんかん)presents\n自己満足シアター参加 \nくじらん本舗　劇団無卍垢公演 \n作/　七海 躯 \n「虚像の英雄」 \n演出/ruruca \n出演／高橋こいく　音斬 双　蒼紫 唯　栫井智里\n山田麻由　井ノ上 雅　高西ひろみ \n2009/11/28（土）14時-\n2009/11/28（土）19時-\n2009/11/29（日）15時- \n日時指定前売券※パンフ＆特典付き\n￥2\,000? \nhttp://kujiranhonpo.iinaa.net
URL:https://namura.cc/event/20091128/
END:VEVENT
END:VCALENDAR