BEGIN:VCALENDAR
VERSION:2.0
PRODID:-//クリエイティブセンター大阪（CCO） - ECPv6.2.1//NONSGML v1.0//EN
CALSCALE:GREGORIAN
METHOD:PUBLISH
X-WR-CALNAME:クリエイティブセンター大阪（CCO）
X-ORIGINAL-URL:https://namura.cc
X-WR-CALDESC:クリエイティブセンター大阪（CCO） のイベント
REFRESH-INTERVAL;VALUE=DURATION:PT1H
X-Robots-Tag:noindex
X-PUBLISHED-TTL:PT1H
BEGIN:VTIMEZONE
TZID:Asia/Tokyo
BEGIN:STANDARD
TZOFFSETFROM:+0900
TZOFFSETTO:+0900
TZNAME:JST
DTSTART:20100101T000000
END:STANDARD
END:VTIMEZONE
BEGIN:VEVENT
DTSTART;VALUE=DATE:20100529
DTEND;VALUE=DATE:20100531
DTSTAMP:20260423T081320
CREATED:20230215T072248Z
LAST-MODIFIED:20230215T072300Z
UID:985-1275091200-1275263999@namura.cc
SUMMARY:鞦韆舘 presents 自己満足シアター『エンゲキング×シバイズム vol.3』
DESCRIPTION:2010年5月29日（土）\n1）16:00　A B C\n2）19:30　B C D\n5月30日（日）\n1）14:00　A C D\n2）17:30　A B D \nA：明朗会計\nB：ポールシフト\nC：Performance unit 明暗神楽\nD：劇団遊人 Xtra \n【前売・当日】2\,000円\nセリフ劇、コント、パフォーマンス、ダンスなど、\nさまざまなジャンルの舞台作品を30分ずつ、3本で上演。\nふだん観る機会の少ない表現にも、接してみてください！ \n■参加作品概要\nA：明朗会計\n「戦争童話集」\n作/野坂昭如　演出/YASU\n出演/大和田智子、小林良子、菊池航、永督朗、藤田穣、萩原有見 \nprofile：\n2004年4月1日に設立。\n現代社会がどんどんややこしく、そして不可解になっていく中で「分かりやすい芝居」がやりたいという動機の元、有志が集まり結成しました。\n現在は現代劇・時代劇・朗読劇を三本の柱として公演を行っています。\n観に来ていただいたお客様に何かをお持ち帰りいただければ幸いです \nwork：\n戦時を少年として生き延びた野坂昭如が、その「やがて、忘れるというより、さらに無いことにしてしまった感じの戦争」について「書き残したい」という「暗いわだかまりと少しのきっかけ」で書いた童話集。\nその中に書かれているものは全て愛情のお話。あとがき曰く、「戦争の中に、弱いものをおけば、かわいそうなお話に当然なる。\n子供も鯨も象も虫も、ぼくの用意した、というより現実をなぞった中で、苛酷な日々を過ごしつつ、夢に逃避じゃなく、生きる姿を描いた」 \nB：ポールシフト\n「ドライブ物語」\n作・演出/好井一英\n出演/三輪充諒、石田なおき、堂下朋恵 \nprofile：\nなんやかんやで出合った人達が、なんかかんかでポールシフトを結成し、てんやわんやに活動中。\n◆公式ブログ「ポールシフト理論」\nhttp://plaza.rakuten.co.jp/poleshift/ \nwork：\n走行中の車という密室で展開する、男と男のくだらない心理戦！\n「運転席のあの子の隣へ！」\n栄光の助手席に最後に座る者とは!? \nC：Performance unit 明暗神楽\n「明暗神楽」\n構成・振付・出演/市河源氏 \nprofile：\n市河源氏によるユニット。\nたとえ体が固くて不自由でも面白い舞台は作れるはず！との思いから創設。\n今回旗揚げ。「細かい事はわからなくても面白い」作品を目指す。\n◆市河源氏（イチカワゲンヤ）\n橋本源氏より改名。京都造形芸術大学・舞台芸術コース卒業。\nダンス・演劇・能・日舞・大衆演劇等を学び、学生時代から大学内外で様々な舞台に立つ。 \nwork：\n神楽とは神様に捧げるために舞うもの。舞台とはお客様に捧げるためのもの。\nお客様に楽しんでいただくために、この生命燃やしましょう。\n人間は決して綺麗なものではないけれど。\nなんて大層な事は気にしなくて良いです。\n見終わって、よくわからないけど面白かったなって思えたら、それだけでＯＫ。\n難しく考えずにお越しください。 \nD：劇団遊人 Xtra\n「Sinking into Thinking」\n作/なまいきなこ\n演出/佐藤香聲（銀幕遊學?¡レプリカント）\n出演/あべ川つまる、本間かいな \nprofile：\n２００７年４月１日公演の「囲いの中の、朱い月」のために２００６年に発足。\n活動は神戸を中心とした関西。公演は春と秋の２回。\n脚本から上演までを全て自分達の手で行い、完全オリジナル作品を上演しています。 \nwork：\n心を掴んで離さないものがある。\n忘れたいほどに捕らわれる。\nしみつき、深く根付いた\nあの日、あの記憶。\nもし、何もかもを忘れられるなら\nそれを、あなたは、選びますか？ \n■問い合わせ・ご予約\n鞦韆舘\n080-3831-3337\n※留守電に氏名・日時・枚数をお残しください。
URL:https://namura.cc/event/20100529/
END:VEVENT
END:VCALENDAR