BEGIN:VCALENDAR
VERSION:2.0
PRODID:-//クリエイティブセンター大阪（CCO） - ECPv6.2.1//NONSGML v1.0//EN
CALSCALE:GREGORIAN
METHOD:PUBLISH
X-WR-CALNAME:クリエイティブセンター大阪（CCO）
X-ORIGINAL-URL:https://namura.cc
X-WR-CALDESC:クリエイティブセンター大阪（CCO） のイベント
REFRESH-INTERVAL;VALUE=DURATION:PT1H
X-Robots-Tag:noindex
X-PUBLISHED-TTL:PT1H
BEGIN:VTIMEZONE
TZID:Asia/Tokyo
BEGIN:STANDARD
TZOFFSETFROM:+0900
TZOFFSETTO:+0900
TZNAME:JST
DTSTART:20220101T000000
END:STANDARD
END:VTIMEZONE
BEGIN:VEVENT
DTSTART;VALUE=DATE:20221228
DTEND;VALUE=DATE:20221229
DTSTAMP:20260422T064342
CREATED:20230415T061200Z
LAST-MODIFIED:20230415T063725Z
UID:2497-1672185600-1672271999@namura.cc
SUMMARY:GOOD TIME DAY2
DESCRIPTION:□日時\n2022年12月28日(水）\nOPEN 13:30-\nSTART 14:30- \n□チケット\n3500円＋500円(1ドリンク）\nhttps://t.livepocket.jp/e/5kfyp \n□詳しくは\nhttps://t.livepocket.jp/e/5kfyp
URL:https://namura.cc/event/2022-12-28/
ATTACH;FMTTYPE=image/jpeg:https://namura.cc/wp-content/uploads/2023/04/20221218-goodtime2.jpg
END:VEVENT
BEGIN:VEVENT
DTSTART;VALUE=DATE:20221227
DTEND;VALUE=DATE:20221228
DTSTAMP:20260422T064342
CREATED:20230415T062006Z
LAST-MODIFIED:20230415T062020Z
UID:2523-1672099200-1672185599@namura.cc
SUMMARY:GOOD TIME DAY1
DESCRIPTION:□日時\n2022年12月27日(火）\nOPEN 13:30-\nSTART 14:30- \n□チケット\n3500円＋500円(1ドリンク）\nhttps://t.livepocket.jp/e/0ej97 \n□詳しくは\nhttps://t.livepocket.jp/e/0ej97
URL:https://namura.cc/event/2022-12-27/
ATTACH;FMTTYPE=image/jpeg:https://namura.cc/wp-content/uploads/2023/04/20221218-goodtime1.jpg
END:VEVENT
BEGIN:VEVENT
DTSTART;VALUE=DATE:20221224
DTEND;VALUE=DATE:20221225
DTSTAMP:20260422T064342
CREATED:20230415T062209Z
LAST-MODIFIED:20230415T062213Z
UID:2528-1671840000-1671926399@namura.cc
SUMMARY:STAND BY フェスティバル
DESCRIPTION:□日時\n2022年\n12月24日(土)\n12月25日(日) \n□チケット\n2日間通し券 1000円 \n予約フォーム\nhttps://standbyfes.peatix.com/ \n□詳しくは\nhttps://artbrut-creation-nippon.jp/2022project/event/post-201/
URL:https://namura.cc/event/2022-12-24/
ATTACH;FMTTYPE=image/png:https://namura.cc/wp-content/uploads/2023/04/20221214-standbyfes2022.png
END:VEVENT
BEGIN:VEVENT
DTSTART;VALUE=DATE:20221218
DTEND;VALUE=DATE:20221219
DTSTAMP:20260422T064342
CREATED:20230415T062357Z
LAST-MODIFIED:20230415T062447Z
UID:2536-1671321600-1671407999@namura.cc
SUMMARY:ICE CREAM OSAKA（DJ FUKU 30周年祭）
DESCRIPTION:□日時\n2022年12月18日(日)\n開場・開演 13:00- \n□チケット\nhttps://t.co/ZPtr97vMB2 \n□詳しくは\nhttps://www.instagram.com/ice_cream_osaka/
URL:https://namura.cc/event/2022-12-18/
ATTACH;FMTTYPE=image/jpeg:https://namura.cc/wp-content/uploads/2023/04/20221208-202212ico.jpg
END:VEVENT
BEGIN:VEVENT
DTSTART;VALUE=DATE:20221217
DTEND;VALUE=DATE:20221218
DTSTAMP:20260422T064342
CREATED:20230415T062628Z
LAST-MODIFIED:20230415T062639Z
UID:2542-1671235200-1671321599@namura.cc
SUMMARY:おおさか創造千島財団 2023年度 スペース助成申請に関する現地説明会
DESCRIPTION:スペース助成の対象となるCCOの会場を事前に視察したい方向けに、現地で説明会を行います。\n□日時\n2022年12月17日（土）\n13:00～14:00 \n□参加方法\nクリエイティブセンター大阪（CCO）現地説明会　参加申込フォーム　\n※申込み締め切り：12月16日（金）12:00 \n□詳しくは\nhttps://chishima-foundation.com/topics/news/20221115.html
URL:https://namura.cc/event/2022-12-17/
ATTACH;FMTTYPE=:
END:VEVENT
BEGIN:VEVENT
DTSTART;VALUE=DATE:20221216
DTEND;VALUE=DATE:20221217
DTSTAMP:20260422T064342
CREATED:20230415T062951Z
LAST-MODIFIED:20230415T063805Z
UID:2553-1671148800-1671235199@namura.cc
SUMMARY:クリエイティブセンター大阪　ミニ見学ツアー vol.155
DESCRIPTION:近代化産業遺産に認定されている「名村造船跡地」=クリエイティブセンター大阪の館内見学ツアーです。\n造船所跡地の施設内をスタッフがご説明しながらご案内致します。\n※ツアー時間は40分程度を予定しております。（途中退場可） \n■日時\n2022年12月16日（金）15:00 ※30-40分程度\nクリエイティブセンター大阪　入口警備員室前集合 \n■参加方法\n予約不要・現地集合／参加費は無料です。\n※マスク着用、もしくはご持参ください。\n※動画撮影はNGとしております。 \n■お問合せ\n06-4702-7085（クリエイティブセンター大阪）
URL:https://namura.cc/event/2022-12-16/
ATTACH;FMTTYPE=image/jpeg:https://namura.cc/wp-content/uploads/2022/12/b0f3769176eeffbd5abb90e91461dc87-e1677758490252.jpg
END:VEVENT
BEGIN:VEVENT
DTSTART;VALUE=DATE:20221204
DTEND;VALUE=DATE:20221205
DTSTAMP:20260422T064342
CREATED:20230415T063123Z
LAST-MODIFIED:20230415T063529Z
UID:2557-1670112000-1670198399@namura.cc
SUMMARY:SYMBOL OSAKA vol.19
DESCRIPTION:□日時\n2022年12月4日(日）\nOPEN 12:30-\nSTART 13:00- \n□詳しくは\nhttps://www.instagram.com/symbol_osaka/
URL:https://namura.cc/event/2022-12-04/
ATTACH;FMTTYPE=image/jpeg:https://namura.cc/wp-content/uploads/2023/04/20221115-symbolosaka19.jpg
END:VEVENT
BEGIN:VEVENT
DTSTART;VALUE=DATE:20221203
DTEND;VALUE=DATE:20221204
DTSTAMP:20260422T064342
CREATED:20230415T063457Z
LAST-MODIFIED:20230415T063503Z
UID:2559-1670025600-1670111999@namura.cc
SUMMARY:YOU LIVE TOUR 2022 FINAL 『reunion』
DESCRIPTION:□日時\n2022年12月3日(土）\nOPEN 13:00-\nCLOSE 20:00- \n□料金\n前売り ¥ 4\,000\n[当日 ¥ 5\,000]\n(中学生以下半額 / 未就学児童無料)\n＊別途ワンドリンク代 600円を当日ご用意ください \n□詳しく\nhttps://www.you-glowlys.com/reunion2022
URL:https://namura.cc/event/2022-12-03/
ATTACH;FMTTYPE=image/jpeg:https://namura.cc/wp-content/uploads/2023/04/20221110-reunion2022.jpg
END:VEVENT
BEGIN:VEVENT
DTSTART;VALUE=DATE:20221127
DTEND;VALUE=DATE:20221128
DTSTAMP:20260422T064342
CREATED:20230415T064446Z
LAST-MODIFIED:20230415T064900Z
UID:2561-1669507200-1669593599@namura.cc
SUMMARY:SYMBOL KOBE vol.19
DESCRIPTION:□日時\n2022年11月27日(日）\nOPEN 13:30-\nSTART 14:00-\nCLOSE 20:00- \n□詳しくは\nhttps://www.instagram.com/symbol_kobe/
URL:https://namura.cc/event/2022-11-27/
ATTACH;FMTTYPE=image/jpeg:https://namura.cc/wp-content/uploads/2023/04/20221120-symbolk19.jpg
END:VEVENT
BEGIN:VEVENT
DTSTART;VALUE=DATE:20221126
DTEND;VALUE=DATE:20221127
DTSTAMP:20260422T064342
CREATED:20230415T065030Z
LAST-MODIFIED:20230415T070901Z
UID:2569-1669420800-1669507199@namura.cc
SUMMARY:アリス九號.　TOUR 2022 LAST DANCE ACT.2「Graced The Beautiful Story」
DESCRIPTION:□日時\n2022年11月26日(土)\nOPEN 17:00 / START 17:30 \n□チケット\n【全自由】￥8\,000 (税込／ドリンク代別途必要)\n一般発売日：10月22日(土)AM10:00発売 \n□詳しくは\nhttps://www.sound-c.co.jp/schedule/detail/7131/ \n□お問い合わせ\nサウンドクリエーター 06-6357-4400
URL:https://namura.cc/event/2022-11-26/
ATTACH;FMTTYPE=:
END:VEVENT
BEGIN:VEVENT
DTSTART;VALUE=DATE:20221125
DTEND;VALUE=DATE:20221126
DTSTAMP:20260422T064342
CREATED:20230415T065326Z
LAST-MODIFIED:20230415T065343Z
UID:2571-1669334400-1669420799@namura.cc
SUMMARY:クリエイティブセンター大阪　ミニ見学ツアー vol.154
DESCRIPTION:近代化産業遺産に認定されている「名村造船跡地」=クリエイティブセンター大阪の館内見学ツアーです。\n造船所跡地の施設内をスタッフがご説明しながらご案内致します。\n※ツアー時間は40分程度を予定しております。（途中退場可） \n■日時\n2022年11月25日（金）15:00 ※30-40分程度\nクリエイティブセンター大阪　入口警備員室前集合 \n■参加方法\n予約不要・現地集合／参加費は無料です。\n※マスク着用、もしくはご持参ください。\n※動画撮影はNGとしております。 \n■お問合せ\n06-4702-7085（クリエイティブセンター大阪）
URL:https://namura.cc/event/2022-11-25/
ATTACH;FMTTYPE=image/jpeg:https://namura.cc/wp-content/uploads/2022/12/b0f3769176eeffbd5abb90e91461dc87-e1677758490252.jpg
END:VEVENT
BEGIN:VEVENT
DTSTART;VALUE=DATE:20221120
DTEND;VALUE=DATE:20221121
DTSTAMP:20260422T064342
CREATED:20230415T065753Z
LAST-MODIFIED:20230415T065834Z
UID:2573-1668902400-1668988799@namura.cc
SUMMARY:MARVELOUS FES -12TH ANNIVERSARY-
DESCRIPTION:□日時\n2022年11月20日（日）\nOPEN 14:00-\nCLOSE 21:00- \n□入場料\n¥1\,000-(別途1Drink/1Food)\n※6才未満入場無料 \n□詳しくは\nhttps://www.instagram.com/marvelous_group/
URL:https://namura.cc/event/2022-11-20/
ATTACH;FMTTYPE=image/jpeg:https://namura.cc/wp-content/uploads/2023/04/20221115-marvelous12.jpg
END:VEVENT
BEGIN:VEVENT
DTSTART;VALUE=DATE:20221118
DTEND;VALUE=DATE:20221119
DTSTAMP:20260422T064342
CREATED:20230415T070056Z
LAST-MODIFIED:20230415T070100Z
UID:2575-1668729600-1668815999@namura.cc
SUMMARY:菊地成孔とペペ・トルメント・アスカラール　コンサート2022 AW　大阪club side/standing
DESCRIPTION:□日時\n2022年11月18日(金)\n開場 19:00-\n開演 19:30- \n□チケット\nスタンディング¥6\,500 (税込・ドリンク代別途必要）\n※入場は整理番号順に行います。\n※入場時マスクの着用を必須とします。 \n□詳しくは\nhttps://kyodo-osaka.co.jp/search/detail/5609
URL:https://namura.cc/event/2022-11-18/
ATTACH;FMTTYPE=image/jpeg:https://namura.cc/wp-content/uploads/2023/04/20220930-kn1118.jpg
END:VEVENT
BEGIN:VEVENT
DTSTART;VALUE=DATE:20221113
DTEND;VALUE=DATE:20221114
DTSTAMP:20260422T064342
CREATED:20230415T070249Z
LAST-MODIFIED:20230416T011430Z
UID:2577-1668297600-1668383999@namura.cc
SUMMARY:すみのえアート・ビート2022
DESCRIPTION:□日時\n2022年11月13日(日)\n11:00-16:00 \n□入場料\n無料\n※雨天決行\n※会場へは公共交通機関でお越しください。\nできれば車でのご来場は御遠慮いただくとありがたいです。 \n□詳しくは\nhttps://suminoeartbeat.wixsite.com/home
URL:https://namura.cc/event/2022-11-13/
ATTACH;FMTTYPE=image/jpeg:https://namura.cc/wp-content/uploads/2023/04/20221007-suminoe2022.jpg
END:VEVENT
BEGIN:VEVENT
DTSTART;VALUE=DATE:20221106
DTEND;VALUE=DATE:20221107
DTSTAMP:20260422T064342
CREATED:20230415T070444Z
LAST-MODIFIED:20230415T070943Z
UID:2579-1667692800-1667779199@namura.cc
SUMMARY:DROP POROX ダンス発表会
DESCRIPTION:□日時\n2022年11月6日(日)\nOPEN 10:30-\nSTART 11:00- \n□詳しくは\nhttps://www.instagram.com/porox_dance/?hl=ja
URL:https://namura.cc/event/2022-11-06/
ATTACH;FMTTYPE=:
END:VEVENT
BEGIN:VEVENT
DTSTART;VALUE=DATE:20221105
DTEND;VALUE=DATE:20221106
DTSTAMP:20260422T064342
CREATED:20230415T070558Z
LAST-MODIFIED:20230415T070611Z
UID:2581-1667606400-1667692799@namura.cc
SUMMARY:第3次スーパーロボコス大展
DESCRIPTION:□日時\n2022年\n11月5日（土）10:00-17:00\n11月6日（日）10:00-17:00 \n□入場料\nFREE \n□詳しくは\nhttps://www.s-r-e-2022.com
URL:https://namura.cc/event/2022-11-05/
ATTACH;FMTTYPE=image/jpeg:https://namura.cc/wp-content/uploads/2023/04/20221030-robocos2022.jpg
END:VEVENT
BEGIN:VEVENT
DTSTART;VALUE=DATE:20221103
DTEND;VALUE=DATE:20221104
DTSTAMP:20260422T064342
CREATED:20230415T070846Z
LAST-MODIFIED:20230415T070857Z
UID:2583-1667433600-1667519999@namura.cc
SUMMARY:サナギ vol 1.0
DESCRIPTION:□日時\n2022年11月3日(木祝）\n一部 13:00開演\n二部 15:30開演\n三部 18:00開演\n※オールスタンディング式となり、ショー終了後、展示会場へと変化します。 \n□チケット\n大人¥1500-\n学生¥1000-\n※受付にて学生証の提示をお願い致します。\n※チケットはサナギ Instagramのプロフィールに記載されているGoogleチケットフォームにてお申し込み下さい。 \n□詳しくは\nサナギInstagram
URL:https://namura.cc/event/2022-11-03/
ATTACH;FMTTYPE=image/jpeg:https://namura.cc/wp-content/uploads/2023/04/20221022-sanagi.jpg
END:VEVENT
BEGIN:VEVENT
DTSTART;VALUE=DATE:20221030
DTEND;VALUE=DATE:20221031
DTSTAMP:20260422T064342
CREATED:20230415T071332Z
LAST-MODIFIED:20230415T073543Z
UID:2585-1667088000-1667174399@namura.cc
SUMMARY:「BLOW vol.10」×「R.E.D vol.2」
DESCRIPTION:□日時\n2022年10月30日(日)\n開場13:00\n終了19:00(予定)\n※R.E.Dは12:00開始 \n□詳しくは\nhttps://www.sprout-dance.com/information/347/
URL:https://namura.cc/event/2022-10-30/
ATTACH;FMTTYPE=:
END:VEVENT
BEGIN:VEVENT
DTSTART;VALUE=DATE:20221029
DTEND;VALUE=DATE:20221030
DTSTAMP:20260422T064342
CREATED:20230415T072210Z
LAST-MODIFIED:20230415T072240Z
UID:2587-1667001600-1667087999@namura.cc
SUMMARY:BUENO OSAKA 2022
DESCRIPTION:□日時\n2022年10月29日(土)\n12:00-20:00 \n□チケット\n¥4\,500＋1drink \n□詳しくは\nhttps://enloop-company.jp
URL:https://namura.cc/event/2022-10-29/
ATTACH;FMTTYPE=image/jpeg:https://namura.cc/wp-content/uploads/2023/04/20221014-bueno2022.jpg
END:VEVENT
BEGIN:VEVENT
DTSTART;VALUE=DATE:20221027
DTEND;VALUE=DATE:20221028
DTSTAMP:20260422T064342
CREATED:20230415T072359Z
LAST-MODIFIED:20230415T072414Z
UID:2596-1666828800-1666915199@namura.cc
SUMMARY:クリエイティブセンター大阪　ミニ見学ツアー vol.153
DESCRIPTION:近代化産業遺産に認定されている「名村造船跡地」=クリエイティブセンター大阪の館内見学ツアーです。\n造船所跡地の施設内をスタッフがご説明しながらご案内致します。\n※ツアー時間は40分程度を予定しております。（途中退場可） \n■日時\n2022年10月27日（木）15:00 ※30-40分程度\nクリエイティブセンター大阪　入口警備員室前集合 \n■参加方法\n予約不要・現地集合／参加費は無料です。\n※マスク着用、もしくはご持参ください。\n※動画撮影はNGとしております。 \n■お問合せ\n06-4702-7085（クリエイティブセンター大阪）
URL:https://namura.cc/event/2022-10-27/
ATTACH;FMTTYPE=image/jpeg:https://namura.cc/wp-content/uploads/2022/12/b0f3769176eeffbd5abb90e91461dc87-e1677758490252.jpg
END:VEVENT
BEGIN:VEVENT
DTSTART;VALUE=DATE:20221022
DTEND;VALUE=DATE:20221023
DTSTAMP:20260422T064342
CREATED:20230415T072718Z
LAST-MODIFIED:20230415T072727Z
UID:2600-1666396800-1666483199@namura.cc
SUMMARY:KITAKAGAYA FLEA 2022& ASIA BOOK MARKET
DESCRIPTION:□日時\n2022年\n10月22日（土）12:00〜19:00\n10月23日（日）11:00〜18:30 \n□入場料\n各日500円（税込み）\n※再入場可 \n□詳しくは\nhttps://kitakagayaflea.jp \n□主催\nLLCインセクツ Tel 06-6773-9881
URL:https://namura.cc/event/2022-10-22-2/
ATTACH;FMTTYPE=:
END:VEVENT
BEGIN:VEVENT
DTSTART;VALUE=DATE:20221022
DTEND;VALUE=DATE:20221023
DTSTAMP:20260422T064342
CREATED:20230415T072543Z
LAST-MODIFIED:20230415T072600Z
UID:2598-1666396800-1666483199@namura.cc
SUMMARY:Fireloop presents KITAKAGAYA Fireloop FES '22
DESCRIPTION:□日時\n2022年10月22日(土)\nOPEN 13:30\nSTART 14:00 \n□チケット\n前売り ¥3500-\n当日　¥4000-\n※別途1ドリンク¥500- \n□詳しくは\nhttp://fireloop.net/schedule_now.shtml
URL:https://namura.cc/event/2022-10-22/
ATTACH;FMTTYPE=image/jpeg:https://namura.cc/wp-content/uploads/2023/04/20221007-fireloop22.jpg
END:VEVENT
BEGIN:VEVENT
DTSTART;VALUE=DATE:20221016
DTEND;VALUE=DATE:20221017
DTSTAMP:20260422T064342
CREATED:20230415T072913Z
LAST-MODIFIED:20230415T072923Z
UID:2602-1665878400-1665964799@namura.cc
SUMMARY:NAMURA ATTACK
DESCRIPTION:□日時\n2022年10月16日(日)\nOPEN 12:30\nCLOSE 21:00 \n□チケット\nADV ¥3500-\n※入場時に別途ドリンク代¥500- \n□詳しくは\nhttps://freshdancestudio.com
URL:https://namura.cc/event/2022-10-16/
ATTACH;FMTTYPE=image/jpeg:https://namura.cc/wp-content/uploads/2023/04/20220914-namuraattack_o.jpg
END:VEVENT
BEGIN:VEVENT
DTSTART;VALUE=DATE:20221010
DTEND;VALUE=DATE:20221011
DTSTAMP:20260422T064342
CREATED:20230415T073038Z
LAST-MODIFIED:20230415T073643Z
UID:2604-1665360000-1665446399@namura.cc
SUMMARY:【キャンセル】TOMMY GUERRERO SUNSHINE RADIO JAPAN TOUR 2022 IN OSAKA
DESCRIPTION:9月30日より予定していたTommy Guerrero「Sunshine Radio Japan Tour 2022」は、新型コロナウイルスの影響によりビザの発給がなされず、アーティストの来日が不可能となり開催を中止する運びとなりました。 \n楽しみにされていたお客様には大変ご迷惑をお掛けしますがどうぞご理解の程お願い申し上げます。 \n尚、各公演のチケット払い戻しやその他お問い合せは、各所お問合せ先までご連絡の程お願い致します。 \nWe regret to announce that due to border measures to prevent the spread of COVID-19 in Japan\, our entry visas applications were denied by Japanese authorities\, so we have no option but to cancel the Tommy Guerrero Sunshine Radio Japan Tour 2022 that was slated to start on 9/30. \nWe sincerely apologize for the inconvenience this will cause to all the fans that were looking forward to the tour. \nPlease contact the ticket seller that was used to purchase tickets for questions regarding refunds. \n＜お問合せ先＞\n大阪 OSAKA：\nblf2013present(@)gmail.com (303AUDIO)
URL:https://namura.cc/event/2022-10-10/
ATTACH;FMTTYPE=image/jpeg:https://namura.cc/wp-content/uploads/2023/04/20220817-TGSRvisual.jpg
END:VEVENT
BEGIN:VEVENT
DTSTART;VALUE=DATE:20221009
DTEND;VALUE=DATE:20221010
DTSTAMP:20260422T064342
CREATED:20230415T073302Z
LAST-MODIFIED:20230415T073308Z
UID:2606-1665273600-1665359999@namura.cc
SUMMARY:LIFE is FANTASIA 〜ビザールバザールと蒼海の宝珠〜
DESCRIPTION:□日時\n2022年10月9日(日)\n12:30 入場開始\n13:30 イベントスタート\n19:30 終了予定\n※途中入場は出来ません。 \n□チケット\n事前振込　6\,000円\n※ドリンク・フード・クローク・イベント内の一部コンテンツは別途料金が必要になります。 \n□詳しくは\nhttps://fantasyguild-bahamut.jp/life-is-fantasia/
URL:https://namura.cc/event/2022-10-09/
ATTACH;FMTTYPE=image/jpeg:https://namura.cc/wp-content/uploads/2023/04/20220713-lisf.jpg
END:VEVENT
BEGIN:VEVENT
DTSTART;VALUE=DATE:20221002
DTEND;VALUE=DATE:20221003
DTSTAMP:20260422T064342
CREATED:20230415T073436Z
LAST-MODIFIED:20230415T073445Z
UID:2608-1664668800-1664755199@namura.cc
SUMMARY:ICE CREAM OSAKA
DESCRIPTION:□日時\n2022年10月2日（日）\nOPEN 13:00-\nCLOSE21:00- \n□チケット\n¥4000- \nチケットぴあ\nhttps://t.pia.jp/pia/event/event.do?eventCd=2228033 \n□詳しくは\nhttps://www.instagram.com/ice_cream_osaka/
URL:https://namura.cc/event/2022-10-02/
ATTACH;FMTTYPE=image/jpeg:https://namura.cc/wp-content/uploads/2023/04/20220920-icecreamosaka10.jpg
END:VEVENT
BEGIN:VEVENT
DTSTART;VALUE=DATE:20221001
DTEND;VALUE=DATE:20221002
DTSTAMP:20260422T064342
CREATED:20230415T073758Z
LAST-MODIFIED:20230415T073816Z
UID:2610-1664582400-1664668799@namura.cc
SUMMARY:こんがりおんがく祭2022
DESCRIPTION:□日時\n2022年10月1日(土)\nOPEN 12:00\nSTART 12:30 \n□チケット\nスタンディング 前売り:￥5\,000（ドリンク代別） \n□詳しくは\nhttps://smash-jpn.com/live/?id=3747
URL:https://namura.cc/event/2022-10-01/
ATTACH;FMTTYPE=image/jpeg:https://namura.cc/wp-content/uploads/2023/04/20220829-kongariongakusai2022.jpg
END:VEVENT
BEGIN:VEVENT
DTSTART;VALUE=DATE:20220930
DTEND;VALUE=DATE:20221001
DTSTAMP:20260422T064342
CREATED:20230415T074401Z
LAST-MODIFIED:20230415T074411Z
UID:2612-1664496000-1664582399@namura.cc
SUMMARY:クリエイティブセンター大阪　ミニ見学ツアー vol.151
DESCRIPTION:近代化産業遺産に認定されている「名村造船跡地」=クリエイティブセンター大阪の館内見学ツアーです。\n造船所跡地の施設内をスタッフがご説明しながらご案内致します。\n※ツアー時間は40分程度を予定しております。（途中退場可） \n■日時\n2022年9月30日（金）15:00 ※30-40分程度\nクリエイティブセンター大阪　入口警備員室前集合 \n■参加方法\n予約不要・現地集合／参加費は無料です。\n※マスク着用、もしくはご持参ください。\n※動画撮影はNGとしております。 \n■お問合せ\n06-4702-7085（クリエイティブセンター大阪）
URL:https://namura.cc/event/2022-09-30/
ATTACH;FMTTYPE=image/jpeg:https://namura.cc/wp-content/uploads/2022/12/b0f3769176eeffbd5abb90e91461dc87-e1677758490252.jpg
END:VEVENT
BEGIN:VEVENT
DTSTART;VALUE=DATE:20220923
DTEND;VALUE=DATE:20220926
DTSTAMP:20260422T064342
CREATED:20230415T074650Z
LAST-MODIFIED:20230415T074711Z
UID:2614-1663891200-1664150399@namura.cc
SUMMARY:大阪造船所アイドルフェスmini
DESCRIPTION:□日時\n2022年\n9月23日（金）\n9月24日（土）\n9月25日（日） \n□料金\n前売り6\,000円 + 1ドリンク600円\n優先10\,000円 + 1ドリンク600円 \n□詳しくは\nhttps://twitter.com/osakazosenjo
URL:https://namura.cc/event/2022-09-23/
ATTACH;FMTTYPE=image/jpeg:https://namura.cc/wp-content/uploads/2023/04/20220906-zousenzyoaidoru9k.jpg
END:VEVENT
BEGIN:VEVENT
DTSTART;VALUE=DATE:20220919
DTEND;VALUE=DATE:20220920
DTSTAMP:20260422T064342
CREATED:20230415T074831Z
LAST-MODIFIED:20230415T074845Z
UID:2619-1663545600-1663631999@namura.cc
SUMMARY:※林勇気 個展の会期に関する重要なお知らせ
DESCRIPTION:（9/19 追記）\n本展は、台風14号の接近により、会期最終日19日（月）の開館中止が決定いたしました。\nまた、中止にともなう会期の延長も行いません。\nご来場を楽しみにしていただいた皆様には、深くお詫び申し上げます。\nご理解いただきますよう、何卒よろしくお願い申し上げます。 \n＝＝＝＝＝＝＝＝＝＝＝＝＝＝＝＝＝＝＝＝＝＝＝＝＝＝＝\n（9/16）\n林勇気個展は9月19日（月）まで開催の予定ですが、台風14号の接近により、誠に残念ながら19日は開館できない可能性が非常に高くなって参りました。\n台風の影響で大阪府より防潮堤を閉める指示があり、本展会場であるクリエイティブセンター大阪（名村造船所大阪工場跡地）は、防潮堤の内側にあるので建物に入館ができなくなるためです。\n台風の進行状況によっては、開館できる可能性もあります。最終判断は19日当日朝に行い、当財団SNSにてアナウンスいたします。何卒ご了承いただきますようお願い申し上げます。\nご来場をご検討いただいている方は、可能でしたら17日（土）、18日（日）にお越しいただけましたら幸いです。 \n林勇気個展「君はいつだって世界の入り口を探していた」
URL:https://namura.cc/event/2022-09-19/
ATTACH;FMTTYPE=:
END:VEVENT
END:VCALENDAR