BEGIN:VCALENDAR
VERSION:2.0
PRODID:-//クリエイティブセンター大阪（CCO） - ECPv6.2.1//NONSGML v1.0//EN
CALSCALE:GREGORIAN
METHOD:PUBLISH
X-WR-CALNAME:クリエイティブセンター大阪（CCO）
X-ORIGINAL-URL:https://namura.cc
X-WR-CALDESC:クリエイティブセンター大阪（CCO） のイベント
REFRESH-INTERVAL;VALUE=DURATION:PT1H
X-Robots-Tag:noindex
X-PUBLISHED-TTL:PT1H
BEGIN:VTIMEZONE
TZID:Asia/Tokyo
BEGIN:STANDARD
TZOFFSETFROM:+0900
TZOFFSETTO:+0900
TZNAME:JST
DTSTART:20200101T000000
END:STANDARD
END:VTIMEZONE
BEGIN:VEVENT
DTSTART;VALUE=DATE:20201204
DTEND;VALUE=DATE:20201205
DTSTAMP:20260423T071056
CREATED:20230416T062736Z
LAST-MODIFIED:20230416T062736Z
UID:3010-1607040000-1607126399@namura.cc
SUMMARY:My Suggestion\, Your Opinion.
DESCRIPTION:□日時\n2020年12月4日(金)-6日(日)\n13:00-20:00(最終日18:00まで） \n□入場料\nPrice it Yourself \n□詳しくは\nhttps://www.msyo.h-e-y-a.com \n□企画・運営\nHEYA
URL:https://namura.cc/event/2020-12-04/
ATTACH;FMTTYPE=image/jpeg:https://namura.cc/wp-content/uploads/2023/04/20201129-heya-o.jpg
END:VEVENT
BEGIN:VEVENT
DTSTART;VALUE=DATE:20201129
DTEND;VALUE=DATE:20201130
DTSTAMP:20260423T071056
CREATED:20230416T063619Z
LAST-MODIFIED:20230416T063619Z
UID:3014-1606608000-1606694399@namura.cc
SUMMARY:CIRCUS LIVE SPECIAL “LEX"
DESCRIPTION:□日時 :\n2020年11月29日（日）\nopen 15:00 start 16:00 \n※感染症対策として来場時に以下を実施します。\n・会場内はマスク着用必須\n・検温（37.5度以上は入場不可）\n・メールアドレスの登録\n・手指のアルコール消毒 \n□出演 :\nLEX / and guests\nDJ : FULLHOUSE \n□チケット\nadv:3500yen\n*別途１ドリンク代金600円必要\nプレイガイド : イープラスにて　https://eplus.jp/ \n□お問い合わせ :\nCIRCUS OSAKA < https://circus-osaka.com/ >
URL:https://namura.cc/event/2020-11-29/
ATTACH;FMTTYPE=image/jpeg:https://namura.cc/wp-content/uploads/2023/04/20201112-c20201129.jpg
END:VEVENT
BEGIN:VEVENT
DTSTART;VALUE=DATE:20201126
DTEND;VALUE=DATE:20201127
DTSTAMP:20260423T071056
CREATED:20230416T063742Z
LAST-MODIFIED:20230511T031336Z
UID:3020-1606348800-1606435199@namura.cc
SUMMARY:クリエイティブセンター大阪　ミニ見学ツアー vol.125
DESCRIPTION:近代化産業遺産に認定されている「名村造船跡地」=クリエイティブセンター大阪の館内見学ツアーです。\n造船所跡地の施設内をスタッフがご説明しながらご案内致します。\n※ツアー時間は40分程度を予定しております。（途中退場可） \n■日時　2020年11月26日（木）15:00 ※40分程度\nクリエイティブセンター大阪　入口警備員室前集合 \n■参加方法\n予約不要・現地集合／参加費は無料です。\n※マスク着用、もしくはご持参ください。 \n■お問合せ\n06-4702-7085（クリエイティブセンター大阪）
URL:https://namura.cc/event/2020-11-26/
ATTACH;FMTTYPE=image/jpeg:https://namura.cc/wp-content/uploads/2022/12/b0f3769176eeffbd5abb90e91461dc87-e1677758490252.jpg
END:VEVENT
BEGIN:VEVENT
DTSTART;VALUE=DATE:20201121
DTEND;VALUE=DATE:20201122
DTSTAMP:20260423T071056
CREATED:20230416T064000Z
LAST-MODIFIED:20230416T064000Z
UID:3023-1605916800-1606003199@namura.cc
SUMMARY:SYMBOL KOBE vol.17
DESCRIPTION:□日時\n2020年11月21日（土）\nOPEN 12:30\nSTART 13:00 \n□料金\nADV ¥2500-(w/ID) \n□詳しくは\nhttps://twitter.com/symbolkobe?lang=ja
URL:https://namura.cc/event/2020-11-21/
ATTACH;FMTTYPE=image/jpeg:https://namura.cc/wp-content/uploads/2023/04/20201106-symbolko.jpg
END:VEVENT
BEGIN:VEVENT
DTSTART;VALUE=DATE:20201115
DTEND;VALUE=DATE:20201116
DTSTAMP:20260423T071056
CREATED:20230416T064208Z
LAST-MODIFIED:20230416T064208Z
UID:3025-1605398400-1605484799@namura.cc
SUMMARY:CIRCUS LIVE presents yahyel \, 環ROY \, SEIHO
DESCRIPTION:□日時 :\n2020年 11月15日（日）\nopen 17:00 start 18:00 \n※来場に関して :\n感染症対策として来場時に以下を実施します。\n・会場内はマスク着用必須\n・検温（37.5度以上は入場不可）\n・メールアドレスの登録\n・手指のアルコール消毒 \n□出演 :\nyahyel \, 環ROY \, SEIHO\nDJ : FULLHOUSE \n□チケット(LIMITED 350)\nadv:4000yen\ndoor:4500yen\n※別途１ドリンク代金600円必要 \nプレイガイド : イープラスにて　https://eplus.jp/\n(先行先着 : 10月17日 \, 一般 : 10月24日) \n□お問い合わせ :\nCIRCUS OSAKA
URL:https://namura.cc/event/2020-11-15/
ATTACH;FMTTYPE=:
END:VEVENT
BEGIN:VEVENT
DTSTART;VALUE=DATE:20201112
DTEND;VALUE=DATE:20201113
DTSTAMP:20260423T071056
CREATED:20230416T064340Z
LAST-MODIFIED:20230511T031326Z
UID:3027-1605139200-1605225599@namura.cc
SUMMARY:クリエイティブセンター大阪　ミニ見学ツアー vol.124
DESCRIPTION:近代化産業遺産に認定されている「名村造船跡地」=クリエイティブセンター大阪の館内見学ツアーです。\n造船所跡地の施設内をスタッフがご説明しながらご案内致します。\n※ツアー時間は40分程度を予定しております。（途中退場可） \n■日時　2020年11月12日（木）15:00 ※40分程度\nクリエイティブセンター大阪　入口警備員室前集合 \n■参加方法\n予約不要・現地集合／参加費は無料です。\n※マスク着用、もしくはご持参ください。 \n■お問合せ\n06-4702-7085（クリエイティブセンター大阪）
URL:https://namura.cc/event/2020-11-12/
ATTACH;FMTTYPE=image/jpeg:https://namura.cc/wp-content/uploads/2022/12/b0f3769176eeffbd5abb90e91461dc87-e1677758490252.jpg
END:VEVENT
BEGIN:VEVENT
DTSTART;VALUE=DATE:20201108
DTEND;VALUE=DATE:20201109
DTSTAMP:20260423T071056
CREATED:20230416T064546Z
LAST-MODIFIED:20230416T064546Z
UID:3029-1604793600-1604879999@namura.cc
SUMMARY:CIRCUS LIVE SPECIAL- MIYACHI \, JP THE WAVY \, DAICHI YAMAMOTO-
DESCRIPTION:□日時 :\n2020年 11月8日（日）\nopen 17:00 start 18:00 \n※感染症対策として来場時に以下を実施します。\n・会場内はマスク着用必須\n・検温（37.5度以上は入場不可）\n・メールアドレスの登録\n・手指のアルコール消毒 \n□出演 :\nMIYACHI\nJP THE WAVY\nDAICHI YAMAMOTO\nDJ : FULLHOUSE \n□チケット\nadv:4000yen(LIMITED 350) door:4500\n*別途１ドリンク代金600円必要 \nプレイガイド : イープラスにて　https://eplus.jp/\n(先行先着 : 10月19日 \, 一般 : 10月26日) \n□お問い合わせ :\nCIRCUS OSAKA < https://circus-osaka.com/ >
URL:https://namura.cc/event/circus-live-special-miyachi-jp-the-wavy-daichi-yamamoto/
ATTACH;FMTTYPE=image/jpeg:https://namura.cc/wp-content/uploads/2023/04/20201020-201108circus-live-special1.jpg
END:VEVENT
BEGIN:VEVENT
DTSTART;VALUE=DATE:20201101
DTEND;VALUE=DATE:20201102
DTSTAMP:20260423T071056
CREATED:20230416T064918Z
LAST-MODIFIED:20230416T064918Z
UID:3034-1604188800-1604275199@namura.cc
SUMMARY:CIRCUS LIVE SPECIAL
DESCRIPTION:□日時\n2020年11月1日（日）\nopen 17:00\nstart 18:00 \n□出演 :\nTohji \, 釈迦坊主 \, Le makeup\nDJ : FULLHOUSE \n□料金 :\nADV:4000yen(Limited 350)\nDOOR:4500yen\n※別途１ドリンク代金必要\n※こちらの公演はマスク着用必須となります。 \n10/6 12:00~先行販売受付開始!!\nイープラス : https://eplus.jp/sf/detail/3326700001
URL:https://namura.cc/event/2020-11-01/
ATTACH;FMTTYPE=image/jpeg:https://namura.cc/wp-content/uploads/2023/04/20201007-2020-11-01_CIRCUS-LIVE-SPECIAL-01.jpg
END:VEVENT
BEGIN:VEVENT
DTSTART;VALUE=DATE:20201031
DTEND;VALUE=DATE:20201101
DTSTAMP:20260423T071056
CREATED:20230416T065411Z
LAST-MODIFIED:20230416T065502Z
UID:3037-1604102400-1604188799@namura.cc
SUMMARY:タソガレコーヒースタンド 4TH ANNIVERSARY PARTY
DESCRIPTION:□日時：\n2020年10月31日(土)\n開場 14:00\n開演 15:00 \n※感染症対策として来場時に以下を実施します。\n・会場内はマスク着用必須\n・検温（37.5度以上は入場不可）\n・メールアドレスの登録\n・手指のアルコール消毒 \n□出演：\nRickie-G / 空音 / ZOMBIE-CHANG / pinoko / ニューリー / asmi / DJ KRO / DJ RYU-G / miyau-D / DJ YEN and more \n□チケット\n前売り：4500円 / 当日：5000円\n※別途1D代要 \nイープラスhttps://eplus.jp/sf/detail/3328820001-P0030001P021002?P1=1221
URL:https://namura.cc/event/2020-10-31/
ATTACH;FMTTYPE=image/jpeg:https://namura.cc/wp-content/uploads/2023/04/20201029-tasogare_4th.jpg
END:VEVENT
BEGIN:VEVENT
DTSTART;VALUE=DATE:20201029
DTEND;VALUE=DATE:20201030
DTSTAMP:20260423T071056
CREATED:20230416T065802Z
LAST-MODIFIED:20230511T031314Z
UID:3043-1603929600-1604015999@namura.cc
SUMMARY:クリエイティブセンター大阪　ミニ見学ツアー vol.123
DESCRIPTION:近代化産業遺産に認定されている「名村造船跡地」=クリエイティブセンター大阪の館内見学ツアーです。\n造船所跡地の施設内をスタッフがご説明しながらご案内致します。\n※ツアー時間は40分程度を予定しております。（途中退場可） \n■日時　2020年10月29日（木）15:00 ※40分程度\nクリエイティブセンター大阪　入口警備員室前集合 \n■参加方法\n予約不要・現地集合／参加費は無料です。\n※マスク着用、もしくはご持参ください。 \n■お問合せ\n06-4702-7085（クリエイティブセンター大阪）
URL:https://namura.cc/event/2020-10-29/
ATTACH;FMTTYPE=image/jpeg:https://namura.cc/wp-content/uploads/2022/12/b0f3769176eeffbd5abb90e91461dc87-e1677758490252.jpg
END:VEVENT
BEGIN:VEVENT
DTSTART;VALUE=DATE:20201025
DTEND;VALUE=DATE:20201026
DTSTAMP:20260423T071056
CREATED:20230416T070211Z
LAST-MODIFIED:20230416T070211Z
UID:3045-1603584000-1603670399@namura.cc
SUMMARY:SUNSHINEJAM"STAND UP"
DESCRIPTION:□日時\n2020年10月25日(日)\nOPEN ：11:00\nBATTLE START ：12:00\nCLOSE：18:30 \n□料金\nENTRY▶︎3000YEN ( 1CREW 9000YEN )\nWATCH▶︎2000YEN (観戦・入場)\n※小学生以下観戦無料 \n※新型コロナウィルス感染症対策として、密を防ぐことや、換気の面も考え、屋外の会場で開催します。\nまた、会場での検温・アルコール消毒・マスク着用の推奨など、コロナ対策を講じて開催致しますので、ご来場いただく皆様にもご協力お願い申し上げます。 \n□詳しくは\nhttp://et-stage.net/event/NC82NjY1/
URL:https://namura.cc/event/2020-10-25/
ATTACH;FMTTYPE=image/jpeg:https://namura.cc/wp-content/uploads/2023/04/20201020-su20201.jpg
END:VEVENT
BEGIN:VEVENT
DTSTART;VALUE=DATE:20201024
DTEND;VALUE=DATE:20201025
DTSTAMP:20260423T071056
CREATED:20230416T070418Z
LAST-MODIFIED:20230416T070418Z
UID:3047-1603497600-1603583999@namura.cc
SUMMARY:愛媛無双外伝 大阪編 2020
DESCRIPTION:□日時\n2020年10月24日（土）\nOPEN 11:00\nSTART 12:00 \n□チケット\n3\,500円 [オールスタンディング]\n※ドリンク別\nイープラス　https://eplus.jp/emgo/ \n□出演\nBUZZ THE BEARS/EGG BRAIN/GOOD4NOTHING/Hump Back/Nonfiction Cartoons/THE SKIPPERS/SABOTEN/SKA FREAKS/TETORA) \n□お問い合わせ\nサウンドクリエーター\n06-6357-4400\nhttps://www.sound-c.co.jp
URL:https://namura.cc/event/2020-10-24/
ATTACH;FMTTYPE=image/jpeg:https://namura.cc/wp-content/uploads/2023/04/20201022-ehime2020.jpg
END:VEVENT
BEGIN:VEVENT
DTSTART;VALUE=DATE:20201008
DTEND;VALUE=DATE:20201009
DTSTAMP:20260423T071056
CREATED:20230416T070735Z
LAST-MODIFIED:20230511T031304Z
UID:3049-1602115200-1602201599@namura.cc
SUMMARY:クリエイティブセンター大阪　ミニ見学ツアー vol.122
DESCRIPTION:近代化産業遺産に認定されている「名村造船跡地」=クリエイティブセンター大阪の館内見学ツアーです。\n造船所跡地の施設内をスタッフがご説明しながらご案内致します。\n※ツアー時間は40分程度を予定しております。（途中退場可） \n■日時　2020年10月8日（木）15:00 ※40分程度\nクリエイティブセンター大阪　入口警備員室前集合 \n■参加方法\n予約不要・現地集合／参加費は無料です。\n※マスク着用、もしくはご持参ください。 \n■お問合せ\n06-4702-7085（クリエイティブセンター大阪）
URL:https://namura.cc/event/2020-10-08/
ATTACH;FMTTYPE=image/jpeg:https://namura.cc/wp-content/uploads/2022/12/b0f3769176eeffbd5abb90e91461dc87-e1677758490252.jpg
END:VEVENT
BEGIN:VEVENT
DTSTART;VALUE=DATE:20201004
DTEND;VALUE=DATE:20201005
DTSTAMP:20260423T071056
CREATED:20230416T070921Z
LAST-MODIFIED:20230416T070921Z
UID:3051-1601769600-1601855999@namura.cc
SUMMARY:VANTAN CUTTING EDGE 2020 ［大阪］
DESCRIPTION:□日時\n2020年10月4日（日） \n□詳しくは\nバンタンカッティングエッジ2020\nhttps://www.vantan.com/special/cuttingedge/osaka/
URL:https://namura.cc/event/2020-10-04/
ATTACH;FMTTYPE=:
END:VEVENT
BEGIN:VEVENT
DTSTART;VALUE=DATE:20200926
DTEND;VALUE=DATE:20200927
DTSTAMP:20260423T071056
CREATED:20230416T071142Z
LAST-MODIFIED:20230416T071216Z
UID:3053-1601078400-1601164799@namura.cc
SUMMARY:FULLHOUSE 1ST ANNIVERSARY
DESCRIPTION:□日時\n2020年 9月26日（土)\nopen 22:00 close 05:00 \n□チケット\ndoor:1500yen \n□出演 :\nFULLHOUSE
URL:https://namura.cc/event/2020-09-26/
ATTACH;FMTTYPE=:
END:VEVENT
BEGIN:VEVENT
DTSTART;VALUE=DATE:20200924
DTEND;VALUE=DATE:20200925
DTSTAMP:20260423T071056
CREATED:20230416T072040Z
LAST-MODIFIED:20230511T031256Z
UID:3056-1600905600-1600991999@namura.cc
SUMMARY:クリエイティブセンター大阪　ミニ見学ツアー vol.121
DESCRIPTION:近代化産業遺産に認定されている「名村造船跡地」=クリエイティブセンター大阪の館内見学ツアーです。\n造船所跡地の施設内をスタッフがご説明しながらご案内致します。\n※ツアー時間は40分程度を予定しております。（途中退場可） \n■日時　2020年9月24日（木）15:00 ※40分程度\nクリエイティブセンター大阪　入口警備員室前集合 \n■参加方法\n予約不要・現地集合／参加費は無料です。\n※マスク着用、もしくはご持参ください。 \n■お問合せ\n06-4702-7085（クリエイティブセンター大阪）
URL:https://namura.cc/event/2020-09-24/
ATTACH;FMTTYPE=image/jpeg:https://namura.cc/wp-content/uploads/2022/12/b0f3769176eeffbd5abb90e91461dc87-e1677758490252.jpg
END:VEVENT
BEGIN:VEVENT
DTSTART;VALUE=DATE:20200910
DTEND;VALUE=DATE:20200911
DTSTAMP:20260423T071056
CREATED:20230416T072224Z
LAST-MODIFIED:20230511T031247Z
UID:3060-1599696000-1599782399@namura.cc
SUMMARY:クリエイティブセンター大阪　ミニ見学ツアー vol.120
DESCRIPTION:近代化産業遺産に認定されている「名村造船跡地」=クリエイティブセンター大阪の館内見学ツアーです。\n造船所跡地の施設内をスタッフがご説明しながらご案内致します。\n※ツアー時間は40分程度を予定しております。（途中退場可） \n■日時　2020年9月10日（木）15:00 ※40分程度\nクリエイティブセンター大阪　入口警備員室前集合 \n■参加方法\n予約不要・現地集合／参加費は無料です。\n※マスク着用、もしくはご持参ください。 \n■お問合せ\n06-4702-7085（クリエイティブセンター大阪）
URL:https://namura.cc/event/2020-09-10/
ATTACH;FMTTYPE=image/jpeg:https://namura.cc/wp-content/uploads/2022/12/b0f3769176eeffbd5abb90e91461dc87-e1677758490252.jpg
END:VEVENT
BEGIN:VEVENT
DTSTART;VALUE=DATE:20200829
DTEND;VALUE=DATE:20200830
DTSTAMP:20260423T071056
CREATED:20230416T073248Z
LAST-MODIFIED:20230416T084051Z
UID:3062-1598659200-1598745599@namura.cc
SUMMARY:MERRY　5 Sheep Last Tour
DESCRIPTION:■日時\n2020年8月29日(土)\nOPEN 17:30 / START 18:00 \n■料金\n¥5\,100- オールスタンディング \n■備考\n※未就学児童のご入場はお断り致します。\n※ご入場は整理番号順となります。\n※モッシュ・ダイブ等の危険行為は一切禁止。\n※ご入場時に別途ドリンク代をいただきます。\n※お手持ちの4/10(金)公演、5/14(木)振替公演、9/12(土) 再振替公演のチケット及び整理番号にて、上記再振替公演にご参加いただけます。\n※公演会場が変更になっておりますのでご注意ください。 \n■公式サイト\nMERRY　http://merryweb.jp \n■お問合せ\nサウンドクリエーター 06-6357-4400\nhttps://www.sound-c.co.jp/schedule/detail/5154/
URL:https://namura.cc/event/2020-08-29/
ATTACH;FMTTYPE=:
END:VEVENT
BEGIN:VEVENT
DTSTART;VALUE=DATE:20200827
DTEND;VALUE=DATE:20200828
DTSTAMP:20260423T071056
CREATED:20230416T083959Z
LAST-MODIFIED:20230511T031238Z
UID:3084-1598486400-1598572799@namura.cc
SUMMARY:クリエイティブセンター大阪　ミニ見学ツアー vol.119
DESCRIPTION:近代化産業遺産に認定されている「名村造船跡地」=クリエイティブセンター大阪の館内見学ツアーです。\n造船所跡地の施設内をスタッフがご説明しながらご案内致します。\n※ツアー時間は40分程度を予定しております。（途中退場可） \n■日時　2020年8月27日（木）15:00 ※40分程度\nクリエイティブセンター大阪　入口警備員室前集合 \n■参加方法\n予約不要・現地集合／参加費は無料です。\n※マスク着用、もしくはご持参ください。 \n■お問合せ\n06-4702-7085（クリエイティブセンター大阪）
URL:https://namura.cc/event/2020-08-27/
ATTACH;FMTTYPE=image/jpeg:https://namura.cc/wp-content/uploads/2022/12/b0f3769176eeffbd5abb90e91461dc87-e1677758490252.jpg
END:VEVENT
BEGIN:VEVENT
DTSTART;VALUE=DATE:20200825
DTEND;VALUE=DATE:20200826
DTSTAMP:20260423T071056
CREATED:20230416T084246Z
LAST-MODIFIED:20230416T084404Z
UID:3086-1598313600-1598399999@namura.cc
SUMMARY:BASS ON TOP presents SOUND SHOCK 2020
DESCRIPTION:■日時\n2020年8月25日(火)\n開場 12:30\n開演 13:00\n※雨天決行（主催者側で危険と判断した際には、中止いたします）■感染拡大予防ガイドライン\nhttp://www.sound-shock.com/taisaku.html \n■詳しくは\nhttp://www.sound-shock.com
URL:https://namura.cc/event/2020-08-25/
ATTACH;FMTTYPE=:
END:VEVENT
BEGIN:VEVENT
DTSTART;VALUE=DATE:20200823
DTEND;VALUE=DATE:20200824
DTSTAMP:20260423T071056
CREATED:20230416T084410Z
LAST-MODIFIED:20230416T084410Z
UID:3090-1598140800-1598227199@namura.cc
SUMMARY:BJ-STYLE#27　［※5月17日（日）振替大会］
DESCRIPTION:□日時\n2020年8月23日(日) \n当日券販売&取り置きチケット引換開始：13:00\n開場：14:15\n開始：15:00 \n□注意\n※ポセイドンマッチは行われません､了承の上お買い求め下さい｡\n※5月17日（日）振替大会となります｡\n※新型コロナウィルス対策座席表でのご案内となります｡ \n□詳しくは\nhttps://bjw.co.jp/schedule/s2020-08-23/
URL:https://namura.cc/event/2020-08-23/
ATTACH;FMTTYPE=:
END:VEVENT
BEGIN:VEVENT
DTSTART;VALUE=DATE:20200809
DTEND;VALUE=DATE:20200810
DTSTAMP:20260423T071056
CREATED:20230416T084515Z
LAST-MODIFIED:20230416T085029Z
UID:3093-1596931200-1597017599@namura.cc
SUMMARY:【開催中止】06BASE 2nd
DESCRIPTION:□日時\n2020年8月９日（日）\n15:00-21:00　→中止 \n□感染症予防対策について\nhttps://onfleek.info/06base \n□詳しくは\nhttps://www.onfleek.info/06base
URL:https://namura.cc/event/2020-08-09/
ATTACH;FMTTYPE=:
END:VEVENT
BEGIN:VEVENT
DTSTART;VALUE=DATE:20200806
DTEND;VALUE=DATE:20200807
DTSTAMP:20260423T071056
CREATED:20230416T084647Z
LAST-MODIFIED:20230511T031224Z
UID:3096-1596672000-1596758399@namura.cc
SUMMARY:クリエイティブセンター大阪　ミニ見学ツアー vol.118
DESCRIPTION:近代化産業遺産に認定されている「名村造船跡地」=クリエイティブセンター大阪の館内見学ツアーです。\n造船所跡地の施設内をスタッフがご説明しながらご案内致します。\n※ツアー時間は40分程度を予定しております。（途中退場可） \n■日時　2020年8月6日（木）15:00 ※40分程度\nクリエイティブセンター大阪　入口警備員室前集合 \n■参加方法\n予約不要・現地集合／参加費は無料です。\n※マスク着用、もしくはご持参ください。 \n■お問合せ\n06-4702-7085（クリエイティブセンター大阪）
URL:https://namura.cc/event/2020-08-06/
ATTACH;FMTTYPE=image/jpeg:https://namura.cc/wp-content/uploads/2022/12/b0f3769176eeffbd5abb90e91461dc87-e1677758490252.jpg
END:VEVENT
BEGIN:VEVENT
DTSTART;VALUE=DATE:20200730
DTEND;VALUE=DATE:20200731
DTSTAMP:20260423T071056
CREATED:20230416T085013Z
LAST-MODIFIED:20230511T031211Z
UID:3099-1596067200-1596153599@namura.cc
SUMMARY:クリエイティブセンター大阪　ミニ見学ツアー vol.117
DESCRIPTION:近代化産業遺産に認定されている「名村造船跡地」=クリエイティブセンター大阪の館内見学ツアーです。\n造船所跡地の施設内をスタッフがご説明しながらご案内致します。\n※ツアー時間は40分程度を予定しております。（途中退場可） \n■日時　2020年7月30日（木）15:00 ※40分程度\nクリエイティブセンター大阪　入口警備員室前集合 \n■参加方法\n予約不要・現地集合／参加費は無料です。\n※マスク着用、もしくはご持参ください。 \n■お問合せ\n06-4702-7085（クリエイティブセンター大阪）
URL:https://namura.cc/event/2020-07-30/
ATTACH;FMTTYPE=image/jpeg:https://namura.cc/wp-content/uploads/2022/12/b0f3769176eeffbd5abb90e91461dc87-e1677758490252.jpg
END:VEVENT
BEGIN:VEVENT
DTSTART;VALUE=DATE:20200726
DTEND;VALUE=DATE:20200727
DTSTAMP:20260423T071056
CREATED:20230416T085203Z
LAST-MODIFIED:20230416T085250Z
UID:3102-1595721600-1595807999@namura.cc
SUMMARY:COS・JOY 大阪 造船所跡地
DESCRIPTION:□日時\n2020年7月26日（日）\n10:00-17:00 \n□料金\n¥3000-\n※完全事前登録・定員制\n※当日会場でのお支払い\n※撮影のみの方も同額です \n□詳しくは\nhttp://www.comicon.co.jp/cosjoy/zousen/zousenindex.html
URL:https://namura.cc/event/2020-07-26/
ATTACH;FMTTYPE=:
END:VEVENT
BEGIN:VEVENT
DTSTART;VALUE=DATE:20200723
DTEND;VALUE=DATE:20200724
DTSTAMP:20260423T071056
CREATED:20230416T085349Z
LAST-MODIFIED:20230416T085441Z
UID:3104-1595462400-1595548799@namura.cc
SUMMARY:CIRCUS 8TH ANNIVERSARY PARTY
DESCRIPTION:□日時\n2020年7月23日（木祝(海の日)）\n16:00 – 22:00 \n□チケット\nDOOR: 2\,000yen \n※下記ご協力のほど宜しくお願い致します。 \n・検温の実施　※37.5度以上の方、体調不良の方はご入場をお断り致します。\n・メールアドレスの登録\n・マスクの着用\n・手指のアルコール消毒\n・入場者数の制限\n・周囲の人と1メートル以上の距離をとってください。 \n□詳しくは\nhttps://circus-osaka.com/event/circus-osaka-8th/
URL:https://namura.cc/event/2020-07-23/
ATTACH;FMTTYPE=image/jpeg:https://namura.cc/wp-content/uploads/2023/04/20200714-CIRCUS_ANNIVERSARY___lineup_1.jpg
END:VEVENT
BEGIN:VEVENT
DTSTART;VALUE=DATE:20200716
DTEND;VALUE=DATE:20200717
DTSTAMP:20260423T071056
CREATED:20230416T085552Z
LAST-MODIFIED:20230511T031200Z
UID:3107-1594857600-1594943999@namura.cc
SUMMARY:クリエイティブセンター大阪　ミニ見学ツアー vol.116
DESCRIPTION:近代化産業遺産に認定されている「名村造船跡地」=クリエイティブセンター大阪の館内見学ツアーです。\n造船所跡地の施設内をスタッフがご説明しながらご案内致します。\n※ツアー時間は40分程度を予定しております。（途中退場可） \n■日時　2020年7月16日（木）15:00 ※40分程度\nクリエイティブセンター大阪　入口警備員室前集合 \n■参加方法\n予約不要・現地集合／参加費は無料です。\n※マスク着用、もしくはご持参ください。 \n■お問合せ\n06-4702-7085（クリエイティブセンター大阪）
URL:https://namura.cc/event/2020-07-16/
ATTACH;FMTTYPE=image/jpeg:https://namura.cc/wp-content/uploads/2022/12/b0f3769176eeffbd5abb90e91461dc87-e1677758490252.jpg
END:VEVENT
BEGIN:VEVENT
DTSTART;VALUE=DATE:20200711
DTEND;VALUE=DATE:20200712
DTSTAMP:20260423T071056
CREATED:20230416T085707Z
LAST-MODIFIED:20230416T085749Z
UID:3110-1594425600-1594511999@namura.cc
SUMMARY:Odd Number Festival 四面楚歌編
DESCRIPTION:□日時\n2020年7月11日（土）\n11:00-18:30\n※雨天決行/荒天中止\n※イベントガイドラインをご確認ください。 \n□詳しくは\nhttp://osakabronze.com/event/onf/
URL:https://namura.cc/event/2020-07-11/
ATTACH;FMTTYPE=:
END:VEVENT
BEGIN:VEVENT
DTSTART;VALUE=DATE:20200616
DTEND;VALUE=DATE:20200617
DTSTAMP:20260423T071056
CREATED:20230416T085926Z
LAST-MODIFIED:20230511T031150Z
UID:3113-1592265600-1592351999@namura.cc
SUMMARY:クリエイティブセンター大阪　ミニ見学ツアー vol.115
DESCRIPTION:近代化産業遺産に認定されている「名村造船跡地」=クリエイティブセンター大阪の館内見学ツアーです。\n造船所跡地の施設内をスタッフがご説明しながらご案内致します。\n※ツアー時間は40分程度を予定しております。（途中退場可） \n■日時　2020年6月16日（火）15:00 ※40分程度\nクリエイティブセンター大阪　入口警備員室前集合 \n■参加方法\n予約不要・現地集合／参加費は無料です。 \n■お問合せ\n06-4702-7085（クリエイティブセンター大阪）
URL:https://namura.cc/event/2020-06-16/
ATTACH;FMTTYPE=image/jpeg:https://namura.cc/wp-content/uploads/2022/12/b0f3769176eeffbd5abb90e91461dc87-e1677758490252.jpg
END:VEVENT
BEGIN:VEVENT
DTSTART;VALUE=DATE:20200609
DTEND;VALUE=DATE:20200610
DTSTAMP:20260423T071056
CREATED:20230416T090042Z
LAST-MODIFIED:20230511T031140Z
UID:3115-1591660800-1591747199@namura.cc
SUMMARY:クリエイティブセンター大阪　ミニ見学ツアー vol.114
DESCRIPTION:近代化産業遺産に認定されている「名村造船跡地」=クリエイティブセンター大阪の館内見学ツアーです。\n造船所跡地の施設内をスタッフがご説明しながらご案内致します。\n※ツアー時間は40分程度を予定しております。（途中退場可） \n■日時　2020年6月9日（火）15:00 ※40分程度\nクリエイティブセンター大阪　入口警備員室前集合 \n■参加方法\n予約不要・現地集合／参加費は無料です。 \n■お問合せ\n06-4702-7085（クリエイティブセンター大阪）
URL:https://namura.cc/event/2020-06-09/
ATTACH;FMTTYPE=image/jpeg:https://namura.cc/wp-content/uploads/2022/12/b0f3769176eeffbd5abb90e91461dc87-e1677758490252.jpg
END:VEVENT
END:VCALENDAR