BEGIN:VCALENDAR
VERSION:2.0
PRODID:-//クリエイティブセンター大阪（CCO） - ECPv6.2.1//NONSGML v1.0//EN
CALSCALE:GREGORIAN
METHOD:PUBLISH
X-WR-CALNAME:クリエイティブセンター大阪（CCO）
X-ORIGINAL-URL:https://namura.cc
X-WR-CALDESC:クリエイティブセンター大阪（CCO） のイベント
REFRESH-INTERVAL;VALUE=DURATION:PT1H
X-Robots-Tag:noindex
X-PUBLISHED-TTL:PT1H
BEGIN:VTIMEZONE
TZID:Asia/Tokyo
BEGIN:STANDARD
TZOFFSETFROM:+0900
TZOFFSETTO:+0900
TZNAME:JST
DTSTART:20190101T000000
END:STANDARD
END:VTIMEZONE
BEGIN:VEVENT
DTSTART;VALUE=DATE:20200711
DTEND;VALUE=DATE:20200712
DTSTAMP:20260423T073100
CREATED:20230416T085707Z
LAST-MODIFIED:20230416T085749Z
UID:3110-1594425600-1594511999@namura.cc
SUMMARY:Odd Number Festival 四面楚歌編
DESCRIPTION:□日時\n2020年7月11日（土）\n11:00-18:30\n※雨天決行/荒天中止\n※イベントガイドラインをご確認ください。 \n□詳しくは\nhttp://osakabronze.com/event/onf/
URL:https://namura.cc/event/2020-07-11/
ATTACH;FMTTYPE=:
END:VEVENT
BEGIN:VEVENT
DTSTART;VALUE=DATE:20200616
DTEND;VALUE=DATE:20200617
DTSTAMP:20260423T073100
CREATED:20230416T085926Z
LAST-MODIFIED:20230511T031150Z
UID:3113-1592265600-1592351999@namura.cc
SUMMARY:クリエイティブセンター大阪　ミニ見学ツアー vol.115
DESCRIPTION:近代化産業遺産に認定されている「名村造船跡地」=クリエイティブセンター大阪の館内見学ツアーです。\n造船所跡地の施設内をスタッフがご説明しながらご案内致します。\n※ツアー時間は40分程度を予定しております。（途中退場可） \n■日時　2020年6月16日（火）15:00 ※40分程度\nクリエイティブセンター大阪　入口警備員室前集合 \n■参加方法\n予約不要・現地集合／参加費は無料です。 \n■お問合せ\n06-4702-7085（クリエイティブセンター大阪）
URL:https://namura.cc/event/2020-06-16/
ATTACH;FMTTYPE=image/jpeg:https://namura.cc/wp-content/uploads/2022/12/b0f3769176eeffbd5abb90e91461dc87-e1677758490252.jpg
END:VEVENT
BEGIN:VEVENT
DTSTART;VALUE=DATE:20200609
DTEND;VALUE=DATE:20200610
DTSTAMP:20260423T073100
CREATED:20230416T090042Z
LAST-MODIFIED:20230511T031140Z
UID:3115-1591660800-1591747199@namura.cc
SUMMARY:クリエイティブセンター大阪　ミニ見学ツアー vol.114
DESCRIPTION:近代化産業遺産に認定されている「名村造船跡地」=クリエイティブセンター大阪の館内見学ツアーです。\n造船所跡地の施設内をスタッフがご説明しながらご案内致します。\n※ツアー時間は40分程度を予定しております。（途中退場可） \n■日時　2020年6月9日（火）15:00 ※40分程度\nクリエイティブセンター大阪　入口警備員室前集合 \n■参加方法\n予約不要・現地集合／参加費は無料です。 \n■お問合せ\n06-4702-7085（クリエイティブセンター大阪）
URL:https://namura.cc/event/2020-06-09/
ATTACH;FMTTYPE=image/jpeg:https://namura.cc/wp-content/uploads/2022/12/b0f3769176eeffbd5abb90e91461dc87-e1677758490252.jpg
END:VEVENT
BEGIN:VEVENT
DTSTART;VALUE=DATE:20200408
DTEND;VALUE=DATE:20200409
DTSTAMP:20260423T073100
CREATED:20230416T090226Z
LAST-MODIFIED:20230511T031129Z
UID:3118-1586304000-1586390399@namura.cc
SUMMARY:クリエイティブセンター大阪　ミニ見学ツアー vol.113
DESCRIPTION:近代化産業遺産に認定されている「名村造船跡地」=クリエイティブセンター大阪の館内見学ツアーです。\n造船所跡地の施設内をスタッフがご説明しながらご案内致します。\n※ツアー時間は40分程度を予定しております。（途中退場可） \n■日時　2020年4月8日（水）15:00 ※40分程度\nクリエイティブセンター大阪　入口警備員室前集合 \n■参加方法\n予約不要・現地集合／参加費は無料です。 \n■お問合せ\n06-4702-7085（クリエイティブセンター大阪）
URL:https://namura.cc/event/2020-04-08/
ATTACH;FMTTYPE=image/jpeg:https://namura.cc/wp-content/uploads/2022/12/b0f3769176eeffbd5abb90e91461dc87-e1677758490252.jpg
END:VEVENT
BEGIN:VEVENT
DTSTART;VALUE=DATE:20200329
DTEND;VALUE=DATE:20200330
DTSTAMP:20260423T073100
CREATED:20230416T090354Z
LAST-MODIFIED:20230416T090354Z
UID:3120-1585440000-1585526399@namura.cc
SUMMARY:舞20周年 春フェス
DESCRIPTION:□日時\n2020年3月29日（日）\nOPEN 11:00\nCLOSE 19:30
URL:https://namura.cc/event/2020-03-29/
ATTACH;FMTTYPE=:
END:VEVENT
BEGIN:VEVENT
DTSTART;VALUE=DATE:20200325
DTEND;VALUE=DATE:20200326
DTSTAMP:20260423T073100
CREATED:20230416T090543Z
LAST-MODIFIED:20230511T025928Z
UID:3122-1585094400-1585180799@namura.cc
SUMMARY:クリエイティブセンター大阪　ミニ見学ツアー vol.112
DESCRIPTION:近代化産業遺産に認定されている「名村造船跡地」=クリエイティブセンター大阪の館内見学ツアーです。\n造船所跡地の施設内をスタッフがご説明しながらご案内致します。\n※ツアー時間は40分程度を予定しております。（途中退場可） \n■日時　2020年3月25日（水）15:00 ※40分程度\nクリエイティブセンター大阪　入口警備員室前集合 \n■参加方法\n予約不要・現地集合／参加費は無料です。 \n■お問合せ\n06-4702-7085（クリエイティブセンター大阪）
URL:https://namura.cc/event/2020-03-25/
ATTACH;FMTTYPE=image/jpeg:https://namura.cc/wp-content/uploads/2022/12/b0f3769176eeffbd5abb90e91461dc87-e1677758490252.jpg
END:VEVENT
BEGIN:VEVENT
DTSTART;VALUE=DATE:20200316
DTEND;VALUE=DATE:20200317
DTSTAMP:20260423T073100
CREATED:20230416T090702Z
LAST-MODIFIED:20230416T090702Z
UID:3124-1584316800-1584403199@namura.cc
SUMMARY:＜新型コロナウイルスへの対応について＞
DESCRIPTION:クリエイティブセンター大阪は、名村造船所跡旧大阪工場内の複数のスペースを主に撮影やイベントのレンタルスペースとして運営しております。今回のコロナウィルスの対応については、政府や大阪府市の指示に従うものとし、特に指示等ない場合はお客様の安全、安心の確保を第一義にしつつ、イベント主催者の判断を尊重し協議をかさね最善の策を探るように努めていきたいと考えています。 \nご来場いただくお客様には、下記の感染予防・拡散防止の趣旨をご理解いただき、ご協力いただければ幸いです。 \n—————————————— \n・お客様ご自身の体調について\n発熱・咳・全身痛などの症状が継続してある場合には、できるかぎりご入場をお控えいただければと存じます。 \n・場内での感染予防について\n開場前の換気、終演後の消毒などには万全を期しております。観客の皆様も、うがい、手洗いなど、できる限りの防御策でご協力ください。 \n・咳・くしゃみのエチケットについて\n風邪ではなくても、咳・くしゃみなどの症状のある方は、周囲のお客様にご配慮いただき、マスクの着用をお願いいたします。\n急な咳やくしゃみの発生時には、ハンカチなどで覆う、袖や上着の内側で対応するなど最大限のご配慮をお願いいたします。 \n・スタッフのマスク着用について\n感染予防・拡散防止の為に、受付などのスタッフはマスクを着用する場合があります。 \n—————————————— \n今後の状況によっては、随時判断が変わることが予想されますので、最新の状況については、イベント主催者へご確認ください。 \nより詳しい対策・対応については厚生労働省のページをご確認ください。 \n新型コロナウイルス感染症について：厚生労働省\nhttps://www.mhlw.go.jp/stf/seisakunitsuite/bunya/0000164708_00001.html \nクリエイティブセンター大阪
URL:https://namura.cc/event/2020-03-16/
ATTACH;FMTTYPE=:
END:VEVENT
BEGIN:VEVENT
DTSTART;VALUE=DATE:20200304
DTEND;VALUE=DATE:20200305
DTSTAMP:20260423T073100
CREATED:20230416T090818Z
LAST-MODIFIED:20230511T025849Z
UID:3126-1583280000-1583366399@namura.cc
SUMMARY:クリエイティブセンター大阪　ミニ見学ツアー vol.111
DESCRIPTION:近代化産業遺産に認定されている「名村造船跡地」=クリエイティブセンター大阪の館内見学ツアーです。\n造船所跡地の施設内をスタッフがご説明しながらご案内致します。\n※ツアー時間は40分程度を予定しております。（途中退場可） \n■日時　2020年3月4日（水）15:00 ※40分程度\nクリエイティブセンター大阪　入口警備員室前集合 \n■参加方法\n予約不要・現地集合／参加費は無料です。 \n■お問合せ\n06-4702-7085（クリエイティブセンター大阪）
URL:https://namura.cc/event/2020-03-04/
ATTACH;FMTTYPE=image/jpeg:https://namura.cc/wp-content/uploads/2022/12/b0f3769176eeffbd5abb90e91461dc87-e1677758490252.jpg
END:VEVENT
BEGIN:VEVENT
DTSTART;VALUE=DATE:20200216
DTEND;VALUE=DATE:20200217
DTSTAMP:20260423T073100
CREATED:20230416T091200Z
LAST-MODIFIED:20230416T091200Z
UID:3128-1581811200-1581897599@namura.cc
SUMMARY:Vantan Student Final 2020 OSAKA
DESCRIPTION:□日時\n2020年2月16日(日)\n11:00- \n□詳しくは\nhttps://www.vantan.co.jp/studentfinal/osaka/
URL:https://namura.cc/event/2020-02-16/
ATTACH;FMTTYPE=image/jpeg:https://namura.cc/wp-content/uploads/2023/04/20200205-vantanstudentfinal2020.jpg
END:VEVENT
BEGIN:VEVENT
DTSTART;VALUE=DATE:20200213
DTEND;VALUE=DATE:20200214
DTSTAMP:20260423T073100
CREATED:20230416T091325Z
LAST-MODIFIED:20230416T091325Z
UID:3132-1581552000-1581638399@namura.cc
SUMMARY:クリエイティブセンター大阪　ミニ見学ツアー vol.110
DESCRIPTION:近代化産業遺産に認定されている「名村造船跡地」=クリエイティブセンター大阪の館内見学ツアーです。\n造船所跡地の施設内をスタッフがご説明しながらご案内致します。\n※ツアー時間は40分程度を予定しております。（途中退場可） \n☆同日、CCO敷地内のstudio PARTITAにて中嶋佑一個展「Teenage Psychodrama」開催中（入場無料）ですので合わせてご覧ください。 \n■日時　2020年2月13日（木）15:00 ※40分程度\nクリエイティブセンター大阪　入口警備員室前集合 \n※下記日程もミニ見学ツアー開催予定です。\n・2月9日（日）15:00-\n・2月11日（火）15:00-\n・2月12日（水）15:00- \n■参加方法\n予約不要・現地集合／参加費は無料です。 \n■お問合せ\n06-4702-7085（クリエイティブセンター大阪）
URL:https://namura.cc/event/2020-02-13/
ATTACH;FMTTYPE=image/jpeg:https://namura.cc/wp-content/uploads/2022/12/b0f3769176eeffbd5abb90e91461dc87-e1677758490252.jpg
END:VEVENT
BEGIN:VEVENT
DTSTART;VALUE=DATE:20200212
DTEND;VALUE=DATE:20200213
DTSTAMP:20260423T073100
CREATED:20230416T091501Z
LAST-MODIFIED:20230416T091501Z
UID:3134-1581465600-1581551999@namura.cc
SUMMARY:クリエイティブセンター大阪　ミニ見学ツアー vol.109
DESCRIPTION:近代化産業遺産に認定されている「名村造船跡地」=クリエイティブセンター大阪の館内見学ツアーです。\n造船所跡地の施設内をスタッフがご説明しながらご案内致します。\n※ツアー時間は40分程度を予定しております。（途中退場可） \n☆同日、CCO敷地内のstudio PARTITAにて中嶋佑一個展「Teenage Psychodrama」開催中（入場無料）ですので合わせてご覧ください。 \n■日時　2020年2月12日（水）15:00 ※40分程度\nクリエイティブセンター大阪　入口警備員室前集合 \n※下記日程もミニ見学ツアー開催予定です。\n・2月9日（日）15:00-\n・2月11日（火）15:00-\n・2月13日（木）15:00- \n■参加方法\n予約不要・現地集合／参加費は無料です。 \n■お問合せ\n06-4702-7085（クリエイティブセンター大阪）
URL:https://namura.cc/event/2020-02-12/
ATTACH;FMTTYPE=image/jpeg:https://namura.cc/wp-content/uploads/2022/12/b0f3769176eeffbd5abb90e91461dc87-e1677758490252.jpg
END:VEVENT
BEGIN:VEVENT
DTSTART;VALUE=DATE:20200211
DTEND;VALUE=DATE:20200212
DTSTAMP:20260423T073100
CREATED:20230416T091619Z
LAST-MODIFIED:20230416T091619Z
UID:3136-1581379200-1581465599@namura.cc
SUMMARY:クリエイティブセンター大阪　ミニ見学ツアー vol.108
DESCRIPTION:近代化産業遺産に認定されている「名村造船跡地」=クリエイティブセンター大阪の館内見学ツアーです。\n造船所跡地の施設内をスタッフがご説明しながらご案内致します。\n※ツアー時間は40分程度を予定しております。（途中退場可） \n☆同日、CCO敷地内のstudio PARTITAにて中嶋佑一個展「Teenage Psychodrama」開催中（入場無料）ですので合わせてご覧ください。 \n■日時　2020年2月11日（火）15:00 ※40分程度\nクリエイティブセンター大阪　入口警備員室前集合 \n※下記日程もミニ見学ツアー開催予定です。\n・2月9日（日）15:00-\n・2月12日（水）15:00-\n・2月13日（木）15:00- \n■参加方法\n予約不要・現地集合／参加費は無料です。 \n■お問合せ\n06-4702-7085（クリエイティブセンター大阪）
URL:https://namura.cc/event/2020-02-11/
ATTACH;FMTTYPE=image/jpeg:https://namura.cc/wp-content/uploads/2022/12/b0f3769176eeffbd5abb90e91461dc87-e1677758490252.jpg
END:VEVENT
BEGIN:VEVENT
DTSTART;VALUE=DATE:20200209
DTEND;VALUE=DATE:20200210
DTSTAMP:20260423T073100
CREATED:20230416T091722Z
LAST-MODIFIED:20230416T091722Z
UID:3138-1581206400-1581292799@namura.cc
SUMMARY:クリエイティブセンター大阪　ミニ見学ツアー vol.107
DESCRIPTION:近代化産業遺産に認定されている「名村造船跡地」=クリエイティブセンター大阪の館内見学ツアーです。\n造船所跡地の施設内をスタッフがご説明しながらご案内致します。\n※ツアー時間は40分程度を予定しております。（途中退場可） \n☆同日、CCO敷地内のstudio PARTITAにて中嶋佑一個展「Teenage Psychodrama」開催中（入場無料）ですので合わせてご覧ください。 \n■日時　2020年2月9日（日）15:00 ※40分程度\nクリエイティブセンター大阪　入口警備員室前集合 \n※下記日程もミニ見学ツアー開催予定です。\n・2月11日（火）15:00\n・2月12日（水）15:00\n・2月13日（木）15:00 \n■参加方法\n予約不要・現地集合／参加費は無料です。 \n■お問合せ\n06-4702-7085（クリエイティブセンター大阪）
URL:https://namura.cc/event/2020-02-09/
ATTACH;FMTTYPE=image/jpeg:https://namura.cc/wp-content/uploads/2022/12/b0f3769176eeffbd5abb90e91461dc87-e1677758490252.jpg
END:VEVENT
BEGIN:VEVENT
DTSTART;VALUE=DATE:20200208
DTEND;VALUE=DATE:20200209
DTSTAMP:20260423T073100
CREATED:20230416T091958Z
LAST-MODIFIED:20230416T091958Z
UID:3140-1581120000-1581206399@namura.cc
SUMMARY:中嶋佑一個展「Teenage Psychodrama」（2/8(土)-16(日))
DESCRIPTION:□日時\n2020年\n2月8日(土)〜16日(日）\n14:00-19:30(最終入場19:00) \n□料金\n入場料無料 \n□詳しくは\nhttp://yuichinakashima.com/tp20ad0.html \n□協力\nクリエイティブセンター大阪
URL:https://namura.cc/event/2020-02-08/
ATTACH;FMTTYPE=image/jpeg:https://namura.cc/wp-content/uploads/2023/04/20200127-2020nakajima.jpg
END:VEVENT
BEGIN:VEVENT
DTSTART;VALUE=DATE:20200205
DTEND;VALUE=DATE:20200206
DTSTAMP:20260423T073100
CREATED:20230416T092116Z
LAST-MODIFIED:20230511T025818Z
UID:3142-1580860800-1580947199@namura.cc
SUMMARY:クリエイティブセンター大阪　ミニ見学ツアー vol.106
DESCRIPTION:近代化産業遺産に認定されている「名村造船跡地」=クリエイティブセンター大阪の館内見学ツアーです。\n造船所跡地の施設内をスタッフがご説明しながらご案内致します。\n※ツアー時間は40分程度を予定しております。（途中退場可） \n■日時　2020年2月5日（水）15:00 ※40分程度\nクリエイティブセンター大阪　入口警備員室前集合 \n■参加方法\n予約不要・現地集合／参加費は無料です。 \n■お問合せ\n06-4702-7085（クリエイティブセンター大阪）近代化産業遺産に認定されている「名村造船跡地」=クリエイティブセンター大阪の館内見学ツアーです。\n造船所跡地の施設内をスタッフがご説明しながらご案内致します。\n※ツアー時間は40分程度を予定しております。（途中退場可） \n■日時　2020年2月5日（水）15:00 ※40分程度\nクリエイティブセンター大阪　入口警備員室前集合 \n■参加方法\n予約不要・現地集合／参加費は無料です。 \n■お問合せ\n06-4702-7085（クリエイティブセンター大阪）
URL:https://namura.cc/event/2020-02-05/
ATTACH;FMTTYPE=image/jpeg:https://namura.cc/wp-content/uploads/2022/12/b0f3769176eeffbd5abb90e91461dc87-e1677758490252.jpg
END:VEVENT
BEGIN:VEVENT
DTSTART;VALUE=DATE:20200119
DTEND;VALUE=DATE:20200120
DTSTAMP:20260423T073100
CREATED:20230416T092441Z
LAST-MODIFIED:20230416T092441Z
UID:3145-1579392000-1579478399@namura.cc
SUMMARY:ベトナムテト OSAKA 2020
DESCRIPTION:□日時\n2020年1月19日(日)\n10:30-21:00 \n□詳しくは\nhttp://hiephoithuongmainhatviet.com/tet-viet-ii-osaka-2020-su-kien-lon-nhat-duoc-nguoi-viet-chao-don-tai-nhat/
URL:https://namura.cc/event/2020-01-19/
ATTACH;FMTTYPE=image/jpeg:https://namura.cc/wp-content/uploads/2023/04/20200114-tet-event2020.jpg
END:VEVENT
BEGIN:VEVENT
DTSTART;VALUE=DATE:20200108
DTEND;VALUE=DATE:20200109
DTSTAMP:20260423T073100
CREATED:20230416T092551Z
LAST-MODIFIED:20230416T092551Z
UID:3148-1578441600-1578527999@namura.cc
SUMMARY:クリエイティブセンター大阪　ミニ見学ツアー vol.105
DESCRIPTION:近代化産業遺産に認定されている「名村造船跡地」=クリエイティブセンター大阪の館内見学ツアーです。\n造船所跡地の施設内をスタッフがご説明しながらご案内致します。\n※ツアー時間は40分程度を予定しております。（途中退場可） \n■日時　2020年1月8日（水）15:00 ※40分程度\nクリエイティブセンター大阪　入口警備員室前集合 \n■参加方法\n予約不要・現地集合／参加費は無料です。 \n■お問合せ\n06-4702-7085（クリエイティブセンター大阪）
URL:https://namura.cc/event/2020-01-08/
ATTACH;FMTTYPE=image/jpeg:https://namura.cc/wp-content/uploads/2022/12/b0f3769176eeffbd5abb90e91461dc87-e1677758490252.jpg
END:VEVENT
BEGIN:VEVENT
DTSTART;VALUE=DATE:20191230
DTEND;VALUE=DATE:20191231
DTSTAMP:20260423T073100
CREATED:20230416T092808Z
LAST-MODIFIED:20230416T095121Z
UID:3150-1577664000-1577750399@namura.cc
SUMMARY:STAR FESTIVAL CLOSING 2019
DESCRIPTION:年の瀬恒例、大阪のウエアハウス感満載の話題のスポット、クリエイティブセンター大阪をジャックして行われるSTARFESTIVAL CLOSING。\nジャンルの垣根を飛び越えて、世界の一線で活躍するアーティストが集結するオールナイトパーティーが開催！\n第１弾にAXEL BOMAN \, BO NINGEN \, KOHH \, 石野卓球 \, Mathew Jonson \, 寺田創一がラインナップ！ \n□日時\n2019年12月30日（月）\nopen 20:00 \n□チケット\nadv:4000yen door:5000yen \nイープラス https://eplus.jp/sf/detail/3153010001-P0030001\nチケットぴあ P-CODE(171094)\n楽天チケット https://ticket.rakuten.co.jp/music/fes/rtcreds/\nローソンチケット L-CODE(55018)\npeatix : https://starfestival2019closing.peatix.com/ \n□出演**出演アーティスト(A to Z)\nAxel Boman\n(Studio Barnhus/ Talaboman)\nBo Ningen\nDove\nKOHH\nDJ KRUSH\nLicaxxx\nMadkosmos\nMathew Jonson\n(Wagon Repair\, Freedom Engine)\nPeter Van Hoesen\n(Time to express)\nSOICHI TERADA\n(寺田創一)\nSpeedmeter.\n(Jun Takayama / slomos)\nTAKKYU ISHINO\n(石野卓球 / 電気グルーグ)\nYURUFUWA GANG\n(ゆるふわギャング) \nVJ : Kozee \nCIRCUS FLOOR(OPEN AIR) : \nFULLHOUSE(YUNG EAZY / RYOTA / SAMO / CAZBOW / KENGO)\nBatsu / dym / DJ KENZ1 / DJ KESHIGOMU / MOUNTAIN / TAIKI / UPSTAR \nCATS FLOOR(RED CHAMBER):\npresented by CHEERS\nLINE UP : DJ AGEISHI and more \n□詳しくは\nofficial site\nhttps://thestarfestival.com/
URL:https://namura.cc/event/2019-12-30/
ATTACH;FMTTYPE=image/jpeg:https://namura.cc/wp-content/uploads/2023/04/20191203-1230STAFESo.jpg
END:VEVENT
BEGIN:VEVENT
DTSTART;VALUE=DATE:20191228
DTEND;VALUE=DATE:20191229
DTSTAMP:20260423T073100
CREATED:20230416T093342Z
LAST-MODIFIED:20230416T095154Z
UID:3152-1577491200-1577577599@namura.cc
SUMMARY:SOUTH YAAD MUZIK COMPILATION Vol\,12 RELEASE PARTY
DESCRIPTION:□日時\n2019年12月28日(土)\nOPEN 13:30\nSTART 14:30 \n□チケット\n前売　￥4500-\n当日　￥5500-\n※共に入場時別途1D600円必要\n※小学生以下入場無料/但し保護者同伴必要 \n・ticket PIA　0570-02-9999(P-code:165-560)\n・LAWSON ticket　0570-084-005(L-code:55591)\n・CN playguide　0570-08-9999\n・e+ 　http://eplus.jp \n□詳しくは \n□お問合せ\nBack Yard Promotion 06-6213-7077(SUNHALL内)
URL:https://namura.cc/event/2019-12-28/
ATTACH;FMTTYPE=image/jpeg:https://namura.cc/wp-content/uploads/2023/04/20191206-191228.jpg
END:VEVENT
BEGIN:VEVENT
DTSTART;VALUE=DATE:20191222
DTEND;VALUE=DATE:20191223
DTSTAMP:20260423T073100
CREATED:20230416T093618Z
LAST-MODIFIED:20230416T093618Z
UID:3156-1576972800-1577059199@namura.cc
SUMMARY:コスプレ交流会COS JOY 大阪 造船跡地
DESCRIPTION:コスプレイベント コスプレ交流会COS JOY 大阪 造船跡地\n□日時\n2019年\n12月22日（日）10:00-17:00 \n□詳しくは\nCOSJOYホームページ\nhttp://www.comicon.co.jp/cosjoy/zousen/zousenindex.html
URL:https://namura.cc/event/2019-12-22-2/
ATTACH;FMTTYPE=:
END:VEVENT
BEGIN:VEVENT
DTSTART;VALUE=DATE:20191222
DTEND;VALUE=DATE:20191223
DTSTAMP:20260423T073100
CREATED:20230416T093521Z
LAST-MODIFIED:20230416T095304Z
UID:3154-1576972800-1577059199@namura.cc
SUMMARY:STAND UP! ORCHESTRA「」
DESCRIPTION:□日時\n2019年12月22日(日)\nOPEN:17:30\nSTART:18:00 \n□チケット\nスタンディング￥4\,500(税込)\nキッズチケット(小学生以上中学生以下)￥2\,500(税込)\n※3歳未満入場不可/未就学児童無料\n※整理番号あり \n□詳しくは\nhttp://standupclassic.jp/#news20191031
URL:https://namura.cc/event/2019-12-22/
ATTACH;FMTTYPE=image/jpeg:https://namura.cc/wp-content/uploads/2023/04/20191129-1222SNS.jpg
END:VEVENT
BEGIN:VEVENT
DTSTART;VALUE=DATE:20191221
DTEND;VALUE=DATE:20191222
DTSTAMP:20260423T073100
CREATED:20230416T093744Z
LAST-MODIFIED:20230416T093757Z
UID:3158-1576886400-1576972799@namura.cc
SUMMARY:助成申請説明会＆スペース助成利用場所見学会
DESCRIPTION:おおさか創造千島財団の2020年度公募助成に関する説明会＆スペース助成利用場所見学会です。 \n□日時\n12月21日（土）14:00-15:30\n※予約不要 \n□詳しくは\nおおさか創造千島財団\nhttp://www.chishimatochi.info/found/news/3321/
URL:https://namura.cc/event/2019-12-21/
ATTACH;FMTTYPE=:
END:VEVENT
BEGIN:VEVENT
DTSTART;VALUE=DATE:20191220
DTEND;VALUE=DATE:20191221
DTSTAMP:20260423T073100
CREATED:20230416T093912Z
LAST-MODIFIED:20230416T093912Z
UID:3160-1576800000-1576886399@namura.cc
SUMMARY:【お知らせ】年末年始休館のお知らせ
DESCRIPTION:クリエイティブセンター大阪は下記の期間を年末年始休業日とさせていただきますので、何卒ご理解くださいますようお願い致します。 \n●年末年始休業期間●\n2019年12月29日(日) ～ 2020年1月5日(日) \nなお、30日（日）は下記イベントがございますので営業しております。 \n☆12月30日（月）THE STAR FESTIVAL 2019 CLOSING \n新年は1月6日(月)より通常営業を開始いたします。 \nクリエイティブセンター大阪
URL:https://namura.cc/event/2019-12-20/
ATTACH;FMTTYPE=:
END:VEVENT
BEGIN:VEVENT
DTSTART;VALUE=DATE:20191215
DTEND;VALUE=DATE:20191216
DTSTAMP:20260423T073100
CREATED:20230416T094128Z
LAST-MODIFIED:20230416T094128Z
UID:3162-1576368000-1576454399@namura.cc
SUMMARY:まねきケチャワールド～大阪公演～
DESCRIPTION:□日時\n2019年12月15日(日)\nOPEN : 16:30\nSTART : 17:15 \n□詳しくは\nhttps://www.yumebanchi.jp/artists/36115
URL:https://namura.cc/event/2019-12-15/
ATTACH;FMTTYPE=:
END:VEVENT
BEGIN:VEVENT
DTSTART;VALUE=DATE:20191211
DTEND;VALUE=DATE:20191212
DTSTAMP:20260423T073100
CREATED:20230416T094310Z
LAST-MODIFIED:20230416T094310Z
UID:3164-1576022400-1576108799@namura.cc
SUMMARY:クリエイティブセンター大阪　ミニ見学ツアー vol.104
DESCRIPTION:近代化産業遺産に認定されている「名村造船跡地」=クリエイティブセンター大阪の館内見学ツアーです。\n造船所跡地の施設内をスタッフがご説明しながらご案内致します。\n※ツアー時間は40分程度を予定しております。（途中退場可） \n■日時　2019年12月11日（水）15:00 ※40分程度\nクリエイティブセンター大阪　入口警備員室前集合 \n■参加方法\n予約不要・現地集合／参加費は無料です。 \n■お問合せ\n06-4702-7085（クリエイティブセンター大阪）
URL:https://namura.cc/event/2019-12-11/
ATTACH;FMTTYPE=image/jpeg:https://namura.cc/wp-content/uploads/2022/12/b0f3769176eeffbd5abb90e91461dc87-e1677758490252.jpg
END:VEVENT
BEGIN:VEVENT
DTSTART;VALUE=DATE:20191208
DTEND;VALUE=DATE:20191209
DTSTAMP:20260423T073100
CREATED:20230416T095801Z
LAST-MODIFIED:20230416T095801Z
UID:3226-1575763200-1575849599@namura.cc
SUMMARY:イルカ☆ファンキーフレンズ第15回公演 『いるか道中膝栗毛-弥次さん、喜多さん珍道中』
DESCRIPTION:データセンターいるか クリスマス会\n□日時\n2019年12月8日(日)\n10:30-16:00
URL:https://namura.cc/event/2019-12-08-2/
ATTACH;FMTTYPE=image/jpeg:https://namura.cc/wp-content/uploads/2023/04/20191127-201911208irukao.jpg
END:VEVENT
BEGIN:VEVENT
DTSTART;VALUE=DATE:20191207
DTEND;VALUE=DATE:20191208
DTSTAMP:20260423T073100
CREATED:20230416T095911Z
LAST-MODIFIED:20230416T095911Z
UID:3228-1575676800-1575763199@namura.cc
SUMMARY:SYMBOL OSAKA vol.16
DESCRIPTION:※フライヤー画像のPARTITAの表記に誤りがあります。\n誤) @PALTITTA\n正）@PARTITA \n□日時\n2019年12月7日(土)\nOPEN 12:00\nSTART 13:00
URL:https://namura.cc/event/2019-12-07/
ATTACH;FMTTYPE=image/jpeg:https://namura.cc/wp-content/uploads/2023/04/20191124-20191207smbolosaka16o.jpg
END:VEVENT
BEGIN:VEVENT
DTSTART;VALUE=DATE:20191201
DTEND;VALUE=DATE:20191202
DTSTAMP:20260423T073100
CREATED:20230416T100300Z
LAST-MODIFIED:20230416T100300Z
UID:3230-1575158400-1575244799@namura.cc
SUMMARY:我儘ラキア Killboredom TOUR 2019 FINAL
DESCRIPTION:□日時\n2019年 12月 01日 (日)\nSTART: 15:00\nOPEN: 16:00 \n□チケット\n前売 ¥ 3\,000- \nイープラス　https://eplus.jp/wagamamarakia19/ \n□主催：キョードー関西\n□企画：QOOLONG\n□制作：KiTSUNE WORKS
URL:https://namura.cc/event/2019-12-01/
ATTACH;FMTTYPE=image/jpeg:https://namura.cc/wp-content/uploads/2023/04/20191115-wagamm2019.jpg
END:VEVENT
BEGIN:VEVENT
DTSTART;VALUE=DATE:20191124
DTEND;VALUE=DATE:20191125
DTSTAMP:20260423T073100
CREATED:20230416T100648Z
LAST-MODIFIED:20230416T100648Z
UID:3234-1574553600-1574639999@namura.cc
SUMMARY:DJ HARVEY 30TH ANNIVERSARY TOUR OF JAPAN
DESCRIPTION:DJとしてもっとも神の領域に近い男と称されるリヴィング・レジェンド、DJ HARVEY来日30周年記念ツアーが決定！共演にはokadada！大阪公演には、ファンクサウンドをクラブシーンに確立させた第一人者であるKEB DARGEやKILLER TUNES BROADCAST（WACKO MARIA）などがゲスト出演。アパレルブランド「WACKO MARIA」とのオフィシャルコラボアイテムを数量限定にて販売！ \n□日時\n2019年11月24日(日)\nopen 15:00\nclose 22:00 \n□チケット\nadv:3500yen door:4000yen\n※別途１ドリンク代金600円必要 \nイープラス https://eplus.jp/\n（リンク先 : https://eplus.jp/sf/detail/3119530001-P0030001)\nチケットぴあ P-CODE(168226)\nローソンチケット L-CODE(56448)\nPeatix : http://ptix.at/zoPjNU
URL:https://namura.cc/event/2019-11-24/
ATTACH;FMTTYPE=image/jpeg:https://namura.cc/wp-content/uploads/2023/04/20191108-DJHarvey30th.jpg
END:VEVENT
BEGIN:VEVENT
DTSTART;VALUE=DATE:20191123
DTEND;VALUE=DATE:20191124
DTSTAMP:20260423T073100
CREATED:20230416T100757Z
LAST-MODIFIED:20230416T100757Z
UID:3236-1574467200-1574553599@namura.cc
SUMMARY:助成申請説明会＆スペース助成利用場所見学会
DESCRIPTION:おおさか創造千島財団の2020年度公募助成に関する説明会＆スペース助成利用場所見学会です。 \n□日時\n11月23日（土）14:00-15:30\n12月21日（土）14:00-15:30\n※予約不要 \n□詳しくは\nおおさか創造千島財団\nhttp://www.chishimatochi.info/found/news/3321/
URL:https://namura.cc/event/2019-11-23/
ATTACH;FMTTYPE=:
END:VEVENT
END:VCALENDAR