BEGIN:VCALENDAR
VERSION:2.0
PRODID:-//クリエイティブセンター大阪（CCO） - ECPv6.2.1//NONSGML v1.0//EN
CALSCALE:GREGORIAN
METHOD:PUBLISH
X-WR-CALNAME:クリエイティブセンター大阪（CCO）
X-ORIGINAL-URL:https://namura.cc
X-WR-CALDESC:クリエイティブセンター大阪（CCO） のイベント
REFRESH-INTERVAL;VALUE=DURATION:PT1H
X-Robots-Tag:noindex
X-PUBLISHED-TTL:PT1H
BEGIN:VTIMEZONE
TZID:Asia/Tokyo
BEGIN:STANDARD
TZOFFSETFROM:+0900
TZOFFSETTO:+0900
TZNAME:JST
DTSTART:20180101T000000
END:STANDARD
END:VTIMEZONE
BEGIN:VEVENT
DTSTART;VALUE=DATE:20190519
DTEND;VALUE=DATE:20190520
DTSTAMP:20260423T073035
CREATED:20230418T075703Z
LAST-MODIFIED:20230418T075709Z
UID:3334-1558224000-1558310399@namura.cc
SUMMARY:春ロック2019
DESCRIPTION:□日時\n2019年5月19日(日)\nOPEN 12:00\nSTART 13:00 \n□詳しくは\nhttp://camuro.jp/haruroc2019/
URL:https://namura.cc/event/2019-05-19/
ATTACH;FMTTYPE=image/jpeg:https://namura.cc/wp-content/uploads/2023/04/20190510-haruroc2019_resize.jpg
END:VEVENT
BEGIN:VEVENT
DTSTART;VALUE=DATE:20190512
DTEND;VALUE=DATE:20190513
DTSTAMP:20260423T073035
CREATED:20230418T075901Z
LAST-MODIFIED:20230418T075909Z
UID:3338-1557619200-1557705599@namura.cc
SUMMARY:コスプレ交流会COS JOY 大阪 造船跡地
DESCRIPTION:コスプレイベント コスプレ交流会COS JOY 大阪 造船跡地\n□日時\n2019年\n5月12日（日）10:00-18:00 \n□詳しくは\nCOSJOYホームページ\nhttp://www.comicon.co.jp/cosjoy/zousen/zousenindex.html
URL:https://namura.cc/event/2019-05-12-2/
ATTACH;FMTTYPE=image/jpeg:https://namura.cc/wp-content/uploads/2023/04/20170404-cosjoy.jpg
END:VEVENT
BEGIN:VEVENT
DTSTART;VALUE=DATE:20190512
DTEND;VALUE=DATE:20190513
DTSTAMP:20260423T073035
CREATED:20230418T075757Z
LAST-MODIFIED:20230418T075804Z
UID:3336-1557619200-1557705599@namura.cc
SUMMARY:BJ-STYLE♯24～ポセイドンアドベンチャースプラッシュ2019
DESCRIPTION:□日時\n2019年5月12日（日)\n開場　12:15\n開演　13:00 \n□詳しくは\n大日本プロレス official website\nhttp://www.bjw.co.jp/event_detail.php?id=2459
URL:https://namura.cc/event/2019-05-12/
ATTACH;FMTTYPE=image/jpeg:https://namura.cc/wp-content/uploads/2023/04/20190428-bjw2019.jpg
END:VEVENT
BEGIN:VEVENT
DTSTART;VALUE=DATE:20190508
DTEND;VALUE=DATE:20190509
DTSTAMP:20260423T073035
CREATED:20230418T075949Z
LAST-MODIFIED:20230418T075957Z
UID:3340-1557273600-1557359999@namura.cc
SUMMARY:クリエイティブセンター大阪　ミニ見学ツアー vol.94
DESCRIPTION:近代化産業遺産に認定されている「名村造船跡地」=クリエイティブセンター大阪の館内見学ツアーです。\n造船所跡地の施設内をスタッフがご説明しながらご案内致します。\n※ツアー時間は40分程度を予定しております。（途中退場可） \n■日時　2019年5月8日（水）15:00 ※40分程度\nクリエイティブセンター大阪　入口警備員室前集合 \n■参加方法\n予約不要・現地集合／参加費は無料です。 \n■お問合せ\n06-4702-7085（クリエイティブセンター大阪）
URL:https://namura.cc/event/2019-05-08/
ATTACH;FMTTYPE=image/jpeg:https://namura.cc/wp-content/uploads/2022/12/b0f3769176eeffbd5abb90e91461dc87-e1677758490252.jpg
END:VEVENT
BEGIN:VEVENT
DTSTART;VALUE=DATE:20190504
DTEND;VALUE=DATE:20190505
DTSTAMP:20260423T073035
CREATED:20230418T080045Z
LAST-MODIFIED:20230418T080052Z
UID:3343-1556928000-1557014399@namura.cc
SUMMARY:BADHEADZ×COB GRANDPRIX 2019
DESCRIPTION:世界最大3レーンミニ四駆非公式レース！ \n□日時\n2019年5月4日（土）\n8:30〜\n□・エントリー費\n大人￥2\,000\n中高生￥1\,000\n小学生以下￥500 \n□詳しくは\nBADHEADZ×COB GRANDPRIX 公式HP\nhttps://badheadzcobgp.themedia.jp
URL:https://namura.cc/event/2019-05-04/
ATTACH;FMTTYPE=image/jpeg:https://namura.cc/wp-content/uploads/2023/04/20190414-badz.jpg
END:VEVENT
BEGIN:VEVENT
DTSTART;VALUE=DATE:20190503
DTEND;VALUE=DATE:20190504
DTSTAMP:20260423T073035
CREATED:20230418T080152Z
LAST-MODIFIED:20230418T080200Z
UID:3346-1556841600-1556927999@namura.cc
SUMMARY:クリエイティブセンター大阪　GW期間開催ミニ見学ツアー 　vol.98
DESCRIPTION:近代化産業遺産に認定されている「名村造船跡地」=クリエイティブセンター大阪の館内見学ツアーです。\n造船所跡地の施設内をスタッフがご説明しながらご案内致します。\n※ツアー時間は40分程度を予定しております。（途中退場可） \n普段、月に1回平日に開催しておりますクリエイティブセンター大阪ミニ見学ツアーですが、GW期間中下記日程で開催します。 \n■日時\n2019年5月3日（金）15:00 \n※GW期間中4/30 & 5/2も開催しております。\n※5月1日のみ不開催ですので予めご了承ください。 \n※ミニ見学ツアー開催中の同日総合事務所棟3階で第六回アラタパンダン展が開催中ですので合わせてご覧いただければと思います。 \nクリエイティブセンター大阪　入口警備員室前集合 \n■参加方法\n予約不要・現地集合／参加費は無料です。 \n■お問合せ\n06-4702-7085（クリエイティブセンター大阪）
URL:https://namura.cc/event/2019-05-03/
ATTACH;FMTTYPE=image/jpeg:https://namura.cc/wp-content/uploads/2022/12/b0f3769176eeffbd5abb90e91461dc87-e1677758490252.jpg
END:VEVENT
BEGIN:VEVENT
DTSTART;VALUE=DATE:20190502
DTEND;VALUE=DATE:20190503
DTSTAMP:20260423T073035
CREATED:20230418T080250Z
LAST-MODIFIED:20230418T080258Z
UID:3348-1556755200-1556841599@namura.cc
SUMMARY:クリエイティブセンター大阪　GW期間開催ミニ見学ツアー 　vol.97
DESCRIPTION:近代化産業遺産に認定されている「名村造船跡地」=クリエイティブセンター大阪の館内見学ツアーです。\n造船所跡地の施設内をスタッフがご説明しながらご案内致します。\n※ツアー時間は40分程度を予定しております。（途中退場可） \n普段、月に1回平日に開催しておりますクリエイティブセンター大阪ミニ見学ツアーですが、GW期間中下記日程で開催します。 \n■日時\n2019年\n5月2日（木）15:00 \n※GW期間、4/30 & 5/3も開催しております。\n※5月1日のみ不開催ですので予めご了承ください。 \n※ミニ見学ツアー開催中の同日総合事務所棟3階で第六回アラタパンダン展が開催中ですので合わせてご覧いただければと思います。\n※ツアー時間40分程度 \nクリエイティブセンター大阪　入口警備員室前集合 \n■参加方法\n予約不要・現地集合／参加費は無料です。 \n■お問合せ\n06-4702-7085（クリエイティブセンター大阪）
URL:https://namura.cc/event/2019-05-02/
ATTACH;FMTTYPE=image/jpeg:https://namura.cc/wp-content/uploads/2022/12/b0f3769176eeffbd5abb90e91461dc87-e1677758490252.jpg
END:VEVENT
BEGIN:VEVENT
DTSTART;VALUE=DATE:20190430
DTEND;VALUE=DATE:20190504
DTSTAMP:20260423T073035
CREATED:20230418T080450Z
LAST-MODIFIED:20230418T080456Z
UID:3352-1556582400-1556927999@namura.cc
SUMMARY:第六回アラタパンダン展
DESCRIPTION:アラタパンダン展とはフランス発祥の展覧会アンデパンダンと主催者の名前アラタを合わせて作られた造語。\nアンデパンダンの自由出品、無審査から象徴される自由な骨格をそのままに、分野、様式、ジャンル、キャリア、あらゆる尺度を取り払った新しい展覧会です。\n第六回目となる本展覧会は、大阪市住之江区にある名村造船所跡地を活用したアート複合スペース「クリエイティブセンター大阪」で開催いたします。造船所跡地という産業遺産、廃墟のポテンシャルを最大限に生かした広大な空間を、総勢二十五組の作品で彩ります。\n□日時\n2019年\n４月30日(火)〜5月3日（金)\n13:00-21:00 \n［関連プログラム］\n1. オールナイトイベント 2019年４月30日（火） 17:00 –5:00\n2. クロージングパーティ、 アーティストトーク 2019年5月2日（木） 17:00 –21:00 \n□入場料\npay it yourself \n□詳しくは\nhttps://www.facebook.com/aratapendants/
URL:https://namura.cc/event/2019-04-30-2/
ATTACH;FMTTYPE=image/jpeg:https://namura.cc/wp-content/uploads/2023/04/20190412-2019arata6.jpg
END:VEVENT
BEGIN:VEVENT
DTSTART;VALUE=DATE:20190430
DTEND;VALUE=DATE:20190501
DTSTAMP:20260423T073035
CREATED:20230418T080348Z
LAST-MODIFIED:20230418T080355Z
UID:3350-1556582400-1556668799@namura.cc
SUMMARY:クリエイティブセンター大阪　GW期間開催ミニ見学ツアー 　vol.96
DESCRIPTION:近代化産業遺産に認定されている「名村造船跡地」=クリエイティブセンター大阪の館内見学ツアーです。\n造船所跡地の施設内をスタッフがご説明しながらご案内致します。\n※ツアー時間は40分程度を予定しております。（途中退場可） \n普段、月に1回平日に開催しておりますクリエイティブセンター大阪ミニ見学ツアーですが、GW期間中下記日程で開催します。 \n■日時\n2019年\n4月30日（火）15:00 \n※GW期間、5/2&5/3も開催しております。\n※5月1日のみ不開催ですので予めご了承ください。 \n※ミニ見学ツアー開催中の同日総合事務所棟3階で第六回アラタパンダン展が開催中ですので合わせてご覧いただければと思います。\n※ツアー時間40分程度 \nクリエイティブセンター大阪　入口警備員室前集合 \n■参加方法\n予約不要・現地集合／参加費は無料です。 \n■お問合せ\n06-4702-7085（クリエイティブセンター大阪）
URL:https://namura.cc/event/2019-04-30/
ATTACH;FMTTYPE=image/jpeg:https://namura.cc/wp-content/uploads/2022/12/b0f3769176eeffbd5abb90e91461dc87-e1677758490252.jpg
END:VEVENT
BEGIN:VEVENT
DTSTART;VALUE=DATE:20190427
DTEND;VALUE=DATE:20190429
DTSTAMP:20260423T073035
CREATED:20230418T080602Z
LAST-MODIFIED:20230418T080602Z
UID:3354-1556323200-1556495999@namura.cc
SUMMARY:クリエーターズマーケット in 大阪
DESCRIPTION:■日時\n2019年\n4月27日（土）\n4月28日（日）\n11:00〜18:00 \n■詳しくは\nhttps://www.creatorsmarket.com
URL:https://namura.cc/event/%e3%82%af%e3%83%aa%e3%82%a8%e3%83%bc%e3%82%bf%e3%83%bc%e3%82%ba%e3%83%9e%e3%83%bc%e3%82%b1%e3%83%83%e3%83%88-in-%e5%a4%a7%e9%98%aa/
ATTACH;FMTTYPE=image/jpeg:https://namura.cc/wp-content/uploads/2023/04/20190409-osaka-visual.jpg
END:VEVENT
BEGIN:VEVENT
DTSTART;VALUE=DATE:20190420
DTEND;VALUE=DATE:20190421
DTSTAMP:20260423T073035
CREATED:20230418T080650Z
LAST-MODIFIED:20230418T080659Z
UID:3357-1555718400-1555804799@namura.cc
SUMMARY:ヘイオオサカ & HOMEBOY 20th Anniversary "HOME"
DESCRIPTION:■日時\n2019年4月20日（土）\n開場・開演13:00／終演22:00 \n■料　金\n前売　3\,000円(税込)\n＊会場入場時に別途1ドリンク代600円をお支払いください。\n＊3歳以下入場不可、4歳以上は有料。 \n■詳しくは\nhttps://vinyl.thebase.in/items/18353534
URL:https://namura.cc/event/2019-04-20/
ATTACH;FMTTYPE=image/jpeg:https://namura.cc/wp-content/uploads/2023/04/20190326-home20.jpg
END:VEVENT
BEGIN:VEVENT
DTSTART;VALUE=DATE:20190414
DTEND;VALUE=DATE:20190415
DTSTAMP:20260423T073035
CREATED:20230418T080756Z
LAST-MODIFIED:20230418T080803Z
UID:3359-1555200000-1555286399@namura.cc
SUMMARY:コスプレ交流会COS JOY 大阪 造船跡地
DESCRIPTION:コスプレイベント コスプレ交流会COS JOY 大阪 造船跡地\n□日時\n2019年\n4月14日（日）10:00-18:00 \n□詳しくは\nCOSJOYホームページ\nhttp://www.comicon.co.jp/cosjoy/zousen/zousenindex.html
URL:https://namura.cc/event/2019-04-14/
ATTACH;FMTTYPE=image/jpeg:https://namura.cc/wp-content/uploads/2023/04/20170404-cosjoy.jpg
END:VEVENT
BEGIN:VEVENT
DTSTART;VALUE=DATE:20190413
DTEND;VALUE=DATE:20190414
DTSTAMP:20260423T073035
CREATED:20230418T080846Z
LAST-MODIFIED:20230418T080854Z
UID:3361-1555113600-1555199999@namura.cc
SUMMARY:SUKIYAKI KOCHI FESTIVAL OSAKA 〜土佐弁でスキヤキは I LOVE YOU!〜
DESCRIPTION:今春CCOクリエイティブセンター大阪でしんじょう君が高知の魅力を伝えるフェスティバルを開催するよー☆\n第一弾出演者にはプレゼンテーターとして小野大輔さん、高知のご当地キャラの参加も決定したよー☆\n遊びに来てね☆ね☆ \n□日時\n2019年4/13（土） 雨天決行・荒天中止\n15:00～21:00（予定） \n□チケット\n先行早割チケット限定発売開始!\n先行早割：3\,000円\n前売：4\,000円\n当日：5\,000円\n*共に入場時１ドリンク別途 \nチケット : https://sukiyakifes.peatix.com/ \n□お問合せ\ninfo : https://www.sukiyakifes.com/
URL:https://namura.cc/event/2019-04-13/
ATTACH;FMTTYPE=image/jpeg:https://namura.cc/wp-content/uploads/2023/04/20190110-190413.jpg
END:VEVENT
BEGIN:VEVENT
DTSTART;VALUE=DATE:20190409
DTEND;VALUE=DATE:20190410
DTSTAMP:20260423T073035
CREATED:20230418T080946Z
LAST-MODIFIED:20230511T025710Z
UID:3363-1554768000-1554854399@namura.cc
SUMMARY:クリエイティブセンター大阪　ミニ見学ツアー vol.93
DESCRIPTION:近代化産業遺産に認定されている「名村造船跡地」=クリエイティブセンター大阪の館内見学ツアーです。\n造船所跡地の施設内をスタッフがご説明しながらご案内致します。\n※ツアー時間は40分程度を予定しております。（途中退場可） \n■日時　2019年4月9日（火）15:00 ※40分程度\nクリエイティブセンター大阪　入口警備員室前集合 \n■参加方法\n予約不要・現地集合／参加費は無料です。 \n■お問合せ\n06-4702-7085（クリエイティブセンター大阪）
URL:https://namura.cc/event/2019-04-09/
ATTACH;FMTTYPE=image/jpeg:https://namura.cc/wp-content/uploads/2022/12/b0f3769176eeffbd5abb90e91461dc87-e1677758490252.jpg
END:VEVENT
BEGIN:VEVENT
DTSTART;VALUE=DATE:20190330
DTEND;VALUE=DATE:20190331
DTSTAMP:20260423T073035
CREATED:20230418T081045Z
LAST-MODIFIED:20230418T081045Z
UID:3365-1553904000-1553990399@namura.cc
SUMMARY:CATS IN THE PARK
DESCRIPTION:□日時\n2019年3月30日(土)\nOPEN 15:00 \n□チケット\nADV: 3\,939yen\n※別途1d: 600yen\n※16歳未満入場不可\n※IDチェックあり \nイープラス：http://sort.eplus.jp/sys/T1U14P0010163P0108P002280839P0050001P006001P0030001\nPeatix： https://catsinthepark.peatix.com/ \n□出演\nSIRUP / 唾奇 / 変態紳士クラブ-Band set- and more. \n□詳しくは\nhttp://circus-osaka.com/event/cats-in-the-park-%E5%90%8D%E6%9D%91%E9%80%A0%E8%88%B9%E6%89%80%E8%B7%A1%E5%9C%B0/
URL:https://namura.cc/event/cats-in-the-park/
ATTACH;FMTTYPE=image/jpeg:https://namura.cc/wp-content/uploads/2023/04/20190320-20190330.jpg
END:VEVENT
BEGIN:VEVENT
DTSTART;VALUE=DATE:20190324
DTEND;VALUE=DATE:20190325
DTSTAMP:20260423T073035
CREATED:20230418T081141Z
LAST-MODIFIED:20230418T081148Z
UID:3367-1553385600-1553471999@namura.cc
SUMMARY:コスプレ交流会COS JOY 大阪 造船跡地
DESCRIPTION:コスプレイベント コスプレ交流会COS JOY 大阪 造船跡地\n□日時\n2019年\n3月24日（日）10:00-18:00 \n□詳しくは\nCOSJOYホームページ\nhttp://www.comicon.co.jp/cosjoy/zousen/zousenindex.html
URL:https://namura.cc/event/2019-03-24/
ATTACH;FMTTYPE=image/jpeg:https://namura.cc/wp-content/uploads/2023/04/20170404-cosjoy.jpg
END:VEVENT
BEGIN:VEVENT
DTSTART;VALUE=DATE:20190312
DTEND;VALUE=DATE:20190313
DTSTAMP:20260423T073035
CREATED:20230418T081411Z
LAST-MODIFIED:20230418T081416Z
UID:3371-1552348800-1552435199@namura.cc
SUMMARY:照明卓AVOLIET勉強会 vol.1
DESCRIPTION:studio PARTITAに導入しました照明卓AVOLITEを色々さわりながらこそこそ勉強しようかと小さく考えております。ご興味ある方(若干名)是非お越し下さい。 \n※本格的なものではございませんのであしからず。 \n□日時\n2019年3月12日(火)\n12:00〜ある程度 \n□参加費\n無料\n※参加人数は若干名（定員に達し次第終了となります。）\n※舞台照明経験者が望ましいです、、 \n□参加方法 \n参加ご希望の方は下記内容を記載の上メールにてご連絡下さい。\n○件名：190312AVOLIET勉強会参加希望\n○お名前\n○TEL\nCCOメールアドレスへ→　ccoｱｯﾄnamura.cc
URL:https://namura.cc/event/2019-03-12-2/
ATTACH;FMTTYPE=:
END:VEVENT
BEGIN:VEVENT
DTSTART;VALUE=DATE:20190312
DTEND;VALUE=DATE:20190313
DTSTAMP:20260423T073035
CREATED:20230418T081243Z
LAST-MODIFIED:20230418T081249Z
UID:3369-1552348800-1552435199@namura.cc
SUMMARY:クリエイティブセンター大阪　ミニ見学ツアー vol.92
DESCRIPTION:近代化産業遺産に認定されている「名村造船跡地」=クリエイティブセンター大阪の館内見学ツアーです。\n造船所跡地の施設内をスタッフがご説明しながらご案内致します。\n※ツアー時間は40分程度を予定しております。（途中退場可） \n■日時　2019年3月12日（火）15:00 ※40分程度\nクリエイティブセンター大阪　入口警備員室前集合 \n■参加方法\n予約不要・現地集合／参加費は無料です。 \n■お問合せ\n06-4702-7085（クリエイティブセンター大阪）
URL:https://namura.cc/event/2019-03-12/
ATTACH;FMTTYPE=image/jpeg:https://namura.cc/wp-content/uploads/2022/12/b0f3769176eeffbd5abb90e91461dc87-e1677758490252.jpg
END:VEVENT
BEGIN:VEVENT
DTSTART;VALUE=DATE:20190308
DTEND;VALUE=DATE:20190312
DTSTAMP:20260423T073035
CREATED:20230418T081517Z
LAST-MODIFIED:20230418T081525Z
UID:3373-1552003200-1552348799@namura.cc
SUMMARY:N₂『Tab.5「退嬰色の桜」- Borderless is born from pillar of wife.』
DESCRIPTION:おおさか創造千島財団平成30年度スペース助成採択事業\n書き言葉と話し言葉の物性を表在化する試み \n□日時\n2019年3月8日(金)～11日(月)\n08日(金) 15:15 / 19:15\n09日(土) 11:15 / 15:15 / 19:15\n10日(日) 11:15 / 15:15 / 19:15\n11日(月) 11:15 / 15:15 \n* 全10ステージ\n* 上演時間は約75分\n* 受付開始・開場は開演時刻の30分前\n* 終演後に約30分間のアフタートークを開催 \n□チケット\n｜一般｜前売券 3\,000円 / 当日精算券 3\,500円\n* 前売券は2019年2月3日(日)0時から3月3日(日)24時まで販売\n* 当日精算券は2019年3月4日(月)0時より販売 \n□ 二枚つづり　前売券 5\,500円 / 当日精算券 6\,500円\n□ 三枚つづり　前売券 7\,500円 / 当日精算券 9\,000円\n□ 学生団体割　前売券 9\,000円 / 当日精算券 11\,000円　* 四人 / 要学生証提示 \n□詳しくは\nN₂ web\nhttp://gekidann2.blogspot.jp/
URL:https://namura.cc/event/2019-03-08/
ATTACH;FMTTYPE=image/jpeg:https://namura.cc/wp-content/uploads/2023/04/20190305-tab5_flier_a.jpg
END:VEVENT
BEGIN:VEVENT
DTSTART;VALUE=DATE:20190223
DTEND;VALUE=DATE:20190318
DTSTAMP:20260423T073035
CREATED:20230418T081637Z
LAST-MODIFIED:20230418T081644Z
UID:3375-1550880000-1552867199@namura.cc
SUMMARY:ONLY CONNECT OSAKA　［おおさか創造千島財団スペース助成］
DESCRIPTION:□日時\n2019年\n2月23日〜3月17日(金土日のみ)\n10:30-19:00\n※入場は18:30まで\n※休館日：月・火・水・木曜日、ただし3月11日（月）はオープン \n○オープニング・レセプション:\n2月23日（土）（土）13:30 – 19:00\n＊予約不要 \n○トーク・セッション\n3月9日（土）13:30 – 16:00\n＊予約不要 \n□入場料\n無料 \n□詳しくは\n主催HP\nhttp://www.onlyconnect-osaka.com
URL:https://namura.cc/event/2019-02-23/
ATTACH;FMTTYPE=image/jpeg:https://namura.cc/wp-content/uploads/2023/04/20190122-oc2019.jpg
END:VEVENT
BEGIN:VEVENT
DTSTART;VALUE=DATE:20190222
DTEND;VALUE=DATE:20190304
DTSTAMP:20260423T073035
CREATED:20230418T081743Z
LAST-MODIFIED:20230418T081750Z
UID:3377-1550793600-1551657599@namura.cc
SUMMARY:カウパー団「Have a nice day！sex worker」［おおさか創造千島財団スペース助成］
DESCRIPTION:□日時\n2019年2月22日(金)〜3月3日(日) \n2月22日(金)19:00-…青木陵子さん(アーティスト)\n2月23日(土)16:00-…青山薫さん(研究者・神戸大学教授)\n2月24日(日)14:00-…テラダマサヒロさん(ライター)\n3月1日(金)19:00-…田中課長さん(ガールズヘルスラボ主宰、元嬢、現医療職)\n3月2日(土)16:00-…金光正年さん(元NOON経営者)\n3月3日(日)14:00-…倉田めばさん(大阪ダルクディレクター) \n〈関連イベント〉\n3月2日(土)14:00-15:00 SWASHトークイベント(無料） \n□料金\n¥2000-（当日¥2500-）\nおみやげ付き　¥4000-（前売りのみ）\n※全席自由、整理番号なし\n※受付開始および開場は開演の20分前 \n□詳しくは\nhttp://gaymakimaki.pussycat.jp/
URL:https://namura.cc/event/2019-02-22/
ATTACH;FMTTYPE=image/jpeg:https://namura.cc/wp-content/uploads/2023/04/20190201-kau1.jpg
END:VEVENT
BEGIN:VEVENT
DTSTART;VALUE=DATE:20190217
DTEND;VALUE=DATE:20190218
DTSTAMP:20260423T073035
CREATED:20230418T081830Z
LAST-MODIFIED:20230418T081839Z
UID:3379-1550361600-1550447999@namura.cc
SUMMARY:VANTAN STUDENT FINAL -バンタン卒業修了制作展-
DESCRIPTION:□日時\n2019/2/17\n11:00-17:00 \n□詳しくは\nhttps://www.vantan.co.jp/studentfinal2019/osaka/
URL:https://namura.cc/event/2019-02-17/
ATTACH;FMTTYPE=image/jpeg:https://namura.cc/wp-content/uploads/2023/04/20190210-201902van-o.jpg
END:VEVENT
BEGIN:VEVENT
DTSTART;VALUE=DATE:20190206
DTEND;VALUE=DATE:20190207
DTSTAMP:20260423T073035
CREATED:20230418T081931Z
LAST-MODIFIED:20230418T081939Z
UID:3381-1549411200-1549497599@namura.cc
SUMMARY:クリエイティブセンター大阪　ミニ見学ツアー vol.91
DESCRIPTION:近代化産業遺産に認定されている「名村造船跡地」=クリエイティブセンター大阪の館内見学ツアーです。\n造船所跡地の施設内をスタッフがご説明しながらご案内致します。\n※ツアー時間は40分程度を予定しております。（途中退場可） \n■日時　2019年2月6日（水）15:00 ※40分程度\nクリエイティブセンター大阪　入口警備員室前集合 \n■参加方法\n予約不要・現地集合／参加費は無料です。 \n■お問合せ\n06-4702-7085（クリエイティブセンター大阪）
URL:https://namura.cc/event/2019-02-06/
ATTACH;FMTTYPE=image/jpeg:https://namura.cc/wp-content/uploads/2022/12/b0f3769176eeffbd5abb90e91461dc87-e1677758490252.jpg
END:VEVENT
BEGIN:VEVENT
DTSTART;VALUE=DATE:20190127
DTEND;VALUE=DATE:20190128
DTSTAMP:20260423T073035
CREATED:20230418T082025Z
LAST-MODIFIED:20230418T082025Z
UID:3383-1548547200-1548633599@namura.cc
SUMMARY:TẾT VIỆT OSAKA 2019
DESCRIPTION:□日時\n2019年\n1月27日(日)\n12:00-17:00 \n□詳しくは\nhttps://www.facebook.com/qr/1268485006609987
URL:https://namura.cc/event/tet-viet-osaka-2019/
ATTACH;FMTTYPE=image/jpeg:https://namura.cc/wp-content/uploads/2023/04/20190110-190127.jpg
END:VEVENT
BEGIN:VEVENT
DTSTART;VALUE=DATE:20190120
DTEND;VALUE=DATE:20190121
DTSTAMP:20260423T073035
CREATED:20230418T082115Z
LAST-MODIFIED:20230418T082122Z
UID:3385-1547942400-1548028799@namura.cc
SUMMARY:Z-1 Worst Dance Circle GP2018
DESCRIPTION:□日時\n2019年1月20日（日）\n12:30～21:00 \n□チケット\n前売り:2000円+1d\n当日購入:2500円+1d\n＊入場には別途1ドリンク代が必要となります。\n＊再入場の際は、1ドリンク代が必要です。\n＊飲食物の持ち込み厳禁 \n□詳しくは\nhttp://z-1-wdcg.com \n□お問合せ\nZ-1実行委員会 info@z-1-wdcg.com
URL:https://namura.cc/event/2019-01-20/
ATTACH;FMTTYPE=image/jpeg:https://namura.cc/wp-content/uploads/2023/04/20190108-z1_2018.jpg
END:VEVENT
BEGIN:VEVENT
DTSTART;VALUE=DATE:20190110
DTEND;VALUE=DATE:20190111
DTSTAMP:20260423T073035
CREATED:20230418T082204Z
LAST-MODIFIED:20230418T082224Z
UID:3387-1547078400-1547164799@namura.cc
SUMMARY:Is This The“FACT”? TOUR 2019
DESCRIPTION:□日時\n2019年\n1月10日(木)\n1月11日(金)\nOPEN 17：15\nSTART 18：00 \n□チケット\n前売券 ￥6\,000（税込・ドリンク代別）\n※オールスタンディング\n※未就学児童入場不可\n※営利目的の転売禁止 \n□問合せ\nキョードーインフォメーション 0570-200-888 \nMucc公式HP\nhttps://55-69.com/event/114020
URL:https://namura.cc/event/2019-01-10/
ATTACH;FMTTYPE=:
END:VEVENT
BEGIN:VEVENT
DTSTART;VALUE=DATE:20190109
DTEND;VALUE=DATE:20190110
DTSTAMP:20260423T073035
CREATED:20230418T082302Z
LAST-MODIFIED:20230511T025648Z
UID:3390-1546992000-1547078399@namura.cc
SUMMARY:クリエイティブセンター大阪　ミニ見学ツアー vol.90
DESCRIPTION:近代化産業遺産に認定されている「名村造船跡地」=クリエイティブセンター大阪の館内見学ツアーです。\n造船所跡地の施設内をスタッフがご説明しながらご案内致します。\n※ツアー時間は40分程度を予定しております。（途中退場可） \n■日時　2019年1月9日（水）15:00 ※40分程度\nクリエイティブセンター大阪　入口警備員室前集合 \n■参加方法\n予約不要・現地集合／参加費は無料です。 \n■お問合せ\n06-4702-7085（クリエイティブセンター大阪）
URL:https://namura.cc/event/2019-01-09/
ATTACH;FMTTYPE=image/jpeg:https://namura.cc/wp-content/uploads/2022/12/b0f3769176eeffbd5abb90e91461dc87-e1677758490252.jpg
END:VEVENT
BEGIN:VEVENT
DTSTART;VALUE=DATE:20190106
DTEND;VALUE=DATE:20190107
DTSTAMP:20260423T073035
CREATED:20230418T082400Z
LAST-MODIFIED:20230418T082407Z
UID:3392-1546732800-1546819199@namura.cc
SUMMARY:梅野隆太郎 3rd FanMeeting 2019 in Osaka
DESCRIPTION:□日時\n2019年1月6日(日)\n12:30～16:00 \n□詳しくは\nhttps://passmarket.yahoo.co.jp/event/show/detail/015xwzzz0351.html
URL:https://namura.cc/event/2019-01-06/
ATTACH;FMTTYPE=:
END:VEVENT
BEGIN:VEVENT
DTSTART;VALUE=DATE:20181230
DTEND;VALUE=DATE:20181231
DTSTAMP:20260423T073035
CREATED:20230415T062306Z
LAST-MODIFIED:20230415T062344Z
UID:2535-1546128000-1546214399@namura.cc
SUMMARY:THE STAR FESTIVAL 2018 CLOSING
DESCRIPTION:年の瀬恒例、THE STAR FESTIVALオールナイトパーティーが開催。\n会場はウェアハウス感満載のクリエイティブセンター大阪にて！ \n□日時\n2018年12月30日(日）\nOPEN 21:00~ALL NIGHT \n□LINE UP\nPeter Van Hoesen (Time to express/Berlin)\nMetrik (Hospital records/UK)／Cassy(Kwench / UK )／Kode9(Hyperdub/Uk )／yahyel／EYヨ(Boredoms)／AOKI takamasa-live set-／BO NINGEN／環ROY／SEIHO-live set／Tohji (and Mall Boyz)／D.J.FULLTONO／YUMY\nVJ:KOZEE LIGHTING : SOLA \nOPEN AIR BOOTH :\nYASUHISA / KUNIMITSU / MONASHEE / KEIBUERGER / AKNL / MITSUYAS / DJ KENZ1 / 81BLEND / GT \n□チケット\nADV: ¥3500\nDOOR: ¥4000\nGROUP TICKET(4枚組) : ¥12000\n(別途1ドリンク代金¥600必要) \nプレイガイド :\n・チケットぴあ P-CODE(133-585)\n・ローソンチケット L-CODE(54171)\n・ イープラスhttp://eplus.jp\n・ PEATIX https://tsfclosing.peatix.com/ \n□詳しくは\nhttp://thestarfestival.com/
URL:https://namura.cc/event/2018-12-30/
ATTACH;FMTTYPE=image/jpeg:https://namura.cc/wp-content/uploads/2023/04/20181203-STAFES2018.jpg
END:VEVENT
BEGIN:VEVENT
DTSTART;VALUE=DATE:20181229
DTEND;VALUE=DATE:20181230
DTSTAMP:20260423T073035
CREATED:20230415T062443Z
LAST-MODIFIED:20230415T062452Z
UID:2538-1546041600-1546127999@namura.cc
SUMMARY:SOUTH YAAD MUZIK COMPILATION Vol\,11 RELEASE PARTY
DESCRIPTION:□日時\n2018年12月29日(土)\nOPEN 13:30\nSTART　14:30 \n□料金\n前売　￥４，０００\n当日　￥４，５００\n前売り券購入の方限定でBURN DOWN MIX CDプレゼント座席形態オールスタンディング入場整理番号有り年齢制限小学生以下入場無料／但し保護者同伴必要ドリンクドリンク代別途￥６００必要 \n□前売プレイガイド\n・ticket PIA\n0570-02-9999（P-code：133-859）\n・LAWSON ticket\n0570-084-005（L-code：52528）\n・CN playguide\n0570-08-9999\n・e+\nhttp://eplus.jp \n【前売り取り扱い店舗】\nROCKERS ISLAND 06-6537-6233／FIVE STAR 06-6538-9001／DISSIDENT 06-6125-5760GIMME FIVE 06-6536-1136／E.S.P. TRICK STAR 大阪店 06-6532-0111／CHILL SPOT 072-493-2991 \n□主催\nSOUTH YAAD MUZIK\n□制作\n(株)Back Yard Promotion \n□問い合わせ\ntotal info・・・Back Yard Promotion　06-6213-7077（SUNHALL内）
URL:https://namura.cc/event/2018-12-29/
ATTACH;FMTTYPE=image/jpeg:https://namura.cc/wp-content/uploads/2023/04/20181204-20181229.jpg
END:VEVENT
END:VCALENDAR