BEGIN:VCALENDAR
VERSION:2.0
PRODID:-//クリエイティブセンター大阪（CCO） - ECPv6.2.1//NONSGML v1.0//EN
CALSCALE:GREGORIAN
METHOD:PUBLISH
X-WR-CALNAME:クリエイティブセンター大阪（CCO）
X-ORIGINAL-URL:https://namura.cc
X-WR-CALDESC:クリエイティブセンター大阪（CCO） のイベント
REFRESH-INTERVAL;VALUE=DURATION:PT1H
X-Robots-Tag:noindex
X-PUBLISHED-TTL:PT1H
BEGIN:VTIMEZONE
TZID:Asia/Tokyo
BEGIN:STANDARD
TZOFFSETFROM:+0900
TZOFFSETTO:+0900
TZNAME:JST
DTSTART:20190101T000000
END:STANDARD
END:VTIMEZONE
BEGIN:VEVENT
DTSTART;VALUE=DATE:20191228
DTEND;VALUE=DATE:20191229
DTSTAMP:20260423T065319
CREATED:20230416T093342Z
LAST-MODIFIED:20230416T095154Z
UID:3152-1577491200-1577577599@namura.cc
SUMMARY:SOUTH YAAD MUZIK COMPILATION Vol\,12 RELEASE PARTY
DESCRIPTION:□日時\n2019年12月28日(土)\nOPEN 13:30\nSTART 14:30 \n□チケット\n前売　￥4500-\n当日　￥5500-\n※共に入場時別途1D600円必要\n※小学生以下入場無料/但し保護者同伴必要 \n・ticket PIA　0570-02-9999(P-code:165-560)\n・LAWSON ticket　0570-084-005(L-code:55591)\n・CN playguide　0570-08-9999\n・e+ 　http://eplus.jp \n□詳しくは \n□お問合せ\nBack Yard Promotion 06-6213-7077(SUNHALL内)
URL:https://namura.cc/event/2019-12-28/
ATTACH;FMTTYPE=image/jpeg:https://namura.cc/wp-content/uploads/2023/04/20191206-191228.jpg
END:VEVENT
BEGIN:VEVENT
DTSTART;VALUE=DATE:20191222
DTEND;VALUE=DATE:20191223
DTSTAMP:20260423T065319
CREATED:20230416T093618Z
LAST-MODIFIED:20230416T093618Z
UID:3156-1576972800-1577059199@namura.cc
SUMMARY:コスプレ交流会COS JOY 大阪 造船跡地
DESCRIPTION:コスプレイベント コスプレ交流会COS JOY 大阪 造船跡地\n□日時\n2019年\n12月22日（日）10:00-17:00 \n□詳しくは\nCOSJOYホームページ\nhttp://www.comicon.co.jp/cosjoy/zousen/zousenindex.html
URL:https://namura.cc/event/2019-12-22-2/
ATTACH;FMTTYPE=:
END:VEVENT
BEGIN:VEVENT
DTSTART;VALUE=DATE:20191222
DTEND;VALUE=DATE:20191223
DTSTAMP:20260423T065319
CREATED:20230416T093521Z
LAST-MODIFIED:20230416T095304Z
UID:3154-1576972800-1577059199@namura.cc
SUMMARY:STAND UP! ORCHESTRA「」
DESCRIPTION:□日時\n2019年12月22日(日)\nOPEN:17:30\nSTART:18:00 \n□チケット\nスタンディング￥4\,500(税込)\nキッズチケット(小学生以上中学生以下)￥2\,500(税込)\n※3歳未満入場不可/未就学児童無料\n※整理番号あり \n□詳しくは\nhttp://standupclassic.jp/#news20191031
URL:https://namura.cc/event/2019-12-22/
ATTACH;FMTTYPE=image/jpeg:https://namura.cc/wp-content/uploads/2023/04/20191129-1222SNS.jpg
END:VEVENT
BEGIN:VEVENT
DTSTART;VALUE=DATE:20191221
DTEND;VALUE=DATE:20191222
DTSTAMP:20260423T065319
CREATED:20230416T093744Z
LAST-MODIFIED:20230416T093757Z
UID:3158-1576886400-1576972799@namura.cc
SUMMARY:助成申請説明会＆スペース助成利用場所見学会
DESCRIPTION:おおさか創造千島財団の2020年度公募助成に関する説明会＆スペース助成利用場所見学会です。 \n□日時\n12月21日（土）14:00-15:30\n※予約不要 \n□詳しくは\nおおさか創造千島財団\nhttp://www.chishimatochi.info/found/news/3321/
URL:https://namura.cc/event/2019-12-21/
ATTACH;FMTTYPE=:
END:VEVENT
BEGIN:VEVENT
DTSTART;VALUE=DATE:20191220
DTEND;VALUE=DATE:20191221
DTSTAMP:20260423T065319
CREATED:20230416T093912Z
LAST-MODIFIED:20230416T093912Z
UID:3160-1576800000-1576886399@namura.cc
SUMMARY:【お知らせ】年末年始休館のお知らせ
DESCRIPTION:クリエイティブセンター大阪は下記の期間を年末年始休業日とさせていただきますので、何卒ご理解くださいますようお願い致します。 \n●年末年始休業期間●\n2019年12月29日(日) ～ 2020年1月5日(日) \nなお、30日（日）は下記イベントがございますので営業しております。 \n☆12月30日（月）THE STAR FESTIVAL 2019 CLOSING \n新年は1月6日(月)より通常営業を開始いたします。 \nクリエイティブセンター大阪
URL:https://namura.cc/event/2019-12-20/
ATTACH;FMTTYPE=:
END:VEVENT
BEGIN:VEVENT
DTSTART;VALUE=DATE:20191215
DTEND;VALUE=DATE:20191216
DTSTAMP:20260423T065319
CREATED:20230416T094128Z
LAST-MODIFIED:20230416T094128Z
UID:3162-1576368000-1576454399@namura.cc
SUMMARY:まねきケチャワールド～大阪公演～
DESCRIPTION:□日時\n2019年12月15日(日)\nOPEN : 16:30\nSTART : 17:15 \n□詳しくは\nhttps://www.yumebanchi.jp/artists/36115
URL:https://namura.cc/event/2019-12-15/
ATTACH;FMTTYPE=:
END:VEVENT
BEGIN:VEVENT
DTSTART;VALUE=DATE:20191211
DTEND;VALUE=DATE:20191212
DTSTAMP:20260423T065319
CREATED:20230416T094310Z
LAST-MODIFIED:20230416T094310Z
UID:3164-1576022400-1576108799@namura.cc
SUMMARY:クリエイティブセンター大阪　ミニ見学ツアー vol.104
DESCRIPTION:近代化産業遺産に認定されている「名村造船跡地」=クリエイティブセンター大阪の館内見学ツアーです。\n造船所跡地の施設内をスタッフがご説明しながらご案内致します。\n※ツアー時間は40分程度を予定しております。（途中退場可） \n■日時　2019年12月11日（水）15:00 ※40分程度\nクリエイティブセンター大阪　入口警備員室前集合 \n■参加方法\n予約不要・現地集合／参加費は無料です。 \n■お問合せ\n06-4702-7085（クリエイティブセンター大阪）
URL:https://namura.cc/event/2019-12-11/
ATTACH;FMTTYPE=image/jpeg:https://namura.cc/wp-content/uploads/2022/12/b0f3769176eeffbd5abb90e91461dc87-e1677758490252.jpg
END:VEVENT
BEGIN:VEVENT
DTSTART;VALUE=DATE:20191208
DTEND;VALUE=DATE:20191209
DTSTAMP:20260423T065319
CREATED:20230416T095801Z
LAST-MODIFIED:20230416T095801Z
UID:3226-1575763200-1575849599@namura.cc
SUMMARY:イルカ☆ファンキーフレンズ第15回公演 『いるか道中膝栗毛-弥次さん、喜多さん珍道中』
DESCRIPTION:データセンターいるか クリスマス会\n□日時\n2019年12月8日(日)\n10:30-16:00
URL:https://namura.cc/event/2019-12-08-2/
ATTACH;FMTTYPE=image/jpeg:https://namura.cc/wp-content/uploads/2023/04/20191127-201911208irukao.jpg
END:VEVENT
BEGIN:VEVENT
DTSTART;VALUE=DATE:20191207
DTEND;VALUE=DATE:20191208
DTSTAMP:20260423T065319
CREATED:20230416T095911Z
LAST-MODIFIED:20230416T095911Z
UID:3228-1575676800-1575763199@namura.cc
SUMMARY:SYMBOL OSAKA vol.16
DESCRIPTION:※フライヤー画像のPARTITAの表記に誤りがあります。\n誤) @PALTITTA\n正）@PARTITA \n□日時\n2019年12月7日(土)\nOPEN 12:00\nSTART 13:00
URL:https://namura.cc/event/2019-12-07/
ATTACH;FMTTYPE=image/jpeg:https://namura.cc/wp-content/uploads/2023/04/20191124-20191207smbolosaka16o.jpg
END:VEVENT
BEGIN:VEVENT
DTSTART;VALUE=DATE:20191201
DTEND;VALUE=DATE:20191202
DTSTAMP:20260423T065319
CREATED:20230416T100300Z
LAST-MODIFIED:20230416T100300Z
UID:3230-1575158400-1575244799@namura.cc
SUMMARY:我儘ラキア Killboredom TOUR 2019 FINAL
DESCRIPTION:□日時\n2019年 12月 01日 (日)\nSTART: 15:00\nOPEN: 16:00 \n□チケット\n前売 ¥ 3\,000- \nイープラス　https://eplus.jp/wagamamarakia19/ \n□主催：キョードー関西\n□企画：QOOLONG\n□制作：KiTSUNE WORKS
URL:https://namura.cc/event/2019-12-01/
ATTACH;FMTTYPE=image/jpeg:https://namura.cc/wp-content/uploads/2023/04/20191115-wagamm2019.jpg
END:VEVENT
BEGIN:VEVENT
DTSTART;VALUE=DATE:20191124
DTEND;VALUE=DATE:20191125
DTSTAMP:20260423T065319
CREATED:20230416T100648Z
LAST-MODIFIED:20230416T100648Z
UID:3234-1574553600-1574639999@namura.cc
SUMMARY:DJ HARVEY 30TH ANNIVERSARY TOUR OF JAPAN
DESCRIPTION:DJとしてもっとも神の領域に近い男と称されるリヴィング・レジェンド、DJ HARVEY来日30周年記念ツアーが決定！共演にはokadada！大阪公演には、ファンクサウンドをクラブシーンに確立させた第一人者であるKEB DARGEやKILLER TUNES BROADCAST（WACKO MARIA）などがゲスト出演。アパレルブランド「WACKO MARIA」とのオフィシャルコラボアイテムを数量限定にて販売！ \n□日時\n2019年11月24日(日)\nopen 15:00\nclose 22:00 \n□チケット\nadv:3500yen door:4000yen\n※別途１ドリンク代金600円必要 \nイープラス https://eplus.jp/\n（リンク先 : https://eplus.jp/sf/detail/3119530001-P0030001)\nチケットぴあ P-CODE(168226)\nローソンチケット L-CODE(56448)\nPeatix : http://ptix.at/zoPjNU
URL:https://namura.cc/event/2019-11-24/
ATTACH;FMTTYPE=image/jpeg:https://namura.cc/wp-content/uploads/2023/04/20191108-DJHarvey30th.jpg
END:VEVENT
BEGIN:VEVENT
DTSTART;VALUE=DATE:20191123
DTEND;VALUE=DATE:20191124
DTSTAMP:20260423T065319
CREATED:20230416T100757Z
LAST-MODIFIED:20230416T100757Z
UID:3236-1574467200-1574553599@namura.cc
SUMMARY:助成申請説明会＆スペース助成利用場所見学会
DESCRIPTION:おおさか創造千島財団の2020年度公募助成に関する説明会＆スペース助成利用場所見学会です。 \n□日時\n11月23日（土）14:00-15:30\n12月21日（土）14:00-15:30\n※予約不要 \n□詳しくは\nおおさか創造千島財団\nhttp://www.chishimatochi.info/found/news/3321/
URL:https://namura.cc/event/2019-11-23/
ATTACH;FMTTYPE=:
END:VEVENT
BEGIN:VEVENT
DTSTART;VALUE=DATE:20191122
DTEND;VALUE=DATE:20191123
DTSTAMP:20260423T065319
CREATED:20230416T100930Z
LAST-MODIFIED:20230416T100930Z
UID:3238-1574380800-1574467199@namura.cc
SUMMARY:IAFT19/20 in Osaka［おおさか創造千島財団スペース助成事業］
DESCRIPTION:2009年、大阪で誕生したFar East Audio Visual Socialization (FEAVS) が10年ぶりに帰ってきました！2019年11月22日(金)から12月1日(日)までの週末を中心とした7日間、Interdisciplinary Art Festival Tokyo 19/20 in Osakaを開催いたします。\n国内外で話題となっているInterdisciplinary Art Festival Tokyo（インターディシプリナリー・アート・フェスティバル・トウキョウ）と共に、日本、韓国、U.S.のアーティストを招聘し、クリエイティブセンター大阪 （名村造船所跡地）を舞台に、パフォーマンス型インスタレーションやヴィデオインスタレーションを展示し、スペシャルイベントを行います。気鋭の作家によるインターディシプリナリーな表現をぜひ体感してください。 \n□会期\n2019年11月22日(金)～12月1日(日)\n※11月25、26、27日は休館\n展示時間 14:00-19:30 (最終入場 19:00) \n2019年11月23日(土)、30日(土)\n展示時間 14:00-18:00 (最終入場 17:30)\nスペシャルパフォーマンスvol.1、vol.2 18:00-20:00 \n2019年12月1日(日)\nスペシャルトーク 13:00-14:00\n展示時間 14:00-19:30 (最終入場 19:00) \n□料金\n入場料（パフォーマンス型インスタレーション含む） ￥1\,800\nスペシャルパフォーマンス vol.1、vol.2 各￥1\,500\nスペシャルトーク ￥500\n当日に限り、再入場可。\n※スペシャルイベント時、営業時間が異なります。お越しの際はご注意ください。 \n□予約\n予約不要です。直接会場（クリエイティブセンター大阪3F受付）へお越しください。 \n□詳しくは\nhttp://i-a-f-t.net/iaft1920_in_osaka/ \n□お問合せ\nInterdisciplinary Art Festival Tokyo\ninfo@i-a-f-t.net\nmore info： http://i-a-f-t.net\ninquiry：http://i-a-f-t.net/contact/
URL:https://namura.cc/event/2019-11-22/
ATTACH;FMTTYPE=image/jpeg:https://namura.cc/wp-content/uploads/2023/04/20191113-IAFT1920.jpg
END:VEVENT
BEGIN:VEVENT
DTSTART;VALUE=DATE:20191117
DTEND;VALUE=DATE:20191118
DTSTAMP:20260423T065319
CREATED:20230416T101105Z
LAST-MODIFIED:20230416T101105Z
UID:3240-1573948800-1574035199@namura.cc
SUMMARY:SYMBOL KOBE vol.16
DESCRIPTION:□日時\n2019年11月17日(日）\nOPEN 12:30\nSTART 13:00\nCLOSE 20:00 \n□チケット\nADV ¥2500-\nDOOR ¥3000-\n※別途ドリンク ¥500- \n□詳しくは\nhttps://twitter.com/symbolkobe?lang=ja
URL:https://namura.cc/event/2019-11-17/
ATTACH;FMTTYPE=image/jpeg:https://namura.cc/wp-content/uploads/2023/04/20191105-symbolkobe2019o.jpg
END:VEVENT
BEGIN:VEVENT
DTSTART;VALUE=DATE:20191116
DTEND;VALUE=DATE:20191117
DTSTAMP:20260423T065319
CREATED:20230416T102917Z
LAST-MODIFIED:20230416T102917Z
UID:3242-1573862400-1573948799@namura.cc
SUMMARY:狩人JAM vol.7
DESCRIPTION:□日時\n2019年11月16日(土)\nEntryStart：10:20\nClose：21:00 \n⚪︎bboybattle予選　12:00〜16:00 .\n⚪︎sub contents 　16:00〜17:00\n⚪︎狩人JAM　 17:00〜21:00 \n□詳しくは\n狩人JAM FACEBOOK\nhttps://www.facebook.com/events/2873628272665800/
URL:https://namura.cc/event/2019-11-16/
ATTACH;FMTTYPE=image/jpeg:https://namura.cc/wp-content/uploads/2023/04/20191022-kariudo7.jpg
END:VEVENT
BEGIN:VEVENT
DTSTART;VALUE=DATE:20191110
DTEND;VALUE=DATE:20191111
DTSTAMP:20260423T065319
CREATED:20230416T111026Z
LAST-MODIFIED:20230416T111026Z
UID:3244-1573344000-1573430399@namura.cc
SUMMARY:コスプレ交流会COS JOY 大阪 造船跡地
DESCRIPTION:コスプレイベント コスプレ交流会COS JOY 大阪 造船跡地\n□日時\n2019年\n11月10日（日）10:00-17:00 \n□詳しくは\nCOSJOYホームページ\nhttp://www.comicon.co.jp/cosjoy/zousen/zousenindex.html
URL:https://namura.cc/event/2019-11-10/
ATTACH;FMTTYPE=image/jpeg:https://namura.cc/wp-content/uploads/2023/03/20150602-cosjoy.jpg
END:VEVENT
BEGIN:VEVENT
DTSTART;VALUE=DATE:20191109
DTEND;VALUE=DATE:20191110
DTSTAMP:20260423T065319
CREATED:20230416T111452Z
LAST-MODIFIED:20230416T111452Z
UID:3248-1573257600-1573343999@namura.cc
SUMMARY:Alright Feelin’ Special
DESCRIPTION:□日時\n2019年11月9日(土)\nOPEN 12:30\nSTART 13:30\nCLOSE 20:00 \n□チケット\nADV:¥2500-+1DRINK\nDOOR:¥3000-+1DRINK \n□詳しくは\nhttps://twitter.com/tamago_club123
URL:https://namura.cc/event/2019-11-09-2/
ATTACH;FMTTYPE=image/jpeg:https://namura.cc/wp-content/uploads/2023/04/20191022-ALF2019.jpg
END:VEVENT
BEGIN:VEVENT
DTSTART;VALUE=DATE:20191109
DTEND;VALUE=DATE:20191110
DTSTAMP:20260423T065319
CREATED:20230416T111344Z
LAST-MODIFIED:20230416T111344Z
UID:3246-1573257600-1573343999@namura.cc
SUMMARY:NIWASORA PARTY
DESCRIPTION:日本の庭園文化と音楽のコラボ”NIWASORA PARTY”(ニワソラパーティー)\nが11月9日(土) 大阪名村造船所跡地にて開催。\n□日時\n2019年11月9日(土)\nOPEN 15:00\nSTART 16:00 \n□チケット\n前売り 3900円\n当日 4500円\n※別途１D代要 \n□詳しくは\nhttps://circus-osaka.com/event/ニワソラパーティー-名村造船所跡地/
URL:https://namura.cc/event/2019-11-09/
ATTACH;FMTTYPE=image/jpeg:https://namura.cc/wp-content/uploads/2023/04/20191106-2019niwasora.jpg
END:VEVENT
BEGIN:VEVENT
DTSTART;VALUE=DATE:20191108
DTEND;VALUE=DATE:20191109
DTSTAMP:20260423T065319
CREATED:20230416T111654Z
LAST-MODIFIED:20230416T111654Z
UID:3250-1573171200-1573257599@namura.cc
SUMMARY:GeG"Mellow Mellow ～GeG's PLAYLIST～"リリースSP【メロメロライブ～GeG's Live Set～】
DESCRIPTION:□日時\n2019年11月8日(金)\n開場 18:00\n開演 19:00 \n□出演アーティスト：\n秘密 \n□チケット：\nSOLD OUT
URL:https://namura.cc/event/2019-11-08/
ATTACH;FMTTYPE=image/jpeg:https://namura.cc/wp-content/uploads/2023/04/20191009-gegs.jpg
END:VEVENT
BEGIN:VEVENT
DTSTART;VALUE=DATE:20191106
DTEND;VALUE=DATE:20191107
DTSTAMP:20260423T065319
CREATED:20230416T111812Z
LAST-MODIFIED:20230511T025804Z
UID:3252-1572998400-1573084799@namura.cc
SUMMARY:クリエイティブセンター大阪　ミニ見学ツアー vol.103
DESCRIPTION:近代化産業遺産に認定されている「名村造船跡地」=クリエイティブセンター大阪の館内見学ツアーです。\n造船所跡地の施設内をスタッフがご説明しながらご案内致します。\n※ツアー時間は40分程度を予定しております。（途中退場可） \n■日時　2019年11月6日（水）15:00 ※40分程度\nクリエイティブセンター大阪　入口警備員室前集合 \n■参加方法\n予約不要・現地集合／参加費は無料です。 \n■お問合せ\n06-4702-7085（クリエイティブセンター大阪）
URL:https://namura.cc/event/2019-11-06/
ATTACH;FMTTYPE=image/jpeg:https://namura.cc/wp-content/uploads/2022/12/b0f3769176eeffbd5abb90e91461dc87-e1677758490252.jpg
END:VEVENT
BEGIN:VEVENT
DTSTART;VALUE=DATE:20191103
DTEND;VALUE=DATE:20191104
DTSTAMP:20260423T065319
CREATED:20230416T111924Z
LAST-MODIFIED:20230416T111924Z
UID:3254-1572739200-1572825599@namura.cc
SUMMARY:SPROUT&STARZ全国決勝大会2019
DESCRIPTION:□日時\n2019年11月3日（日）\n開場12:00\n終了19:00予定 \n□詳しくは\nhttps://www.sprout-ent.com/event/9/
URL:https://namura.cc/event/2019-11-03/
ATTACH;FMTTYPE=image/jpeg:https://namura.cc/wp-content/uploads/2023/04/20191028-sprout2019.jpg
END:VEVENT
BEGIN:VEVENT
DTSTART;VALUE=DATE:20191030
DTEND;VALUE=DATE:20191031
DTSTAMP:20260423T065319
CREATED:20230416T112101Z
LAST-MODIFIED:20230416T112101Z
UID:3256-1572393600-1572479999@namura.cc
SUMMARY:第2回　オランダ 福祉セミナー『オランダに学ぶ、障がいを持つ方やお年寄りとの共生生活』
DESCRIPTION:□日時\n2019年10月30日（水）\n10:00-12:30 \n□入場料\n参加無料 \n※13:00〜の親睦会は参加費¥500-（事前申し込み必要） \n□問合せ\nNPO法人　ぺんぎん　デーセンターいるか\n06-6685-2135
URL:https://namura.cc/event/2019-10-30/
ATTACH;FMTTYPE=image/jpeg:https://namura.cc/wp-content/uploads/2023/04/20191018-20191030o.jpg
END:VEVENT
BEGIN:VEVENT
DTSTART;VALUE=DATE:20191027
DTEND;VALUE=DATE:20191028
DTSTAMP:20260423T065319
CREATED:20230416T112234Z
LAST-MODIFIED:20230416T112316Z
UID:3258-1572134400-1572220799@namura.cc
SUMMARY:Z-1 Worst Dance Circle Grandprix 2019
DESCRIPTION:□日時\n2019年10月27日(日)\n12:30～21:00 \n□詳しくは\nhttp://z-1-wdcg.com
URL:https://namura.cc/event/2019-10-27/
ATTACH;FMTTYPE=image/jpeg:https://namura.cc/wp-content/uploads/2023/04/20191018-20191027Z1o.jpg
END:VEVENT
BEGIN:VEVENT
DTSTART;VALUE=DATE:20191026
DTEND;VALUE=DATE:20191027
DTSTAMP:20260423T065319
CREATED:20230416T112427Z
LAST-MODIFIED:20230416T112427Z
UID:3260-1572048000-1572134399@namura.cc
SUMMARY:タソガレの休日 〜タソガレコーヒースタンド 3rd ANNIVERSARY PARTY〜
DESCRIPTION:□日時\n2019年10月26日(土)\n開場/開演　16:00\n終了　21:00 (予定) \n□チケット\n前売 ¥4\,400\n※入場時別途ドリンク代
URL:https://namura.cc/event/2019-10-26/
ATTACH;FMTTYPE=image/jpeg:https://namura.cc/wp-content/uploads/2023/04/20191022-tasogare.jpg
END:VEVENT
BEGIN:VEVENT
DTSTART;VALUE=DATE:20191020
DTEND;VALUE=DATE:20191021
DTSTAMP:20260423T065319
CREATED:20230416T112543Z
LAST-MODIFIED:20230416T112549Z
UID:3262-1571529600-1571615999@namura.cc
SUMMARY:コスプレ交流会COS JOY 大阪 造船跡地
DESCRIPTION:コスプレイベント コスプレ交流会COS JOY 大阪 造船跡地\n□日時\n2019年\n10月20日（日）10:00-17:00 \n□詳しくは\nCOSJOYホームページ\nhttp://www.comicon.co.jp/cosjoy/zousen/zousenindex.html
URL:https://namura.cc/event/2019-10-20/
ATTACH;FMTTYPE=image/jpeg:https://namura.cc/wp-content/uploads/2023/03/20150602-cosjoy.jpg
END:VEVENT
BEGIN:VEVENT
DTSTART;VALUE=DATE:20191019
DTEND;VALUE=DATE:20191020
DTSTAMP:20260423T065319
CREATED:20230416T112713Z
LAST-MODIFIED:20230416T112713Z
UID:3264-1571443200-1571529599@namura.cc
SUMMARY:アイスクリームネバーグラウンドpresents 「天下一運動会2019」
DESCRIPTION:□日時\n2019年10月19日（土）\nOPEN 11:30\nSTART 12:00 \n□チケット\n一般 ¥3\,500-\n学生 ¥2\,000-\n※入場時ワンドリンク代¥600必要\n※学生チケットは、当日入場時に学生証等の照明必要 \n□詳しくは\nhttps://artist.aremond.net/ing/
URL:https://namura.cc/event/2019-10-19/
ATTACH;FMTTYPE=image/jpeg:https://namura.cc/wp-content/uploads/2023/04/20191009-tenkaichi2019.jpg
END:VEVENT
BEGIN:VEVENT
DTSTART;VALUE=DATE:20191013
DTEND;VALUE=DATE:20191014
DTSTAMP:20260423T065319
CREATED:20230416T113037Z
LAST-MODIFIED:20230416T113037Z
UID:3268-1570924800-1571011199@namura.cc
SUMMARY:Artist Port 2019　[すみのえアート・ビート2019同時開催]
DESCRIPTION:□日時\n2019年10月13日（日）\n111:00-16:00 \n□入場料\n無料
URL:https://namura.cc/event/2019-10-13-2/
ATTACH;FMTTYPE=image/jpeg:https://namura.cc/wp-content/uploads/2023/04/20190926-AP2019o.jpg
END:VEVENT
BEGIN:VEVENT
DTSTART;VALUE=DATE:20191013
DTEND;VALUE=DATE:20191014
DTSTAMP:20260423T065319
CREATED:20230416T112859Z
LAST-MODIFIED:20230416T112859Z
UID:3266-1570924800-1571011199@namura.cc
SUMMARY:すみのえアート・ビート 2019
DESCRIPTION:近代産業遺産である「名村造船所大阪工場跡地」を舞台に、アート・食・農を楽しめます。巨大なラバーダックの展示や、映像作品の上映、若手アーティストの作品展覧会、食と農のマルシェ「北加賀屋みんなのうえん祭」など、大人から子どもまで楽しむ事ができます。 \n□日時\n2019年\n10月13日（日）\n11:00ー16:00\n※雨天決行 \n□入場料\n無料\n※敷地内に有料駐車場はございますが、台数に限りがございますのでなるべく公共交通機関をご利用くださ。​\n​\n□詳しくは\nhttps://suminoeartbeat.wixsite.com/home \n□主催\nすみのえアートビート実行委員会
URL:https://namura.cc/event/2019-10-13/
ATTACH;FMTTYPE=image/jpeg:https://namura.cc/wp-content/uploads/2023/04/20190823-suminoeab2019.jpg
END:VEVENT
BEGIN:VEVENT
DTSTART;VALUE=DATE:20191009
DTEND;VALUE=DATE:20191010
DTSTAMP:20260423T065319
CREATED:20230416T113304Z
LAST-MODIFIED:20230511T025752Z
UID:3270-1570579200-1570665599@namura.cc
SUMMARY:クリエイティブセンター大阪　ミニ見学ツアー vol.102
DESCRIPTION:近代化産業遺産に認定されている「名村造船跡地」=クリエイティブセンター大阪の館内見学ツアーです。\n造船所跡地の施設内をスタッフがご説明しながらご案内致します。\n※ツアー時間は40分程度を予定しております。（途中退場可） \n■日時　2019年10月9日（水）15:00 ※40分程度\nクリエイティブセンター大阪　入口警備員室前集合 \n■参加方法\n予約不要・現地集合／参加費は無料です。 \n■お問合せ\n06-4702-7085（クリエイティブセンター大阪）
URL:https://namura.cc/event/2019-10-09/
ATTACH;FMTTYPE=image/jpeg:https://namura.cc/wp-content/uploads/2022/12/b0f3769176eeffbd5abb90e91461dc87-e1677758490252.jpg
END:VEVENT
BEGIN:VEVENT
DTSTART;VALUE=DATE:20191006
DTEND;VALUE=DATE:20191007
DTSTAMP:20260423T065319
CREATED:20230416T113541Z
LAST-MODIFIED:20230416T113541Z
UID:3272-1570320000-1570406399@namura.cc
SUMMARY:VANTAN CUTTING EDGE 2019　OSAKA
DESCRIPTION:□日時\n2019年\n10月6日(日)\n11:00- \n□チケット\n会場への入場・ショー観覧はチケット(無料)が必要です。事前にご登録をお願いします。 \n□詳しくは\nhttps://www.vantan.com/special/ce2019/osaka/
URL:https://namura.cc/event/2019-10-06/
ATTACH;FMTTYPE=image/jpeg:https://namura.cc/wp-content/uploads/2023/04/20190927-vce2019.jpg
END:VEVENT
END:VCALENDAR