BEGIN:VCALENDAR
VERSION:2.0
PRODID:-//クリエイティブセンター大阪（CCO） - ECPv6.2.1//NONSGML v1.0//EN
CALSCALE:GREGORIAN
METHOD:PUBLISH
X-WR-CALNAME:クリエイティブセンター大阪（CCO）
X-ORIGINAL-URL:https://namura.cc
X-WR-CALDESC:クリエイティブセンター大阪（CCO） のイベント
REFRESH-INTERVAL;VALUE=DURATION:PT1H
X-Robots-Tag:noindex
X-PUBLISHED-TTL:PT1H
BEGIN:VTIMEZONE
TZID:Asia/Tokyo
BEGIN:STANDARD
TZOFFSETFROM:+0900
TZOFFSETTO:+0900
TZNAME:JST
DTSTART:20180101T000000
END:STANDARD
END:VTIMEZONE
BEGIN:VEVENT
DTSTART;VALUE=DATE:20180610
DTEND;VALUE=DATE:20180611
DTSTAMP:20260423T074812
CREATED:20230415T054719Z
LAST-MODIFIED:20230415T054730Z
UID:2454-1528588800-1528675199@namura.cc
SUMMARY:世界初のジャパレゲミュージカル "ジャパレゲ×芝居" 『GEKIDAN DANCEHALL』
DESCRIPTION:□日時\n2018年6月10日（日）\nOPEN 16:30\nstart 18:00 \n□チケット料金 (全てD代別途600円必要)\n★一般発売\n前売券：4\,800円\n当日:6\,000円 \nTICKET INFO：\nチケットぴあ　0570-02-9999（P-code：114-045）\nローソンチケット 0570-084-005(L-code：55785)\ne＋ http://eplus.jp \n各関係ショップでも販売！（一般発売〜）\nROCKERS ISLAND 06-6537-6233／FIVE STAR 06-6538-9001／DISSIDENT 06-6125-5760\nGIMME FIVE 06-6536-1136／E.S.P. TRICK STAR 06-6532-0111 \n主催：北摂党\n企画：鈴木紗理奈\n脚本：久馬歩（ザ・プランナイン）\n制作：株式会社BACK YARD PROMOTION \nTOTAL INFO：Back Yard Promotion　06-6213-7077（SUNHALL内）
URL:https://namura.cc/event/2018-06-10/
ATTACH;FMTTYPE=image/jpeg:https://namura.cc/wp-content/uploads/2023/04/20180419-2.jpg
END:VEVENT
BEGIN:VEVENT
DTSTART;VALUE=DATE:20180606
DTEND;VALUE=DATE:20180607
DTSTAMP:20260423T074812
CREATED:20230415T054906Z
LAST-MODIFIED:20230415T054913Z
UID:2461-1528243200-1528329599@namura.cc
SUMMARY:クリエイティブセンター大阪　ミニ見学ツアー vol.83
DESCRIPTION:近代化産業遺産に認定されている「名村造船跡地」=クリエイティブセンター大阪の館内見学ツアーです。\n造船所跡地の施設内をスタッフがご説明しながらご案内致します。\n※ツアー時間は40分程度を予定しております。（途中退場可） \n■日時　2018年6月6日（水）15:00 ※40分程度\nクリエイティブセンター大阪　入口警備員室前集合 \n■参加方法\n予約不要・現地集合／参加費は無料です。 \n■お問合せ\n06-4702-7085（クリエイティブセンター大阪）
URL:https://namura.cc/event/2018-06-06/
ATTACH;FMTTYPE=image/jpeg:https://namura.cc/wp-content/uploads/2022/12/b0f3769176eeffbd5abb90e91461dc87-e1677758490252.jpg
END:VEVENT
BEGIN:VEVENT
DTSTART;VALUE=DATE:20180603
DTEND;VALUE=DATE:20180604
DTSTAMP:20260423T074812
CREATED:20230415T055000Z
LAST-MODIFIED:20230415T055010Z
UID:2463-1527984000-1528070399@namura.cc
SUMMARY:SAKURAI DANCE STUDIO ダンス公演“NYC”
DESCRIPTION:□日時\n2018年6月3日(日)\n2回公演\n1部　開場:14:30/開演：15:00\n2部　開場:17:30/開演：18:00 \n□チケット\n1500円 \n□詳しくは\nhttp://sakurai-dance.com/index.html
URL:https://namura.cc/event/2018-06-03/
ATTACH;FMTTYPE=image/jpeg:https://namura.cc/wp-content/uploads/2023/04/20180517-20180603.jpg
END:VEVENT
BEGIN:VEVENT
DTSTART;VALUE=DATE:20180602
DTEND;VALUE=DATE:20180604
DTSTAMP:20260423T074812
CREATED:20230415T055103Z
LAST-MODIFIED:20230415T055110Z
UID:2467-1527897600-1528070399@namura.cc
SUMMARY:Device Under Test present 『Laboratory #3』
DESCRIPTION:□日時\n2018年6月2日(土) Open 17:00 / Start 18:00\n2018年6月3日(日) Open 12:00 / Start 13:00 \n□チケット\n前売4\,000円\n当日4\,500円\n※オールスタンディング\,一部優先座席あり \nTicket Info\nチケットぴあ TEL:0570-02-9999 Pコード「111-984」\nローソンチケット TEL:0570-084-005 Lコード「53429」\nCNプレイガイド TEL:0570-08-9999\nイープラス http://eplus.jp/ \n□お問い合わせ\n公演に関して\ndrive.until.town@gmail.com まで\n​チケットに関して\n​　キョードーインフォメーション TEL:0570-200-888　まで \n□詳しくは\nhttp://deviceundertest.wixsite.com/info/laboratory
URL:https://namura.cc/event/2018-06-02/
ATTACH;FMTTYPE=image/jpeg:https://namura.cc/wp-content/uploads/2023/04/20180523-20180523113315_001_R.jpg
END:VEVENT
BEGIN:VEVENT
DTSTART;VALUE=DATE:20180527
DTEND;VALUE=DATE:20180528
DTSTAMP:20260423T074812
CREATED:20230415T053134Z
LAST-MODIFIED:20230415T053141Z
UID:2406-1527379200-1527465599@namura.cc
SUMMARY:BAYSIDE REGGAE BASH
DESCRIPTION:□日時:\n5月27日(日)\nOPEN 14:00\nstart 14:00 \n□チケット料金 (全てD代別途600円必要)\n前売:3\,500円\n当日:4\,000円 \nTICKET INFO：\nチケットぴあ　0570-02-9999（P-code：111-726）\nローソンチケット 0570-084-005(L-code：53387)\ne＋ http://eplus.jp\nCN playguide 0570-08-9999 \n各関係ショップでも販売！（一般発売〜）\nROCKERS ISLAND 06-6537-6233／FIVE STAR 06-6538-9001／DISSIDENT 06-6125-5760\nGIMME FIVE 06-6536-1136／E.S.P. TRICK STAR 06-6532-0111 \n制作：株式会社BACK YARD PROMOTION \nTOTAL INFO：Back Yard Promotion　06-6213-7077（SUNHALL内）
URL:https://namura.cc/event/2018-05-27/
ATTACH;FMTTYPE=image/jpeg:https://namura.cc/wp-content/uploads/2023/04/20180419-1.jpg
END:VEVENT
BEGIN:VEVENT
DTSTART;VALUE=DATE:20180526
DTEND;VALUE=DATE:20180528
DTSTAMP:20260423T074812
CREATED:20230415T053422Z
LAST-MODIFIED:20230415T053429Z
UID:2413-1527292800-1527465599@namura.cc
SUMMARY:IN/SECTS presents「KITAKAGAYA FLEA 2018 SPRING & ASIA BOOK MARKET 」
DESCRIPTION:□日時\n2018年\n5月26日(sat)12:00-20:00\n5月27日(sun)11:00-18:00 \n□料金\n大人 500円\n高校生以下・65歳以上無料（要証明書） \n□詳しくは\nhttps://kitakagayaflea.jp
URL:https://namura.cc/event/2018-05-26-2/
ATTACH;FMTTYPE=image/jpeg:https://namura.cc/wp-content/uploads/2023/04/20180511-kf2018.jpeg
END:VEVENT
BEGIN:VEVENT
DTSTART;VALUE=DATE:20180526
DTEND;VALUE=DATE:20180528
DTSTAMP:20260423T074812
CREATED:20230415T053313Z
LAST-MODIFIED:20230415T053320Z
UID:2409-1527292800-1527465599@namura.cc
SUMMARY:劇団子供鉅人ニューカウント vol.8 『ハミンンンンンング』
DESCRIPTION:KITAKAGAYA FLEA 2018 SPRING & ASIA BOOK MARKET 同時開催\n□日時\n2018年\n5月26日（土）13:00-/17:00-\n5月27日（日）13:00-/17:00- \n※『KITAKAGAYA FLEA』開場時間に合わせて、子供鉅人受付ブースもオープン。\n※「ハミンンンンンング」公演受付開始は開演の40分前、開場は開演の30分前。\n※開演40分前より整理番号配布。開場後は整理番号なしでそのままご入場いただけます。 \n□チケット\n全席自由席\n前売り　¥3\,500−\n当日　¥4\,000\n学生 ¥2\,000-\n高校生以下 ¥1\,000\n※KITAKAGAYA FLEA入場料込み \n□詳しくは\nhttp://www.kodomokyojin.com/hmng/
URL:https://namura.cc/event/2018-05-26/
ATTACH;FMTTYPE=image/jpeg:https://namura.cc/wp-content/uploads/2023/04/20180525-hahahaming-o.jpg
END:VEVENT
BEGIN:VEVENT
DTSTART;VALUE=DATE:20180520
DTEND;VALUE=DATE:20180521
DTSTAMP:20260423T074812
CREATED:20230415T053613Z
LAST-MODIFIED:20230415T053620Z
UID:2418-1526774400-1526860799@namura.cc
SUMMARY:コスプレイベント コスプレ交流会COS JOY 大阪 造船跡地
DESCRIPTION:コスプレイベント コスプレ交流会COS JOY 大阪 造船跡地\n□日時\n2018年\n5月20日（日）10:00-18:00 \n□詳しくは\nCOSJOYホームページ\nhttp://www.comicon.co.jp/cosjoy/zousen/zousenindex.html
URL:https://namura.cc/event/2018-05-20-2/
ATTACH;FMTTYPE=image/jpeg:https://namura.cc/wp-content/uploads/2023/04/20170404-cosjoy.jpg
END:VEVENT
BEGIN:VEVENT
DTSTART;VALUE=DATE:20180520
DTEND;VALUE=DATE:20180521
DTSTAMP:20260423T074812
CREATED:20230415T053519Z
LAST-MODIFIED:20230415T063053Z
UID:2415-1526774400-1526860799@namura.cc
SUMMARY:Zion～ザイオン～ #2
DESCRIPTION:□日時\n2018年5月20日（日）\nOPEN 10:00\nSTART 10:30 \n□詳しくは\nhttp://www.sunface.or.jp/zion/
URL:https://namura.cc/event/2018-05-20/
ATTACH;FMTTYPE=image/jpeg:https://namura.cc/wp-content/uploads/2023/04/20180509-zion2.jpg
END:VEVENT
BEGIN:VEVENT
DTSTART;VALUE=DATE:20180519
DTEND;VALUE=DATE:20180520
DTSTAMP:20260423T074812
CREATED:20230415T053702Z
LAST-MODIFIED:20230415T053707Z
UID:2422-1526688000-1526774399@namura.cc
SUMMARY:ROLL IN ROCK VOL.3
DESCRIPTION:□日時\n2018年5月19日（土）\nOPEN 13:00\nstart 14:00 \n□チケット料金\n4000円　※小学生以上有料/未就学児無料(要保護者同伴) \nイープラス http://eplus.jp/rir3/ \n□詳しくは\nhttp://rollinrock167.com/
URL:https://namura.cc/event/2018-05-19/
ATTACH;FMTTYPE=image/jpeg:https://namura.cc/wp-content/uploads/2023/04/20180505-IMG_1369.jpeg
END:VEVENT
BEGIN:VEVENT
DTSTART;VALUE=DATE:20180513
DTEND;VALUE=DATE:20180514
DTSTAMP:20260423T074812
CREATED:20230415T053752Z
LAST-MODIFIED:20230415T053800Z
UID:2425-1526169600-1526255999@namura.cc
SUMMARY:春ロック2018
DESCRIPTION:□日時\n2018年5月13日(日)\nopen12:00/start13:00 \n□詳しくは\nhttp://camuro.jp/recommend/event/
URL:https://namura.cc/event/2018-05-13/
ATTACH;FMTTYPE=image/jpeg:https://namura.cc/wp-content/uploads/2023/04/20180502-camuro-house-1-959x566-1.jpg
END:VEVENT
BEGIN:VEVENT
DTSTART;VALUE=DATE:20180510
DTEND;VALUE=DATE:20180511
DTSTAMP:20260423T074812
CREATED:20230415T053846Z
LAST-MODIFIED:20230415T053853Z
UID:2428-1525910400-1525996799@namura.cc
SUMMARY:クリエイティブセンター大阪　ミニ見学ツアー vol.82
DESCRIPTION:近代化産業遺産に認定されている「名村造船跡地」=クリエイティブセンター大阪の館内見学ツアーです。\n造船所跡地の施設内をスタッフがご説明しながらご案内致します。\n※ツアー時間は40分程度を予定しております。（途中退場可） \n■日時　2018年5月10日（木）15:00 ※40分程度\nクリエイティブセンター大阪　入口警備員室前集合 \n■参加方法\n予約不要・現地集合／参加費は無料です。 \n■お問合せ\n06-4702-7085（クリエイティブセンター大阪）
URL:https://namura.cc/event/2018-05-10/
ATTACH;FMTTYPE=image/jpeg:https://namura.cc/wp-content/uploads/2022/12/b0f3769176eeffbd5abb90e91461dc87-e1677758490252.jpg
END:VEVENT
BEGIN:VEVENT
DTSTART;VALUE=DATE:20180505
DTEND;VALUE=DATE:20180506
DTSTAMP:20260423T074812
CREATED:20230415T053933Z
LAST-MODIFIED:20230415T053940Z
UID:2430-1525478400-1525564799@namura.cc
SUMMARY:BADHEADZ×COB GRANDPRIX
DESCRIPTION:□日時\n2018年5月5日(土）\nOPEN 9:00\nCLOSE 18:30(予定） \n当日エントリー　¥2\,200- \n□詳しくは\nhttps://badheadzcobgp.themedia.jp
URL:https://namura.cc/event/2018-05-05/
ATTACH;FMTTYPE=image/jpeg:https://namura.cc/wp-content/uploads/2023/04/20180501-BADHEADZ2018.jpg
END:VEVENT
BEGIN:VEVENT
DTSTART;VALUE=DATE:20180503
DTEND;VALUE=DATE:20180504
DTSTAMP:20260423T074812
CREATED:20230415T054143Z
LAST-MODIFIED:20230415T054149Z
UID:2437-1525305600-1525391999@namura.cc
SUMMARY:人狼文化祭2018
DESCRIPTION:□日時：\n・2018年5月3日（木）DAY1\n12:00開場/12:30開宴/20:00終宴 \n・2018年5月4日（金）DAY2\n10:00開場/10:30開宴/18:00終宴 \n□詳しくは\nhttps://jinrohbunkasai.wixsite.com/2018
URL:https://namura.cc/event/2018-05-03-2/
ATTACH;FMTTYPE=image/jpeg:https://namura.cc/wp-content/uploads/2023/04/20180322-20180503.jpg
END:VEVENT
BEGIN:VEVENT
DTSTART;VALUE=DATE:20180503
DTEND;VALUE=DATE:20180504
DTSTAMP:20260423T074812
CREATED:20230415T054048Z
LAST-MODIFIED:20230415T054055Z
UID:2433-1525305600-1525391999@namura.cc
SUMMARY:COCALERO presents HIGH LIFE
DESCRIPTION:□日時：2018年5月3日（木）\n開場・開演15:00 終演 翌5:00 \n□料金：\n早割 ¥3\,000 SOLD OUT!!\n前売り ¥3\,800\nグループチケット ¥13\,000 (4名)\n当日 ¥4\,200\n※20歳未満入場不可\n※入場時IDチェックあり\n※入場時別途1D代 600円要 \n□プレイガイド：\nチケットぴあ P-CODE 114825\nPEATIX http://cocalelohilifeosaka.peatix.com\nイープラス http://sort.eplus.jp/sys/T1U14P0010163P0108P002257894P0050001P006001P0030001\nローソンチケット L-CODE 56288\nClubberia https://www.clubberia.com/ja/events/277896/\nBanana http://bnana.jp \n□出演者：\n＜STUDIO PARTITTA＞\nPENDULUM -DJ SET- (UK)/JOSH WINK (Ovum | USA) /BEN SIMS (THEORY | UK)/OCTO OCTA (HNYTRX / 100% Silk | USA)/okadada/Licaxxx/Kid Fresino (DJ) & DJ CH.O/VJ: KOZEE/LIGHTING: SOLA \nSound System by Void acoustics / TSSL \n＜HIGH LIFE FLOOR＞\nDJ AGEISHI/ALTZ (Altzmusica) /B.I.G JOE/DJ Yu-Ta (RESPONSE / ZIPANG )/OliveOil\n/ローホー /唾奇/ブギ丸とでべそ /DJ MaruGreen/VJ TONTON (HIKARION / momentgram) /LIVE PAINT : 〼 meLhen(ZIPANG) / KAC/DECO : KANOYA PROJECT’ \nLighting Attractions ”Wave skates”：ART POSITION x Hikariasobi Club \n□主催：COCALERO.JP http://cocalero.jp\n□企画：Lost and Found LLC\n□制作：CIRCUS OSAKA\n□ARTWORK：TONTON
URL:https://namura.cc/event/2018-05-03/
ATTACH;FMTTYPE=image/jpeg:https://namura.cc/wp-content/uploads/2023/04/20180416-2018HIGH-LIFE_ura03.jpg
END:VEVENT
BEGIN:VEVENT
DTSTART;VALUE=DATE:20180422
DTEND;VALUE=DATE:20180423
DTSTAMP:20260423T074812
CREATED:20230415T052850Z
LAST-MODIFIED:20230415T052856Z
UID:2400-1524355200-1524441599@namura.cc
SUMMARY:WE WANT SUNSET PARTY
DESCRIPTION:□日時\n2018年4月22日（日）\nOPEN 15:00 \n□チケット\nADV: 3\,500yen\nDOOR: 4\,000yen\n※別途1d: 600yen \nローソンチケット : Lコード 52316\nチケットぴあ : Pコード 112014\nイープラス\nPeaTiXチケット \n□アーティスト\n【PARTITA】\nUKULELE GYPSY (キヨサク from MONGOL800)/BES -Acoustic set- \n【OPEN AIR】\nSPIN MASTER A-1/大阪籠球会/CM SMOOTH/YUNG EASY/SATOCI \n【FOOD】\nSUNCHAGO/沖縄soul foodじゃむ/Little Soze Products/pit master VAMOS/TAQUERIA LA MILPA
URL:https://namura.cc/event/2018-04-22/
ATTACH;FMTTYPE=image/jpeg:https://namura.cc/wp-content/uploads/2023/04/20180416-front.jpg
END:VEVENT
BEGIN:VEVENT
DTSTART;VALUE=DATE:20180405
DTEND;VALUE=DATE:20180406
DTSTAMP:20260423T074812
CREATED:20230415T052939Z
LAST-MODIFIED:20230415T052945Z
UID:2402-1522886400-1522972799@namura.cc
SUMMARY:クリエイティブセンター大阪　ミニ見学ツアー vol.81
DESCRIPTION:近代化産業遺産に認定されている「名村造船跡地」=クリエイティブセンター大阪の館内見学ツアーです。\n造船所跡地の施設内をスタッフがご説明しながらご案内致します。\n※ツアー時間は40分程度を予定しております。（途中退場可） \n■日時　2018年4月5日（木）15:00 ※40分程度\nクリエイティブセンター大阪　入口警備員室前集合 \n■参加方法\n予約不要・現地集合／参加費は無料です。 \n■お問合せ\n06-4702-7085（クリエイティブセンター大阪）
URL:https://namura.cc/event/2018-04-05/
ATTACH;FMTTYPE=image/jpeg:https://namura.cc/wp-content/uploads/2022/12/b0f3769176eeffbd5abb90e91461dc87-e1677758490252.jpg
END:VEVENT
BEGIN:VEVENT
DTSTART;VALUE=DATE:20180401
DTEND;VALUE=DATE:20180402
DTSTAMP:20260423T074812
CREATED:20230415T053031Z
LAST-MODIFIED:20230415T053042Z
UID:2404-1522540800-1522627199@namura.cc
SUMMARY:音楽とカレーのフェス「ボタとサーカス」
DESCRIPTION:□日時:\n4月1日(日) 大阪\nOPEN 14:00\nCLOSE 22:00 \n□出演：tofubeats / GOMA meets U-zhaan / EVISBEATSとPUNCH&MIGHTY / KAKATO(環ROY x 鎮座DOPENESS) / DONUTS DISCO DELUXE(ANI / ロボ宙 / AFRA) / BASI / あっこゴリラ / ZOMBIE-CHANG / 石濱匡雄 × Sparkii Ski\nDJ:DJ AGEISHI / DJ QUESTA / YOTTU / 諸行亭夢常\nカレー屋台: Buttah / デッカオ / 森林食堂 / 創作カレー ツキノワ \n□チケット\n前売 3800円 別途1D\n当日券 4300円 別途1D\nチケットぴあ P-CODE 107120\nローソンチケット Lコード：56342\nイープラス http://eplus.jp\nPEATIX http://ptix.at/OuPdDP \n□問い合わせ：\nCIRCUS OSAKA (http://www.circus-osaka.com/)
URL:https://namura.cc/event/2018-04-01/
ATTACH;FMTTYPE=image/jpeg:https://namura.cc/wp-content/uploads/2023/04/20180323-bota.jpg
END:VEVENT
BEGIN:VEVENT
DTSTART;VALUE=DATE:20180330
DTEND;VALUE=DATE:20180331
DTSTAMP:20260423T074812
CREATED:20230415T052254Z
LAST-MODIFIED:20230415T052301Z
UID:2383-1522368000-1522454399@namura.cc
SUMMARY:WE WANT CIRCUS
DESCRIPTION:自身初のワンマンライブはソールドアウト！いま日本中が注目を集めるKID FRESINO、そしてHIP HOPの歴史上においての生きる伝説 PETE ROCK、この2人をヘッドライナーに迎えWE WANT CIRCUSがオールナイト公演として3月30日(金) 大阪名村造船所跡地にて開催決定！ \n□出演：\nPETE ROCK/KID FRESINO/DJ CH.0\nand more \n□日時：\n2018年3月30日(金)\nOPEN 22:00 \n□チケット\n前売: 3\,500円\n当日:4000円\nグループ割4名チケット: 12\,000円 (1枚で4名様入場可能)\n※グループ割は4名様同時にご入場下さい。 \n※18歳未満入場不可\n※入場時IDチェックあり\n※入場時別途1d代600円要 \n・ローソンチケット L-code(53240)\n・チケットぴあ P-code(110338)\n・イープラス　http://eplus.jp/sys/T1U14P0010163P0108P002253217P0050001P006001P0030001\n・Peatix : http://ptix.at/cxcuyI \n□お問い合わせ:\nCIRCUS\nhttp://circus-osaka.com/
URL:https://namura.cc/event/2018-03-30/
ATTACH;FMTTYPE=image/jpeg:https://namura.cc/wp-content/uploads/2023/04/20180301-PastedGraphic-1.jpg
END:VEVENT
BEGIN:VEVENT
DTSTART;VALUE=DATE:20180322
DTEND;VALUE=DATE:20180326
DTSTAMP:20260423T074812
CREATED:20230415T052350Z
LAST-MODIFIED:20230415T052411Z
UID:2385-1521676800-1522022399@namura.cc
SUMMARY:Salon des artister Arata pendants Vol.5
DESCRIPTION:□日時 :\n2018年3月22日（木）-25日（日）\n13:00-21:00（最終日のみ18:00まで） \n□入場料\nPay it yourself\n0円 | 500円 | 700円 | 1\,000円 （※料金選択制）\n※観覧料として頂く料金ではありません。今回頂いた入場料につきましては、次回展覧会及び企画運営費として使用いたします。 \n□詳しくは\nhttp://www.aratapendants.net/index.html
URL:https://namura.cc/event/2018-03-22/
ATTACH;FMTTYPE=image/jpeg:https://namura.cc/wp-content/uploads/2023/04/20180214-201803arata-o.jpg
END:VEVENT
BEGIN:VEVENT
DTSTART;VALUE=DATE:20180317
DTEND;VALUE=DATE:20180319
DTSTAMP:20260423T074812
CREATED:20230415T052457Z
LAST-MODIFIED:20230415T052504Z
UID:2387-1521244800-1521417599@namura.cc
SUMMARY:【スペース助成】GEIST
DESCRIPTION:□日時\n2018年 3月17日（土）、 3月18日（日）\n昼公演　開場：13:30　開演：14:00\n夜公演　開場：19:00　開演：19:30 \n□料金\n前売り2500円　当⽇3000円 \n□詳しくは\nhttp://www.hino-projects.com/geist \n□助成\nおおさか創造千島財団
URL:https://namura.cc/event/2018-03-17/
ATTACH;FMTTYPE=image/jpeg:https://namura.cc/wp-content/uploads/2023/04/20180228-GEIST.jpg
END:VEVENT
BEGIN:VEVENT
DTSTART;VALUE=DATE:20180311
DTEND;VALUE=DATE:20180312
DTSTAMP:20260423T074812
CREATED:20230415T052650Z
LAST-MODIFIED:20230415T052701Z
UID:2393-1520726400-1520812799@namura.cc
SUMMARY:コスプレイベント コスプレ交流会COS JOY 大阪 造船跡地
DESCRIPTION:コスプレイベント コスプレ交流会COS JOY 大阪 造船跡地\n□日時\n2018年\n3月11日（日）10:00-18:00 \n□詳しくは\nCOSJOYホームページ\nhttp://www.comicon.co.jp/cosjoy/zousen/zousenindex.html
URL:https://namura.cc/event/2018-03-11-2/
ATTACH;FMTTYPE=image/jpeg:https://namura.cc/wp-content/uploads/2023/04/20170404-cosjoy.jpg
END:VEVENT
BEGIN:VEVENT
DTSTART;VALUE=DATE:20180311
DTEND;VALUE=DATE:20180312
DTSTAMP:20260423T074812
CREATED:20230415T052555Z
LAST-MODIFIED:20230415T052603Z
UID:2389-1520726400-1520812799@namura.cc
SUMMARY:ダイヤラッシュフェス
DESCRIPTION:□日時\n2018年3月11日(日)\n<一部>OPEN13:30/START14:00\n<二部>OPEN16:30/START17:00 \n□詳しくは\nhttps://www.goto2025.osaka/
URL:https://namura.cc/event/2018-03-11/
ATTACH;FMTTYPE=image/jpeg:https://namura.cc/wp-content/uploads/2023/04/20180222-20180311.jpg
END:VEVENT
BEGIN:VEVENT
DTSTART;VALUE=DATE:20180307
DTEND;VALUE=DATE:20180308
DTSTAMP:20260423T074812
CREATED:20230415T052755Z
LAST-MODIFIED:20230415T052804Z
UID:2396-1520380800-1520467199@namura.cc
SUMMARY:クリエイティブセンター大阪　ミニ見学ツアー vol.80
DESCRIPTION:近代化産業遺産に認定されている「名村造船跡地」=クリエイティブセンター大阪の館内見学ツアーです。\n造船所跡地の施設内をスタッフがご説明しながらご案内致します。\n※ツアー時間は40分程度を予定しております。（途中退場可） \n■日時　2018年3月7日（水）15:00 ※40分程度\nクリエイティブセンター大阪　入口警備員室前集合 \n■参加方法\n予約不要・現地集合／参加費は無料です。 \n■お問合せ\n06-4702-7085（クリエイティブセンター大阪）
URL:https://namura.cc/event/2018-03-07/
ATTACH;FMTTYPE=image/jpeg:https://namura.cc/wp-content/uploads/2022/12/b0f3769176eeffbd5abb90e91461dc87-e1677758490252.jpg
END:VEVENT
BEGIN:VEVENT
DTSTART;VALUE=DATE:20180224
DTEND;VALUE=DATE:20180225
DTSTAMP:20260423T074812
CREATED:20230415T051741Z
LAST-MODIFIED:20230415T051747Z
UID:2366-1519430400-1519516799@namura.cc
SUMMARY:Small Dance Festival 2018
DESCRIPTION:□日時\n2018年2月24日（土）\nSTART 16:00 \n□料金\nFREE \n□詳しくは\nhttps://www.studio-piecedance.com \n□主催\nStudio piece dance
URL:https://namura.cc/event/2018-02-24/
ATTACH;FMTTYPE=image/jpeg:https://namura.cc/wp-content/uploads/2023/04/20180207-20180224o.jpg
END:VEVENT
BEGIN:VEVENT
DTSTART;VALUE=DATE:20180223
DTEND;VALUE=DATE:20180226
DTSTAMP:20260423T074812
CREATED:20230415T051833Z
LAST-MODIFIED:20230415T051845Z
UID:2369-1519344000-1519603199@namura.cc
SUMMARY:【スペース助成】off-Nibroll Presents「ASIA.ai -Dance in Asia -」
DESCRIPTION:□日時:\n2018年\n2月23日(fri) 19:00\n2月24日(sat) 15:00\n2月25日(sun) 15:00 \n□チケット\n【TICKET】\n一般前売り 3\,000円／学生2\,500円／高校生以下1\,500円／未就学児500円／\n当日3\,500円 \n※１枚のチケットで「源氏物語」「Dance in ASIA」のふたつのプログラムを鑑賞できます。 \n2018年\n2月23日(fri) 19:00 start （21時終演予定）\n出演作家： JS・ウォン + 高橋 啓祐／世紀當代舞團／藤原 美加／清水 彩加 + 竹内 桃子 + 青木 駿平／「源氏物語」 \n24日(sat) 15:00 start （17時終演予定）\n出演作家： JS・ウォン + 高橋 啓祐／メラティ・スルヨダルモ + スカンク／世紀當代舞團／藤原 美加／下村 唯 + 仁井 大志／「源氏物語」 \n25日(sun) 15:00 start （17時終演予定）\n出演作家： メラティ・スルヨダルモ + スカンク／世紀當代舞團／清水 彩加 + 竹内 桃子 + 青木 駿平／下村 唯 + 仁井 大志／「源氏物語」 \n□主催：off-Nibroll\n□制作：秋津ねを、竹内桃子\n□助成：おおさか創造千島財団、芸術文化振興基金\n□Special Thanks : ねをぱぁく、匿名劇団、ダンスカンパニーKIKIKIKIKIKI \n□詳しくは\nhttp://www.nibroll.com/dance-in-asia_2018.html
URL:https://namura.cc/event/2018-02-23/
ATTACH;FMTTYPE=image/jpeg:https://namura.cc/wp-content/uploads/2023/04/20180219-201802nibroll.jpg
END:VEVENT
BEGIN:VEVENT
DTSTART;VALUE=DATE:20180211
DTEND;VALUE=DATE:20180212
DTSTAMP:20260423T074812
CREATED:20230415T052056Z
LAST-MODIFIED:20230415T052103Z
UID:2378-1518307200-1518393599@namura.cc
SUMMARY:MONA FASHION fes 〜GROW UP〜
DESCRIPTION:□日時\n2018年2月11日（日）\n・1部　OPEN 10:00/11:00-15:00\n・2部　OPEN 15:50/16:30-20:30 \n□詳しくは\nhttp://mona.style/pc/article/?id=131
URL:https://namura.cc/event/2018-02-11-2/
ATTACH;FMTTYPE=image/jpeg:https://namura.cc/wp-content/uploads/2023/04/20180207-mona.jpg
END:VEVENT
BEGIN:VEVENT
DTSTART;VALUE=DATE:20180211
DTEND;VALUE=DATE:20180212
DTSTAMP:20260423T074812
CREATED:20230415T052010Z
LAST-MODIFIED:20230415T052010Z
UID:2372-1518307200-1518393599@namura.cc
SUMMARY:コスプレイベント コスプレ交流会COS JOY 大阪 造船跡地
DESCRIPTION:コスプレイベント コスプレ交流会COS JOY 大阪 造船跡地\n□日時\n2018年\n2月11日（日）10:00-18:00 \n□詳しくは\nCOSJOYホームページ\nhttp://www.comicon.co.jp/cosjoy/zousen/zousenindex.html
URL:https://namura.cc/event/2018-02-11/
ATTACH;FMTTYPE=image/jpeg:https://namura.cc/wp-content/uploads/2023/04/20170404-cosjoy.jpg
END:VEVENT
BEGIN:VEVENT
DTSTART;VALUE=DATE:20180208
DTEND;VALUE=DATE:20180209
DTSTAMP:20260423T074812
CREATED:20230415T052150Z
LAST-MODIFIED:20230415T052158Z
UID:2381-1518048000-1518134399@namura.cc
SUMMARY:クリエイティブセンター大阪　ミニ見学ツアー vol.79
DESCRIPTION:近代化産業遺産に認定されている「名村造船跡地」=クリエイティブセンター大阪の館内見学ツアーです。\n造船所跡地の施設内をスタッフがご説明しながらご案内致します。\n※ツアー時間は40分程度を予定しております。（途中退場可） \n■日時　2018年2月8日（木）15:00 ※40分程度\nクリエイティブセンター大阪　入口警備員室前集合 \n■参加方法\n予約不要・現地集合／参加費は無料です。 \n■お問合せ\n06-4702-7085（クリエイティブセンター大阪）
URL:https://namura.cc/event/2018-02-08/
ATTACH;FMTTYPE=image/jpeg:https://namura.cc/wp-content/uploads/2022/12/b0f3769176eeffbd5abb90e91461dc87-e1677758490252.jpg
END:VEVENT
BEGIN:VEVENT
DTSTART;VALUE=DATE:20180128
DTEND;VALUE=DATE:20180129
DTSTAMP:20260423T074812
CREATED:20230415T050935Z
LAST-MODIFIED:20230415T050935Z
UID:2351-1517097600-1517183999@namura.cc
SUMMARY:コスプレイベント コスプレ交流会COS JOY 大阪 造船跡地
DESCRIPTION:コスプレイベント コスプレ交流会COS JOY 大阪 造船跡地\n□日時\n2018年\n1月28日（日）10:00-18:00 \n□詳しくは\nCOSJOYホームページ\nhttp://www.comicon.co.jp/cosjoy/zousen/zousenindex.html
URL:https://namura.cc/event/2018-01-28/
ATTACH;FMTTYPE=image/jpeg:https://namura.cc/wp-content/uploads/2023/04/20170404-cosjoy.jpg
END:VEVENT
END:VCALENDAR