BEGIN:VCALENDAR
VERSION:2.0
PRODID:-//クリエイティブセンター大阪（CCO） - ECPv6.2.1//NONSGML v1.0//EN
CALSCALE:GREGORIAN
METHOD:PUBLISH
X-WR-CALNAME:クリエイティブセンター大阪（CCO）
X-ORIGINAL-URL:https://namura.cc
X-WR-CALDESC:クリエイティブセンター大阪（CCO） のイベント
REFRESH-INTERVAL;VALUE=DURATION:PT1H
X-Robots-Tag:noindex
X-PUBLISHED-TTL:PT1H
BEGIN:VTIMEZONE
TZID:Asia/Tokyo
BEGIN:STANDARD
TZOFFSETFROM:+0900
TZOFFSETTO:+0900
TZNAME:JST
DTSTART:20250101T000000
END:STANDARD
END:VTIMEZONE
BEGIN:VEVENT
DTSTART;VALUE=DATE:20250602
DTEND;VALUE=DATE:20250610
DTSTAMP:20260422T025701
CREATED:20250611T083038Z
LAST-MODIFIED:20250611T083038Z
UID:6106-1748822400-1749513599@namura.cc
SUMMARY:ラバー・ダック特別展示
DESCRIPTION:オランダ人アーティスト フロレンタイン・ホフマンによる高さ 9.5Mの巨大なアヒルのアート作品《ラバー・ダック》がクリエイティブセンター大阪のドックに登場します。 \n□展示期間\n2025年6月2日（月）～9日（月） \n□入場料\n無料 \n□詳しくは\nhttps://chishima-foundation.com/topics/press/20250509.html
URL:https://namura.cc/event/20250602-9/
ATTACH;FMTTYPE=image/jpeg:https://namura.cc/wp-content/uploads/2025/06/8d1bea54a0892e844dcfcc8d9b2a251a.jpg
END:VEVENT
BEGIN:VEVENT
DTSTART;TZID=Asia/Tokyo:20250529T150000
DTEND;TZID=Asia/Tokyo:20250529T154000
DTSTAMP:20260422T025701
CREATED:20250429T053612Z
LAST-MODIFIED:20250524T051638Z
UID:6050-1748530800-1748533200@namura.cc
SUMMARY:クリエイティブセンター大阪　ミニ見学ツアー vol.181
DESCRIPTION:近代化産業遺産に認定されている「名村造船跡地」=クリエイティブセンター大阪の館内見学ツアーです。\n造船所跡地の施設内をスタッフがご説明しながらご案内致します。\n※ツアー時間は40分程度を予定しております。（途中退場可） \n■日時\n2025年5月29日（木）15:00 ※30-40分程度\nクリエイティブセンター大阪　入口警備員室前集合 \n■参加方法\n予約不要・現地集合／参加費は無料です。\n※マスク着用、もしくはご持参ください。\n※動画撮影はNGとしております。 \n■お問合せ\n06-4702-7085（クリエイティブセンター大阪）
URL:https://namura.cc/event/20250529/
ATTACH;FMTTYPE=image/jpeg:https://namura.cc/wp-content/uploads/2022/12/9a1f83b5ea3772fe94e010ead633edc2.jpeg
END:VEVENT
BEGIN:VEVENT
DTSTART;TZID=Asia/Tokyo:20250525T110000
DTEND;TZID=Asia/Tokyo:20250525T150000
DTSTAMP:20260422T025701
CREATED:20250328T041314Z
LAST-MODIFIED:20250525T015407Z
UID:6004-1748170800-1748185200@namura.cc
SUMMARY:クリエイティブセンター大阪 de フリマ
DESCRIPTION:本日雨天により主催者の判断で中止となっております。 \n□日時\n2025年5月25日(日)\n11:00～15:00（予定）\n※雨天順延 \n□入場料\n無料 \n□詳しくは\nhttps://swapmeet.ne.jp/info/placedetail.html?placeId=P038 \n□お問合せ\n日本スワップミート協会\nTEL: 06-6312-2220
URL:https://namura.cc/event/20250525/
ATTACH;FMTTYPE=image/jpeg:https://namura.cc/wp-content/uploads/2025/03/20250429hurima.jpg
END:VEVENT
BEGIN:VEVENT
DTSTART;VALUE=DATE:20250518
DTEND;VALUE=DATE:20250519
DTSTAMP:20260422T025701
CREATED:20250510T053226Z
LAST-MODIFIED:20250510T053226Z
UID:6070-1747526400-1747612799@namura.cc
SUMMARY:HARUROC2025
DESCRIPTION:□日時\n2025年5月18日（日）\nOpen 12:30\nStart 13:30 \n□チケット\n前売自由 ¥4\,000［1drink代 入場時別途 ¥600］\n当日自由 ¥4\,500［1drink代 入場時別途 ¥600］ \n□詳しくは\nhttps://camuro.jp/haruroc2025/
URL:https://namura.cc/event/20250518/
ATTACH;FMTTYPE=image/jpeg:https://namura.cc/wp-content/uploads/2025/05/20250518.jpg
END:VEVENT
BEGIN:VEVENT
DTSTART;VALUE=DATE:20250517
DTEND;VALUE=DATE:20250518
DTSTAMP:20260422T025701
CREATED:20250404T014515Z
LAST-MODIFIED:20250404T024328Z
UID:6019-1747440000-1747526399@namura.cc
SUMMARY:山千世界 sanzensekai
DESCRIPTION:□日時\n2025年5月17日（土）\n10:00 ~ 16:30（最終入場16:00） \n□入場料\n500円　※中学生以下無料 \n□詳しくは\nhttps://www.instagram.com/sanzensekai_osaka/
URL:https://namura.cc/event/20250517/
ATTACH;FMTTYPE=image/jpeg:https://namura.cc/wp-content/uploads/2025/04/20250517.jpg
END:VEVENT
BEGIN:VEVENT
DTSTART;VALUE=DATE:20250511
DTEND;VALUE=DATE:20250512
DTSTAMP:20260422T025701
CREATED:20250427T071446Z
LAST-MODIFIED:20250427T071446Z
UID:6046-1746921600-1747007999@namura.cc
SUMMARY:share vol.4
DESCRIPTION:□ CONTENTS\nNUMBER SHOWCASE / 50n5 SHUFFLE BATTLE / SPECIAL CONTENTS \n□日時\n2025年5月11日(日)\n13:00-20:00 (12:30ライブOPEN) \n□入場料\ndoor:2\,500（battle ently:+500） \n□ CAST\nDJ: takaaki / IDX\, shun\, S-ONE from KANADE x Rooftop / KOYAMAHOUSE \nAs our 25th onniversary party\, SHARE is a place for mony people\, both current and alumni\, to gather and socialize.\nEnjoy good music\, good dancing\, and good drinks. As a fomily that has danced in the same place\, it is a good time to discuss our history. You may also went to share the skills you have honed and share the love you heve for dance. Groove\, vibe\, flow\, and feel the moment with your whole body. We will give you a poge to color your life. We hope this event will make you want to continue dancing more\, and make you feel that parties are fun. We hope this event will make you want to keep on dancing.\nWith love to all cultures…
URL:https://namura.cc/event/20250511/
ATTACH;FMTTYPE=image/jpeg:https://namura.cc/wp-content/uploads/2025/04/20250511.jpeg
END:VEVENT
BEGIN:VEVENT
DTSTART;VALUE=DATE:20250510
DTEND;VALUE=DATE:20250511
DTSTAMP:20260422T025701
CREATED:20250430T060851Z
LAST-MODIFIED:20250430T060851Z
UID:6053-1746835200-1746921599@namura.cc
SUMMARY:唱店街-SHOWTENGAI-
DESCRIPTION:□日時\n2025年5月10日（土）\nOPEN 12:00-\nSTART 13:30-\nCLOSE 19:00- \n□チケット\n ¥4\,000-(1D.1F付き)※小学生以下無料 \n□詳しくは\nhttps://www.instagram.com/showtengai/
URL:https://namura.cc/event/20250510/
ATTACH;FMTTYPE=image/jpeg:https://namura.cc/wp-content/uploads/2025/04/20250510.jpg
END:VEVENT
BEGIN:VEVENT
DTSTART;VALUE=DATE:20250504
DTEND;VALUE=DATE:20250505
DTSTAMP:20260422T025701
CREATED:20250416T033847Z
LAST-MODIFIED:20250416T034107Z
UID:6033-1746316800-1746403199@namura.cc
SUMMARY:55［FIFTY FIVE］
DESCRIPTION:□日時\n2025年5月4日（日）\nOPEN:14:30- \n□チケット\n前売り券　¥3\,000- + 1D\n当日券　¥3\,500- + 1D\n※1DRINK ¥600- \n□詳しくは\nhttps://www.instagram.com/55_fiftyfive_/
URL:https://namura.cc/event/20250504/
ATTACH;FMTTYPE=image/jpeg:https://namura.cc/wp-content/uploads/2025/04/20250504.jpeg
END:VEVENT
BEGIN:VEVENT
DTSTART;TZID=Asia/Tokyo:20250429T130000
DTEND;TZID=Asia/Tokyo:20250429T134000
DTSTAMP:20260422T025701
CREATED:20250328T035714Z
LAST-MODIFIED:20250328T044349Z
UID:5999-1745931600-1745934000@namura.cc
SUMMARY:クリエイティブセンター大阪　ミニ見学ツアー vol.180 ※13:00-
DESCRIPTION:近代化産業遺産に認定されている「名村造船跡地」=クリエイティブセンター大阪の館内見学ツアーです。\n造船所跡地の施設内をスタッフがご説明しながらご案内致します。\n※ツアー時間は40分程度を予定しております。（途中退場可）\n※当日、敷地内でフリーマーケットを開催中（雨天順延）です。 \n■日時\n2025年4月29日（火祝）13:00 ※30-40分程度\nクリエイティブセンター大阪　入口警備員室前集合 \n■参加方法\n予約不要・現地集合／参加費は無料です。\n※マスク着用、もしくはご持参ください。\n※動画撮影はNGとしております。 \n■お問合せ\n06-4702-7085（クリエイティブセンター大阪）
URL:https://namura.cc/event/20240429kengaku/
ATTACH;FMTTYPE=image/jpeg:https://namura.cc/wp-content/uploads/2022/12/9a1f83b5ea3772fe94e010ead633edc2.jpeg
END:VEVENT
BEGIN:VEVENT
DTSTART;TZID=Asia/Tokyo:20250429T110000
DTEND;TZID=Asia/Tokyo:20250429T150000
DTSTAMP:20260422T025701
CREATED:20250328T040805Z
LAST-MODIFIED:20250328T041808Z
UID:6001-1745924400-1745938800@namura.cc
SUMMARY:クリエイティブセンター大阪 de フリマ
DESCRIPTION:□日時\n2025年4月29日(火祝)\n11:00～15:00（予定）\n※雨天順延 \n□入場料\n無料 \n□詳しくは\nhttps://swapmeet.ne.jp/info/placedetail.html?placeId=P038 \n□お問合せ\n日本スワップミート協会\nTEL: 06-6312-2220
URL:https://namura.cc/event/20250429/
ATTACH;FMTTYPE=image/jpeg:https://namura.cc/wp-content/uploads/2025/03/20250429hurima.jpg
END:VEVENT
BEGIN:VEVENT
DTSTART;VALUE=DATE:20250427
DTEND;VALUE=DATE:20250428
DTSTAMP:20260422T025701
CREATED:20250225T011539Z
LAST-MODIFIED:20250225T011539Z
UID:5963-1745712000-1745798399@namura.cc
SUMMARY:WONDER Spring DISHES 2025
DESCRIPTION:飲食部門とライブエンターテイメント部門の2つが同じイメージゴールを持ちクロスオーバーする春のフェスティバルイベント\n□日時\n2025年4月27日(日)\n12:00-20:00 (12:30ライブ開演) \n□入場料\n5\,000円（飲食チケット1\,000円付き） \nプレイガイド：\n【オンラインチケット】\n・Teket　https://teket.jp/9586/40439　（決済手数料が別途かかります）\n【ペーパーチケット取扱店】\n・炭火バルあじと　大阪府大阪市北区堂山町9-28 （06-6809-1988）\n・肉と米 焼肉えびす　大阪府大阪市北区堂山町1-17 （06-6809-5989） \n□出演アーティスト\nTaro(MC)、Violinist SHOGO、メロフロート、ryuki hajimu、GRANOLA、のんぴー、\n大川晴也、acane、宙の鳴き声、WARSAN、MEEYAN、宝海大空（宝海劇団）\n（出演非公開アーティスト3名あり） \n□飲食出店店舗\n炭火バルあじと、肉と米焼肉えびす、Off Canale \n□詳しくは\nhttps://www.instagram.com/wonderspringdishes/?hl=ja
URL:https://namura.cc/event/20250427/
ATTACH;FMTTYPE=image/jpeg:https://namura.cc/wp-content/uploads/2025/02/WSD25_Flyer.jpg
END:VEVENT
BEGIN:VEVENT
DTSTART;VALUE=DATE:20250426
DTEND;VALUE=DATE:20250427
DTSTAMP:20260422T025701
CREATED:20250404T023806Z
LAST-MODIFIED:20250424T030822Z
UID:6022-1745625600-1745711999@namura.cc
SUMMARY:全国４７都道府県ひとりコンサート 明和電機★UMEツアー2025（大阪公演）
DESCRIPTION:□日時\n2025年4月26日（土）\n開場 15:30-\n開演 16:00- \n□チケット\n一般　　　　　　  ：2\,000円(税込)\n小人（小学生以下）：1\,000円(税込)\n※いずれのチケットも3歳以下は無料。但し、座席が必要な場合は小人のチケットの対象となります。\n※共催公演、（株）明和電機以外の主催公演では料金に変動がある場合があります。\n※詳細は会場、チケット情報の詳細をご確認ください。\neプラス \n□詳しくは\nhttps://www.maywadenki.com/news/umetour2025/ \n主催：明和電機\n特別協力：千島土地株式会社
URL:https://namura.cc/event/20250426/
ATTACH;FMTTYPE=image/jpeg:https://namura.cc/wp-content/uploads/2025/04/20250426.jpg
END:VEVENT
BEGIN:VEVENT
DTSTART;VALUE=DATE:20250419
DTEND;VALUE=DATE:20250420
DTSTAMP:20260422T025701
CREATED:20250328T043744Z
LAST-MODIFIED:20250328T043744Z
UID:6014-1745020800-1745107199@namura.cc
SUMMARY:Freak style session vol.17
DESCRIPTION:□日時\n2025年4月19日(土)\nOPEN / 11:00\nSTART / 12:00\nCLOSE / 20:00 \n□料金\nEntry / 3500yen\n観戦 / 2500yen\nコスプレ観戦 / 1500yen \n□詳しくは\nhttps://heeerock.wixsite.com/freak-style-session\n​\n​
URL:https://namura.cc/event/20250419/
ATTACH;FMTTYPE=image/jpeg:https://namura.cc/wp-content/uploads/2025/03/20250419.jpeg
END:VEVENT
BEGIN:VEVENT
DTSTART;VALUE=DATE:20250412
DTEND;VALUE=DATE:20250414
DTSTAMP:20260422T025701
CREATED:20250328T043043Z
LAST-MODIFIED:20250328T043043Z
UID:6011-1744416000-1744588799@namura.cc
SUMMARY:大阪造船所アイドルフェスmini
DESCRIPTION:□日時\n2025年\n4月12日（土）\n4月13日（日）\nOPEN 10:00/START 11:00\n※開場・開演時間は変更する場合がございますのでご了承ください。 \n□チケット\n優先: 5\,000円/一般 2\,000円（＋各1D）\n4/12 https://tiget.net/events/386306\n4/13 https://tiget.net/events/386307 \n□詳しくは\nmint Music ENTEＲTAINMENT
URL:https://namura.cc/event/20250412-13/
ATTACH;FMTTYPE=image/jpeg:https://namura.cc/wp-content/uploads/2025/03/20240412-13.jpeg
END:VEVENT
BEGIN:VEVENT
DTSTART;VALUE=DATE:20250406
DTEND;VALUE=DATE:20250407
DTSTAMP:20260422T025701
CREATED:20250319T031226Z
LAST-MODIFIED:20250319T031226Z
UID:5986-1743897600-1743983999@namura.cc
SUMMARY:極上 第三章
DESCRIPTION:↓↓↓↓↓第二章 ダイジェスト映像↓↓↓↓↓\nhttps://www.instagram.com/reel/C6IDf3OS4u-/?igsh=ano2MnJudDcwamhu\n↑↑↑↑↑↑↑↑↑↑↑↑↑↑↑↑↑↑↑↑↑↑↑↑↑ \n□日時\n2025年4月6日(日)\nOpen　13:00\nClose　21:00  \n□チケット\n前売：3\,000円(税込) / 当日：3\,500円(税込)\n※別途ドリンク代700円(税込) \n【FOOD】\n桜ダイナー\nKitchen L\nand more… \n【SHOW CACE – Main Stage-】\n▼Special Contents▼\n– WEGO SHOW –\nKUJIME\nRYUYAMAN\nYUINA\nTSUBASA\nand more… \n▼極上のEntertainment▼\n– NUMBER ※A-Z –\nAI&HACCI\nRYUYAMAN\nTERUPOP\nYOSHIHITO \n▼極上のEmotional▼\n– GUEST Number –\nIPPEI \n– GUEST –\nATSUSHI & KAIRI \n– NUMBER ※A-Z –\nFUKUI (WVE\,福井彩)\nKAISEI (BleacH、chore0ringz)\nTakumi \n▼極上のVibes▼\n– GUEST –\nSHIZUKA×ayana×MAi \n– NUMBER ※A-Z –\nKEIICHIRO\nSAKAPON (HAYESTA)\nTSUBASA\nYUU (U-BEAT+mdJACKER)\nYUUKI\nYUUNA（FOOT LOOSE） \n▼極上のSweety▼\n– GUEST –\nSHAB♾️YAH! \n– NUMBER ※A-Z –\nJACKY\nMOKA\nSaYa (SaYacrew)\nshieri \n▼極上のKids▼\n– NUMBER ※A-Z –\nJUNA\nLogos Kids 選抜\nSaYa\ntakara \n▼極上のCREW▼\n– GUEST –\nRAD FOOTMAN \n【MC】\nMC Shogo \n【SHOW CACE – Under The Roof(野外ステージ)-】\n▼GUEST▼\n蕊夢 \n▼TEAM ※A-Z▼\nB!gaku×あうおうい\nCrazy Devill\nDREAM PLANET Produced by AI\neek\nFIGARO\nHALUNA スキルアップクラス\nHRY\nILL $horty\nlit.K\nMio+kotono\nMaW\nNaughty Buggy\nRE-KO kid’s\nSiLLck\nsinful\nwaspa \n▼NUMBER ※A-Z▼\nNanako (from iShoKu/Sourire)\nplan-B\nROOT\nyuyu \n【MC】\nMC MQueen \n【DJ】\nSugar (pulp hotel\, High Times) \n【協賛】\nD.O.D株式会社\nSTUDIO A-Sh\nWEGO \n□詳しくは\nhttps://www.instagram.com/gokujyo_entertainment/
URL:https://namura.cc/event/20250406/
ATTACH;FMTTYPE=image/jpeg:https://namura.cc/wp-content/uploads/2025/03/20250406.jpg
END:VEVENT
BEGIN:VEVENT
DTSTART;VALUE=DATE:20250402
DTEND;VALUE=DATE:20250403
DTSTAMP:20260422T025701
CREATED:20250319T033149Z
LAST-MODIFIED:20250319T040326Z
UID:5989-1743552000-1743638399@namura.cc
SUMMARY:Lil' CHOCOLATE SAVEGE vol.1
DESCRIPTION:【Lil’ CHOCOLATE SAVEGE vol.1】\n□日時\n2025年4月2日(水)\n14:00-19:00 予定 \n□チケット\n前売りチケット¥4\,000-\n当日チケット¥4\,500-\n⁡\n【MC】\nMC AMI\n⁡\n【DJ】\nDJ THE96 for kids feat.MQueen \n【SP UNIT SHOW】\nayana+MAi+YUINA\nfeat.RAD FOOTMAN\,MAicrew\,リトルグリーンメン＋MOMOKA\nSaYa+takara\nRizzz child\nchee&FUKA\n⁡\n【ICY SOLO CONTEST】\nJUDGE: Takanoly\,ayana\, Ayanocchi\n⁡\n【Recommend SHOW】\nRIHO×Lyn\n琥豹\nHOLI’Z\nMIRI + Mio\n⁡\n【Crew KIDS show】\nAyanocchi kids crew\nMio kids crew\nUNITY KIDS S CREW by DANCE STUDIO UNITY\n⁡\n【Number KIDS show】\nK-KO kids\nayana kids\nTakanoly & MOKA minikids\nMAi kids\nMA!KA Jr\nRYOKA mini kids\nNANAMI kids\nLyn kids\nMaaYa kids\n7HEVEN kids\nERINA×REIHO\nby dance studio funny\nmini yuna.\nRIHO kids number\nkyabe by Madpamp Dance School\nyuuka kids\nMIRI kids\nSaaya kids\nAKONARU kids\n⁡⁡\n【KIDS team】\nBETTY BROWN\nICY CHiCK\nKITTY R’OLL\n7bebe\nS’moana\nPi’Glo$$\nILL $horty\nBooTY\nSPIKY-BOOP\nBUBBLE SCHOTT\nM’$\nLit Classy’\nブッチギリ\nYUMMY\n8GG BOMB\nC♡coRISE \n□詳しくは\nhttps://www.instagram.com/chocolate.x.savage/
URL:https://namura.cc/event/20250402/
ATTACH;FMTTYPE=image/jpeg:https://namura.cc/wp-content/uploads/2025/03/20250402P.jpg
END:VEVENT
BEGIN:VEVENT
DTSTART;VALUE=DATE:20250329
DTEND;VALUE=DATE:20250330
DTSTAMP:20260422T025701
CREATED:20250312T023845Z
LAST-MODIFIED:20250312T025201Z
UID:5974-1743206400-1743292799@namura.cc
SUMMARY:マルガサリ ガムラン公演『ふるえ ゆらぎ ただよう』(おおさか創造千島財団スペース助成）
DESCRIPTION:ジャワ・ガムラン界のパンク、マルガサリによるパフォーマンス公演。音楽家／ダンサーのヨハネス・スボウォ、音文化研究者の柳沢英輔によるベトナムのゴング楽団、美術家の黒川岳とのコラボレートのもと、元造船所の巨大な製図室から船渠（ドック）の水上までを使用したサイトスペシフィックなステージをお届けします。ダンサーやベトナムのゴング、そして水…様々な出会いを通じてガムランのコンテキストを揺さぶり、新たな可能性を追求します。 \n□日時：\n2025年3月29日（土）\n14：00開演（13：30開場）\n＊公演時間は2時間程度を予定しています\n＊少雨決行、荒天の場合は翌30日（日）に順延 \n□チケット：\n（一般）前売 3\,500円／当日 4\,000円\n（学生）前売 2\,500円／当日 3\,000円\n＊未就学児は無料です \n□出演：\nマルガサリ\nー大井卓也、柏木春菜、黒川岳、中川真、西真奈美、森山みどり、小林江美*、ほんまなほ*、長田展季*、山崎晃男*、鰐淵陽介*、ほか（＊はエキストラ）\n振付・作曲：Yohanes Subawa（ヨハネス・スボウォ）\nベトナムのゴング：柳沢英輔、ほか\n舞踊：冨岡三智、ほか\n舞台美術：黒川岳、Tian Putra（ティアン・プトラ）、ほか \n□詳しくは\nhttps://www.instagram.com/gamelan_margasari/ \n□主催：マルガサリ\n□助成：一般財団法人おおさか創造千島財団、大阪市\n＊本公演は2024年度おおさか創造千島財団「スペース助成」、および大阪市助成事業として実施します。
URL:https://namura.cc/event/20250329/
ATTACH;FMTTYPE=image/jpeg:https://namura.cc/wp-content/uploads/2025/03/3af7a497502ac34a28261b9a8e092b4e.jpg
END:VEVENT
BEGIN:VEVENT
DTSTART;VALUE=DATE:20250323
DTEND;VALUE=DATE:20250324
DTSTAMP:20260422T025701
CREATED:20250218T024936Z
LAST-MODIFIED:20250218T024936Z
UID:5956-1742688000-1742774399@namura.cc
SUMMARY:SKA FREAKS presents 北近江FREAKY JAMMIN' in OSAKA
DESCRIPTION:□日時\n2025年3月23日 (日)\nOPEN 11:30\nSTART 12:00 \n□チケット\nスタンディング 前売り:￥5\,500\n※ドリンク代別 \n□詳しくは\nhttps://smash-jpn.com/live/?id=4377
URL:https://namura.cc/event/20250323/
ATTACH;FMTTYPE=image/jpeg:https://namura.cc/wp-content/uploads/2025/02/20250323.jpg
END:VEVENT
BEGIN:VEVENT
DTSTART;TZID=Asia/Tokyo:20250322T130000
DTEND;TZID=Asia/Tokyo:20250322T160000
DTSTAMP:20260422T025701
CREATED:20250312T025128Z
LAST-MODIFIED:20250312T025128Z
UID:5980-1742648400-1742659200@namura.cc
SUMMARY:柳沢英輔によるベトナムのゴングワークショップ（おおさか創造千島財団スペース助成）
DESCRIPTION:日本に1つしかない、ベトナムのジャライ族のゴングセットを演奏します。ベトナムの中部高原に伝わるメロディをみんなで奏でましょう。音楽の経験や楽譜が読める必要はありません。どなたでも参加いただけます。 \n□日時\n2025年3月22日（土）\n13:00～16:00 \n□申し込み\nhttps://docs.google.com/forms/d/e/1FAIpQLSfdnWsuB_6btK9QADh0INUCQ6EnCR4jiA-O9jqNqjEV-EI2xw/viewform?usp=header \n＊ワークショップは開始30分前（12：30～）より受付を行います。クリエイティブセンター大阪（CCO）1階までお越しください。\n＊必要な持ち物などはございませんが、身体を動かしますので、動きやすい服装でお越しください。なお、会場内に更衣室等はございませんので、お着替えいただく場合はお手洗いなどをご利用ください。 \n□詳しくは\nhttps://www.instagram.com/gamelan_margasari/
URL:https://namura.cc/event/20250322b/
ATTACH;FMTTYPE=image/jpeg:https://namura.cc/wp-content/uploads/2025/03/bbe4d52ddef5250ec98065abdabdbffe.jpg
END:VEVENT
BEGIN:VEVENT
DTSTART;VALUE=DATE:20250322
DTEND;VALUE=DATE:20250323
DTSTAMP:20260422T025701
CREATED:20250218T024324Z
LAST-MODIFIED:20250218T024448Z
UID:5953-1742601600-1742687999@namura.cc
SUMMARY:THE DISASTER POINTS presents 『SING ALONG FOREVER 2025』
DESCRIPTION:□日時\n2025年3月22日 (土)\nOPEN 11:30\nSTART 12:30 \n□チケット\nスタンディング 前売り:￥6\,900\nU-22 スタンディング 前売り:￥5\,900\n※ドリンク代別 \n□詳しくは\nhttps://smash-jpn.com/live/?id=4336
URL:https://namura.cc/event/20250322/
ATTACH;FMTTYPE=image/jpeg:https://namura.cc/wp-content/uploads/2025/02/20250322.jpg
END:VEVENT
BEGIN:VEVENT
DTSTART;TZID=Asia/Tokyo:20250321T150000
DTEND;TZID=Asia/Tokyo:20250321T154000
DTSTAMP:20260422T025701
CREATED:20250116T013235Z
LAST-MODIFIED:20250116T013235Z
UID:5866-1742569200-1742571600@namura.cc
SUMMARY:クリエイティブセンター大阪　ミニ見学ツアー vol.179
DESCRIPTION:近代化産業遺産に認定されている「名村造船跡地」=クリエイティブセンター大阪の館内見学ツアーです。\n造船所跡地の施設内をスタッフがご説明しながらご案内致します。\n※ツアー時間は40分程度を予定しております。（途中退場可） \n■日時\n2025年3月21日（金）15:00 ※30-40分程度\nクリエイティブセンター大阪　入口警備員室前集合 \n■参加方法\n予約不要・現地集合／参加費は無料です。\n※マスク着用、もしくはご持参ください。\n※動画撮影はNGとしております。 \n■お問合せ\n06-4702-7085（クリエイティブセンター大阪）
URL:https://namura.cc/event/20250321/
ATTACH;FMTTYPE=image/jpeg:https://namura.cc/wp-content/uploads/2022/12/9a1f83b5ea3772fe94e010ead633edc2.jpeg
END:VEVENT
BEGIN:VEVENT
DTSTART;TZID=Asia/Tokyo:20250320T130000
DTEND;TZID=Asia/Tokyo:20250320T160000
DTSTAMP:20260422T025701
CREATED:20250312T024731Z
LAST-MODIFIED:20250312T024731Z
UID:5977-1742475600-1742486400@namura.cc
SUMMARY:ヨハネス・スボウォによる創作ダンスワークショップ（おおさか創造千島財団スペース助成）
DESCRIPTION:インドネシアのダンサー／音楽家のスボウォさんと一緒に身体を動かし、ダンスの芽を見出します。祈りや儀式、そして音。様々な要素を身体で表現します。ダンスやパフォーマンスの経験を問わず、どなたでも参加いただけます。 \n□日時\n2025年3月20日（木・祝）\n13:00～16:00 \n□申し込み\nhttps://docs.google.com/forms/d/e/1FAIpQLSfdnWsuB_6btK9QADh0INUCQ6EnCR4jiA-O9jqNqjEV-EI2xw/viewform?usp=header \n＊どちらのワークショップも開始30分前（12：30～）より受付を行います。クリエイティブセンター大阪（CCO）1階までお越しください。\n＊必要な持ち物などはございませんが、身体を動かしますので、動きやすい服装でお越しください。なお、会場内に更衣室等はございませんので、お着替えいただく場合はお手洗いなどをご利用ください。 \n□詳しくは\nhttps://www.instagram.com/gamelan_margasari/
URL:https://namura.cc/event/20250320/
ATTACH;FMTTYPE=image/jpeg:https://namura.cc/wp-content/uploads/2025/03/bbe4d52ddef5250ec98065abdabdbffe.jpg
END:VEVENT
BEGIN:VEVENT
DTSTART;VALUE=DATE:20250320
DTEND;VALUE=DATE:20250321
DTSTAMP:20260422T025701
CREATED:20250317T033140Z
LAST-MODIFIED:20250317T034521Z
UID:5983-1742428800-1742515199@namura.cc
SUMMARY:MARVELOUS OSAKA 2025
DESCRIPTION:□日時\n2025年3月20日(木祝)\nOPEN:14:00-\nCLOSE: 20:00- \n□チケット\n前売¥1\,000 / 当日¥3\,000\n※12歳未満入場料のみ無料\n※入場の際に別途¥2\,000必要(2drink1food代) \n□詳しくは\nhttps://www.instagram.com/marvelous_group/
URL:https://namura.cc/event/20250320partita/
ATTACH;FMTTYPE=image/jpeg:https://namura.cc/wp-content/uploads/2025/03/20250320.jpeg
END:VEVENT
BEGIN:VEVENT
DTSTART;VALUE=DATE:20250315
DTEND;VALUE=DATE:20250317
DTSTAMP:20260422T025701
CREATED:20250218T023503Z
LAST-MODIFIED:20250218T023541Z
UID:5949-1741996800-1742169599@namura.cc
SUMMARY:ちかっぱ祭 mini in OSAKA
DESCRIPTION:□日時\n2025年\n3月15日(土)\n3月16日(日) \n□チケット\nhttps://tiget.net/events/379473 \n□詳しくは\nhttps://info6970450.wixsite.com/my-site/minichicappasai19
URL:https://namura.cc/event/20250315-16/
ATTACH;FMTTYPE=image/jpeg:https://namura.cc/wp-content/uploads/2025/02/20250315-16.jpg
END:VEVENT
BEGIN:VEVENT
DTSTART;VALUE=DATE:20250309
DTEND;VALUE=DATE:20250310
DTSTAMP:20260422T025701
CREATED:20250218T022452Z
LAST-MODIFIED:20250218T022452Z
UID:5946-1741478400-1741564799@namura.cc
SUMMARY:ICE CREAM OSAKA 14周年祭
DESCRIPTION:□日時\n2025年3月9日(日)\n14:00-開場 \n□チケット\nチケットぴあ前売券発売中！\nhttps://w.pia.jp/t/icecreamosaka/ \n□詳しくは\nhttps://www.instagram.com/ice_cream_osaka/
URL:https://namura.cc/event/20250309/
ATTACH;FMTTYPE=image/jpeg:https://namura.cc/wp-content/uploads/2025/02/20250309.jpg
END:VEVENT
BEGIN:VEVENT
DTSTART;VALUE=DATE:20250301
DTEND;VALUE=DATE:20250302
DTSTAMP:20260422T025701
CREATED:20250218T014456Z
LAST-MODIFIED:20250218T014456Z
UID:5942-1740787200-1740873599@namura.cc
SUMMARY:OSAKA DANCE DELIGHT VOL.40
DESCRIPTION:□日時\n2025年3月1日(土)　\nOPEN 13:30\nSTART 14:00\nCLOSE 21:00（予定）\n※イベント中の途中入場、途中退場出来ます \n□チケット\n前売 4\,000円\n当日 5\,000円 \n□詳しくは\nhttps://www.dancedelight.net/event/506/
URL:https://namura.cc/event/20250301/
ATTACH;FMTTYPE=image/jpeg:https://namura.cc/wp-content/uploads/2025/02/20250301.jpg
END:VEVENT
BEGIN:VEVENT
DTSTART;VALUE=DATE:20250208
DTEND;VALUE=DATE:20250209
DTSTAMP:20260422T025701
CREATED:20250124T040544Z
LAST-MODIFIED:20250124T040544Z
UID:5933-1738972800-1739059199@namura.cc
SUMMARY:CHOREO SPOT vol.3
DESCRIPTION:□日時\n2025年2月8日(土)\nOPEN 14:20-\nSTART 15:00-\nCLOSE 18:30 \n□チケット\n前売り券　 ¥4\,000-(自由席)\n※当日券はございませんので 必ずInstagramのプロフィール欄下のリンクから購入の上、ご来場ください。 \n□詳しくは\nInstagram　@choreospot
URL:https://namura.cc/event/20250208/
ATTACH;FMTTYPE=image/png:https://namura.cc/wp-content/uploads/2025/01/202502CHOREO-SPOT.png
END:VEVENT
BEGIN:VEVENT
DTSTART;VALUE=DATE:20250207
DTEND;VALUE=DATE:20250212
DTSTAMP:20260422T025701
CREATED:20241213T015436Z
LAST-MODIFIED:20241220T023643Z
UID:5834-1738886400-1739318399@namura.cc
SUMMARY:咲くやこの花賞受賞記念展示『 田中秀介-お前と過ぎ去らせた日の目の引き出し-』
DESCRIPTION:展覧会は全て過去の作品で構成します。 過去の絵には私が目の当たりにした物事や場所、当時の住居や、その時の空、出会った人々などが描かれており、過去の作品を一挙に展示することで一個人の回想を表した展示となります。 また、2022年に行われた「田中秀介展 絵をくぐる大阪市立自然史博物館」で天井付近に展示されていた作品（259×194cm 12枚 9点）は今回目線の高さで全作品展示します。 是非この機会にご高覧下さい。 \n□日時\n2025年\n2月7日(金)～11日(火祝)\n12:00–18:00 \n□入場料\n無料 \n□詳しくは\nhttps://www.city.osaka.lg.jp/contents/wdu120/sakuya-konohana/event78.html
URL:https://namura.cc/event/20250207-11/
ATTACH;FMTTYPE=image/jpeg:https://namura.cc/wp-content/uploads/2024/12/tanaka_syusuke1.jpg
END:VEVENT
BEGIN:VEVENT
DTSTART;TZID=Asia/Tokyo:20250204T150000
DTEND;TZID=Asia/Tokyo:20250204T154000
DTSTAMP:20260422T025701
CREATED:20250116T013054Z
LAST-MODIFIED:20250116T013054Z
UID:5864-1738681200-1738683600@namura.cc
SUMMARY:クリエイティブセンター大阪　ミニ見学ツアー vol.178
DESCRIPTION:近代化産業遺産に認定されている「名村造船跡地」=クリエイティブセンター大阪の館内見学ツアーです。\n造船所跡地の施設内をスタッフがご説明しながらご案内致します。\n※ツアー時間は40分程度を予定しております。（途中退場可） \n■日時\n2025年2月4日（火）15:00 ※30-40分程度\nクリエイティブセンター大阪　入口警備員室前集合 \n■参加方法\n予約不要・現地集合／参加費は無料です。\n※マスク着用、もしくはご持参ください。\n※動画撮影はNGとしております。 \n■お問合せ\n06-4702-7085（クリエイティブセンター大阪）
URL:https://namura.cc/event/20250204/
ATTACH;FMTTYPE=image/jpeg:https://namura.cc/wp-content/uploads/2022/12/9a1f83b5ea3772fe94e010ead633edc2.jpeg
END:VEVENT
BEGIN:VEVENT
DTSTART;TZID=Asia/Tokyo:20250128T150000
DTEND;TZID=Asia/Tokyo:20250128T154000
DTSTAMP:20260422T025701
CREATED:20250116T012526Z
LAST-MODIFIED:20250116T012526Z
UID:5862-1738076400-1738078800@namura.cc
SUMMARY:クリエイティブセンター大阪　ミニ見学ツアー vol.177
DESCRIPTION:近代化産業遺産に認定されている「名村造船跡地」=クリエイティブセンター大阪の館内見学ツアーです。\n造船所跡地の施設内をスタッフがご説明しながらご案内致します。\n※ツアー時間は40分程度を予定しております。（途中退場可） \n■日時\n2025年1月28日（火）15:00 ※30-40分程度\nクリエイティブセンター大阪　入口警備員室前集合 \n■参加方法\n予約不要・現地集合／参加費は無料です。\n※マスク着用、もしくはご持参ください。\n※動画撮影はNGとしております。 \n■お問合せ\n06-4702-7085（クリエイティブセンター大阪）
URL:https://namura.cc/event/20250128/
ATTACH;FMTTYPE=image/jpeg:https://namura.cc/wp-content/uploads/2022/12/9a1f83b5ea3772fe94e010ead633edc2.jpeg
END:VEVENT
END:VCALENDAR