BEGIN:VCALENDAR
VERSION:2.0
PRODID:-//クリエイティブセンター大阪（CCO） - ECPv6.2.1//NONSGML v1.0//EN
CALSCALE:GREGORIAN
METHOD:PUBLISH
X-WR-CALNAME:クリエイティブセンター大阪（CCO）
X-ORIGINAL-URL:https://namura.cc
X-WR-CALDESC:クリエイティブセンター大阪（CCO） のイベント
REFRESH-INTERVAL;VALUE=DURATION:PT1H
X-Robots-Tag:noindex
X-PUBLISHED-TTL:PT1H
BEGIN:VTIMEZONE
TZID:Asia/Tokyo
BEGIN:STANDARD
TZOFFSETFROM:+0900
TZOFFSETTO:+0900
TZNAME:JST
DTSTART:20170101T000000
END:STANDARD
END:VTIMEZONE
BEGIN:VEVENT
DTSTART;VALUE=DATE:20171230
DTEND;VALUE=DATE:20171231
DTSTAMP:20260423T065436
CREATED:20230414T084659Z
LAST-MODIFIED:20230414T084708Z
UID:2279-1514592000-1514678399@namura.cc
SUMMARY:SOUTH YAAD MUZIK RELEASE PARTY
DESCRIPTION:□日時:\n2017年12月30日(土)\nOPEN: 13:00\nSTART: 14:00 \n□LINEUP:\nCAST；\nARM STRONG / AWAKE MONSTAR / BANJI / BIG BEAR / BOOGIE MAN\nBOXER KID / CHEHON / DIZZLE / FRANKIE PARIS / HISATOMI / JUMBO MAATCH\nJ-REXXX / KAWMAN / KIRA / 寿君 / KYO虎 / MARSHALL\nNG HEAD / PEQUU / RAM HEAD / RAY / RYO the SKYWALKER / SHADY / 翔\nSTEREON / TAKAFIN / TAK-Z / 鉄板ホルモンズ / VADER / ZOVE KING / 卍LINE\nHOST SOUND；\nBURN DOWN\nSOUND；\nBASS MASTER / LIFE STYLE / MIGHTY JAM ROCK / RODEM CYCLONE / YARD BEAT\nearly worm：SPLASH ONE　　　　SOUND SYSTEM by BURN DOWN \n□チケット\n前売券: 4\,500円\n当日券: 5\,000円\n*小学生以下入場無料／但し保護者同伴必要\n*別途ドリンク代金600円必要\n一般発売10/28 10:00~ \nチケットぴあ　0570-02-9999（P-code：347-058）\nローソンチケット　0570-084-005(L-code：57362)\ne＋ http://eplus.jp\nCN playguide　0570-08-9999 \n主催：SOUTH YAAD MUZIK\n制作：株式会社BACK YARD PROMOTION \nTOTAL INFO：Back Yard Promotion　06-6213-7077（SUNHALL内）
URL:https://namura.cc/event/2017-12-30/
ATTACH;FMTTYPE=image/jpeg:https://namura.cc/wp-content/uploads/2023/04/20171205-2jpg.jpg
END:VEVENT
BEGIN:VEVENT
DTSTART;VALUE=DATE:20171217
DTEND;VALUE=DATE:20171218
DTSTAMP:20260423T065436
CREATED:20230414T084840Z
LAST-MODIFIED:20230414T084928Z
UID:2283-1513468800-1513555199@namura.cc
SUMMARY:コスプレイベント コスプレ交流会COS JOY 大阪 造船跡地
DESCRIPTION:コスプレイベント コスプレ交流会COS JOY 大阪 造船跡地\n□日時\n2017年\n12月17日（日）10:00-18:00 \n□詳しくは\nCOSJOYホームページ\nhttp://www.comicon.co.jp/cosjoy/zousen/zousenindex.html
URL:https://namura.cc/event/2017-12-17-2/
ATTACH;FMTTYPE=image/jpeg:https://namura.cc/wp-content/uploads/2023/04/20170404-cosjoy.jpg
END:VEVENT
BEGIN:VEVENT
DTSTART;VALUE=DATE:20171217
DTEND;VALUE=DATE:20171218
DTSTAMP:20260423T065436
CREATED:20230414T084744Z
LAST-MODIFIED:20230414T084753Z
UID:2281-1513468800-1513555199@namura.cc
SUMMARY:Symbol Osaka vol.14　OUTSIDER
DESCRIPTION:□日時\n2017年12月17日(日）\nOPEN 12:00\nSTART 13:00\nCLOSE:21:00 \n□チケット\nADV:2\,500(with 1drink)\nDOOR:3\,000(with 1drink) \n□詳しくは\nhttps://mobile.twitter.com/symbol_osaka
URL:https://namura.cc/event/2017-12-17/
ATTACH;FMTTYPE=image/jpeg:https://namura.cc/wp-content/uploads/2023/04/20171216-IMG_2604.jpg
END:VEVENT
BEGIN:VEVENT
DTSTART;VALUE=DATE:20171216
DTEND;VALUE=DATE:20171217
DTSTAMP:20260423T065436
CREATED:20230414T085026Z
LAST-MODIFIED:20230414T085121Z
UID:2285-1513382400-1513468799@namura.cc
SUMMARY:『RISKY DICE SOUND SYSTEM TOUR 2017』～OUTTA CONTROL～ ファイナル 大阪編
DESCRIPTION:□日時:\n2017年12月16日(土)\nOPEN: 17:00\nSTART: 18:00 \n□LINEUP:\nRISKY DICE with SOUND SYSTEM\n第2弾発表アーティスト\nAPOLLO / BIG BEAR / HI-KING TAKASE / HISATOMI / KIRA\nNATURAL WEAPON / RAM HEAD / RAY / CHEHON / DIZZLE \n□チケット\n前売券: 4\,000円\n当日券: 4\,700円\n6歳未満無料／保護者同伴必要　*混雑状況により入場規制を行う場合がございます。\n*別途ドリンク代金600円必要 \nチケットぴあ　0570-02-9999（P-code：347-198）\nローソンチケット　0570-084-005(L-code：57319)\ne＋ http://eplus.jp\nCN playguide　0570-08-9999 \n主催：すごろくエンターテイメント\n制作：株式会社BACK YARD PROMOTION\nTOTAL INFO：Back Yard Promotion　06-6213-7077（SUNHALL内）
URL:https://namura.cc/event/2017-12-16/
ATTACH;FMTTYPE=image/jpeg:https://namura.cc/wp-content/uploads/2023/04/20171205-jpg.jpg
END:VEVENT
BEGIN:VEVENT
DTSTART;VALUE=DATE:20171209
DTEND;VALUE=DATE:20171210
DTSTAMP:20260423T065436
CREATED:20230414T085241Z
LAST-MODIFIED:20230414T085256Z
UID:2288-1512777600-1512863999@namura.cc
SUMMARY:カンパニーデラシネラ「ロミオとジュリエット」大阪公演
DESCRIPTION:□日程：\n2017年12月9日（土）\n14:30／17:30\n＊受付開始は開演の40分前、開場は30分前 \n※2017年10月7日（土）10:00発売開始！ \n□詳しくは\nhttp://www.onoderan.jp/website/
URL:https://namura.cc/event/2017-12-09/
ATTACH;FMTTYPE=image/jpeg:https://namura.cc/wp-content/uploads/2023/04/20170909-romio-o.jpg
END:VEVENT
BEGIN:VEVENT
DTSTART;VALUE=DATE:20171208
DTEND;VALUE=DATE:20171209
DTSTAMP:20260423T065436
CREATED:20230414T085349Z
LAST-MODIFIED:20230414T085349Z
UID:2290-1512691200-1512777599@namura.cc
SUMMARY:RICKIE GENE Christmas Live 2017
DESCRIPTION:□日時\n2017年12月8日（金）\nOPEN 19:00\nSTART 20:00 \n□チケット\nadv ¥3\,500-\ndoor ¥4\,000-\n※ドリンク別 \n□主催\nCreators’ Lounge\n□制作\nCreators’ Lounge/Rainbow’s End \n□お問合せ\n075-223-0389 (KYOTO MUSE)
URL:https://namura.cc/event/rickie-gene-christmas-live-2017/
ATTACH;FMTTYPE=image/jpeg:https://namura.cc/wp-content/uploads/2023/04/20171116-RG2017.jpg
END:VEVENT
BEGIN:VEVENT
DTSTART;VALUE=DATE:20171205
DTEND;VALUE=DATE:20171206
DTSTAMP:20260423T065436
CREATED:20230414T085442Z
LAST-MODIFIED:20230414T085449Z
UID:2292-1512432000-1512518399@namura.cc
SUMMARY:クリエイティブセンター大阪　ミニ見学ツアー vol.77
DESCRIPTION:近代化産業遺産に認定されている「名村造船跡地」=クリエイティブセンター大阪の館内見学ツアーです。\n造船所跡地の施設内をスタッフがご説明しながらご案内致します。\n※ツアー時間は40分程度を予定しております。（途中退場可） \n■日時　2017年12月5日（火）15:00 ※40分程度\nクリエイティブセンター大阪　入口警備員室前集合 \n■参加方法\n予約不要・現地集合／参加費は無料です。 \n■お問合せ\n06-4702-7085（クリエイティブセンター大阪）
URL:https://namura.cc/event/2017-12-05/
ATTACH;FMTTYPE=image/jpeg:https://namura.cc/wp-content/uploads/2022/12/b0f3769176eeffbd5abb90e91461dc87-e1677758490252.jpg
END:VEVENT
BEGIN:VEVENT
DTSTART;VALUE=DATE:20171126
DTEND;VALUE=DATE:20171127
DTSTAMP:20260423T065436
CREATED:20230414T084012Z
LAST-MODIFIED:20230414T084018Z
UID:2259-1511654400-1511740799@namura.cc
SUMMARY:コスプレイベント コスプレ交流会COS JOY 大阪 造船跡地
DESCRIPTION:コスプレイベント コスプレ交流会COS JOY 大阪 造船跡地\n□日時\n2017年\n11月26日（日）10:00-18:00 \n□詳しくは\nCOSJOYホームページ\nhttp://www.comicon.co.jp/cosjoy/zousen/zousenindex.html
URL:https://namura.cc/event/2017-11-26/
ATTACH;FMTTYPE=image/jpeg:https://namura.cc/wp-content/uploads/2023/04/20170404-cosjoy.jpg
END:VEVENT
BEGIN:VEVENT
DTSTART;VALUE=DATE:20171125
DTEND;VALUE=DATE:20171126
DTSTAMP:20260423T065436
CREATED:20230414T084101Z
LAST-MODIFIED:20230414T084109Z
UID:2261-1511568000-1511654399@namura.cc
SUMMARY:ヴィナイオッティマーナ2017 大阪
DESCRIPTION:□日時\n2017年\n11月25日(土) 13:00-17:00\n11月26日(日) 12:00-16:00 \n□詳しくは\nhttp://vinaiota.com/event/
URL:https://namura.cc/event/2017-11-25/
ATTACH;FMTTYPE=image/jpeg:https://namura.cc/wp-content/uploads/2023/04/20171115-Vinaiottimana_a.jpg
END:VEVENT
BEGIN:VEVENT
DTSTART;VALUE=DATE:20171119
DTEND;VALUE=DATE:20171120
DTSTAMP:20260423T065436
CREATED:20230414T084147Z
LAST-MODIFIED:20230415T043317Z
UID:2263-1511049600-1511135999@namura.cc
SUMMARY:INFINTY
DESCRIPTION:□日時\n2017年11月19日（日）\nOPEN 12:00\nSTART 13:00\nCLOSE 18:00 \n□チケット\n当日券　大人¥2\,500-　子供¥2\,000-\n前売り　大人¥2\,000-　子供¥1\,500-\n※幼児無料
URL:https://namura.cc/event/2017-11-19/
ATTACH;FMTTYPE=image/jpeg:https://namura.cc/wp-content/uploads/2023/04/20171112-20171119.jpg
END:VEVENT
BEGIN:VEVENT
DTSTART;VALUE=DATE:20171118
DTEND;VALUE=DATE:20171120
DTSTAMP:20260423T065436
CREATED:20230414T084239Z
LAST-MODIFIED:20230414T084245Z
UID:2266-1510963200-1511135999@namura.cc
SUMMARY:KITAKAGAYA FLEA 2107 AUTUMN
DESCRIPTION:□日時\n2017年\n11月18日(土)　12:00-20:00\n11月19日(日)　11:00-20:00 \n□入場料\n¥500-（各日） \n□詳しくは\nhttp://www.insec2.com
URL:https://namura.cc/event/2017-11-18/
ATTACH;FMTTYPE=image/jpeg:https://namura.cc/wp-content/uploads/2023/04/20171116-20171118KF2017.jpg
END:VEVENT
BEGIN:VEVENT
DTSTART;VALUE=DATE:20171112
DTEND;VALUE=DATE:20171113
DTSTAMP:20260423T065436
CREATED:20230414T084344Z
LAST-MODIFIED:20230414T084349Z
UID:2270-1510444800-1510531199@namura.cc
SUMMARY:すみのえアート・ビート2017
DESCRIPTION:「名村造船所大阪工場跡地」を舞台に、アート・食・農のコラボが楽しめる「すみのえアート・ビート2017」を開催します。\n「ラバー・ダック」の展示をはじめ、近代化産業遺産見学とスペシャル映像作品の上映、地産地消をめざしてオリジナルメニューを提案する「すみしゅらん」や、豊かなまちの暮らしを体感するマルシェ「北加賀屋みんなのうえん祭」など、子どもから大人までお楽しみいただけるイベントが満載です。\nまた今年も引き続き、ギャラリーや壁画などアート作品がたくさんあるまち「北加賀屋」を歩きながら、ミニあひるちゃんを探してスタンプを集める、あひるちゃんスタンプラリーを実施します。 \n□日時\n2017年11月12日（日曜日）\n11時～16時\n※雨天決行 \n□詳しくは\nhttps://suminoeartbeat.wixsite.com/home \n□主催\nすみのえアート・ビート実行委員会 \n□お問合せ\nメール： suminoeartbeatあっとgmail.com
URL:https://namura.cc/event/2017-11-12/
ATTACH;FMTTYPE=image/jpeg:https://namura.cc/wp-content/uploads/2023/04/20170915-artbeat2017FlyerA4.jpg
END:VEVENT
BEGIN:VEVENT
DTSTART;VALUE=DATE:20171107
DTEND;VALUE=DATE:20171108
DTSTAMP:20260423T065436
CREATED:20230414T084427Z
LAST-MODIFIED:20230414T084433Z
UID:2272-1510012800-1510099199@namura.cc
SUMMARY:クリエイティブセンター大阪　ミニ見学ツアー vol.76
DESCRIPTION:近代化産業遺産に認定されている「名村造船跡地」=クリエイティブセンター大阪の館内見学ツアーです。\n造船所跡地の施設内をスタッフがご説明しながらご案内致します。\n※ツアー時間は40分程度を予定しております。（途中退場可） \n■日時　2017年11月7日（火）15:00 ※40分程度\nクリエイティブセンター大阪　入口警備員室前集合 \n■参加方法\n予約不要・現地集合／参加費は無料です。 \n■お問合せ\n06-4702-7085（クリエイティブセンター大阪）
URL:https://namura.cc/event/2017-11-07/
ATTACH;FMTTYPE=image/jpeg:https://namura.cc/wp-content/uploads/2022/12/b0f3769176eeffbd5abb90e91461dc87-e1677758490252.jpg
END:VEVENT
BEGIN:VEVENT
DTSTART;VALUE=DATE:20171105
DTEND;VALUE=DATE:20171106
DTSTAMP:20260423T065436
CREATED:20230414T084512Z
LAST-MODIFIED:20230414T084518Z
UID:2274-1509840000-1509926399@namura.cc
SUMMARY:SPROUT&STARZ 2017
DESCRIPTION:SPROUTタッグバトル & STARZキッズダンスコンテスト 全国決勝大会 \n□日時：\n2017年11月5日(日)\n開場12:00\n終了19:00予定 \n□料金\n前売 3\,000円\n当日 3\,500円\n※入場時に別途1ドリンク(500円)が必要となります。 \n□詳しくは\nhttp://www.sprout-ent.com/news/detail/56/
URL:https://namura.cc/event/2017-11-05/
ATTACH;FMTTYPE=image/jpeg:https://namura.cc/wp-content/uploads/2023/04/20171018-1494612378_12_1.jpg
END:VEVENT
BEGIN:VEVENT
DTSTART;VALUE=DATE:20171029
DTEND;VALUE=DATE:20171030
DTSTAMP:20260423T065436
CREATED:20230414T083313Z
LAST-MODIFIED:20230414T083321Z
UID:2239-1509235200-1509321599@namura.cc
SUMMARY:コスプレイベント コスプレ交流会COS JOY 大阪 造船跡地
DESCRIPTION:コスプレイベント コスプレ交流会COS JOY 大阪 造船跡地\n□日時\n2017年\n10月29日（日）10:00-18:00 \n□詳しくは\nCOSJOYホームページ\nhttp://www.comicon.co.jp/cosjoy/zousen/zousenindex.html
URL:https://namura.cc/event/2017-10-29/
ATTACH;FMTTYPE=image/jpeg:https://namura.cc/wp-content/uploads/2023/04/20170404-cosjoy.jpg
END:VEVENT
BEGIN:VEVENT
DTSTART;VALUE=DATE:20171021
DTEND;VALUE=DATE:20171022
DTSTAMP:20260423T065436
CREATED:20230414T083405Z
LAST-MODIFIED:20230414T083411Z
UID:2241-1508544000-1508630399@namura.cc
SUMMARY:Fareast Death Cult 2017
DESCRIPTION:□日時\n2017年10月21日(土)\nOpen:18:00\nStart:18:30 \n□チケット\nAdv:¥3\,000 (D別)\nDoor:¥3\,500 (D別) \n□詳しくは\nhttp://socorefactory.com/
URL:https://namura.cc/event/2017-10-21/
ATTACH;FMTTYPE=image/jpeg:https://namura.cc/wp-content/uploads/2023/04/20171004-1021_omote.jpg
END:VEVENT
BEGIN:VEVENT
DTSTART;VALUE=DATE:20171015
DTEND;VALUE=DATE:20171016
DTSTAMP:20260423T065436
CREATED:20230414T083455Z
LAST-MODIFIED:20230414T083504Z
UID:2243-1508025600-1508111999@namura.cc
SUMMARY:あらき・nqrse　“Will O Wisp TOUR”
DESCRIPTION:□日時\n2017/10/15(日) OPEN 14:00 / START 14:30\n2017/10/15(日) OPEN 18:00 / START 18:30 \n□詳しくは\nhttp://www.sound-c.co.jp/schedule/detail/2183/ \n□お問合せ\nサウンドクリエーター 06-6357-4400
URL:https://namura.cc/event/2017-10-15/
ATTACH;FMTTYPE=:
END:VEVENT
BEGIN:VEVENT
DTSTART;VALUE=DATE:20171009
DTEND;VALUE=DATE:20171010
DTSTAMP:20260423T065436
CREATED:20230414T083551Z
LAST-MODIFIED:20230414T083559Z
UID:2246-1507507200-1507593599@namura.cc
SUMMARY:SIGMA JAPAN TOUR 2017 OSAKA
DESCRIPTION:ファン超待望!!!!\nついに、世界のドラムンベースシーンを代表する、ジャンルを超えて支持されるSIGMAのJAPAN TOURが開催決定！！\n彼らは2014年、 ‘Nobody To Love’ と‘Changing’ (featuring Paloma Faith)という２枚のシングルをUK singleチャートに送り込んだ唯一のグループ。 \nこの２枚のシングルを発売後たった１週間で100\,000枚を売り上げた実績を持ち、地元UKでは２度のプラチナディスク、またその他ヨーロッパ諸国、オセアニアでもプラチナディスクを獲得するなど、目覚ましい活躍で知られており名実ともにドラムンベースシーンの頂点に位置すると言っても過言ではない。 \nシーンを賑わすヒットメイカーSIGMAが専属MCを引き連れてのの貴重な来日公演は見逃せない!!!! \n□日時\n10月9日（月曜日/祝日）\nopen 15:00 \n□チケット\nadv:3500yen door:4000yen \npeatix ticket : http://ptix.co/2i2bSUr\nチケットぴあ P-CODE(343069)\nイープラス　http://eplus.jp/ \n□line up\nROOM1:\nSIGMA\nDJ B=BAL/TOYO/YUUNA/SE-TA/MOUNTAIN \nROOM2:\nBIGTED/RASTY/81BLEND/Maurice/S.U/HAGINAKA/EXIT
URL:https://namura.cc/event/2017-10-09/
ATTACH;FMTTYPE=image/jpeg:https://namura.cc/wp-content/uploads/2023/04/20170912-Sigma02web.jpg
END:VEVENT
BEGIN:VEVENT
DTSTART;VALUE=DATE:20171008
DTEND;VALUE=DATE:20171009
DTSTAMP:20260423T065436
CREATED:20230414T083644Z
LAST-MODIFIED:20230414T083650Z
UID:2249-1507420800-1507507199@namura.cc
SUMMARY:Alright Feelin' Special
DESCRIPTION:全国規模のド派手ダンスフェスティバル！！\n□日時\n2017年10月8日（日）\nOPEN12:30\nSTART13:30\nCLOSE20:00 \n□詳しくは\nhttp://tamagoclub.html.xdomain.jp
URL:https://namura.cc/event/2017-10-08/
ATTACH;FMTTYPE=image/jpeg:https://namura.cc/wp-content/uploads/2023/04/20170909-DECz_H1VYAAJdd3.jpg-small.jpeg
END:VEVENT
BEGIN:VEVENT
DTSTART;VALUE=DATE:20171007
DTEND;VALUE=DATE:20171008
DTSTAMP:20260423T065436
CREATED:20230414T083733Z
LAST-MODIFIED:20230414T083740Z
UID:2251-1507334400-1507420799@namura.cc
SUMMARY:VANTAN CUTTING EDGE 2017 　OSAKA ROUND
DESCRIPTION:□日時\n2017年10月7日（土）\n11:00〜 \n□詳しくは\nhttp://www.vantan.com/special/ce2017/osaka/
URL:https://namura.cc/event/2017-10-07/
ATTACH;FMTTYPE=:
END:VEVENT
BEGIN:VEVENT
DTSTART;VALUE=DATE:20171003
DTEND;VALUE=DATE:20171004
DTSTAMP:20260423T065436
CREATED:20230414T083820Z
LAST-MODIFIED:20230414T083827Z
UID:2254-1506988800-1507075199@namura.cc
SUMMARY:クリエイティブセンター大阪　ミニ見学ツアー vol.75
DESCRIPTION:近代化産業遺産に認定されている「名村造船跡地」=クリエイティブセンター大阪の館内見学ツアーです。\n造船所跡地の施設内をスタッフがご説明しながらご案内致します。\n※ツアー時間は40分程度を予定しております。（途中退場可） \n■日時　2017年10月3日（火）15:00 ※40分程度\nクリエイティブセンター大阪　入口警備員室前集合 \n■参加方法\n予約不要・現地集合／参加費は無料です。 \n■お問合せ\n06-4702-7085（クリエイティブセンター大阪）
URL:https://namura.cc/event/2017-10-03/
ATTACH;FMTTYPE=image/jpeg:https://namura.cc/wp-content/uploads/2022/12/b0f3769176eeffbd5abb90e91461dc87-e1677758490252.jpg
END:VEVENT
BEGIN:VEVENT
DTSTART;VALUE=DATE:20171001
DTEND;VALUE=DATE:20171002
DTSTAMP:20260423T065436
CREATED:20230414T083912Z
LAST-MODIFIED:20230414T083918Z
UID:2257-1506816000-1506902399@namura.cc
SUMMARY:Z-1 WORST DANCE CIRCLE GRANDPRIX 2017
DESCRIPTION:□日時\n2017年10月1日（日）\n12:30〜21:00 \n□チケット\n前売り:2000円+1d\n当日購入:2500円+1d\n＊入場には別途1ドリンク代が必要となります。\n＊再入場の際は、1ドリンク代が必要です。\n＊飲食物の持ち込み厳禁 \n□詳しくは\nFaceBookページ\nhttps://www.facebook.com/Z1WorstDanceCircleGrandprix \n□お問合せ\nZ-1実行委員会　z1.danceone@gmail.com
URL:https://namura.cc/event/2017-10-01/
ATTACH;FMTTYPE=image/jpeg:https://namura.cc/wp-content/uploads/2023/04/20170909-21230939_828033477365604_8392214860677691075_n.jpg
END:VEVENT
BEGIN:VEVENT
DTSTART;VALUE=DATE:20170924
DTEND;VALUE=DATE:20170925
DTSTAMP:20260423T065436
CREATED:20230414T080905Z
LAST-MODIFIED:20230414T080912Z
UID:2216-1506211200-1506297599@namura.cc
SUMMARY:SYMBOL KOBE vol.14 “BOOST”
DESCRIPTION:□日時\n2017年9月24日（日）\nOPEN 13:00\nSTART 14:00\nCLOSE 21:00 \n□詳しくは\nhttps://mobile.twitter.com/symbolkobe?lang=ja
URL:https://namura.cc/event/2017-09-24/
ATTACH;FMTTYPE=:
END:VEVENT
BEGIN:VEVENT
DTSTART;VALUE=DATE:20170923
DTEND;VALUE=DATE:20170925
DTSTAMP:20260423T065436
CREATED:20230414T081012Z
LAST-MODIFIED:20230414T081020Z
UID:2218-1506124800-1506297599@namura.cc
SUMMARY:【スペース助成】空間現代『擦過』大阪公演
DESCRIPTION:□日時\n2017年\n9月23日（土）19:00開演\n9月24日（日）18:00開演\n※30分前開場\n※荒天時中止の場合あり。 \n□料金\n予約ー2000円\n学割ー1500円\n※当日券+500円 \n□お問合せ\nkukangendai.com \n○主催　空間現代\n○助成　おおさか創造千島財団
URL:https://namura.cc/event/2017-09-23/
ATTACH;FMTTYPE=image/jpeg:https://namura.cc/wp-content/uploads/2023/04/20170831-kukangendai1.jpg
END:VEVENT
BEGIN:VEVENT
DTSTART;VALUE=DATE:20170918
DTEND;VALUE=DATE:20170919
DTSTAMP:20260423T065436
CREATED:20230414T081103Z
LAST-MODIFIED:20230414T081111Z
UID:2220-1505692800-1505779199@namura.cc
SUMMARY:CIRCUS x PINE BROOKLYN presents WE WANT SUNSET PARTY
DESCRIPTION:□日時:\n2017年9月18日(月/祝)\nOPEN 14:00 – CLOSE 21:00 \n□ARTIST：\nRickie-G / BES / LEFTO / FREE THE ROBOTS / Cro-magnon / Yoshihiro Okino (Kyoto Jazz Massive) feat. Live Percussions Masahiro ‘Hamo’ Matsuo and Jazz Dancers : Peri\, Yasuo\, Kunu / SPIN MASTER A-1 / Masatoshi Nakagawa / MAYUMIKILLER / CM Smooth / Mightwhales / No-Key / COTOCO \n□FOOD&MARKET:\nAllstime / JUICY’S / DONUT DEPT x down to earth / うたげや / ニタカリー x Mr.Samosa / LOSER / ROCKER’S DINER \n□チケット:\n前売 3500円 / 当日 4000円 \nチケットぴあ:P-code 340872\nローソン:L-code 54042\nイープラス:\nhttp://sort.eplus.jp/sys/T1U14P0010163P0108P002233497P0050001P006001P0030001\nPeatix: http://ptix.co/2eF4Fbx \n□詳しくは:\nhttp://circus-osaka.com/we-want-sunet-party/\nhttp://pinebrooklyn.com/\nhttp://wewant.jp/
URL:https://namura.cc/event/2017-09-18/
ATTACH;FMTTYPE=image/jpeg:https://namura.cc/wp-content/uploads/2023/04/20170907-05.jpg
END:VEVENT
BEGIN:VEVENT
DTSTART;VALUE=DATE:20170910
DTEND;VALUE=DATE:20170911
DTSTAMP:20260423T065436
CREATED:20230414T082244Z
LAST-MODIFIED:20230414T082244Z
UID:2223-1505001600-1505087999@namura.cc
SUMMARY:コスプレ交流会COS JOY 大阪 in 造船跡地
DESCRIPTION:コスプレイベント コスプレ交流会COS JOY 大阪 造船跡地\n□日時\n2017年\n9月10日（日）10:00-18:00 \n□詳しくは\nCOSJOYホームページ\nhttp://www.comicon.co.jp/cosjoy/zousen/zousenindex.html
URL:https://namura.cc/event/2017-09-10/
ATTACH;FMTTYPE=image/jpeg:https://namura.cc/wp-content/uploads/2023/04/20170404-cosjoy.jpg
END:VEVENT
BEGIN:VEVENT
DTSTART;VALUE=DATE:20170909
DTEND;VALUE=DATE:20170910
DTSTAMP:20260423T065436
CREATED:20230414T082652Z
LAST-MODIFIED:20230414T082659Z
UID:2227-1504915200-1505001599@namura.cc
SUMMARY:狩人JAM vol.5-culture party
DESCRIPTION:□日時\n2017年9月9日(土)\n11:00EntryStart〜21:00Close□詳しくは\nhttps://www.facebook.com/events/387709568295930/?ti=icl \n\n\nblack chamber→本会場 \nWhitechamber→CHILL&sub contents \n■Time■ \n11:00EntryStart〜21:00Close \n⚪︎bboybattle予選11:45〜16:00\n⚪︎sub contents 16:00〜17:00\n⚪︎狩人JAM 17:00〜21:00 \n■Entry&観戦■\n⚫︎事前Entry or 事前ticket購入￥3000+1dr(¥300)\n⚫︎当日Entry or 当日ticket:￥3500+1dr(¥300)\n⚫︎再入場:500(1dr込み)\n✴︎観戦も前売りチケットが必要ですので下記に記載のアドレスまで取り置き枚数&代表者名を送っていただけるとお取り置き致します。 \n◆guest LIVE◆\n⚫︎呂布カルマ\n⚫︎輪入道\n⚫︎サイバー日本 \n◆スペシャルエキシビジョン◆\n⚫︎winner:¥30000\n呂布カルマ vs 輪入道 \n◆guest DJ◆\n⚫︎DJ Fummy \n◆Lounge DJ◆\n⚫︎DJ HAMAYA \n■sub bboy contents■\n⚫︎one signature move battle(エントリー100円総取り)\n⚫︎toprock battle(エントリー100円総取り) \n▲▲▲▲▲BBOY 2ON2 BATTLE ▲▲▲▲▲\nWinner :￥50000&board&prize \n◆Guest Young Battler◆\n⚫︎Hi-hat&TSUKKI\n⚫︎Ryo-Flow&AZUMA \n◆Guest Old Battler◆\n⚫︎WUTA&SOWA\n⚫︎babylon&MasuO aka Native \n◆Judge◆\n⚫︎Shinobi (RiversCrew) From Korea\n⚫︎Omata The Maniac (Shangri-La/SHAZNA Rock/臼井企画)\n⚫︎RYOMA (MORTAL COMBAT/HEROES)\n⚫︎KATSU ONE (ALL AREA/READY TO ROCK/MZK) \n◆HOST MC◆\n⚫︎うみんちゅa.k.aサイバー日本 (JBZ/サイバー日本) \n◆bboy battle DJ◆\n⚫︎BOSANOBU (京都 b-boy crew)\n⚫︎SINSK8 (ULTRA BRA1N/TURKS)\n⚫︎Freeza (GSB/Kosher Flava) \n◆協賛◆\n⚫︎DANCERS COLLECTION\n⚫︎DUCK TAIL\n⚫︎Break of Liberty\n⚫︎flowerofhood\n⚫︎CREAM B&H\n⚫︎heeedama\n⚫︎DAYWALKER\n⚫︎CLASSIC FLAVA\n⚫︎monochrome.\n⚫︎踊り場田中家 \n◆food◆\n⚫︎sausage stand BOND’S CAFE\n⚫︎MOGURA CAFE \n■Entry■ \nkariudosauza@gmail.comまでメールを！ \n題名にyoung/oldを記載の上、本文にチーム名(読み仮名)とメンバー名をお願いします！\n★1992年4月以降産まれの方はyoung\n★1992年3月31日まで産まれの方はold\n当日エントリーはありますが、値段も変わりますので事前エントリーでよろしくお願いいたします。 \n★注意(必ず読んで下さい)★\n疑問点があれば連絡を下さい！！\nkariudosauza@gmail.comまで！\nYang&Oldより14チーム(Break of liberty\n優勝者含む)をピックアップ！\nその後12チームまでに絞り、そこにゲスト4チームを入れたベスト16からフルトーナメントです！！ \n■concept■\nやられる前にやる。\n大阪をぶち上げる。\nすべてのbboyを繋げる。 \nbboy sauzar
URL:https://namura.cc/event/2017-09-09-2/
ATTACH;FMTTYPE=image/jpeg:https://namura.cc/wp-content/uploads/2023/04/20170909-kariudo.jpg
END:VEVENT
BEGIN:VEVENT
DTSTART;VALUE=DATE:20170909
DTEND;VALUE=DATE:20170910
DTSTAMP:20260423T065436
CREATED:20230414T082338Z
LAST-MODIFIED:20230414T082344Z
UID:2225-1504915200-1505001599@namura.cc
SUMMARY:青司祭2017
DESCRIPTION:□日時\n2017年9月9日（土）\nOPEN13:00 \n□詳しくは\nhttps://www.chaoticirrumatio.com\nhttps://www.facebook.com/aotsukasai/
URL:https://namura.cc/event/2017-09-09/
ATTACH;FMTTYPE=image/jpeg:https://namura.cc/wp-content/uploads/2023/04/20170726-1500313020544.jpeg
END:VEVENT
BEGIN:VEVENT
DTSTART;VALUE=DATE:20170907
DTEND;VALUE=DATE:20170908
DTSTAMP:20260423T065436
CREATED:20230414T082743Z
LAST-MODIFIED:20230414T083006Z
UID:2231-1504742400-1504828799@namura.cc
SUMMARY:クリエイティブセンター大阪　ミニ見学ツアー vol.74
DESCRIPTION:近代化産業遺産に認定されている「名村造船跡地」=クリエイティブセンター大阪の館内見学ツアーです。\n造船所跡地の施設内をスタッフがご説明しながらご案内致します。\n※ツアー時間は40分程度を予定しております。（途中退場可） \n■日時　2017年9月7日（木）15:00 ※40分程度\nクリエイティブセンター大阪　入口警備員室前集合 \n■参加方法\n予約不要・現地集合／参加費は無料です。 \n■お問合せ\n06-4702-7085（クリエイティブセンター大阪）
URL:https://namura.cc/event/2017-09-07/
ATTACH;FMTTYPE=image/jpeg:https://namura.cc/wp-content/uploads/2022/12/b0f3769176eeffbd5abb90e91461dc87-e1677758490252.jpg
END:VEVENT
BEGIN:VEVENT
DTSTART;VALUE=DATE:20170903
DTEND;VALUE=DATE:20170904
DTSTAMP:20260423T065436
CREATED:20230414T083115Z
LAST-MODIFIED:20230414T083123Z
UID:2234-1504396800-1504483199@namura.cc
SUMMARY:島唄ライブ おぼらだれん 5th ANNIVERSARY
DESCRIPTION:□日時\n2017年9月3日（日）\n13:00- \n□詳しくは\nhttps://www.facebook.com/events/431680277178875
URL:https://namura.cc/event/2017-09-03/
ATTACH;FMTTYPE=image/jpeg:https://namura.cc/wp-content/uploads/2023/04/20170802-17760092_206648509833676_4819620656036512430_n.jpg
END:VEVENT
END:VCALENDAR