BEGIN:VCALENDAR
VERSION:2.0
PRODID:-//クリエイティブセンター大阪（CCO） - ECPv6.2.1//NONSGML v1.0//EN
CALSCALE:GREGORIAN
METHOD:PUBLISH
X-WR-CALNAME:クリエイティブセンター大阪（CCO）
X-ORIGINAL-URL:https://namura.cc
X-WR-CALDESC:クリエイティブセンター大阪（CCO） のイベント
REFRESH-INTERVAL;VALUE=DURATION:PT1H
X-Robots-Tag:noindex
X-PUBLISHED-TTL:PT1H
BEGIN:VTIMEZONE
TZID:Asia/Tokyo
BEGIN:STANDARD
TZOFFSETFROM:+0900
TZOFFSETTO:+0900
TZNAME:JST
DTSTART:20170101T000000
END:STANDARD
END:VTIMEZONE
BEGIN:VEVENT
DTSTART;VALUE=DATE:20171001
DTEND;VALUE=DATE:20171002
DTSTAMP:20260423T071148
CREATED:20230414T083912Z
LAST-MODIFIED:20230414T083918Z
UID:2257-1506816000-1506902399@namura.cc
SUMMARY:Z-1 WORST DANCE CIRCLE GRANDPRIX 2017
DESCRIPTION:□日時\n2017年10月1日（日）\n12:30〜21:00 \n□チケット\n前売り:2000円+1d\n当日購入:2500円+1d\n＊入場には別途1ドリンク代が必要となります。\n＊再入場の際は、1ドリンク代が必要です。\n＊飲食物の持ち込み厳禁 \n□詳しくは\nFaceBookページ\nhttps://www.facebook.com/Z1WorstDanceCircleGrandprix \n□お問合せ\nZ-1実行委員会　z1.danceone@gmail.com
URL:https://namura.cc/event/2017-10-01/
ATTACH;FMTTYPE=image/jpeg:https://namura.cc/wp-content/uploads/2023/04/20170909-21230939_828033477365604_8392214860677691075_n.jpg
END:VEVENT
BEGIN:VEVENT
DTSTART;VALUE=DATE:20170924
DTEND;VALUE=DATE:20170925
DTSTAMP:20260423T071148
CREATED:20230414T080905Z
LAST-MODIFIED:20230414T080912Z
UID:2216-1506211200-1506297599@namura.cc
SUMMARY:SYMBOL KOBE vol.14 “BOOST”
DESCRIPTION:□日時\n2017年9月24日（日）\nOPEN 13:00\nSTART 14:00\nCLOSE 21:00 \n□詳しくは\nhttps://mobile.twitter.com/symbolkobe?lang=ja
URL:https://namura.cc/event/2017-09-24/
ATTACH;FMTTYPE=:
END:VEVENT
BEGIN:VEVENT
DTSTART;VALUE=DATE:20170923
DTEND;VALUE=DATE:20170925
DTSTAMP:20260423T071148
CREATED:20230414T081012Z
LAST-MODIFIED:20230414T081020Z
UID:2218-1506124800-1506297599@namura.cc
SUMMARY:【スペース助成】空間現代『擦過』大阪公演
DESCRIPTION:□日時\n2017年\n9月23日（土）19:00開演\n9月24日（日）18:00開演\n※30分前開場\n※荒天時中止の場合あり。 \n□料金\n予約ー2000円\n学割ー1500円\n※当日券+500円 \n□お問合せ\nkukangendai.com \n○主催　空間現代\n○助成　おおさか創造千島財団
URL:https://namura.cc/event/2017-09-23/
ATTACH;FMTTYPE=image/jpeg:https://namura.cc/wp-content/uploads/2023/04/20170831-kukangendai1.jpg
END:VEVENT
BEGIN:VEVENT
DTSTART;VALUE=DATE:20170918
DTEND;VALUE=DATE:20170919
DTSTAMP:20260423T071148
CREATED:20230414T081103Z
LAST-MODIFIED:20230414T081111Z
UID:2220-1505692800-1505779199@namura.cc
SUMMARY:CIRCUS x PINE BROOKLYN presents WE WANT SUNSET PARTY
DESCRIPTION:□日時:\n2017年9月18日(月/祝)\nOPEN 14:00 – CLOSE 21:00 \n□ARTIST：\nRickie-G / BES / LEFTO / FREE THE ROBOTS / Cro-magnon / Yoshihiro Okino (Kyoto Jazz Massive) feat. Live Percussions Masahiro ‘Hamo’ Matsuo and Jazz Dancers : Peri\, Yasuo\, Kunu / SPIN MASTER A-1 / Masatoshi Nakagawa / MAYUMIKILLER / CM Smooth / Mightwhales / No-Key / COTOCO \n□FOOD&MARKET:\nAllstime / JUICY’S / DONUT DEPT x down to earth / うたげや / ニタカリー x Mr.Samosa / LOSER / ROCKER’S DINER \n□チケット:\n前売 3500円 / 当日 4000円 \nチケットぴあ:P-code 340872\nローソン:L-code 54042\nイープラス:\nhttp://sort.eplus.jp/sys/T1U14P0010163P0108P002233497P0050001P006001P0030001\nPeatix: http://ptix.co/2eF4Fbx \n□詳しくは:\nhttp://circus-osaka.com/we-want-sunet-party/\nhttp://pinebrooklyn.com/\nhttp://wewant.jp/
URL:https://namura.cc/event/2017-09-18/
ATTACH;FMTTYPE=image/jpeg:https://namura.cc/wp-content/uploads/2023/04/20170907-05.jpg
END:VEVENT
BEGIN:VEVENT
DTSTART;VALUE=DATE:20170910
DTEND;VALUE=DATE:20170911
DTSTAMP:20260423T071148
CREATED:20230414T082244Z
LAST-MODIFIED:20230414T082244Z
UID:2223-1505001600-1505087999@namura.cc
SUMMARY:コスプレ交流会COS JOY 大阪 in 造船跡地
DESCRIPTION:コスプレイベント コスプレ交流会COS JOY 大阪 造船跡地\n□日時\n2017年\n9月10日（日）10:00-18:00 \n□詳しくは\nCOSJOYホームページ\nhttp://www.comicon.co.jp/cosjoy/zousen/zousenindex.html
URL:https://namura.cc/event/2017-09-10/
ATTACH;FMTTYPE=image/jpeg:https://namura.cc/wp-content/uploads/2023/04/20170404-cosjoy.jpg
END:VEVENT
BEGIN:VEVENT
DTSTART;VALUE=DATE:20170909
DTEND;VALUE=DATE:20170910
DTSTAMP:20260423T071148
CREATED:20230414T082652Z
LAST-MODIFIED:20230414T082659Z
UID:2227-1504915200-1505001599@namura.cc
SUMMARY:狩人JAM vol.5-culture party
DESCRIPTION:□日時\n2017年9月9日(土)\n11:00EntryStart〜21:00Close□詳しくは\nhttps://www.facebook.com/events/387709568295930/?ti=icl \n\n\nblack chamber→本会場 \nWhitechamber→CHILL&sub contents \n■Time■ \n11:00EntryStart〜21:00Close \n⚪︎bboybattle予選11:45〜16:00\n⚪︎sub contents 16:00〜17:00\n⚪︎狩人JAM 17:00〜21:00 \n■Entry&観戦■\n⚫︎事前Entry or 事前ticket購入￥3000+1dr(¥300)\n⚫︎当日Entry or 当日ticket:￥3500+1dr(¥300)\n⚫︎再入場:500(1dr込み)\n✴︎観戦も前売りチケットが必要ですので下記に記載のアドレスまで取り置き枚数&代表者名を送っていただけるとお取り置き致します。 \n◆guest LIVE◆\n⚫︎呂布カルマ\n⚫︎輪入道\n⚫︎サイバー日本 \n◆スペシャルエキシビジョン◆\n⚫︎winner:¥30000\n呂布カルマ vs 輪入道 \n◆guest DJ◆\n⚫︎DJ Fummy \n◆Lounge DJ◆\n⚫︎DJ HAMAYA \n■sub bboy contents■\n⚫︎one signature move battle(エントリー100円総取り)\n⚫︎toprock battle(エントリー100円総取り) \n▲▲▲▲▲BBOY 2ON2 BATTLE ▲▲▲▲▲\nWinner :￥50000&board&prize \n◆Guest Young Battler◆\n⚫︎Hi-hat&TSUKKI\n⚫︎Ryo-Flow&AZUMA \n◆Guest Old Battler◆\n⚫︎WUTA&SOWA\n⚫︎babylon&MasuO aka Native \n◆Judge◆\n⚫︎Shinobi (RiversCrew) From Korea\n⚫︎Omata The Maniac (Shangri-La/SHAZNA Rock/臼井企画)\n⚫︎RYOMA (MORTAL COMBAT/HEROES)\n⚫︎KATSU ONE (ALL AREA/READY TO ROCK/MZK) \n◆HOST MC◆\n⚫︎うみんちゅa.k.aサイバー日本 (JBZ/サイバー日本) \n◆bboy battle DJ◆\n⚫︎BOSANOBU (京都 b-boy crew)\n⚫︎SINSK8 (ULTRA BRA1N/TURKS)\n⚫︎Freeza (GSB/Kosher Flava) \n◆協賛◆\n⚫︎DANCERS COLLECTION\n⚫︎DUCK TAIL\n⚫︎Break of Liberty\n⚫︎flowerofhood\n⚫︎CREAM B&H\n⚫︎heeedama\n⚫︎DAYWALKER\n⚫︎CLASSIC FLAVA\n⚫︎monochrome.\n⚫︎踊り場田中家 \n◆food◆\n⚫︎sausage stand BOND’S CAFE\n⚫︎MOGURA CAFE \n■Entry■ \nkariudosauza@gmail.comまでメールを！ \n題名にyoung/oldを記載の上、本文にチーム名(読み仮名)とメンバー名をお願いします！\n★1992年4月以降産まれの方はyoung\n★1992年3月31日まで産まれの方はold\n当日エントリーはありますが、値段も変わりますので事前エントリーでよろしくお願いいたします。 \n★注意(必ず読んで下さい)★\n疑問点があれば連絡を下さい！！\nkariudosauza@gmail.comまで！\nYang&Oldより14チーム(Break of liberty\n優勝者含む)をピックアップ！\nその後12チームまでに絞り、そこにゲスト4チームを入れたベスト16からフルトーナメントです！！ \n■concept■\nやられる前にやる。\n大阪をぶち上げる。\nすべてのbboyを繋げる。 \nbboy sauzar
URL:https://namura.cc/event/2017-09-09-2/
ATTACH;FMTTYPE=image/jpeg:https://namura.cc/wp-content/uploads/2023/04/20170909-kariudo.jpg
END:VEVENT
BEGIN:VEVENT
DTSTART;VALUE=DATE:20170909
DTEND;VALUE=DATE:20170910
DTSTAMP:20260423T071148
CREATED:20230414T082338Z
LAST-MODIFIED:20230414T082344Z
UID:2225-1504915200-1505001599@namura.cc
SUMMARY:青司祭2017
DESCRIPTION:□日時\n2017年9月9日（土）\nOPEN13:00 \n□詳しくは\nhttps://www.chaoticirrumatio.com\nhttps://www.facebook.com/aotsukasai/
URL:https://namura.cc/event/2017-09-09/
ATTACH;FMTTYPE=image/jpeg:https://namura.cc/wp-content/uploads/2023/04/20170726-1500313020544.jpeg
END:VEVENT
BEGIN:VEVENT
DTSTART;VALUE=DATE:20170907
DTEND;VALUE=DATE:20170908
DTSTAMP:20260423T071148
CREATED:20230414T082743Z
LAST-MODIFIED:20230414T083006Z
UID:2231-1504742400-1504828799@namura.cc
SUMMARY:クリエイティブセンター大阪　ミニ見学ツアー vol.74
DESCRIPTION:近代化産業遺産に認定されている「名村造船跡地」=クリエイティブセンター大阪の館内見学ツアーです。\n造船所跡地の施設内をスタッフがご説明しながらご案内致します。\n※ツアー時間は40分程度を予定しております。（途中退場可） \n■日時　2017年9月7日（木）15:00 ※40分程度\nクリエイティブセンター大阪　入口警備員室前集合 \n■参加方法\n予約不要・現地集合／参加費は無料です。 \n■お問合せ\n06-4702-7085（クリエイティブセンター大阪）
URL:https://namura.cc/event/2017-09-07/
ATTACH;FMTTYPE=image/jpeg:https://namura.cc/wp-content/uploads/2022/12/b0f3769176eeffbd5abb90e91461dc87-e1677758490252.jpg
END:VEVENT
BEGIN:VEVENT
DTSTART;VALUE=DATE:20170903
DTEND;VALUE=DATE:20170904
DTSTAMP:20260423T071148
CREATED:20230414T083115Z
LAST-MODIFIED:20230414T083123Z
UID:2234-1504396800-1504483199@namura.cc
SUMMARY:島唄ライブ おぼらだれん 5th ANNIVERSARY
DESCRIPTION:□日時\n2017年9月3日（日）\n13:00- \n□詳しくは\nhttps://www.facebook.com/events/431680277178875
URL:https://namura.cc/event/2017-09-03/
ATTACH;FMTTYPE=image/jpeg:https://namura.cc/wp-content/uploads/2023/04/20170802-17760092_206648509833676_4819620656036512430_n.jpg
END:VEVENT
BEGIN:VEVENT
DTSTART;VALUE=DATE:20170902
DTEND;VALUE=DATE:20170903
DTSTAMP:20260423T071148
CREATED:20230414T083203Z
LAST-MODIFIED:20230414T083212Z
UID:2236-1504310400-1504396799@namura.cc
SUMMARY:Fruits Note Summer Live 2017　宴
DESCRIPTION:□日時\n2017年9月2日（土）\nopen 15:30\nstart 16:15 \n□詳しくは\nhttps://mobile.twitter.com/fruitsnote_cl \n主催：近畿大学アカペラサークルFruits Note
URL:https://namura.cc/event/2017-09-02/
ATTACH;FMTTYPE=image/jpeg:https://namura.cc/wp-content/uploads/2023/04/20170826-2C-mcAVZ.jpg
END:VEVENT
BEGIN:VEVENT
DTSTART;VALUE=DATE:20170826
DTEND;VALUE=DATE:20170828
DTSTAMP:20260423T071148
CREATED:20230414T080444Z
LAST-MODIFIED:20230414T080449Z
UID:2206-1503705600-1503878399@namura.cc
SUMMARY:FEST FES 2017
DESCRIPTION:□日時\n2017年\n8月26日（土）12:00−\n8月27日（日）11:00− \n□詳しくは\nhttp://festfes2017.plugrecords.com
URL:https://namura.cc/event/2017-08-26/
ATTACH;FMTTYPE=image/png:https://namura.cc/wp-content/uploads/2023/04/20170810-FEST-FES.png
END:VEVENT
BEGIN:VEVENT
DTSTART;VALUE=DATE:20170823
DTEND;VALUE=DATE:20170824
DTSTAMP:20260423T071148
CREATED:20230414T080530Z
LAST-MODIFIED:20230414T080536Z
UID:2208-1503446400-1503532799@namura.cc
SUMMARY:SOUND SHOCK 2017
DESCRIPTION:□日時\n2017年\n8月23日(水)・8月24日 \nOPEN 11:00 / START 11:30 \n□詳しくは\nhttp://www.sound-shock.com
URL:https://namura.cc/event/2017-08-23/
ATTACH;FMTTYPE=image/jpeg:https://namura.cc/wp-content/uploads/2023/04/20170810-sound-shock-2017.jpg
END:VEVENT
BEGIN:VEVENT
DTSTART;VALUE=DATE:20170819
DTEND;VALUE=DATE:20170820
DTSTAMP:20260423T071148
CREATED:20230414T080612Z
LAST-MODIFIED:20230414T080612Z
UID:2210-1503100800-1503187199@namura.cc
SUMMARY:NEON SPLASH RUSH
DESCRIPTION:□日時\n2017年8月19日（土）\nOPEN 13:00\nSTART 14:00\nCLOSE 20:00 \n□詳しくは\nNEON SPLASH RUSH公式HP\nhttp://neonsplashrush.com
URL:https://namura.cc/event/neon-splash-rush/
ATTACH;FMTTYPE=:
END:VEVENT
BEGIN:VEVENT
DTSTART;VALUE=DATE:20170808
DTEND;VALUE=DATE:20170809
DTSTAMP:20260423T071148
CREATED:20230414T080701Z
LAST-MODIFIED:20230511T030547Z
UID:2212-1502150400-1502236799@namura.cc
SUMMARY:クリエイティブセンター大阪　ミニ見学ツアー vol.73
DESCRIPTION:近代化産業遺産に認定されている「名村造船跡地」=クリエイティブセンター大阪の館内見学ツアーです。\n造船所跡地の施設内をスタッフがご説明しながらご案内致します。\n※ツアー時間は40分程度を予定しております。（途中退場可） \n■日時　2017年8月8日（火）15:00 ※40分程度\nクリエイティブセンター大阪　入口警備員室前集合 \n■参加方法\n予約不要・現地集合／参加費は無料です。 \n■お問合せ\n06-4702-7085（クリエイティブセンター大阪）
URL:https://namura.cc/event/2017-08-08/
ATTACH;FMTTYPE=image/jpeg:https://namura.cc/wp-content/uploads/2022/12/b0f3769176eeffbd5abb90e91461dc87-e1677758490252.jpg
END:VEVENT
BEGIN:VEVENT
DTSTART;VALUE=DATE:20170805
DTEND;VALUE=DATE:20170806
DTSTAMP:20260423T071148
CREATED:20230414T080750Z
LAST-MODIFIED:20230414T080757Z
UID:2214-1501891200-1501977599@namura.cc
SUMMARY:GOOD TIME vol.2
DESCRIPTION:□日時\n2017年8月5日（土）\nOPEN 16:00\nCLOSE 21:30 \n□詳しくは\nhttps://mobile.twitter.com/goodtimeplus
URL:https://namura.cc/event/2017-08-05/
ATTACH;FMTTYPE=image/jpeg:https://namura.cc/wp-content/uploads/2023/04/20170726-20170805.jpg
END:VEVENT
BEGIN:VEVENT
DTSTART;VALUE=DATE:20170723
DTEND;VALUE=DATE:20170724
DTSTAMP:20260423T071148
CREATED:20230414T075906Z
LAST-MODIFIED:20230414T075912Z
UID:2193-1500768000-1500854399@namura.cc
SUMMARY:SUMMERズボップくん2017
DESCRIPTION:□日時\n2017年7月23日（日）\nOPEN 11:30\nSTART 12:30 \n□詳しくは\nhttp://zuboppu.netlify.com\n愛はズボーン公式HP\nhttp://iwasborn.yangotonaki.com
URL:https://namura.cc/event/2017-07-23/
ATTACH;FMTTYPE=image/jpeg:https://namura.cc/wp-content/uploads/2023/04/20170714-ZBP.jpg
END:VEVENT
BEGIN:VEVENT
DTSTART;VALUE=DATE:20170716
DTEND;VALUE=DATE:20170717
DTSTAMP:20260423T071148
CREATED:20230414T080012Z
LAST-MODIFIED:20230414T080018Z
UID:2195-1500163200-1500249599@namura.cc
SUMMARY:The Do-Over OSAKA 2017
DESCRIPTION:□日時\n2017年7月16日（日）\nStart 13:00\nClose 21:00 \n□チケット\n入場無料 (来場登録制)\n＊大阪会場では、入場時にエコ代金（会場清掃代）500円のみ一律徴収させて頂きます。(未就学時6歳以下のお子さんを除く)ご理解とご協力宜しくお願いします。 \n□詳しくは\nhttp://thedoover.jp/osaka/
URL:https://namura.cc/event/2017-07-16/
ATTACH;FMTTYPE=image/png:https://namura.cc/wp-content/uploads/2023/04/20170714-do-over.png
END:VEVENT
BEGIN:VEVENT
DTSTART;VALUE=DATE:20170711
DTEND;VALUE=DATE:20170712
DTSTAMP:20260423T071148
CREATED:20230414T080101Z
LAST-MODIFIED:20230414T080107Z
UID:2197-1499731200-1499817599@namura.cc
SUMMARY:クリエイティブセンター大阪　ミニ見学ツアー vol.72
DESCRIPTION:近代化産業遺産に認定されている「名村造船跡地」=クリエイティブセンター大阪の館内見学ツアーです。\n造船所跡地の施設内をスタッフがご説明しながらご案内致します。\n※ツアー時間は40分程度を予定しております。（途中退場可） \n■日時　2017年7月11日（火）15:00 ※40分程度\nクリエイティブセンター大阪　入口警備員室前集合 \n■参加方法\n予約不要・現地集合／参加費は無料です。 \n■お問合せ\n06-4702-7085（クリエイティブセンター大阪）
URL:https://namura.cc/event/2017-07-11/
ATTACH;FMTTYPE=image/jpeg:https://namura.cc/wp-content/uploads/2022/12/b0f3769176eeffbd5abb90e91461dc87-e1677758490252.jpg
END:VEVENT
BEGIN:VEVENT
DTSTART;VALUE=DATE:20170708
DTEND;VALUE=DATE:20170709
DTSTAMP:20260423T071148
CREATED:20230414T080149Z
LAST-MODIFIED:20230414T080156Z
UID:2199-1499472000-1499558399@namura.cc
SUMMARY:ONE BEENS Summer Live 2017 “STARLIGHTS"
DESCRIPTION:□日時\n2017年7月8日（土）\nOPEN 15:00\nSTART 15:45 \n□チケット\n700円 \n□詳しくは\nTwitter @onebiins_cl
URL:https://namura.cc/event/2017-07-08/
ATTACH;FMTTYPE=image/jpeg:https://namura.cc/wp-content/uploads/2023/04/20170417-2017oneb.jpg
END:VEVENT
BEGIN:VEVENT
DTSTART;VALUE=DATE:20170707
DTEND;VALUE=DATE:20170711
DTSTAMP:20260423T071148
CREATED:20230414T080241Z
LAST-MODIFIED:20230414T080248Z
UID:2202-1499385600-1499731199@namura.cc
SUMMARY:三好大貴プロデュース　 Building303​ 「水の泡」
DESCRIPTION:□日時\n2017年\n7月7日（金）19:30-\n7月8日（土）13:00- / 18:00-\n7月9日（日）13:00- / 18:00-\n7月10日（月）14:00-\n※開演1時間前受付開始、開演の30分前開場 \n□料金\n3\,800円　＜全席指定＞ \n□詳しくは\nhttps://www.building-stage.net
URL:https://namura.cc/event/2017-07-07/
ATTACH;FMTTYPE=image/jpeg:https://namura.cc/wp-content/uploads/2023/04/20170524-1707mizunoawa-o.jpg
END:VEVENT
BEGIN:VEVENT
DTSTART;VALUE=DATE:20170702
DTEND;VALUE=DATE:20170703
DTSTAMP:20260423T071148
CREATED:20230414T080338Z
LAST-MODIFIED:20230414T080345Z
UID:2204-1498953600-1499039999@namura.cc
SUMMARY:Odd Number Festival 17 summer
DESCRIPTION:□日時\n2017/07/02(日)\nOPEN 12:30 / START 13:00 \n□詳しくは\nhttp://osakabronze.com/event/onf/index.html \n□お問合せ\nサウンドクリエーター 06-6357-4400
URL:https://namura.cc/event/2017-07-02/
ATTACH;FMTTYPE=image/jpeg:https://namura.cc/wp-content/uploads/2023/04/20170609-5879.jpg
END:VEVENT
BEGIN:VEVENT
DTSTART;VALUE=DATE:20170625
DTEND;VALUE=DATE:20170626
DTSTAMP:20260423T071148
CREATED:20230414T075542Z
LAST-MODIFIED:20230414T075549Z
UID:2186-1498348800-1498435199@namura.cc
SUMMARY:コスプレ交流会COS JOY 大阪 in 造船跡地
DESCRIPTION:コスプレイベント コスプレ交流会COS JOY 大阪 造船跡地\n□日時\n2017年\n6月25日（日）10:00-18:00 \n□詳しくは\nCOSJOYホームページ\nhttp://www.comicon.co.jp/cosjoy/zousen/zousenindex.html
URL:https://namura.cc/event/2017-06-25/
ATTACH;FMTTYPE=image/jpeg:https://namura.cc/wp-content/uploads/2023/04/20170404-cosjoy.jpg
END:VEVENT
BEGIN:VEVENT
DTSTART;VALUE=DATE:20170625
DTEND;VALUE=DATE:20170626
DTSTAMP:20260423T071148
CREATED:20230414T075446Z
LAST-MODIFIED:20230414T095456Z
UID:2182-1498348800-1498435199@namura.cc
SUMMARY:CrazyClef summerlive2017 'EXPO’
DESCRIPTION:□日時\n2017年6月25日(日)\n開場　16:45\n開演　17:30 \n□チケット\n1000円 \n□詳しくは\n京都アカペラサークルCrazyClef
URL:https://namura.cc/event/2017-06-25-2/
ATTACH;FMTTYPE=image/jpeg:https://namura.cc/wp-content/uploads/2023/04/20170604-ccexpo2017.jpg
END:VEVENT
BEGIN:VEVENT
DTSTART;VALUE=DATE:20170606
DTEND;VALUE=DATE:20170607
DTSTAMP:20260423T071148
CREATED:20230414T075642Z
LAST-MODIFIED:20230414T075649Z
UID:2188-1496707200-1496793599@namura.cc
SUMMARY:クリエイティブセンター大阪　ミニ見学ツアー vol.71
DESCRIPTION:近代化産業遺産に認定されている「名村造船跡地」=クリエイティブセンター大阪の館内見学ツアーです。\n造船所跡地の施設内をスタッフがご説明しながらご案内致します。\n※ツアー時間は40分程度を予定しております。（途中退場可） \n■日時　2017年6月6日（火）15:00 ※40分程度\nクリエイティブセンター大阪　入口警備員室前集合 \n■参加方法\n予約不要・現地集合／参加費は無料です。 \n■お問合せ\n06-4702-7085（クリエイティブセンター大阪）
URL:https://namura.cc/event/2017-06-06/
ATTACH;FMTTYPE=image/jpeg:https://namura.cc/wp-content/uploads/2022/12/b0f3769176eeffbd5abb90e91461dc87-e1677758490252.jpg
END:VEVENT
BEGIN:VEVENT
DTSTART;VALUE=DATE:20170604
DTEND;VALUE=DATE:20170605
DTSTAMP:20260423T071148
CREATED:20230414T075747Z
LAST-MODIFIED:20230414T075754Z
UID:2190-1496534400-1496620799@namura.cc
SUMMARY:PENDULUM DJ SET JAPAN TOUR in OSAKA
DESCRIPTION:CIRCUS LOVES DRUM&BASS\n昨年Ultra music festivalでKnife PartyからPendulumへライブを披露し、今年2017年の活動再開をアナウンスしたモンスターバンドPENDULUMがDJ SETでCREATIVE CENTER OSAKA(大阪名村造船所跡地)に登場！\nKnife Partyで全世界を震撼させている彼らの本家、PENDULUMがいよいよ動きだす！！\nこのタイミングの貴重なDJツアーで新たな伝説がいよいよ再スタートする！！□日時\n2017年6月4日（日）\nopen 15:00\nclose 21:30 \n□チケット\nadv:3500yen door:4000yen \nプレイガイド:\nローソンチケット L-CODE(52986)\nチケットぴあ P-CODE(332103)\nイープラス　http://eplus.jp\nPeatix : http://ptix.co/2p4lBvg\niflyer ticket : https://iflyer.tv/ja/event/286042/ \n□line up:\nPENDULUM DJ SET \, MC VERSE and more\nVJ:KOZEE Lighting : SOLA \nAzele/DJ KENZ1/DJ HI-C/Hmen/DJ KESHIGOMU/KOZEE-visual-/DJ MASASHI/\nDJ MASSIVE/M.MINAMI/RASTY/SOLA-lighting-/TAKAYUKi/THE GAME SHOP-live-\nTOYO+MC LEO/81BLEND \n□詳しくは\nCIRCUS OSAKA http://circus-osaka.com/ \n\n  \n\n□about Pendulum \nPendulum Returns in 2017\nhttps://www.youtube.com/watch?v=4XRcfL0YWhQ\nhttp://pendulum.com/\n昨年のUltra music festivalでの映像はこちら！\nPendulum / Knife Party Headline Set Ultra\, 2016\nhttps://www.youtube.com/watch?v=EYMJizj3Qq8
URL:https://namura.cc/event/2017-06-04/
ATTACH;FMTTYPE=image/jpeg:https://namura.cc/wp-content/uploads/2023/04/20170510-pendulum-f.jpg
END:VEVENT
BEGIN:VEVENT
DTSTART;VALUE=DATE:20170528
DTEND;VALUE=DATE:20170529
DTSTAMP:20260423T071148
CREATED:20230414T074748Z
LAST-MODIFIED:20230414T074758Z
UID:2168-1495929600-1496015999@namura.cc
SUMMARY:OSAKA SPRING DANCE FESTTIVAL　春ロック2017
DESCRIPTION:□日時\n5月28日(日)\nopen12:00 start13:00 \n□料金\nADV ¥3\,000［入場時別途1drink代500円］\nDOOR ¥3\,500［入場時別途1drink代500円］ \n□詳しくは\nhttp://camuro.jp/haruroc/
URL:https://namura.cc/event/2017-05-28/
ATTACH;FMTTYPE=image/png:https://namura.cc/wp-content/uploads/2023/04/20170512-harurock2017.png
END:VEVENT
BEGIN:VEVENT
DTSTART;VALUE=DATE:20170527
DTEND;VALUE=DATE:20170529
DTSTAMP:20260423T071148
CREATED:20230414T074911Z
LAST-MODIFIED:20230414T074923Z
UID:2170-1495843200-1496015999@namura.cc
SUMMARY:KITAKAGAYA FLEA & ASIA BOOK MARKET　2017SPRING
DESCRIPTION:■日時\n2017年\n5月27日(土)　12:00-20:00\n5月28日(日)　11:00-20:00 \n□料金\n大人 500円\n高校生以下・65歳以上無料（要証明書） \n□詳しくは\nhttp://kitakagayaflea.jp
URL:https://namura.cc/event/2017-05-27/
ATTACH;FMTTYPE=image/jpeg:https://namura.cc/wp-content/uploads/2023/04/20170426-201705ins-o.jpg
END:VEVENT
BEGIN:VEVENT
DTSTART;VALUE=DATE:20170517
DTEND;VALUE=DATE:20170522
DTSTAMP:20260423T071148
CREATED:20230414T075014Z
LAST-MODIFIED:20230414T075014Z
UID:2172-1494979200-1495411199@namura.cc
SUMMARY:SAYUMINGLANDOLL～再生～大阪公演
DESCRIPTION:□日程：\n2017年\n5月17日(水)～21日(日) \n□詳しくは\n「SAYUMINGLANDOLL～再生～」公式サイト \n□主催：\nアップフロントプロモーション\n□企画・制作：\nアップフロントプロモーション / ART COMPLEX
URL:https://namura.cc/event/2017-05-17/
ATTACH;FMTTYPE=image/png:https://namura.cc/wp-content/uploads/2023/04/20170510-sayumindoll.png
END:VEVENT
BEGIN:VEVENT
DTSTART;VALUE=DATE:20170513
DTEND;VALUE=DATE:20170514
DTSTAMP:20260423T071148
CREATED:20230414T075107Z
LAST-MODIFIED:20230414T075113Z
UID:2174-1494633600-1494719999@namura.cc
SUMMARY:ZION～ザイオン～ vol.1
DESCRIPTION:ーエンターテイメント柔術大会　ザイオンー\nJIU-JITSU CHAMPIONSHIP TEAM COMPETITION \n□日時\n2017年5月13日（土）\n12:00〜 \n□詳しくは\nhttps://solrosto-zion.jimdo.com
URL:https://namura.cc/event/2017-05-13/
ATTACH;FMTTYPE=image/jpeg:https://namura.cc/wp-content/uploads/2023/04/20170425-zaion.jpg
END:VEVENT
BEGIN:VEVENT
DTSTART;VALUE=DATE:20170509
DTEND;VALUE=DATE:20170510
DTSTAMP:20260423T071148
CREATED:20230414T075157Z
LAST-MODIFIED:20230414T075205Z
UID:2176-1494288000-1494374399@namura.cc
SUMMARY:クリエイティブセンター大阪　ミニ見学ツアー vol.70
DESCRIPTION:近代化産業遺産に認定されている「名村造船跡地」=クリエイティブセンター大阪の館内見学ツアーです。\n造船所跡地の施設内をスタッフがご説明しながらご案内致します。\n※ツアー時間は40分程度を予定しております。（途中退場可） \n■日時　2017年5月9日（火）15:00 ※40分程度\nクリエイティブセンター大阪　入口警備員室前集合 \n■参加方法\n予約不要・現地集合／参加費は無料です。 \n■お問合せ\n06-4702-7085（クリエイティブセンター大阪）
URL:https://namura.cc/event/2017-05-09/
ATTACH;FMTTYPE=image/jpeg:https://namura.cc/wp-content/uploads/2022/12/b0f3769176eeffbd5abb90e91461dc87-e1677758490252.jpg
END:VEVENT
END:VCALENDAR