BEGIN:VCALENDAR
VERSION:2.0
PRODID:-//クリエイティブセンター大阪（CCO） - ECPv6.2.1//NONSGML v1.0//EN
CALSCALE:GREGORIAN
METHOD:PUBLISH
X-WR-CALNAME:クリエイティブセンター大阪（CCO）
X-ORIGINAL-URL:https://namura.cc
X-WR-CALDESC:クリエイティブセンター大阪（CCO） のイベント
REFRESH-INTERVAL;VALUE=DURATION:PT1H
X-Robots-Tag:noindex
X-PUBLISHED-TTL:PT1H
BEGIN:VTIMEZONE
TZID:Asia/Tokyo
BEGIN:STANDARD
TZOFFSETFROM:+0900
TZOFFSETTO:+0900
TZNAME:JST
DTSTART:20160101T000000
END:STANDARD
END:VTIMEZONE
BEGIN:VEVENT
DTSTART;VALUE=DATE:20161119
DTEND;VALUE=DATE:20161121
DTSTAMP:20260423T074650
CREATED:20230310T070139Z
LAST-MODIFIED:20230310T070146Z
UID:1956-1479513600-1479686399@namura.cc
SUMMARY:KITAKAGAYA FLEA
DESCRIPTION:□日時\n2016年\n11.19（土）\n11.20（日）\n11:00 AM～8:00 PM \n□入場料：\n500円\n※19（土）は同敷地内のSTUDIO PARTITAで行われる音楽イベント『SPICE!』のチケットをお持ちの方は、無料で入場いただけます。　→ SPICE!_OSAKA \n□詳しくは\nhttp://www.insec2.com/news/3533.html \n□共催：千島土地株式会社\n□協力：一般財団法人おおさか創造千島財団
URL:https://namura.cc/event/2016-11-19-2/
ATTACH;FMTTYPE=image/jpeg:https://namura.cc/wp-content/uploads/2023/03/20161111-kitakagaya_flyer02.jpg
END:VEVENT
BEGIN:VEVENT
DTSTART;VALUE=DATE:20161119
DTEND;VALUE=DATE:20161120
DTSTAMP:20260423T074650
CREATED:20230310T070028Z
LAST-MODIFIED:20230310T070034Z
UID:1953-1479513600-1479599999@namura.cc
SUMMARY:SPICE!
DESCRIPTION:□日時\n2016年\n11月19日（土）\nOPEN/START 12:00 \n□チケット\n前売　¥3\,300-\n(スタンディング・税込・ドリンク代別途）\n※15歳以下は入場無料（保護者同伴に限る、身分証明書提示） \n・ぴあ(P:309-483)\n・ローソン(L:55732）\n・e プラス(プレ:9/23-25) \n□詳しくは\n主催:SPICE!実行委員会\n総合問合せ:SMASH WEST 06-6535-5569\nhttp://smash-jpn.com\nhttp://smash-mobile.com
URL:https://namura.cc/event/2016-11-19/
ATTACH;FMTTYPE=image/jpeg:https://namura.cc/wp-content/uploads/2023/03/20161113-Spice_logo.jpg
END:VEVENT
BEGIN:VEVENT
DTSTART;VALUE=DATE:20161112
DTEND;VALUE=DATE:20161114
DTSTAMP:20260423T074650
CREATED:20230310T070334Z
LAST-MODIFIED:20230310T070342Z
UID:1960-1478908800-1479081599@namura.cc
SUMMARY:Red Bull 5G　西地区代表決定戦
DESCRIPTION:□日時\n2016年\n11月12日（土）\n11月13日（日） \n□詳しくは\nhttps://www.redbull.com/jp/ja/games/events/1331814625758/red-bull-5g-2016
URL:https://namura.cc/event/2016-11-12-2/
ATTACH;FMTTYPE=:
END:VEVENT
BEGIN:VEVENT
DTSTART;VALUE=DATE:20161112
DTEND;VALUE=DATE:20161114
DTSTAMP:20260423T074650
CREATED:20230310T070249Z
LAST-MODIFIED:20230310T070254Z
UID:1958-1478908800-1479081599@namura.cc
SUMMARY:TACT/FEST2016
DESCRIPTION:□日時\n2016年\n11月12日（土）\n「The Letter」13:00／19:00\n「トラッシュデイ〜地球の正しい使い方〜」17:00\n「赤いひらひらの金魚」15:00 \n11月13日（日）\n「The Letter」14:00\n「トラッシュデイ〜地球の正しい使い方〜」11:30／16:00 \n※「にぎやかし市」同時開催！ \n□入場料\n＜全席自由席＞\n前売：大人2\,000円\n当日：大人2\,500円\n※大人１枚につき、子ども２名まで無料 \n□詳しくは\nhttp://www.tact-japan.net/
URL:https://namura.cc/event/2016-11-12/
ATTACH;FMTTYPE=image/jpeg:https://namura.cc/wp-content/uploads/2023/03/20161109-TACT2016.jpg
END:VEVENT
BEGIN:VEVENT
DTSTART;VALUE=DATE:20161109
DTEND;VALUE=DATE:20161110
DTSTAMP:20260423T074650
CREATED:20230310T070421Z
LAST-MODIFIED:20230310T070428Z
UID:1962-1478649600-1478735999@namura.cc
SUMMARY:クリエイティブセンター大阪　ミニ見学ツアー vol.63
DESCRIPTION:近代化産業遺産に認定されている「名村造船跡地」=クリエイティブセンター大阪の館内見学ツアーです。\n造船所跡地の施設内をスタッフがご説明しながらご案内致します。\n※ツアー時間は40分程度を予定しております。（途中退場可） \n■日時　2016年11月9日（水）15:00 ※30〜40分程度\nクリエイティブセンター大阪　入口警備員室前集合 \n■参加方法\n予約不要・現地集合／参加費は無料です。 \n■お問合せ\n06-4702-7085（クリエイティブセンター大阪）
URL:https://namura.cc/event/2016-11-09/
ATTACH;FMTTYPE=image/jpeg:https://namura.cc/wp-content/uploads/2022/12/b0f3769176eeffbd5abb90e91461dc87-e1677758490252.jpg
END:VEVENT
BEGIN:VEVENT
DTSTART;VALUE=DATE:20161106
DTEND;VALUE=DATE:20161107
DTSTAMP:20260423T074650
CREATED:20230310T070515Z
LAST-MODIFIED:20230310T070522Z
UID:1964-1478390400-1478476799@namura.cc
SUMMARY:SPROUT 10周年記念大会
DESCRIPTION:□日時\n2016年11月6日(日)\n開場12:00 終了19:00 \n□詳しくは\nhttp://www.sprout-ent.com/news/detail/45/
URL:https://namura.cc/event/2016-11-06/
ATTACH;FMTTYPE=image/jpeg:https://namura.cc/wp-content/uploads/2023/03/20161030-sprout.jpg
END:VEVENT
BEGIN:VEVENT
DTSTART;VALUE=DATE:20161030
DTEND;VALUE=DATE:20161031
DTSTAMP:20260423T074650
CREATED:20230310T064558Z
LAST-MODIFIED:20230310T064605Z
UID:1915-1477785600-1477871999@namura.cc
SUMMARY:コスプレ交流会COS JOY 大阪 in 造船跡地
DESCRIPTION:コスプレイベント コスプレ交流会COS JOY 大阪 造船跡地\n□日時\n2016年\n10月30日（日）10:00-18:00 \n□詳しくは\nCOSJOYホームページ\nhttp://www.comicon.co.jp/cosjoy/zousen/zousenindex.html
URL:https://namura.cc/event/2016-10-30-2/
ATTACH;FMTTYPE=image/jpeg:https://namura.cc/wp-content/uploads/2023/03/20150602-cosjoy.jpg
END:VEVENT
BEGIN:VEVENT
DTSTART;VALUE=DATE:20161030
DTEND;VALUE=DATE:20161031
DTSTAMP:20260423T074650
CREATED:20230310T064503Z
LAST-MODIFIED:20230310T064512Z
UID:1913-1477785600-1477871999@namura.cc
SUMMARY:レゲフェス 2016
DESCRIPTION:□日時\n2016年10月30日(日)\nOPEN.11:30-CLOSE.19:00
URL:https://namura.cc/event/2016-10-30/
ATTACH;FMTTYPE=:
END:VEVENT
BEGIN:VEVENT
DTSTART;VALUE=DATE:20161029
DTEND;VALUE=DATE:20161030
DTSTAMP:20260423T074650
CREATED:20230310T064638Z
LAST-MODIFIED:20230310T064646Z
UID:1917-1477699200-1477785599@namura.cc
SUMMARY:Merry Halloween Party 〜Trick or MERRY〜
DESCRIPTION:□日時\n2016/10/29(土)\nOPEN 16:30 / START 17:30 \n□料金\n[オールスタンディング] 5\,586円 \n□詳しくは\nhttp://www.sound-c.co.jp/schedule/detail/1066/
URL:https://namura.cc/event/2016-10-29/
ATTACH;FMTTYPE=:
END:VEVENT
BEGIN:VEVENT
DTSTART;VALUE=DATE:20161028
DTEND;VALUE=DATE:20161029
DTSTAMP:20260423T074650
CREATED:20230310T064734Z
LAST-MODIFIED:20230310T064741Z
UID:1919-1477612800-1477699199@namura.cc
SUMMARY:acid android live 2016 #4 大阪公演
DESCRIPTION:□日時\n2016年10月28日（金）大阪 STUDIO PARTITA\nopen 18:30 / start 19:00\n一般発売日：2016年10月15日（土）10:00
URL:https://namura.cc/event/2016-10-28/
ATTACH;FMTTYPE=:
END:VEVENT
BEGIN:VEVENT
DTSTART;VALUE=DATE:20161023
DTEND;VALUE=DATE:20161024
DTSTAMP:20260423T074650
CREATED:20230310T064906Z
LAST-MODIFIED:20230310T064913Z
UID:1924-1477180800-1477267199@namura.cc
SUMMARY:大日本プロレス　“BJ-STYLE#9”
DESCRIPTION:□日時\n2016年10月23日（日）\n開場　12:00\n開始　13:00 \n□詳しくは\nhttp://www.bjw.co.jp/event_detail.php?id=1319
URL:https://namura.cc/event/2016-10-23-2/
ATTACH;FMTTYPE=image/jpeg:https://namura.cc/wp-content/uploads/2023/03/20160901-dainihon2016.jpg
END:VEVENT
BEGIN:VEVENT
DTSTART;VALUE=DATE:20161023
DTEND;VALUE=DATE:20161024
DTSTAMP:20260423T074650
CREATED:20230310T064816Z
LAST-MODIFIED:20230310T064824Z
UID:1922-1477180800-1477267199@namura.cc
SUMMARY:VANTAN CUTTING EDGE 2016 OSAKA ROUD
DESCRIPTION:□日時\n10月23日(日)\nショー　　15:00~17:30\n展示　　　12:00~17:00 \n□詳しくは\nhttp://www.vantan.com/special/ce2016/
URL:https://namura.cc/event/2016-10-23/
ATTACH;FMTTYPE=:
END:VEVENT
BEGIN:VEVENT
DTSTART;VALUE=DATE:20161022
DTEND;VALUE=DATE:20161023
DTSTAMP:20260423T074650
CREATED:20230310T065004Z
LAST-MODIFIED:20230310T065011Z
UID:1926-1477094400-1477180799@namura.cc
SUMMARY:Bumble Bee 10周年LIVE Party
DESCRIPTION:□日時\n2016年10月22日（土）\nPM 4:30 開場\nPM 5:00 開演\n□入場代\n前売 ¥2\,000\n当日 ¥2\,500\n※カレー＆ワンドリンク付です \n□問合わせ\nバンブルビー 06-6534-0894
URL:https://namura.cc/event/2016-10-22/
ATTACH;FMTTYPE=image/jpeg:https://namura.cc/wp-content/uploads/2023/03/20160924-20161022tirashi.jpg
END:VEVENT
BEGIN:VEVENT
DTSTART;VALUE=DATE:20161016
DTEND;VALUE=DATE:20161017
DTSTAMP:20260423T074650
CREATED:20230310T065207Z
LAST-MODIFIED:20230310T065213Z
UID:1931-1476576000-1476662399@namura.cc
SUMMARY:コスプレ交流会COS JOY 大阪 in 造船跡地
DESCRIPTION:コスプレイベント コスプレ交流会COS JOY 大阪 造船跡地\n□日時\n2016年\n10月16日（日）10:00-18:00 \n□詳しくは\nCOSJOYホームページ\nhttp://www.comicon.co.jp/cosjoy/zousen/zousenindex.html
URL:https://namura.cc/event/2016-10-16-2/
ATTACH;FMTTYPE=image/jpeg:https://namura.cc/wp-content/uploads/2023/03/20150602-cosjoy.jpg
END:VEVENT
BEGIN:VEVENT
DTSTART;VALUE=DATE:20161016
DTEND;VALUE=DATE:20161017
DTSTAMP:20260423T074650
CREATED:20230310T065051Z
LAST-MODIFIED:20230310T065119Z
UID:1928-1476576000-1476662399@namura.cc
SUMMARY:炭焼笑店 陽 10周年記念イベント 秋祭り
DESCRIPTION:□日時；\n2016年10月16日（日）\nFOOD AREA　 12:00　OPEN\nHALL AREA 　 15:00　OPEN \n□チケット\n料金 / 前売り：3\,500円　当日：4\,500円\n※ 入場時に別途1ドリンク代として500円必要となります\n※３歳以下入場無料 \n各プレイガイドにて絶賛販売中。\n【チケットぴあ】Pコード：307-958\n【ローソンチケット】Lコード：58489\n【e＋】http://eplus.jp\n【CN】0570-08-9999 \n□詳しくは\nhttp://sumiyakiyo.com/party/
URL:https://namura.cc/event/2016-10-16/
ATTACH;FMTTYPE=image/jpeg:https://namura.cc/wp-content/uploads/2023/03/20160909-17270.jpg
END:VEVENT
BEGIN:VEVENT
DTSTART;VALUE=DATE:20161010
DTEND;VALUE=DATE:20161011
DTSTAMP:20260423T074650
CREATED:20230310T065250Z
LAST-MODIFIED:20230310T065256Z
UID:1933-1476057600-1476143999@namura.cc
SUMMARY:第3回 珍動会
DESCRIPTION:□日時\n2016年10月10日（月・祝・体育の日）\n13:00〜17:30（受付開始12:00〜） \n□参加人数\n先着150名（観覧席→先着72名） \n□入場代\n通常参加チケット 5000円　／（観覧席チケット 1000円）\n※チケットは前払い制になります\n※参加、観覧 どちらもお申し込みが必要です（イベントHPから） \n□詳しくは\nhttp://chindoukai.com/
URL:https://namura.cc/event/2016-10-10/
ATTACH;FMTTYPE=:
END:VEVENT
BEGIN:VEVENT
DTSTART;VALUE=DATE:20161005
DTEND;VALUE=DATE:20161006
DTSTAMP:20260423T074650
CREATED:20230310T065338Z
LAST-MODIFIED:20230310T065346Z
UID:1936-1475625600-1475711999@namura.cc
SUMMARY:クリエイティブセンター大阪　ミニ見学ツアー vol.62
DESCRIPTION:近代化産業遺産に認定されている「名村造船跡地」=クリエイティブセンター大阪の館内見学ツアーです。\n造船所跡地の施設内をスタッフがご説明しながらご案内致します。\n※ツアー時間は40分程度を予定しております。（途中退場可） \n■日時　2016年10月5日（水）15:00 ※30〜40分程度\nクリエイティブセンター大阪　入口警備員室前集合 \n■参加方法\n予約不要・現地集合／参加費は無料です。 \n■お問合せ\n06-4702-7085（クリエイティブセンター大阪）
URL:https://namura.cc/event/2016-10-05/
ATTACH;FMTTYPE=image/jpeg:https://namura.cc/wp-content/uploads/2022/12/b0f3769176eeffbd5abb90e91461dc87-e1677758490252.jpg
END:VEVENT
BEGIN:VEVENT
DTSTART;VALUE=DATE:20161002
DTEND;VALUE=DATE:20161003
DTSTAMP:20260423T074650
CREATED:20230310T065432Z
LAST-MODIFIED:20230310T065439Z
UID:1938-1475366400-1475452799@namura.cc
SUMMARY:Z-1 Worst Dance Circle GP2016
DESCRIPTION:□日時\n2016年10月2日（日）\n12:30〜21:00 \n□チケット\n前売り:2000円\n当日購入:2500円 \n□詳しくは\n■FaceBookページ■\nhttps://www.facebook.com/Z1WorstDanceCircleGrandprix \n□お問合せ\nZ-1実行委員会 z1.danceone@gmail.com
URL:https://namura.cc/event/2016-10-02/
ATTACH;FMTTYPE=:
END:VEVENT
BEGIN:VEVENT
DTSTART;VALUE=DATE:20160925
DTEND;VALUE=DATE:20160926
DTSTAMP:20260423T074650
CREATED:20230310T063824Z
LAST-MODIFIED:20230310T063833Z
UID:1898-1474761600-1474847999@namura.cc
SUMMARY:コスプレ交流会COS JOY 大阪 in 造船跡地
DESCRIPTION:コスプレイベント コスプレ交流会COS JOY 大阪 造船跡地\n□日時\n2016年\n9月25日（日）10:00-18:00 \n□詳しくは\nCOSJOYホームページ\nhttp://www.comicon.co.jp/cosjoy/zousen/zousenindex.html
URL:https://namura.cc/event/2016-09-25/
ATTACH;FMTTYPE=image/jpeg:https://namura.cc/wp-content/uploads/2023/03/20160901-cosjoy0925.jpg
END:VEVENT
BEGIN:VEVENT
DTSTART;VALUE=DATE:20160924
DTEND;VALUE=DATE:20160925
DTSTAMP:20260423T074650
CREATED:20230310T063935Z
LAST-MODIFIED:20230310T063941Z
UID:1900-1474675200-1474761599@namura.cc
SUMMARY:ジャンベ“打”サミット 其の6
DESCRIPTION:□日時\n2016年9月24日（土）\n9:00-20:30 \n□主催 ダサミ企画
URL:https://namura.cc/event/2016-09-24/
ATTACH;FMTTYPE=image/jpeg:https://namura.cc/wp-content/uploads/2023/03/20160629-jjanbe.jpg
END:VEVENT
BEGIN:VEVENT
DTSTART;VALUE=DATE:20160918
DTEND;VALUE=DATE:20160919
DTSTAMP:20260423T074650
CREATED:20230310T064034Z
LAST-MODIFIED:20230310T064042Z
UID:1902-1474156800-1474243199@namura.cc
SUMMARY:SYMBOL KOBE 2016　“Connection”
DESCRIPTION:□日時\n2016年9月18日(日)\nOPEN 13:00\nSTART 14:00\nCLOSE 21:00 \n□料金\n1回生 前売り 2500yen 当日 3000yen\n一般(2回生以上) 前売り・当日3000yen \n□詳しくは\nhttp://symbol.jp/kobe/
URL:https://namura.cc/event/2016-09-18/
ATTACH;FMTTYPE=image/jpeg:https://namura.cc/wp-content/uploads/2023/03/20160906-symbolkobe01.jpg
END:VEVENT
BEGIN:VEVENT
DTSTART;VALUE=DATE:20160917
DTEND;VALUE=DATE:20160920
DTSTAMP:20260423T074650
CREATED:20230310T064130Z
LAST-MODIFIED:20230310T064138Z
UID:1904-1474070400-1474329599@namura.cc
SUMMARY:DESIGNEAST 07 "Mobilities"
DESCRIPTION:□日時\n2016年\n9月17日（土）\n9月18日（日）\n9月19日（月祝） \n□お問合\nDESIGNEAST実行委員会 [担当：浅野]\nEmail : office@designeast.jp\n〒540-0031 大阪市中央区北浜東1-29 5F MUESUM内 \n□詳しくは\nhttp://www.designeast.jp
URL:https://namura.cc/event/2016-09-17/
ATTACH;FMTTYPE=image/jpeg:https://namura.cc/wp-content/uploads/2023/03/20160907-14188283_750654005037347_1888100112698660178_o.jpg
END:VEVENT
BEGIN:VEVENT
DTSTART;VALUE=DATE:20160911
DTEND;VALUE=DATE:20160912
DTSTAMP:20260423T074650
CREATED:20230310T064223Z
LAST-MODIFIED:20230310T064230Z
UID:1907-1473552000-1473638399@namura.cc
SUMMARY:すみのえアート・ビート2016
DESCRIPTION:「北加賀屋といえばアート」なまち。近代化産業遺産に認定の「名村造船所大阪工場跡地」で今年も「すみのえアート・ビート」を開催！！ \n□日時\n9月11日（日)\n11:00-16:00 \n□入場料\n無料 \n□主催\nすみのえアート・ビート実行委員会
URL:https://namura.cc/event/2016-09-11/
ATTACH;FMTTYPE=image/jpeg:https://namura.cc/wp-content/uploads/2023/03/20160805-suminoe2016.jpg
END:VEVENT
BEGIN:VEVENT
DTSTART;VALUE=DATE:20160902
DTEND;VALUE=DATE:20160905
DTSTAMP:20260423T074650
CREATED:20230310T064324Z
LAST-MODIFIED:20230310T064324Z
UID:1909-1472774400-1473033599@namura.cc
SUMMARY:『日輪の翼』大阪公演
DESCRIPTION:□日時\n9月2日（金） 18:30開演\n9月3日（土） 18:30開演\n9月4日（日） 18:30開演\n※開場は開演の30分前 \n□入場料\n前売3\,000円、当日3\,500円\n▼全席自由／入場整理番号付き \n□詳しくは\nhttp://www.chishimatochi.info/found/index.php/archives/2422
URL:https://namura.cc/event/2016-09-02/
ATTACH;FMTTYPE=image/jpeg:https://namura.cc/wp-content/uploads/2023/03/20160831-nitirin.jpg
END:VEVENT
BEGIN:VEVENT
DTSTART;VALUE=DATE:20160901
DTEND;VALUE=DATE:20160902
DTSTAMP:20260423T074650
CREATED:20230310T064407Z
LAST-MODIFIED:20230310T064414Z
UID:1911-1472688000-1472774399@namura.cc
SUMMARY:クリエイティブセンター大阪　ミニ見学ツアー vol.61
DESCRIPTION:近代化産業遺産に認定されている「名村造船跡地」=クリエイティブセンター大阪の館内見学ツアーです。\n造船所跡地の施設内をスタッフがご説明しながらご案内致します。\n※ツアー時間は40分程度を予定しております。（途中退場可） \n■日時　2016年9月1日（木）15:00 ※40分程度\nクリエイティブセンター大阪　入口警備員室前集合 \n■参加方法\n予約不要・現地集合／参加費は無料です。 \n■お問合せ\n06-4702-7085（クリエイティブセンター大阪）
URL:https://namura.cc/event/2016-09-01/
ATTACH;FMTTYPE=image/jpeg:https://namura.cc/wp-content/uploads/2022/12/b0f3769176eeffbd5abb90e91461dc87-e1677758490252.jpg
END:VEVENT
BEGIN:VEVENT
DTSTART;VALUE=DATE:20160828
DTEND;VALUE=DATE:20160829
DTSTAMP:20260423T074650
CREATED:20230310T063339Z
LAST-MODIFIED:20230310T063355Z
UID:1886-1472342400-1472428799@namura.cc
SUMMARY:FEST FES 2016
DESCRIPTION:□日時\n2016年8月28日\nOPEN　13:00 / START　13:30 \n□チケット\n一般発売日　6月26日（日）10:00〜\n前売り ￥4\,200 / 当日 ￥4\,700（tax in）\nオールスタンディング／ドリンク代別\n未就学児（6歳未満）入場不可 \n□プレイガイド\nローソンチケット 0570-084-005\nLコード：56275 http://l-tike.com\nチケットぴあ 0570-02-9999 Pコード：295-615 http://pia.jp/t\nイープラス http://eplus.jp \n□お問合せ\n夢番地(大阪) 06-6341-3525(平日11:00～19:00)\nwww.yumebanchi.jp \n□主催　夢番地\n□企画制作　PLUG RECORDS west
URL:https://namura.cc/event/2016-08-28/
ATTACH;FMTTYPE=:
END:VEVENT
BEGIN:VEVENT
DTSTART;VALUE=DATE:20160827
DTEND;VALUE=DATE:20160828
DTSTAMP:20260423T074650
CREATED:20230310T063441Z
LAST-MODIFIED:20230310T063447Z
UID:1888-1472256000-1472342399@namura.cc
SUMMARY:青司祭2016 vol.3
DESCRIPTION:□日時\n2016年8月27日（土） \nRED STAGE 13:00開場\nStudio PARTITA 17:00開場 \n□チケット\n前売り　¥3\,500-\n当日　¥4\,000-\n(各税込み　別途1D¥500-) \nチケットぴあ　0570-02-9111 (Pコード:301988)\ne+イープラス　http://eplus.jp/ \n□お問合せ\n青司祭2016実行委員会\nWEB : http://www.chaoticirrumatio.com\nMAIL : aotsukasai@gmail.com
URL:https://namura.cc/event/2016-08-27/
ATTACH;FMTTYPE=image/jpeg:https://namura.cc/wp-content/uploads/2023/03/20160609-201608ao.jpg
END:VEVENT
BEGIN:VEVENT
DTSTART;VALUE=DATE:20160820
DTEND;VALUE=DATE:20160822
DTSTAMP:20260423T074650
CREATED:20230310T063535Z
LAST-MODIFIED:20230310T063542Z
UID:1890-1471651200-1471823999@namura.cc
SUMMARY:ローション大運動会 大阪大会
DESCRIPTION:□日時\n2016年8月20日（土）12時開場、13時開始\n2016年8月21日（日）12時開場、13時開始 \n□チケット\n先行販売特別割引券（8/20）　：¥9\,800\n通常販売1日券（8/20）　　　 ：¥10\,800\n先行販売特別割引券（8/21）　：¥9\,800\n通常販売1日券（8/21）　　　 ：¥10\,800\n※当日券の販売はございません。 \n□詳しくは\nhttp://lotion.event-kikaku.com \n□主催\n2016 ローション大運動会実行委員会
URL:https://namura.cc/event/2016-08-20/
ATTACH;FMTTYPE=image/png:https://namura.cc/wp-content/uploads/2023/03/20160613-lotion2016.png
END:VEVENT
BEGIN:VEVENT
DTSTART;VALUE=DATE:20160817
DTEND;VALUE=DATE:20160818
DTSTAMP:20260423T074650
CREATED:20230310T063629Z
LAST-MODIFIED:20230310T071332Z
UID:1892-1471392000-1471478399@namura.cc
SUMMARY:クリエイティブセンター大阪　ミニ見学ツアー vol.60
DESCRIPTION:近代化産業遺産に認定されている「名村造船跡地」=クリエイティブセンター大阪の館内見学ツアーです。\n造船所跡地の施設内をスタッフがご説明しながらご案内致します。\n※ツアー時間は40分程度を予定しております。（途中退場可） \n■日時　2016年8月17日（水）15:00 ※40分程度\nクリエイティブセンター大阪　入口警備員室前集合 \n■参加方法\n予約不要・現地集合／参加費は無料です。 \n■お問合せ\n06-4702-7085（クリエイティブセンター大阪）
URL:https://namura.cc/event/2016-08-17/
ATTACH;FMTTYPE=image/jpeg:https://namura.cc/wp-content/uploads/2022/12/b0f3769176eeffbd5abb90e91461dc87-e1677758490252.jpg
END:VEVENT
BEGIN:VEVENT
DTSTART;VALUE=DATE:20160808
DTEND;VALUE=DATE:20160809
DTSTAMP:20260423T074650
CREATED:20230310T063716Z
LAST-MODIFIED:20230310T063730Z
UID:1895-1470614400-1470700799@namura.cc
SUMMARY:CROSS～右脳を刺激しろ～
DESCRIPTION:□日時\n2016年8月8日（月） \n□詳しくは\nhttp://gamo-kansai.jp/seminar/cross/
URL:https://namura.cc/event/2016-08-08/
ATTACH;FMTTYPE=:
END:VEVENT
END:VCALENDAR