BEGIN:VCALENDAR
VERSION:2.0
PRODID:-//クリエイティブセンター大阪（CCO） - ECPv6.2.1//NONSGML v1.0//EN
CALSCALE:GREGORIAN
METHOD:PUBLISH
X-WR-CALNAME:クリエイティブセンター大阪（CCO）
X-ORIGINAL-URL:https://namura.cc
X-WR-CALDESC:クリエイティブセンター大阪（CCO） のイベント
REFRESH-INTERVAL;VALUE=DURATION:PT1H
X-Robots-Tag:noindex
X-PUBLISHED-TTL:PT1H
BEGIN:VTIMEZONE
TZID:Asia/Tokyo
BEGIN:STANDARD
TZOFFSETFROM:+0900
TZOFFSETTO:+0900
TZNAME:JST
DTSTART:20160101T000000
END:STANDARD
END:VTIMEZONE
BEGIN:VEVENT
DTSTART;VALUE=DATE:20170423
DTEND;VALUE=DATE:20170424
DTSTAMP:20260423T073803
CREATED:20230414T073449Z
LAST-MODIFIED:20230414T074310Z
UID:2078-1492905600-1492991999@namura.cc
SUMMARY:コスプレ交流会COS JOY 大阪 in 造船跡地
DESCRIPTION:コスプレイベント コスプレ交流会COS JOY 大阪 造船跡地\n□日時\n2017年\n4月23日（日）10:00-18:00 \n□詳しくは\nCOSJOYホームページ\nhttp://www.comicon.co.jp/cosjoy/zousen/zousenindex.html
URL:https://namura.cc/event/2017-04-23/
ATTACH;FMTTYPE=image/jpeg:https://namura.cc/wp-content/uploads/2023/04/20170404-cosjoy.jpg
END:VEVENT
BEGIN:VEVENT
DTSTART;VALUE=DATE:20170422
DTEND;VALUE=DATE:20170423
DTSTAMP:20260423T073803
CREATED:20230414T073621Z
LAST-MODIFIED:20230414T074210Z
UID:2120-1492819200-1492905599@namura.cc
SUMMARY:LZBN × 安床武士 Presents『ROLL IN ROCK Vol.2』
DESCRIPTION:西海岸カルチャーをベースとし独自のストリートファッションを生み出し続ける「LZBN(レイジーボーンズ)」\nインラインスケートのハーフパイプ種目で金メダル100個以上獲得している現役世界チャンピオン「安床武士(ヤストコタケシ)」\nロックを愛する両者が手を組み始動したエクストリームスポーツ×ロックのミックスアップイベント『ROLL IN ROCK』の第2回が4月22日(土)に開催決定！\nVol.1で作り上げたRIRカルチャーが更に進化する。 \n□日時\n2017年4月22日 13:00 – 20:00 \n□詳しくは\nhttps://www.facebook.com/events/973530359443639/
URL:https://namura.cc/event/2017-04-22/
ATTACH;FMTTYPE=image/jpeg:https://namura.cc/wp-content/uploads/2023/04/20170404-rollrock2.jpg
END:VEVENT
BEGIN:VEVENT
DTSTART;VALUE=DATE:20170405
DTEND;VALUE=DATE:20170406
DTSTAMP:20260423T073803
CREATED:20230414T074523Z
LAST-MODIFIED:20230414T074523Z
UID:2163-1491350400-1491436799@namura.cc
SUMMARY:クリエイティブセンター大阪　ミニ見学ツアー vol.69
DESCRIPTION:近代化産業遺産に認定されている「名村造船跡地」=クリエイティブセンター大阪の館内見学ツアーです。\n造船所跡地の施設内をスタッフがご説明しながらご案内致します。\n※ツアー時間は40分程度を予定しております。（途中退場可） \n■日時　2017年4月5日（水）15:00 ※40分程度\nクリエイティブセンター大阪　入口警備員室前集合 \n■参加方法\n予約不要・現地集合／参加費は無料です。 \n■お問合せ\n06-4702-7085（クリエイティブセンター大阪）
URL:https://namura.cc/event/2017-04-05/
ATTACH;FMTTYPE=image/jpeg:https://namura.cc/wp-content/uploads/2022/12/b0f3769176eeffbd5abb90e91461dc87-e1677758490252.jpg
END:VEVENT
BEGIN:VEVENT
DTSTART;VALUE=DATE:20170402
DTEND;VALUE=DATE:20170403
DTSTAMP:20260423T073803
CREATED:20230414T074636Z
LAST-MODIFIED:20230414T074644Z
UID:2165-1491091200-1491177599@namura.cc
SUMMARY:CIRCUS x Buttah 15周年 presents 「ボタとサーカス」
DESCRIPTION:大阪の音楽とカレーのコラボフェス「ボタとサーカス」のタイムテーブルを公開！\ntofubeats、鎮座DOPENESS、田我流、環ROY、DONUTS DISCO DELUXE、呂布カルマ、チプルソ、あっこゴリラ、PUNCH&MIGHTYといったジャパニーズラップ、ポップミュージックシーンでいま最も話題のアーティストによるライブ、そしてカレー屋台エリアではVIDHYA LIQUID(石濱匡雄)、ALTZ、MONGOOSE、DJ AGEISHIとボタゆかりのアーティスト、人気カレー店が大集結！□日時：\n2017年4月2日(日)\nOPEN/START 14:00 CLOSE 21:00(予定) \n□チケット:\n・U-23(23歳以下) 3000円\n・前売3500円\n・当日4000円\n※入場時別途1ドリンク代要 \n・チケットぴあ (P-CODE 325539)\n・ローソンチケット(L-CODE 58158)\n・イープラス (http://eplus.jp/)\n・Peatix (http://peatix.com/event/240361) \n\n  \n□LINEUP:\nLIVE:tofubeats / 田我流 / 環ROY / 鎮座DOPENESS / DONUTS DISCO DELUXE / 呂布カルマ / チプルソ / PUNCH&MIGHTY / あっこゴリラ\nDJ:QUESTA / YOTTUカレー屋台:Buttah / デッカオ / 谷口カレー / カレーちゃん家 / Mr.SAMOSA\nシタールLIVE:Vidhya Liquid(石濱匡雄)\nDJ:ALTZ / DJ AGEISHI-World music set- / MANGOOSE / DJごはん\nSound:yoko△uchuu
URL:https://namura.cc/event/2017-04-02/
ATTACH;FMTTYPE=image/jpeg:https://namura.cc/wp-content/uploads/2023/04/20170331-PastedGraphic.jpg
END:VEVENT
BEGIN:VEVENT
DTSTART;VALUE=DATE:20170326
DTEND;VALUE=DATE:20170327
DTSTAMP:20260423T073803
CREATED:20230310T074038Z
LAST-MODIFIED:20230310T074045Z
UID:2050-1490486400-1490572799@namura.cc
SUMMARY:コスプレ交流会COS JOY 大阪 in 造船跡地
DESCRIPTION:コスプレイベント コスプレ交流会COS JOY 大阪 造船跡地\n□日時\n2017年\n3月26日（日）10:00-18:00 \n□詳しくは\nCOSJOYホームページ\nhttp://www.comicon.co.jp/cosjoy/zousen/zousenindex.html
URL:https://namura.cc/event/2017-03-26/
ATTACH;FMTTYPE=image/jpeg:https://namura.cc/wp-content/uploads/2023/03/20150602-cosjoy.jpg
END:VEVENT
BEGIN:VEVENT
DTSTART;VALUE=DATE:20170320
DTEND;VALUE=DATE:20170321
DTSTAMP:20260423T073803
CREATED:20230310T074150Z
LAST-MODIFIED:20230310T074255Z
UID:2052-1489968000-1490054399@namura.cc
SUMMARY:CIRCUS ×Pine Brooklyn presents “WE WANT CIRCUS ”
DESCRIPTION:□日時\n3/20(月曜日/祝日)\nopen 14:00\nstart 15:00\nclose 21:00□チケット\n前売:3500yen\n当日:4000yen\n＊under 23(23歳以下) 前売: 3000yen（当日身分証の提示が必要となります。）\n＊各別途１ドリンク代金600円必要・チケットぴあ P-CODE(324665)　*02/13発売開始\n・ローソンチケット L-CODE(56526)　*02/13発売開始\n・イープラス　http://eplus.jp　*02/13発売開始\n・Peatix http://ptix.co/2kHfl8A \n□line up:\nPETE ROCK&C.L.SMOOTH\nKID FRESINO\nTALL BLACK BUY\nand more guest!! \n\n  \n■ Pete Rock&C.L.Smooth\n\nプロデューサー/ラッパーのPete Rockと、ラッパーのC.L. Smoothの2人による90年代を代表するコンビ。\n91年のEP「All Souled」でデビュー。その後、「Mecca and the Soul Brother」「The Main Ingredient」という2枚のクラシック・アルバムを残して95年に解散しましたが、2003年にシングル「Shine On Me」でリユニオンをはたしました。Pete Rockは、ヒップホップ・シーンのトップ・プロデューサーとして多くのアーティストを手掛け、数多くのクラシックを生み出している他、ソロとしてもアルバムをリリースするなど現在のヒップホップ・シーンでも最前線で活躍している。■ KID FRESINO\n■TALL BLACK BUY\n \n2017年大注目のデトロイト発次世代プロデューサー Tall Black Guy！\n“Tall Black Guy”ことTerrel Wallaceはアフリカン・アメリカンの両親の下、多種多様な音楽が生まれる街・デトロイトに生まれ育った。\nその街に根付くモータウン、ジャズ、ヒップホップなど幅広い音楽を愛し、強い影響を受けた彼は、2011年にTall Black Guy名義で作品を発表。\nセンスとテクニックを兼ね備えた抜群の音楽性で一躍注目の的となる。故郷の音楽から受けた影響、リスペクトの眼差しは1stアルバム『8 Miles To Moenart』の中でも十分に感じることが出来る。\n同作のタイトルは、TBGが生まれ育ったMoenart Blockに由来し、また自身の青春を彩ったモータウン・ミュージックの偉大さを今一度じっくり証明するような音楽を作りたい、という想いが込められているという。\n一方で彼が生みだす楽曲には、Dwele、Timberlandなど時代を築いたアーティストたちの影響も強く見て取ることができる。実に多彩なサウンドやビートを、TBGはソウルフルで感動的な世界観へと見事にまとめ上げてみせる。この柔軟で研ぎ澄まされた感性こそ、彼が多くの音楽ファンを強く引きつける理由だろう。その後現在に至るまで、Foreign Exchange、Skyzoo、Tameka Mooreなど多くの大物アーティストとの共演も果たし、ファン層を拡大しているTBG。新たな時代を担う気鋭のヒップホップアーティスト／プロデューサーとして、今世界から熱い視線が注がれている。
URL:https://namura.cc/event/2017-03-20/
ATTACH;FMTTYPE=image/jpeg:https://namura.cc/wp-content/uploads/2023/03/20170209-wwc1.jpg
END:VEVENT
BEGIN:VEVENT
DTSTART;VALUE=DATE:20170317
DTEND;VALUE=DATE:20170320
DTSTAMP:20260423T073803
CREATED:20230310T074355Z
LAST-MODIFIED:20230310T074407Z
UID:2056-1489708800-1489967999@namura.cc
SUMMARY:スペース助成】ニブロール／ミクニヤナイハラプロジェクト 『曖昧な犬』
DESCRIPTION:作・演出：矢内原美邦\n出演者：白木原一仁／立花裕介 \n□公演日時：\n2017年\n3月17日（金）19:30\n18日（土）14:00/18:00\n19日（日）14:00/18:00\n（受付開始は開演の1時間前、開場は開演の30分前） \n□入場料：\n前売 2\,500円\n学生 2\,000円（学生証提示） \n□詳しくは\nhttp://www.nibroll.com/aimai-na-inu.html \n□助成\nおおさか創造千島財団
URL:https://namura.cc/event/2017-03-1/
ATTACH;FMTTYPE=image/jpeg:https://namura.cc/wp-content/uploads/2023/03/20170208-aimainainu1.jpg
END:VEVENT
BEGIN:VEVENT
DTSTART;VALUE=DATE:20170312
DTEND;VALUE=DATE:20170313
DTSTAMP:20260423T073803
CREATED:20230310T074514Z
LAST-MODIFIED:20230310T074522Z
UID:2058-1489276800-1489363199@namura.cc
SUMMARY:ジャグラー×フレアバーテンダー『RYDEEN　ライディーン』
DESCRIPTION:ジャグラー×フレアバーテンダー\n舞台公演～Rhapsody～から約４か月。新スタイルのパフォーマンスパーティ開催。 \n□日時\n2017年3月12日（日）\n開場16:15\n開演17:00 \n□出演\nJuggler Ren / SHI-TAKA \n□チケット\n前売//当日3000円　　1ドリンク、軽食付き \n□詳しくは\nhttp://www.juggler-ren.net/170312.html
URL:https://namura.cc/event/2017-03-12/
ATTACH;FMTTYPE=image/jpeg:https://namura.cc/wp-content/uploads/2023/03/20170208-rydeen.jpg
END:VEVENT
BEGIN:VEVENT
DTSTART;VALUE=DATE:20170307
DTEND;VALUE=DATE:20170308
DTSTAMP:20260423T073803
CREATED:20230310T074615Z
LAST-MODIFIED:20230310T074622Z
UID:2061-1488844800-1488931199@namura.cc
SUMMARY:クリエイティブセンター大阪　ミニ見学ツアー vol.68
DESCRIPTION:近代化産業遺産に認定されている「名村造船跡地」=クリエイティブセンター大阪の館内見学ツアーです。\n造船所跡地の施設内をスタッフがご説明しながらご案内致します。\n※ツアー時間は40分程度を予定しております。（途中退場可） \n■日時　2017年3月7日（水）15:00 ※40分程度\nクリエイティブセンター大阪　入口警備員室前集合 \n■参加方法\n予約不要・現地集合／参加費は無料です。 \n■お問合せ\n06-4702-7085（クリエイティブセンター大阪）
URL:https://namura.cc/event/2017-03-07/
ATTACH;FMTTYPE=image/jpeg:https://namura.cc/wp-content/uploads/2022/12/b0f3769176eeffbd5abb90e91461dc87-e1677758490252.jpg
END:VEVENT
BEGIN:VEVENT
DTSTART;VALUE=DATE:20170226
DTEND;VALUE=DATE:20170227
DTSTAMP:20260423T073803
CREATED:20230310T073457Z
LAST-MODIFIED:20230310T073503Z
UID:2042-1488067200-1488153599@namura.cc
SUMMARY:コスプレ交流会COS JOY 大阪 in 造船跡地
DESCRIPTION:コスプレイベント コスプレ交流会COS JOY 大阪 造船跡地\n□日時\n2017年\n2月26日（日）10:00-18:00 \n□詳しくは\nCOSJOYホームページ\nhttp://www.comicon.co.jp/cosjoy/zousen/zousenindex.html
URL:https://namura.cc/event/2017-02-26/
ATTACH;FMTTYPE=image/jpeg:https://namura.cc/wp-content/uploads/2023/03/20150602-cosjoy.jpg
END:VEVENT
BEGIN:VEVENT
DTSTART;VALUE=DATE:20170225
DTEND;VALUE=DATE:20170226
DTSTAMP:20260423T073803
CREATED:20230310T073539Z
LAST-MODIFIED:20230310T073545Z
UID:2044-1487980800-1488067199@namura.cc
SUMMARY:蛇下呂 LIVE Tour 2017 〜帰ってきた、カワムラマン〜
DESCRIPTION:□日時\n2017年2月25日(土)\nOPEN 16:00\nSTART 17:00 \n□詳しくは\nhttp://www.sound-c.co.jp/schedule/detail/1447/
URL:https://namura.cc/event/2017-02-25/
ATTACH;FMTTYPE=:
END:VEVENT
BEGIN:VEVENT
DTSTART;VALUE=DATE:20170223
DTEND;VALUE=DATE:20170226
DTSTAMP:20260423T073803
CREATED:20230310T073732Z
LAST-MODIFIED:20230310T073747Z
UID:2046-1487808000-1488067199@namura.cc
SUMMARY:写真展「LONDON 」
DESCRIPTION:Photo by Yuki DAIDO \,Koki DAIDO \n□日時\n2017年\n2月23日(木)17:00-22:00\n2月24日(金) 17:00-22:00\n2月25日(土) 17:00-20:00 \n□入場料\n無料
URL:https://namura.cc/event/2017-02-23/
ATTACH;FMTTYPE=image/jpeg:https://namura.cc/wp-content/uploads/2023/03/20170127-london2.jpg
END:VEVENT
BEGIN:VEVENT
DTSTART;VALUE=DATE:20170202
DTEND;VALUE=DATE:20170203
DTSTAMP:20260423T073803
CREATED:20230310T073900Z
LAST-MODIFIED:20230310T073908Z
UID:2048-1485993600-1486079999@namura.cc
SUMMARY:クリエイティブセンター大阪　ミニ見学ツアー vol.67
DESCRIPTION:近代化産業遺産に認定されている「名村造船跡地」=クリエイティブセンター大阪の館内見学ツアーです。\n造船所跡地の施設内をスタッフがご説明しながらご案内致します。\n※ツアー時間は40分程度を予定しております。（途中退場可） \n■日時　2017年2月2日（木）17:00 ※40分程度\nクリエイティブセンター大阪　入口警備員室前集合 \n（当日は展示イベントクロニクル、クロニクル！開催中） \n■参加方法\n予約不要・現地集合／参加費は無料です。 \n■お問合せ\n06-4702-7085（クリエイティブセンター大阪）
URL:https://namura.cc/event/2017-02-02/
ATTACH;FMTTYPE=image/jpeg:https://namura.cc/wp-content/uploads/2022/12/b0f3769176eeffbd5abb90e91461dc87-e1677758490252.jpg
END:VEVENT
BEGIN:VEVENT
DTSTART;VALUE=DATE:20170126
DTEND;VALUE=DATE:20170127
DTSTAMP:20260423T073803
CREATED:20230310T072806Z
LAST-MODIFIED:20230310T072813Z
UID:1981-1485388800-1485475199@namura.cc
SUMMARY:クリエイティブセンター大阪　ミニ見学ツアー vol.66
DESCRIPTION:近代化産業遺産に認定されている「名村造船跡地」=クリエイティブセンター大阪の館内見学ツアーです。\n造船所跡地の施設内をスタッフがご説明しながらご案内致します。\n※ツアー時間は40分程度を予定しております。（途中退場可） \n■日時　2017年1月26日（木）17:00 ※40分程度\nクリエイティブセンター大阪　入口警備員室前集合 \n（当日は展示イベントクロニクル、クロニクル！開催中） \n■参加方法\n予約不要・現地集合／参加費は無料です。 \n■お問合せ\n06-4702-7085（クリエイティブセンター大阪）
URL:https://namura.cc/event/2017-01-26/
ATTACH;FMTTYPE=image/jpeg:https://namura.cc/wp-content/uploads/2022/12/b0f3769176eeffbd5abb90e91461dc87-e1677758490252.jpg
END:VEVENT
BEGIN:VEVENT
DTSTART;VALUE=DATE:20170123
DTEND;VALUE=DATE:20170220
DTSTAMP:20260423T073803
CREATED:20230310T072946Z
LAST-MODIFIED:20230310T072946Z
UID:1984-1485129600-1487548799@namura.cc
SUMMARY:【スペース助成】クロニクル、クロニクル！
DESCRIPTION:□日時\n2017年1月23日（月）〜2月19日（日）\n13:00-19:00 \n※休廊日：火曜、水曜 \n□入場料\n入場無料 \n□詳しくは\nhttp://www.chronicle-chronicle.jp \n□助成\nおおさか創造千島財団
URL:https://namura.cc/event/2017-01-23/
ATTACH;FMTTYPE=image/jpeg:https://namura.cc/wp-content/uploads/2023/03/20160106-kuronikuru-o-1.jpg
END:VEVENT
BEGIN:VEVENT
DTSTART;VALUE=DATE:20170122
DTEND;VALUE=DATE:20170123
DTSTAMP:20260423T073803
CREATED:20230310T073019Z
LAST-MODIFIED:20230310T073026Z
UID:2030-1485043200-1485129599@namura.cc
SUMMARY:BiS「Re:STUPiD TOUR」
DESCRIPTION:□日時\n2017年1月22日(日)\n16:00/17:00 \n□お問合せ\nキョードーインフォメーション　0570-200-888 \n□詳しくは\nBiS OFFICIAL SITE
URL:https://namura.cc/event/2017-01-22/
ATTACH;FMTTYPE=:
END:VEVENT
BEGIN:VEVENT
DTSTART;VALUE=DATE:20170115
DTEND;VALUE=DATE:20170116
DTSTAMP:20260423T073803
CREATED:20230310T073107Z
LAST-MODIFIED:20230310T073113Z
UID:2032-1484438400-1484524799@namura.cc
SUMMARY:ADVANCE# Winter Live 2017 『 I Have a Dream 』
DESCRIPTION:畿央大学 アカペラ部 ADVANCE\n# Winter Live 2017 『 I Have a Dream 』 \n□日時\n2017年1月15日(日)\n13:00開場 ／13:30開演 \n□料金\n¥800 \n□詳しくは\nhttps://mobile.twitter.com/advance_winter
URL:https://namura.cc/event/2017-01-15/
ATTACH;FMTTYPE=:
END:VEVENT
BEGIN:VEVENT
DTSTART;VALUE=DATE:20170114
DTEND;VALUE=DATE:20170115
DTSTAMP:20260423T073803
CREATED:20230310T073149Z
LAST-MODIFIED:20230310T073155Z
UID:2035-1484352000-1484438399@namura.cc
SUMMARY:acosta!＠名村造船所跡地
DESCRIPTION:□日時\n2017年1月14日（土）\n11:00～18:00 \n□参加費\nコスプレイヤー・カメラマン一律\n2\,500円(税込) \n□詳しくは\nhttp://acosta.jp/event/170114zousen/
URL:https://namura.cc/event/2017-01-14/
ATTACH;FMTTYPE=:
END:VEVENT
BEGIN:VEVENT
DTSTART;VALUE=DATE:20170111
DTEND;VALUE=DATE:20170112
DTSTAMP:20260423T073803
CREATED:20230310T073249Z
LAST-MODIFIED:20230310T073254Z
UID:2037-1484092800-1484179199@namura.cc
SUMMARY:クリエイティブセンター大阪　ミニ見学ツアー vol.65
DESCRIPTION:近代化産業遺産に認定されている「名村造船跡地」=クリエイティブセンター大阪の館内見学ツアーです。\n造船所跡地の施設内をスタッフがご説明しながらご案内致します。\n※ツアー時間は40分程度を予定しております。（途中退場可） \n■日時　2017年1月11日（水）15:00 ※30〜40分程度\nクリエイティブセンター大阪　入口警備員室前集合 \n■参加方法\n予約不要・現地集合／参加費は無料です。 \n■お問合せ\n06-4702-7085（クリエイティブセンター大阪）
URL:https://namura.cc/event/2017-01-11/
ATTACH;FMTTYPE=image/jpeg:https://namura.cc/wp-content/uploads/2022/12/b0f3769176eeffbd5abb90e91461dc87-e1677758490252.jpg
END:VEVENT
BEGIN:VEVENT
DTSTART;VALUE=DATE:20170110
DTEND;VALUE=DATE:20170111
DTSTAMP:20260423T073803
CREATED:20230310T073348Z
LAST-MODIFIED:20230310T073358Z
UID:2039-1484006400-1484092799@namura.cc
SUMMARY:【お知らせ】展示イベント「クロニクル、クロニクル！」期間中休館日のお知らせ
DESCRIPTION:クリエイティブセンター大阪は展示イベント「クロニクル、クロニクル！」（おおさか創造千島財団スペース助成）の開催に伴い、「クロニクル、クロニクル！」展示イベント期間中のみ火曜日を休館日とさせていただきます。何卒ご理解くださいますようお願い致します。 \n●休館日●\n2017年\n1月31日（火）\n2月7日（火）\n2月14日（火） \n展示イベント「クロニクル、クロニクル！」（2017年1月23日（月）〜2月19日（日））の休廊日は火曜、水曜となり、土日曜日も開館しております。 \nクリエイティブセンター大阪
URL:https://namura.cc/event/2017-01-10/
ATTACH;FMTTYPE=:
END:VEVENT
BEGIN:VEVENT
DTSTART;VALUE=DATE:20161231
DTEND;VALUE=DATE:20170101
DTSTAMP:20260423T073803
CREATED:20230310T070617Z
LAST-MODIFIED:20230310T070624Z
UID:1966-1483142400-1483228799@namura.cc
SUMMARY:CIRCUS presents ONE NATION NEW YEARS EVE ~CIRCUS LOVES TECHNO COUNTDOWN PARTY~ 2016 to 2017!
DESCRIPTION:CIRCUSが主催する恒例、大阪名村造船所跡地のカウントダウンパーティーが開催決定!\n2017年の幕開けに登場するのはテクノラバーに圧倒的な人気を誇るPeter van hoesen!!□日時\n12/31(sat)\nopen 21:00\nadv:3500yen door:4000yen \n□出演:\nPeter Van hoesen\nand more!\nVJ:KOZEE \n□チケット\nローソンチケット Ｌコード(55506)\nチケットぴあ P-CODE(315888)\nイープラス http://eplus.jp/\nPeatix http://peatix.com/\n**11/14~発売開始! \n\n  \nPETER VAN HOESEN\n\nベルギー、ブリュッセル出身、ベルリンを拠点に活動するDJ兼プロデューサーであるPeter van Hoesenは、既に長い間ダンスフロアを見据えながらも広い視野を持ち幅広いエレクトロニック・ミュージックの表現を追求してきたアーティストだ。コールドウェーヴ、インダストリアル、ポスト・パンク、そしてアシッド・ハウスをバックグラウンドに持つ彼は、かつてはObject名義で作品を発表したり、ミニマルなサウンドスケープ及びアブストラクト・アンビエントのレーベル〈Foton〉を運営したりもしてきたが、現在は自身の〈Time To Express〉とユニットSeidaiとして共に活動するYves De Meyとの共同運営レーベル〈Archives Intérieures〉を中心に多数のリリースを続けている。テクスチャーに富んだ多彩な作品を生み出すプロデューサーとしての手腕はDJとしてのパフォーマンスにも見事に発揮されており、日本では特にLabyrinthにおけるプレイで年を追うごとにその評価を刷新、聴く者を魅了する独自のミステリアスな世界観と選曲の幅広さ、そしてそれらをシームレスにひとつの物語に紡ぎ上げるミックスのテクニックで、他をよせつけない孤高の地位を築いている。Belgium’s Peter Van Hoesen has never been that typical techno artist. Although considered as one of the genre’s tastemakers he is someone who sculpts sounds for many different environments – the club\, the home\, the gallery or museum. He does so with a true sense of personality. On his own label Time to Express he releases textural compositions and he also records to great acclaim as Sendai alongside Yves de Mey. In performance terms\, Peter lays down dark and arresting techno sets as well as captivating\, story telling live musical journeys. Because of that he is renowned around the world for his high quality\, high creativity\, high levels of consistency\, constantly translating his personality into his music. \nhttps://soundcloud.com/petervanhoesen
URL:https://namura.cc/event/2016-12-31/
ATTACH;FMTTYPE=:
END:VEVENT
BEGIN:VEVENT
DTSTART;VALUE=DATE:20161226
DTEND;VALUE=DATE:20161227
DTSTAMP:20260423T073803
CREATED:20230310T070710Z
LAST-MODIFIED:20230310T070716Z
UID:1969-1482710400-1482796799@namura.cc
SUMMARY:Sound☆Sprout Winter Live 2016 「歩」
DESCRIPTION:□日時\n2016年\n12月26日（月）\n開場13時15分\n開演 14時 \n□料金\nチケット¥700- \n□詳しくは\nhttps://mobile.twitter.com/soundsprout_cl
URL:https://namura.cc/event/2016-12-26/
ATTACH;FMTTYPE=image/jpeg:https://namura.cc/wp-content/uploads/2023/03/20161216-soundsprout.jpg
END:VEVENT
BEGIN:VEVENT
DTSTART;VALUE=DATE:20161211
DTEND;VALUE=DATE:20161212
DTSTAMP:20260423T073803
CREATED:20230310T070759Z
LAST-MODIFIED:20230310T071253Z
UID:1971-1481414400-1481500799@namura.cc
SUMMARY:コスプレ交流会COS JOY 大阪 in 造船跡地
DESCRIPTION:コスプレイベント コスプレ交流会COS JOY 大阪 造船跡地\n□日時\n2016年\n12月11日（日）10:00-18:00 \n□詳しくは\nCOSJOYホームページ\nhttp://www.comicon.co.jp/cosjoy/zousen/zousenindex.html
URL:https://namura.cc/event/2016-12-11/
ATTACH;FMTTYPE=image/jpeg:https://namura.cc/wp-content/uploads/2023/03/20150602-cosjoy.jpg
END:VEVENT
BEGIN:VEVENT
DTSTART;VALUE=DATE:20161210
DTEND;VALUE=DATE:20161211
DTSTAMP:20260423T073803
CREATED:20230310T070856Z
LAST-MODIFIED:20230310T070904Z
UID:1974-1481328000-1481414399@namura.cc
SUMMARY:Concert コンサート Ici [Improvisation - Composition - Interprétation] ここ[即興・作曲・ 演奏]
DESCRIPTION:□日時\n2016年12月10日(土）\n開場：13:30\n開演：14:00 \n□おおさか創造千島財団スペース助成
URL:https://namura.cc/event/2016-12-10/
ATTACH;FMTTYPE=image/jpeg:https://namura.cc/wp-content/uploads/2023/03/20161123-carte_v6-1.jpg
END:VEVENT
BEGIN:VEVENT
DTSTART;VALUE=DATE:20161207
DTEND;VALUE=DATE:20161208
DTSTAMP:20260423T073803
CREATED:20230310T070952Z
LAST-MODIFIED:20230310T070959Z
UID:1977-1481068800-1481155199@namura.cc
SUMMARY:クリエイティブセンター大阪　ミニ見学ツアー vol.64
DESCRIPTION:近代化産業遺産に認定されている「名村造船跡地」=クリエイティブセンター大阪の館内見学ツアーです。\n造船所跡地の施設内をスタッフがご説明しながらご案内致します。\n※ツアー時間は40分程度を予定しております。（途中退場可） \n■日時　2016年12月7日（水）15:00 ※30〜40分程度\nクリエイティブセンター大阪　入口警備員室前集合 \n■参加方法\n予約不要・現地集合／参加費は無料です。 \n■お問合せ\n06-4702-7085（クリエイティブセンター大阪）
URL:https://namura.cc/event/2016-12-07/
ATTACH;FMTTYPE=image/jpeg:https://namura.cc/wp-content/uploads/2022/12/b0f3769176eeffbd5abb90e91461dc87-e1677758490252.jpg
END:VEVENT
BEGIN:VEVENT
DTSTART;VALUE=DATE:20161202
DTEND;VALUE=DATE:20161203
DTSTAMP:20260423T073803
CREATED:20230310T071049Z
LAST-MODIFIED:20230310T071056Z
UID:1979-1480636800-1480723199@namura.cc
SUMMARY:DaizyStripper vs FEST VAINQUEUR ツーマンライブ「兄弟喧嘩」
DESCRIPTION:□日時\n2016年12月03日（土）\n開場16:00\n開演17:00 \n□料金\n￥4\,500(Dr別・All Standing・整理番号付) \n※未就学児童入場不可\n※営利目的の転売禁止\n※会場の都合上、台風等の影響により公演開催ができない場合がございます。 \n□詳しくは\nARTIST HP：DaizyStripper / FEST VAINQUEUR
URL:https://namura.cc/event/2016-12-02/
ATTACH;FMTTYPE=image/jpeg:https://namura.cc/wp-content/uploads/2023/03/20161109-DaizyStripperLOGO.jpg
END:VEVENT
BEGIN:VEVENT
DTSTART;VALUE=DATE:20161127
DTEND;VALUE=DATE:20161128
DTSTAMP:20260423T073803
CREATED:20230310T065550Z
LAST-MODIFIED:20230310T065550Z
UID:1940-1480204800-1480291199@namura.cc
SUMMARY:コスプレ交流会COS JOY 大阪 in 造船跡地
DESCRIPTION:コスプレイベント コスプレ交流会COS JOY 大阪 造船跡地\n□日時\n2016年\n11月27日（日）10:00-18:00 \n□詳しくは\nCOSJOYホームページ\nhttp://www.comicon.co.jp/cosjoy/zousen/zousenindex.html
URL:https://namura.cc/event/2016-11-27/
ATTACH;FMTTYPE=image/jpeg:https://namura.cc/wp-content/uploads/2023/03/20150602-cosjoy.jpg
END:VEVENT
BEGIN:VEVENT
DTSTART;VALUE=DATE:20161126
DTEND;VALUE=DATE:20161127
DTSTAMP:20260423T073803
CREATED:20230310T065628Z
LAST-MODIFIED:20230310T065635Z
UID:1942-1480118400-1480204799@namura.cc
SUMMARY:D'ER≠gari 2016 feat.DEZERT
DESCRIPTION:□日時\n11月26日（土） 17:30 \n□詳しくは\nhttp://www.kyodo-osaka.co.jp/schedule/E017718-1.html
URL:https://namura.cc/event/2016-11-26/
ATTACH;FMTTYPE=:
END:VEVENT
BEGIN:VEVENT
DTSTART;VALUE=DATE:20161125
DTEND;VALUE=DATE:20161126
DTSTAMP:20260423T073803
CREATED:20230310T065729Z
LAST-MODIFIED:20230310T065736Z
UID:1945-1480032000-1480118399@namura.cc
SUMMARY:ONE NATION"CIRCUS LOVES TECHNO трип JAPAN TOUR 2016
DESCRIPTION:世紀のテクノクイーンNo.1フィメールDJ、Nina Kravizが西日本最大規模の伝説的会場”名村”でレーベルтрипツアーをBjarkiと開催! \n□日時\n11月25日(金)\nOPEN 22:00 \n□チケット\n前売:3500yen\n当日:4000yen \nチケットは10月26日〜発売開始!!\nローソンチケット L-code(57961)\nチケットぴあ P-code(314847)\nイープラス　http://eplus.jp\nPeatixチケット　http://peatix.com \n□出演アーティスト\nNINA KRAVIZ (трип / RUS)\nBJARKI (трип / ISL)\nPhoto Mapping – Mika Ninagawa\nVJ: KOZEE\nLighting: SOLA\nand more \n□お問い合わせ：\nCIRCUS 06-6241-3822 \n\n  \n□Nina Kraviz\n世界No.1フィメールDJ、Nina Kraviz（ニーナ・クラヴィッツ）。\n自身主宰のレーベルтрип (Trip)は、Mixmag「THE BEST RECORD LABEL OF 2015」に輝き、DJとしては、世界最大のダンスミュージック配信サイトBeatport「DJ OF THE YEAR」を獲得、ここ日本でも、国内最大級のクラブ系サイトClubberia「ARTIST AWARD」2年連続第１位、昨年は「PARTY AWARD」でも全国約15\,000ものイベントの中から年間１位、２位を独占。\nhttp://www.mixmag.net/feature/the-best-record-labels-of-2015/\nhttp://www.clubberia.com/ja/features/feature-147-clubberia-Awards-2015/Artist-Awards/\nhttp://www.clubberia.com/ja/features/feature-147-clubberia-Awards-2015/Party-Awards/□Bjarki\n\n世紀のテクノクイーン、Nina Kravizに追加して、レーベルтрип (Trip)のブライテストホープ、Bjarki（ビヤルキ）の初来日が決定。\nhttps://jp.residentadvisor.net/podcast-episode.aspx?id=484 \nBjarkiの昨年の大ヒットシングル’I Wanna Go Bang’は、VICE年間チャートでも第3位を獲得。\nhttp://thump.vice.com/en_us/article/the-50-best-tracks-of-2015\nhttps://soundcloud.com/platform/bjarki-i-wanna-go-bang-boiler \n今年5月には、Aphex Twinも参加しているEPがтрип (Trip)からリリースされ、続く6月から9月にかけては、3枚のLP（全41曲）をリリース。\nhttps://jp.residentadvisor.net/news.aspx?id=34187\nhttps://jp.residentadvisor.net/news.aspx?id=34753\nBjarkiはテクノシーンにおいていま最も大躍進しているアーティストの一人で、ベストなタイミングでの初来日になるでしょう。 \n□Photo Mapping – Mika Ninagawa\n\n\n \nこの夜のために用意された特設会場に、高性能プロジェクターを設置し、Nina KravizのDJプレイに合わせ、写真家 蜷川実花氏の近作を中心としたストリートスナップが巨大なマッピングとして映し出されます。専用に作られたプログラムを駆使したこのコラボレーションはリアルタイムに奏でらる音に合わせて写真が変化する一夜限りの特別な体験となるでしょう
URL:https://namura.cc/event/2016-11-25/
ATTACH;FMTTYPE=image/jpeg:https://namura.cc/wp-content/uploads/2023/03/20161108-NINA-KRAVIZ_A5_last.jpg
END:VEVENT
BEGIN:VEVENT
DTSTART;VALUE=DATE:20161123
DTEND;VALUE=DATE:20161126
DTSTAMP:20260423T073803
CREATED:20230310T065847Z
LAST-MODIFIED:20230310T065853Z
UID:1948-1479859200-1480118399@namura.cc
SUMMARY:IRON∞MAN +α『CARt camp & caravan』
DESCRIPTION:□日時\n2016年\n11月23日（祝・水）12:00-21:00\n11月24日（木） 12:00-21:00\n11月25日（金） 9:00-12:00※11/23(水）レセプション&オープニングパーティー　18:00〜 \n□入場料\n無料 \n※おおさか創造千島財団スペース助成 \n\n 
URL:https://namura.cc/event/2016-11-23/
ATTACH;FMTTYPE=image/jpeg:https://namura.cc/wp-content/uploads/2023/03/20161108-ironman_o.jpg
END:VEVENT
END:VCALENDAR