BEGIN:VCALENDAR
VERSION:2.0
PRODID:-//クリエイティブセンター大阪（CCO） - ECPv6.2.1//NONSGML v1.0//EN
CALSCALE:GREGORIAN
METHOD:PUBLISH
X-WR-CALNAME:クリエイティブセンター大阪（CCO）
X-ORIGINAL-URL:https://namura.cc
X-WR-CALDESC:クリエイティブセンター大阪（CCO） のイベント
REFRESH-INTERVAL;VALUE=DURATION:PT1H
X-Robots-Tag:noindex
X-PUBLISHED-TTL:PT1H
BEGIN:VTIMEZONE
TZID:Asia/Tokyo
BEGIN:STANDARD
TZOFFSETFROM:+0900
TZOFFSETTO:+0900
TZNAME:JST
DTSTART:20160101T000000
END:STANDARD
END:VTIMEZONE
BEGIN:VEVENT
DTSTART;VALUE=DATE:20161005
DTEND;VALUE=DATE:20161006
DTSTAMP:20260423T070115
CREATED:20230310T065338Z
LAST-MODIFIED:20230310T065346Z
UID:1936-1475625600-1475711999@namura.cc
SUMMARY:クリエイティブセンター大阪　ミニ見学ツアー vol.62
DESCRIPTION:近代化産業遺産に認定されている「名村造船跡地」=クリエイティブセンター大阪の館内見学ツアーです。\n造船所跡地の施設内をスタッフがご説明しながらご案内致します。\n※ツアー時間は40分程度を予定しております。（途中退場可） \n■日時　2016年10月5日（水）15:00 ※30〜40分程度\nクリエイティブセンター大阪　入口警備員室前集合 \n■参加方法\n予約不要・現地集合／参加費は無料です。 \n■お問合せ\n06-4702-7085（クリエイティブセンター大阪）
URL:https://namura.cc/event/2016-10-05/
ATTACH;FMTTYPE=image/jpeg:https://namura.cc/wp-content/uploads/2022/12/b0f3769176eeffbd5abb90e91461dc87-e1677758490252.jpg
END:VEVENT
BEGIN:VEVENT
DTSTART;VALUE=DATE:20161002
DTEND;VALUE=DATE:20161003
DTSTAMP:20260423T070115
CREATED:20230310T065432Z
LAST-MODIFIED:20230310T065439Z
UID:1938-1475366400-1475452799@namura.cc
SUMMARY:Z-1 Worst Dance Circle GP2016
DESCRIPTION:□日時\n2016年10月2日（日）\n12:30〜21:00 \n□チケット\n前売り:2000円\n当日購入:2500円 \n□詳しくは\n■FaceBookページ■\nhttps://www.facebook.com/Z1WorstDanceCircleGrandprix \n□お問合せ\nZ-1実行委員会 z1.danceone@gmail.com
URL:https://namura.cc/event/2016-10-02/
ATTACH;FMTTYPE=:
END:VEVENT
BEGIN:VEVENT
DTSTART;VALUE=DATE:20160925
DTEND;VALUE=DATE:20160926
DTSTAMP:20260423T070115
CREATED:20230310T063824Z
LAST-MODIFIED:20230310T063833Z
UID:1898-1474761600-1474847999@namura.cc
SUMMARY:コスプレ交流会COS JOY 大阪 in 造船跡地
DESCRIPTION:コスプレイベント コスプレ交流会COS JOY 大阪 造船跡地\n□日時\n2016年\n9月25日（日）10:00-18:00 \n□詳しくは\nCOSJOYホームページ\nhttp://www.comicon.co.jp/cosjoy/zousen/zousenindex.html
URL:https://namura.cc/event/2016-09-25/
ATTACH;FMTTYPE=image/jpeg:https://namura.cc/wp-content/uploads/2023/03/20160901-cosjoy0925.jpg
END:VEVENT
BEGIN:VEVENT
DTSTART;VALUE=DATE:20160924
DTEND;VALUE=DATE:20160925
DTSTAMP:20260423T070115
CREATED:20230310T063935Z
LAST-MODIFIED:20230310T063941Z
UID:1900-1474675200-1474761599@namura.cc
SUMMARY:ジャンベ“打”サミット 其の6
DESCRIPTION:□日時\n2016年9月24日（土）\n9:00-20:30 \n□主催 ダサミ企画
URL:https://namura.cc/event/2016-09-24/
ATTACH;FMTTYPE=image/jpeg:https://namura.cc/wp-content/uploads/2023/03/20160629-jjanbe.jpg
END:VEVENT
BEGIN:VEVENT
DTSTART;VALUE=DATE:20160918
DTEND;VALUE=DATE:20160919
DTSTAMP:20260423T070115
CREATED:20230310T064034Z
LAST-MODIFIED:20230310T064042Z
UID:1902-1474156800-1474243199@namura.cc
SUMMARY:SYMBOL KOBE 2016　“Connection”
DESCRIPTION:□日時\n2016年9月18日(日)\nOPEN 13:00\nSTART 14:00\nCLOSE 21:00 \n□料金\n1回生 前売り 2500yen 当日 3000yen\n一般(2回生以上) 前売り・当日3000yen \n□詳しくは\nhttp://symbol.jp/kobe/
URL:https://namura.cc/event/2016-09-18/
ATTACH;FMTTYPE=image/jpeg:https://namura.cc/wp-content/uploads/2023/03/20160906-symbolkobe01.jpg
END:VEVENT
BEGIN:VEVENT
DTSTART;VALUE=DATE:20160917
DTEND;VALUE=DATE:20160920
DTSTAMP:20260423T070115
CREATED:20230310T064130Z
LAST-MODIFIED:20230310T064138Z
UID:1904-1474070400-1474329599@namura.cc
SUMMARY:DESIGNEAST 07 "Mobilities"
DESCRIPTION:□日時\n2016年\n9月17日（土）\n9月18日（日）\n9月19日（月祝） \n□お問合\nDESIGNEAST実行委員会 [担当：浅野]\nEmail : office@designeast.jp\n〒540-0031 大阪市中央区北浜東1-29 5F MUESUM内 \n□詳しくは\nhttp://www.designeast.jp
URL:https://namura.cc/event/2016-09-17/
ATTACH;FMTTYPE=image/jpeg:https://namura.cc/wp-content/uploads/2023/03/20160907-14188283_750654005037347_1888100112698660178_o.jpg
END:VEVENT
BEGIN:VEVENT
DTSTART;VALUE=DATE:20160911
DTEND;VALUE=DATE:20160912
DTSTAMP:20260423T070115
CREATED:20230310T064223Z
LAST-MODIFIED:20230310T064230Z
UID:1907-1473552000-1473638399@namura.cc
SUMMARY:すみのえアート・ビート2016
DESCRIPTION:「北加賀屋といえばアート」なまち。近代化産業遺産に認定の「名村造船所大阪工場跡地」で今年も「すみのえアート・ビート」を開催！！ \n□日時\n9月11日（日)\n11:00-16:00 \n□入場料\n無料 \n□主催\nすみのえアート・ビート実行委員会
URL:https://namura.cc/event/2016-09-11/
ATTACH;FMTTYPE=image/jpeg:https://namura.cc/wp-content/uploads/2023/03/20160805-suminoe2016.jpg
END:VEVENT
BEGIN:VEVENT
DTSTART;VALUE=DATE:20160902
DTEND;VALUE=DATE:20160905
DTSTAMP:20260423T070115
CREATED:20230310T064324Z
LAST-MODIFIED:20230310T064324Z
UID:1909-1472774400-1473033599@namura.cc
SUMMARY:『日輪の翼』大阪公演
DESCRIPTION:□日時\n9月2日（金） 18:30開演\n9月3日（土） 18:30開演\n9月4日（日） 18:30開演\n※開場は開演の30分前 \n□入場料\n前売3\,000円、当日3\,500円\n▼全席自由／入場整理番号付き \n□詳しくは\nhttp://www.chishimatochi.info/found/index.php/archives/2422
URL:https://namura.cc/event/2016-09-02/
ATTACH;FMTTYPE=image/jpeg:https://namura.cc/wp-content/uploads/2023/03/20160831-nitirin.jpg
END:VEVENT
BEGIN:VEVENT
DTSTART;VALUE=DATE:20160901
DTEND;VALUE=DATE:20160902
DTSTAMP:20260423T070115
CREATED:20230310T064407Z
LAST-MODIFIED:20230310T064414Z
UID:1911-1472688000-1472774399@namura.cc
SUMMARY:クリエイティブセンター大阪　ミニ見学ツアー vol.61
DESCRIPTION:近代化産業遺産に認定されている「名村造船跡地」=クリエイティブセンター大阪の館内見学ツアーです。\n造船所跡地の施設内をスタッフがご説明しながらご案内致します。\n※ツアー時間は40分程度を予定しております。（途中退場可） \n■日時　2016年9月1日（木）15:00 ※40分程度\nクリエイティブセンター大阪　入口警備員室前集合 \n■参加方法\n予約不要・現地集合／参加費は無料です。 \n■お問合せ\n06-4702-7085（クリエイティブセンター大阪）
URL:https://namura.cc/event/2016-09-01/
ATTACH;FMTTYPE=image/jpeg:https://namura.cc/wp-content/uploads/2022/12/b0f3769176eeffbd5abb90e91461dc87-e1677758490252.jpg
END:VEVENT
BEGIN:VEVENT
DTSTART;VALUE=DATE:20160828
DTEND;VALUE=DATE:20160829
DTSTAMP:20260423T070115
CREATED:20230310T063339Z
LAST-MODIFIED:20230310T063355Z
UID:1886-1472342400-1472428799@namura.cc
SUMMARY:FEST FES 2016
DESCRIPTION:□日時\n2016年8月28日\nOPEN　13:00 / START　13:30 \n□チケット\n一般発売日　6月26日（日）10:00〜\n前売り ￥4\,200 / 当日 ￥4\,700（tax in）\nオールスタンディング／ドリンク代別\n未就学児（6歳未満）入場不可 \n□プレイガイド\nローソンチケット 0570-084-005\nLコード：56275 http://l-tike.com\nチケットぴあ 0570-02-9999 Pコード：295-615 http://pia.jp/t\nイープラス http://eplus.jp \n□お問合せ\n夢番地(大阪) 06-6341-3525(平日11:00～19:00)\nwww.yumebanchi.jp \n□主催　夢番地\n□企画制作　PLUG RECORDS west
URL:https://namura.cc/event/2016-08-28/
ATTACH;FMTTYPE=:
END:VEVENT
BEGIN:VEVENT
DTSTART;VALUE=DATE:20160827
DTEND;VALUE=DATE:20160828
DTSTAMP:20260423T070115
CREATED:20230310T063441Z
LAST-MODIFIED:20230310T063447Z
UID:1888-1472256000-1472342399@namura.cc
SUMMARY:青司祭2016 vol.3
DESCRIPTION:□日時\n2016年8月27日（土） \nRED STAGE 13:00開場\nStudio PARTITA 17:00開場 \n□チケット\n前売り　¥3\,500-\n当日　¥4\,000-\n(各税込み　別途1D¥500-) \nチケットぴあ　0570-02-9111 (Pコード:301988)\ne+イープラス　http://eplus.jp/ \n□お問合せ\n青司祭2016実行委員会\nWEB : http://www.chaoticirrumatio.com\nMAIL : aotsukasai@gmail.com
URL:https://namura.cc/event/2016-08-27/
ATTACH;FMTTYPE=image/jpeg:https://namura.cc/wp-content/uploads/2023/03/20160609-201608ao.jpg
END:VEVENT
BEGIN:VEVENT
DTSTART;VALUE=DATE:20160820
DTEND;VALUE=DATE:20160822
DTSTAMP:20260423T070115
CREATED:20230310T063535Z
LAST-MODIFIED:20230310T063542Z
UID:1890-1471651200-1471823999@namura.cc
SUMMARY:ローション大運動会 大阪大会
DESCRIPTION:□日時\n2016年8月20日（土）12時開場、13時開始\n2016年8月21日（日）12時開場、13時開始 \n□チケット\n先行販売特別割引券（8/20）　：¥9\,800\n通常販売1日券（8/20）　　　 ：¥10\,800\n先行販売特別割引券（8/21）　：¥9\,800\n通常販売1日券（8/21）　　　 ：¥10\,800\n※当日券の販売はございません。 \n□詳しくは\nhttp://lotion.event-kikaku.com \n□主催\n2016 ローション大運動会実行委員会
URL:https://namura.cc/event/2016-08-20/
ATTACH;FMTTYPE=image/png:https://namura.cc/wp-content/uploads/2023/03/20160613-lotion2016.png
END:VEVENT
BEGIN:VEVENT
DTSTART;VALUE=DATE:20160817
DTEND;VALUE=DATE:20160818
DTSTAMP:20260423T070115
CREATED:20230310T063629Z
LAST-MODIFIED:20230310T071332Z
UID:1892-1471392000-1471478399@namura.cc
SUMMARY:クリエイティブセンター大阪　ミニ見学ツアー vol.60
DESCRIPTION:近代化産業遺産に認定されている「名村造船跡地」=クリエイティブセンター大阪の館内見学ツアーです。\n造船所跡地の施設内をスタッフがご説明しながらご案内致します。\n※ツアー時間は40分程度を予定しております。（途中退場可） \n■日時　2016年8月17日（水）15:00 ※40分程度\nクリエイティブセンター大阪　入口警備員室前集合 \n■参加方法\n予約不要・現地集合／参加費は無料です。 \n■お問合せ\n06-4702-7085（クリエイティブセンター大阪）
URL:https://namura.cc/event/2016-08-17/
ATTACH;FMTTYPE=image/jpeg:https://namura.cc/wp-content/uploads/2022/12/b0f3769176eeffbd5abb90e91461dc87-e1677758490252.jpg
END:VEVENT
BEGIN:VEVENT
DTSTART;VALUE=DATE:20160808
DTEND;VALUE=DATE:20160809
DTSTAMP:20260423T070115
CREATED:20230310T063716Z
LAST-MODIFIED:20230310T063730Z
UID:1895-1470614400-1470700799@namura.cc
SUMMARY:CROSS～右脳を刺激しろ～
DESCRIPTION:□日時\n2016年8月8日（月） \n□詳しくは\nhttp://gamo-kansai.jp/seminar/cross/
URL:https://namura.cc/event/2016-08-08/
ATTACH;FMTTYPE=:
END:VEVENT
BEGIN:VEVENT
DTSTART;VALUE=DATE:20160723
DTEND;VALUE=DATE:20160724
DTSTAMP:20260423T070115
CREATED:20230310T062613Z
LAST-MODIFIED:20230310T062619Z
UID:1873-1469232000-1469318399@namura.cc
SUMMARY:大人の学園祭　〜 Lovely Pretty Happy 〜
DESCRIPTION:□日時\n7月23日(土)\nOPEN　13:00\nCLOSE　21:30 \n□チケット\n前売2000円/当日2500円 \n□詳しくは\n大人の学園祭facebook
URL:https://namura.cc/event/2016-07-23/
ATTACH;FMTTYPE=image/jpeg:https://namura.cc/wp-content/uploads/2023/03/20160712-otona2016.jpg
END:VEVENT
BEGIN:VEVENT
DTSTART;VALUE=DATE:20160718
DTEND;VALUE=DATE:20160719
DTSTAMP:20260423T070115
CREATED:20230310T062715Z
LAST-MODIFIED:20230310T062722Z
UID:1875-1468800000-1468886399@namura.cc
SUMMARY:SUMMERズボップくん2016
DESCRIPTION:□日時\n2016年7月18日(月祝)\nOPEN 11:00\nSTRAT 12:00 \n□チケット\nADV. ¥3000- \n□詳しくは\n愛はズボーン 公式HP
URL:https://namura.cc/event/2016-07-18/
ATTACH;FMTTYPE=image/jpeg:https://namura.cc/wp-content/uploads/2023/03/20160630-ZBP.jpg
END:VEVENT
BEGIN:VEVENT
DTSTART;VALUE=DATE:20160716
DTEND;VALUE=DATE:20160719
DTSTAMP:20260423T070115
CREATED:20230310T062936Z
LAST-MODIFIED:20230310T062945Z
UID:1879-1468627200-1468886399@namura.cc
SUMMARY:Salon des artistes Arata pendants Vol.4 第四回 アラタパンダン展
DESCRIPTION:□日時：\n2016年7月16日(土) – 18日(月)\n13:00 – 21:00\n(最終日のみ18:00まで)□作家\n浅井大河／いぬ／オカモトアユミ／釘宮麻由子／迫一成／\n下東英夫／鈴侑馬／タカギリオ／ながいゆい／林葵衣／平野新 \n□入場料＝Pay it yourself\n0円│500円 │700円│1\,000円（料金選択制）※\n※観覧料として頂く料金ではありません。今回頂いた入場料につきましては、次回展覧会及び企画運営費として使用いたします。 \n□クロージングパーティ\n‘City Boy Lounge × Arata pendants’\n17日（日）\, 19:00–22:00　入場料1\,000円（観覧料込み）\nhttps://www.facebook.com/cityboylounge/ \n\n  \n―アラタパンダン展とは\nフランス発祥の展覧会アンデパンダンと主催者の名前アラタを合わせて作られた造語。\nアンデパンダンの自由出品、無審査から象徴される自由な骨格をそのままに、\n分野、様式、ジャンル、キャリア、あらゆる尺度を取り払った新しい展覧会です。潮流、變化について\n私たちのプロジェクトは終着地点が決まらないまま出てしまった旅のようなものです。\n支流から支流へ流れのままに漂流し、舞台は造船所跡地へと移りました。\n私たちの思考は社会の状況や、周囲の環境、時間、場、ありとあらゆるものからあまねく影響を受け、日々（断続的に）變化していきます。\n本展は、變化に抗わず、受け入れる（認める）事で變化の顕在化を図り、\nさらにflux（潮流）というサブタイトルを設けます。\n新たな水脈で合流する作家、\n作品に結びつく視線、さらに各々が元いた支流へと還るまで。\nプロジェクトに関わる全てが作品となります。 \n二度と同じ川に足を踏み入れることはできない\nOne cannot step into the same river twice.\n—HERACLITUS \nhttp://www.aratapendants.net/\nhttps://www.facebook.com/aratapendants/\nhttps://twitter.com/Arata_pendants
URL:https://namura.cc/event/2016-07-16-2/
ATTACH;FMTTYPE=image/jpeg:https://namura.cc/wp-content/uploads/2023/03/20160705-aratap.jpg
END:VEVENT
BEGIN:VEVENT
DTSTART;VALUE=DATE:20160716
DTEND;VALUE=DATE:20160717
DTSTAMP:20260423T070115
CREATED:20230310T062835Z
LAST-MODIFIED:20230310T062842Z
UID:1877-1468627200-1468713599@namura.cc
SUMMARY:Dance Spirit Battle 関西大会
DESCRIPTION:□日時\n2016年7月16日（土）\n16:00〜 \n□詳しくは\nダンススピリットバトル （DSB）Facebook
URL:https://namura.cc/event/2016-07-16/
ATTACH;FMTTYPE=image/jpeg:https://namura.cc/wp-content/uploads/2023/03/20160630-dsp.jpg
END:VEVENT
BEGIN:VEVENT
DTSTART;VALUE=DATE:20160709
DTEND;VALUE=DATE:20160710
DTSTAMP:20260423T070115
CREATED:20230310T063022Z
LAST-MODIFIED:20230310T063029Z
UID:1882-1468022400-1468108799@namura.cc
SUMMARY:ONEBEENS　SUMMER LIVE 2016「新芽」
DESCRIPTION:□日時：\n2016年7月9日(土）\n14:00〜 \n□チケット\n500円 \n□詳しくは\nhttp://onebeens0.wix.com/onebeens
URL:https://namura.cc/event/2016-07-09/
ATTACH;FMTTYPE=:
END:VEVENT
BEGIN:VEVENT
DTSTART;VALUE=DATE:20160706
DTEND;VALUE=DATE:20160707
DTSTAMP:20260423T070115
CREATED:20230310T063108Z
LAST-MODIFIED:20230310T063114Z
UID:1884-1467763200-1467849599@namura.cc
SUMMARY:クリエイティブセンター大阪　ミニ見学ツアー vol.59
DESCRIPTION:近代化産業遺産に認定されている「名村造船跡地」=クリエイティブセンター大阪の館内見学ツアーです。\n造船所跡地の施設内をスタッフがご説明しながらご案内致します。\n※ツアー時間は40分程度を予定しております。（途中退場可） \n■日時　2016年7月6日（水）15:00 ※40分程度\nクリエイティブセンター大阪　入口警備員室前集合 \n■参加方法\n予約不要・現地集合／参加費は無料です。 \n■お問合せ\n06-4702-7085（クリエイティブセンター大阪）
URL:https://namura.cc/event/2016-07-06/
ATTACH;FMTTYPE=image/jpeg:https://namura.cc/wp-content/uploads/2022/12/b0f3769176eeffbd5abb90e91461dc87-e1677758490252.jpg
END:VEVENT
BEGIN:VEVENT
DTSTART;VALUE=DATE:20160619
DTEND;VALUE=DATE:20160620
DTSTAMP:20260423T070115
CREATED:20230310T062217Z
LAST-MODIFIED:20230310T062224Z
UID:1864-1466294400-1466380799@namura.cc
SUMMARY:Les Clefs dor collection
DESCRIPTION:□日時\n6月19日(日）\n14:00 START \n□チケット\n2800円 \n□詳しくは\nhttp://lesclefsdor-collection.com \n□主催　ネクストワンプロジェクト
URL:https://namura.cc/event/2016-06-19/
ATTACH;FMTTYPE=image/jpeg:https://namura.cc/wp-content/uploads/2023/03/20160602-619PR3.jpg
END:VEVENT
BEGIN:VEVENT
DTSTART;VALUE=DATE:20160610
DTEND;VALUE=DATE:20160613
DTSTAMP:20260423T070115
CREATED:20230310T062315Z
LAST-MODIFIED:20230310T062322Z
UID:1866-1465516800-1465775999@namura.cc
SUMMARY:NAMURA ART MEETING '04-'34 vol.05「臨界の芸術論 II ―10年の趣意書」 森村泰昌アナザーミュージアム&アーカイブルーム
DESCRIPTION:□日時\n2016年\n6月10日（土）・11日（日）・12日（月） \n13:00-19:00 \n□詳しくは\nhttp://nam04-34.jp/vol05_2.html
URL:https://namura.cc/event/2016-06-10/
ATTACH;FMTTYPE=image/jpeg:https://namura.cc/wp-content/uploads/2023/03/20160325-NAM05-FIX.jpg
END:VEVENT
BEGIN:VEVENT
DTSTART;VALUE=DATE:20160605
DTEND;VALUE=DATE:20160606
DTSTAMP:20260423T070115
CREATED:20230310T062414Z
LAST-MODIFIED:20230310T062421Z
UID:1868-1465084800-1465171199@namura.cc
SUMMARY:LZBN × 安床武士 Presents ROLL IN ROCK vol.1
DESCRIPTION:□日時\n2016年6月5日(日)\nOPEN/START 14:00 \n□TICKET\n￥3\,500- (1D別)\n※小学生以上有料/未就学児童は無料(要保護者同伴) \n□お問合せ\nTOTAL INFO\nFeelin 06-6537-7594
URL:https://namura.cc/event/2016-06-05/
ATTACH;FMTTYPE=image/jpeg:https://namura.cc/wp-content/uploads/2023/03/20160509-roll-o.jpg
END:VEVENT
BEGIN:VEVENT
DTSTART;VALUE=DATE:20160602
DTEND;VALUE=DATE:20160603
DTSTAMP:20260423T070115
CREATED:20230310T062503Z
LAST-MODIFIED:20230310T062511Z
UID:1870-1464825600-1464911999@namura.cc
SUMMARY:クリエイティブセンター大阪　ミニ見学ツアー vol.58
DESCRIPTION:近代化産業遺産に認定されている「名村造船跡地」=クリエイティブセンター大阪の館内見学ツアーです。\n造船所跡地の施設内をスタッフがご説明しながらご案内致します。\n※ツアー時間は40分程度を予定しております。（途中退場可） \n■日時　2016年6月2日（木）15:00 ※40分程度\nクリエイティブセンター大阪　入口警備員室前集合 \n■参加方法\n予約不要・現地集合／参加費は無料です。 \n■お問合せ\n06-4702-7085（クリエイティブセンター大阪）
URL:https://namura.cc/event/2016-06-02/
ATTACH;FMTTYPE=image/jpeg:https://namura.cc/wp-content/uploads/2022/12/b0f3769176eeffbd5abb90e91461dc87-e1677758490252.jpg
END:VEVENT
BEGIN:VEVENT
DTSTART;VALUE=DATE:20160529
DTEND;VALUE=DATE:20160530
DTSTAMP:20260423T070115
CREATED:20230310T061042Z
LAST-MODIFIED:20230310T061050Z
UID:1839-1464480000-1464566399@namura.cc
SUMMARY:春ロック2016
DESCRIPTION:□日時\n2016年5月29日(sun)\nOpen / Start 12:00/13:00 \n□チケット\n前売 3\,000円［入場時別途1drink代500円］\n当日 3\,500円［入場時別途1drink代500円］\n※開場時は、チケットに記載されている整理券順にお並びいただくこととなります。\n※再入場は別途500円が必要となります。\n※4歳以上のお子さまはチケットが必要となります。\n※座席は完全自由席となっており、数に限りがございます。混雑時にはお年寄りの方や妊婦のお客様に優先的にお譲りくださいまうようご協力お願いいたします。 \n□詳しくは\nhttp://camuro.jp
URL:https://namura.cc/event/2016-05-29/
ATTACH;FMTTYPE=image/png:https://namura.cc/wp-content/uploads/2023/03/20160525-harurock2016.png
END:VEVENT
BEGIN:VEVENT
DTSTART;VALUE=DATE:20160524
DTEND;VALUE=DATE:20160527
DTSTAMP:20260423T070115
CREATED:20230310T061149Z
LAST-MODIFIED:20230310T061157Z
UID:1841-1464048000-1464307199@namura.cc
SUMMARY:【庭劇団ペニノ】あの装置、公開「仕込み」します。
DESCRIPTION:岸田國士戯曲賞を受賞した「地獄谷温泉 無明ノ宿」の舞台装置の仕込み直し作業を大阪にて、公開で行います。\n舞台装置に興味のある方はもちろん、少しでも演劇やペニノにご関心のある方ならどなたでも、希有な舞台美術の作業風景に触れられる絶好の機会です。\n会場のクリエィティブセンター大阪は趣ある造船所跡地。\nライブの会場としても使用され、通常は入れない楽屋なども公開します。 \nご興味のある方、ぜひお申し込みお待ちしています！ \n□日程：\n5月24日　17時30分〜19時\n5月25日　14時〜19時\n5月26日　14時〜19時 \n□入場料\n無料\n※ご入場無料ですが、事前のお申し込みが必要です。 \n□お申し込み：\nご希望の日程と到着時間、代表者の方のお名前と連絡先を下記メールアドレスにお送り下さい。会場入り口にて係りの者がご案内致します。\nniwagekidan@gmail.com \n□問合せ：\n庭劇団ペニノ　080-4414-2828
URL:https://namura.cc/event/2016-05-24/
ATTACH;FMTTYPE=image/jpeg:https://namura.cc/wp-content/uploads/2023/03/20160511-butai.jpg
END:VEVENT
BEGIN:VEVENT
DTSTART;VALUE=DATE:20160522
DTEND;VALUE=DATE:20160523
DTSTAMP:20260423T070115
CREATED:20230310T061258Z
LAST-MODIFIED:20230310T061305Z
UID:1843-1463875200-1463961599@namura.cc
SUMMARY:HAPPY SOURCE presents 日本酒 MUSIC FESTIVAL
DESCRIPTION:□日時\n5月22日（日）\nOPEN 13:00\nSTART:13:30□チケット\nadv/3000yen door/3500yen \n□プレイガイド\neplus チケット販売情報\nhttp://eplus.jp/sys/T1U14P002187061P0030001P006001 \n□協賛、協力\n2mographic.Co.\,Ltd\n□制作\nAILA ENTERTAINMENT \n\n  \n□Live act\nTHE GAME SHOP／THE冠 ／KING BROTHERS ／SARM／EdgeDubMonkeyz／ELECTRIC MAMA□Guest Performar(ジャンル)\nMDP Masaki（マイケルダンスパフォーマー）／TAKURO （フリースタイルバスケット）／Fat Man Crew(ダブルダッチ) \n□Performar(ジャンル) \nPLAYERS（ボールアーティスト）／kazuki （ポールダンス）／minami （ポールダンス）／kaori×kyoko（フープ&ポールダンス）／Beleza Estrela NKCsambateam (サンバダンス)／Belly Divas (ベリーダンス)／Kukui (フラダンス)／大納言はぴ子（バーレスクダンス）／NaGaRe（パルクール）／GAREKI SQUAD (ダブルダッチ)／グリコ (ダブルダッチ)／G@S(ダブルダッチ)／Smirnoff (ダブルダッチ)／中華な感じもいいじゃない(ダブルダッチ)／サーモンピンク(ダブルダッチ)／神威 (ビートボックス) ／moEppi(ダンス)／SOUL LIMIT (ダンス)／D―FAITH★little（ダンス） ／Panic Face（ダンス）／ゆりゆりnumber(ダンス)／twins （ダンス）／MATSUKO（ダンス）／５NE（ダンス）／COOLS（キッズダンス）／urusay-yatura（キッズダンス）／パンドラボックス(キッズダンス) ／JENNI（キッズダンス） ／IGNITION（キッズダンス）／Grant Leauvas (スプレーアートパフォーマンス) ／佐渡仁美 chad. (舞書パフォーマンス） \n□出店Booth \nヘアセット Lieto＆LAX／路上詩人 リョウ／歌詩人 サド ／アクセサリー Solongo ／アクセサリー space monster ／ボディジュエリー Amiu ／ジェルチップネイル サロンドレェーヴ芦屋／着物体験 RYO／マッチョブース マッスルカフェ／Seeker Energy Drink／クロージング HYPOCRITE／Food はっぱや／Drink BAR KUKURU \n□Photo\nY.Yusuke \n□テキーラ&日本酒ガール\nTMサミット ／D-FAITH \n□DJ\nHAPPY SOURCE CREW \n□VJ\n2mo
URL:https://namura.cc/event/2016-05-22/
ATTACH;FMTTYPE=image/jpeg:https://namura.cc/wp-content/uploads/2023/03/20160425-nihonsyu2016.jpg
END:VEVENT
BEGIN:VEVENT
DTSTART;VALUE=DATE:20160520
DTEND;VALUE=DATE:20160523
DTSTAMP:20260423T070115
CREATED:20230310T061419Z
LAST-MODIFIED:20230310T061439Z
UID:1846-1463702400-1463961599@namura.cc
SUMMARY:IN/SECTS MAGAZINE PRESENTS「KITAKAGAYA FLEA」
DESCRIPTION:□日程：\n2016. 5.20（金）、21（土）、22（日）の3日間●時間や料金、予約についてほか、追加の出演者に関しましては順次発表□詳しくは\nhttp://www.insec2.com \n□共催：千島土地株式会社\n□協力：一般財団法人おおさか創造千島財団 \n\n  \n＜第2弾出演者発表＞\n□出演：\n5.21（土）　蓮沼執太『メロディーズ・ツアー2016 大阪』※ゲストあり\n5.22（日）　アサダワタル／DJ威力／辺口芳典／ゆうき（オオルタイチ＋ウタモ）、ほか□出店：\nあか とこ かえ（赤鹿麻耶× TOKO(The 光) × かえ(FUTATSUKUKURI)）／Appleの発音／IPPUKU／OURS.編集室／裏庭植物店／ON THE BOOKS／ondo／喫茶キンメ／capitolo 2 : civetteria o dandismo／旧ヤム邸／graf／黒木雅巳／COCHI CAFE／confiture de nia／THE GOOD THING／シチニア食堂／新月書房／森林食堂／鈴木裕之／strato／space eauuu／DAIYA MASION／タダユキヒロ／ドイツ菓子 FrauPilz／NEW PURE +／BAUSHOP／BAR人間（山フーズ＋山ト波＋山口洋佑）／BIOMAN／howse/Buddy Optical／ピンポン食堂／FOLK old book store & restaurant／foodscape!／prideri graphic lab／Buttah&アララギ／ぼちぼち農園／HOPKEN／MASAGON／match point／みんなのうえん／モアレ＆このえのこ、ナイスショップスー／yamsai & Pirate Utopia／吉本音盤相談所／LLAMA FACTORY、ほか
URL:https://namura.cc/event/2016-05-20/
ATTACH;FMTTYPE=image/jpeg:https://namura.cc/wp-content/uploads/2023/03/20160415-kitakagayaflea.jpg
END:VEVENT
BEGIN:VEVENT
DTSTART;VALUE=DATE:20160513
DTEND;VALUE=DATE:20160527
DTSTAMP:20260423T070115
CREATED:20230310T061539Z
LAST-MODIFIED:20230310T061545Z
UID:1850-1463097600-1464307199@namura.cc
SUMMARY:mt ex展 CCO
DESCRIPTION:□日時：\n2016年5月13日（金）-26日（木）\n10:00-19:00 \n□入場無料 \n□詳しくは\nhttp://www.masking-tape.jp
URL:https://namura.cc/event/2016-05-13/
ATTACH;FMTTYPE=image/jpeg:https://namura.cc/wp-content/uploads/2023/03/20160511-mtcco.jpg
END:VEVENT
BEGIN:VEVENT
DTSTART;VALUE=DATE:20160511
DTEND;VALUE=DATE:20160512
DTSTAMP:20260423T070115
CREATED:20230310T061636Z
LAST-MODIFIED:20230310T061643Z
UID:1852-1462924800-1463011199@namura.cc
SUMMARY:クリエイティブセンター大阪　ミニ見学ツアー vol.57
DESCRIPTION:近代化産業遺産に認定されている「名村造船跡地」=クリエイティブセンター大阪の館内見学ツアーです。\n造船所跡地の施設内をスタッフがご説明しながらご案内致します。\n※ツアー時間は40分程度を予定しております。（途中退場可） \n■日時　2016年5月11日（水）15:00 ※40分程度\nクリエイティブセンター大阪　入口警備員室前集合 \n■参加方法\n予約不要・現地集合／参加費は無料です。 \n■お問合せ\n06-4702-7085（クリエイティブセンター大阪）
URL:https://namura.cc/event/2016-05-11/
ATTACH;FMTTYPE=image/jpeg:https://namura.cc/wp-content/uploads/2022/12/b0f3769176eeffbd5abb90e91461dc87-e1677758490252.jpg
END:VEVENT
END:VCALENDAR