BEGIN:VCALENDAR
VERSION:2.0
PRODID:-//クリエイティブセンター大阪（CCO） - ECPv6.2.1//NONSGML v1.0//EN
CALSCALE:GREGORIAN
METHOD:PUBLISH
X-WR-CALNAME:クリエイティブセンター大阪（CCO）
X-ORIGINAL-URL:https://namura.cc
X-WR-CALDESC:クリエイティブセンター大阪（CCO） のイベント
REFRESH-INTERVAL;VALUE=DURATION:PT1H
X-Robots-Tag:noindex
X-PUBLISHED-TTL:PT1H
BEGIN:VTIMEZONE
TZID:Asia/Tokyo
BEGIN:STANDARD
TZOFFSETFROM:+0900
TZOFFSETTO:+0900
TZNAME:JST
DTSTART:20130101T000000
END:STANDARD
END:VTIMEZONE
BEGIN:VEVENT
DTSTART;VALUE=DATE:20140810
DTEND;VALUE=DATE:20140811
DTSTAMP:20260423T204957
CREATED:20230302T123147Z
LAST-MODIFIED:20230302T123147Z
UID:1498-1407628800-1407715199@namura.cc
SUMMARY:8／10コスプレイベント“COS・JOY”中止のお知らせ
DESCRIPTION:本日8月10日に予定しておりましたCOS・JOY大阪in造船跡地は台風11号接近に伴い、敷地入口に設置されている防潮堤が大阪府治水事務所の指示により防潮堤閉鎖され、イベントの開催が中止せざる負えなくなりましたので、お知らせいたします。
URL:https://namura.cc/event/2014-08-10/
ATTACH;FMTTYPE=image/jpeg:https://namura.cc/wp-content/uploads/2023/03/20140810-zousenindex.jpg
END:VEVENT
BEGIN:VEVENT
DTSTART;VALUE=DATE:20140808
DTEND;VALUE=DATE:20140809
DTSTAMP:20260423T204957
CREATED:20230302T123257Z
LAST-MODIFIED:20230302T123303Z
UID:1500-1407456000-1407542399@namura.cc
SUMMARY:クリエイティブセンター大阪　ミニ見学ツアー vol.36
DESCRIPTION:近代化産業遺産に認定されている「名村造船跡地」=クリエイティブセンター大阪の館内見学ツアーです。\n造船所跡地の施設内をスタッフがご説明しながらご案内致します。\n※ツアー時間は40分程度を予定しております。（途中退場可） \n■日時　2014年8月8日（金）　15:00 ※40分程度\nクリエイティブセンター大阪　入口警備員室前集合 \n■参加方法\n予約不要・現地集合／参加費は無料です。 \n■お問合せ\n06-4702-7085（クリエイティブセンター大阪）
URL:https://namura.cc/event/2014-08-08/
ATTACH;FMTTYPE=image/jpeg:https://namura.cc/wp-content/uploads/2022/12/b0f3769176eeffbd5abb90e91461dc87-e1677758490252.jpg
END:VEVENT
BEGIN:VEVENT
DTSTART;VALUE=DATE:20140803
DTEND;VALUE=DATE:20140804
DTSTAMP:20260423T204957
CREATED:20230302T123417Z
LAST-MODIFIED:20230302T123423Z
UID:1502-1407024000-1407110399@namura.cc
SUMMARY:劇団子供鉅人 大阪最後の大宴会!!!「オオサカ・ファイナル・デー！〜東京行ってくるデー！〜」
DESCRIPTION:大阪・関西のみなさん、こんにちは！劇団子供鉅人です！我々は２０１４年の夏、生まれ故郷大阪から東京にお引っ越しします。ほんまに離れがたい大阪なんですが、新しいステップを踏み出すための決断です！これまで我々を見守り、育ててくれた大阪と関西のみなさんに感謝の気持ちと出発の決意をこめて、劇団子供鉅人、大阪最後の大宴会を開催します！昼から夜までどんちゃん騒ぎの８時間！みんな、来てや！来てや！来てや〜〜〜!!!!!!!!!!来なけりゃ泣く!!!!!!!!!!!! \n□日時\n2014年8月3日（日）\nOPEN 14:00/START 14:30/END 22:00 \n□料金\n2500円（1ドリンク付／予約不要／当日受付） \nタイムテーブル近日公開！詳しくは劇団HPまで！\nhttp://www.kodomokyojin.com \n□出演\n劇団子供鉅人・オールスターズ／シアタースコア（イガキアキコ＋中林キララ＋かんのとしこ＋三原智行＋宮田あずみ＋ワタンベ）／デグルチーニ／たゆたう／さとりらんぽ（佐伯真有美＋PIKA☆＋呉山夕子）　／小倉向＋松原哲也（白い汽笛）／DJメメント　　他 \n□FOOD\n谷口カレー／ピンポン食堂／満腹寺　他 \n□展示\n橋本大和／明地清恵／高木陽春／　他 \n□トークショー\n中村悠介（インセクツ）西尾孔志（映画監督）／小田島等（イラストレーター）／服部滋樹（graf代表）　／益山貴司（劇団子供鉅人代表） \n□イベント　「オノマトペプロレス特別大会」一般参加部門／プロ部門大会 \n□東京資金SOSオークション！
URL:https://namura.cc/event/2014-08-03/
ATTACH;FMTTYPE=image/jpeg:https://namura.cc/wp-content/uploads/2023/03/20140722-osaka_finalday.jpg
END:VEVENT
BEGIN:VEVENT
DTSTART;VALUE=DATE:20140802
DTEND;VALUE=DATE:20140803
DTSTAMP:20260423T204957
CREATED:20230302T123528Z
LAST-MODIFIED:20230302T123539Z
UID:1504-1406937600-1407023999@namura.cc
SUMMARY:鳥公園ワークショップ「書きたてほやほやの鳥公園新作『空白の色はなにいろか？』の 戯曲を公演会場で俳優より先に
DESCRIPTION:鳥公園ワークショップ\n「書きたてほやほやの鳥公園新作『空白の色はなにいろか？』の\n戯曲を公演会場で俳優より先に読んでみる」 \n■日時\n2014年8月 2日( 土)\n13 : 00 – 17 : 00\n受付・開場12: 30 – \n■料金 参加者1 0 0 0 円、見学者5 0 0 円 \n■申込方法\n以下の項目をi n f o . b i r d p a r k @ g m a i l . c o m までご連絡くださ \n│参加の場合│…お名前、年齢、演劇経験の有無、ご連絡先。\n│見学の場合│…お名前、ご連絡先。 \n詳しくは\nhttp://bird-park.info
URL:https://namura.cc/event/2014-08-02/
ATTACH;FMTTYPE=:
END:VEVENT
BEGIN:VEVENT
DTSTART;VALUE=DATE:20140725
DTEND;VALUE=DATE:20140728
DTSTAMP:20260423T204957
CREATED:20230302T120200Z
LAST-MODIFIED:20230302T120934Z
UID:1451-1406246400-1406505599@namura.cc
SUMMARY:第20回日本国際パフォーマンス・アート・フェスティバル（ニパフ'14）in 大阪
DESCRIPTION:第20回日本国際パフォーマンス・アート・フェスティバル（ニパフ’14）ニパフ’14東京—ニパフ’14大阪—ニパフ’14信州セミナー—ニパフ’14長野 \n人間の威力！芸術の威力！ニパフの威力！ \n大阪公演\n■日時：\n7月25日(金)　19:00〜（開場 18:30）\n7月26日(土)　19:00〜（開場 18:30）\n7月27日(日) 　16:00〜（開場 15:30）\n＊出演者は毎日異なります。毎日6−10名の出演。各10〜20分の作品。計２時間程度。途中入退場可。開場は開演30分前です。 \n［付帯イベント］\n◆アーティスト・トーク：海外アーティストが各国の状況を語る。随時通訳付き。\n7月24日(木)　18:00-20:00\n会費：学生1\,000円、一般1\,200円。\n野外パフォーマンス：自然の中のパフォーマンス。 \n■入場チケット\n・学生前売2\,200円（当日＋300円）\n・一般前売2\,500円（当日＋300円）\n・高校生1\,500円（当日のみ） \n［東京・大阪］\n・学生３日券6\,000円\n・一般３日券7\,000円 \n◆問合せ・予約；090-1652-9127 または E-mail:nipaf@avis.ne.jp\n◆Face Book：http://www.facebook.com/NIPAF \n◆出演アーティスト\n［海外］全カ所出演\n１バルトローメ・フェランド（スペイン・バレンシア、男）\n２モニカ・ギュンター＆ロディー・シル（スイス・ルーチェルン、女＆男、東京・大阪のみ）\n３リチャード・キッタ（スロバキア・コシューチェ、男）\n４モイーン・ファトマ（インド・デリー、女）\n５グエン・プオン・リン（ベトナム・ハノイ、女）\n６シャイラ・ジナット・ルニ（バングラデシュ・クルナ、女）\n７リティ・マハルジャン（ネパール・ラリトゥプール、女）\n８ワタン・ウマ（台湾・新竹、男）\n９ソン・ヌンギョン（韓国・ソウル、男） \n［日本］（出演地）\n１霜田誠二（全カ所）、２黒田オサム（全カ所）、３倉田めば（全カ所）、４犬飼美也妃（全カ所）、５濱田明李（全カ所）、６正田ユミ子（東京・大阪）、７小林清乃（東京・大阪）、８鎌田寛子（東京）、９小笠原里美（東京）、10張慈恩（東京）、11杉英恵（東京）、 12亘敏治（大阪）、13大橋正教（大阪）、14諸見里太志（大阪）、15山本彩織（大阪） \n◆主　催；日本国際パフォーマンス・アート・フェスティバル（ニパフ）実行委員会（代表：霜田誠二）\n◆共　催；東京NIPAF、大阪NIPAF、長野NIPAF\n◆協　力；3331 Arts Chiyoda、クリエイティブ・センター大阪、ネオン・ホール\n◆助　成；日本芸術文化振興会、おおさか千島創造財団、長野市芸術文化振興基金
URL:https://namura.cc/event/20140725/
ATTACH;FMTTYPE=image/jpeg:https://namura.cc/wp-content/uploads/2023/03/20140710-10406714_291241754387581_8859102219228406854_n.jpg
END:VEVENT
BEGIN:VEVENT
DTSTART;VALUE=DATE:20140717
DTEND;VALUE=DATE:20140718
DTSTAMP:20260423T204957
CREATED:20230302T121536Z
LAST-MODIFIED:20230302T121536Z
UID:1475-1405555200-1405641599@namura.cc
SUMMARY:7月20日Fight club vol\,17中止のお知らせ
DESCRIPTION:本日(7/17)、主催者のfight club 運営事務局より、7/20（日）に予定しておりました「Fight club vol\,17」を急遽中止しますと連絡がありましたので、ご報告いたします。 \n詳細につきましては、fight club 運営事務局までお問合せ下さい。 \nクリエイティブセンター大阪
URL:https://namura.cc/event/2014-07-17/
ATTACH;FMTTYPE=image/jpeg:https://namura.cc/wp-content/uploads/2023/03/20140717-0720cancel.jpg
END:VEVENT
BEGIN:VEVENT
DTSTART;VALUE=DATE:20140708
DTEND;VALUE=DATE:20140709
DTSTAMP:20260423T204957
CREATED:20230302T121649Z
LAST-MODIFIED:20230302T121657Z
UID:1477-1404777600-1404863999@namura.cc
SUMMARY:クリエイティブセンター大阪　ミニ見学ツアー vol.35
DESCRIPTION:近代化産業遺産に認定されている「名村造船跡地」=クリエイティブセンター大阪の館内見学ツアーです。\n造船所跡地の施設内をスタッフがご説明しながらご案内致します。\n※ツアー時間は40分程度を予定しております。（途中退場可） \n■日時　2014年7月8日（火）　15:00 ※40分程度\nクリエイティブセンター大阪　入口警備員室前集合 \n■参加方法\n予約不要・現地集合／参加費は無料です。 \n■お問合せ\n06-4702-7085（クリエイティブセンター大阪）
URL:https://namura.cc/event/2014-07-08/
ATTACH;FMTTYPE=image/jpeg:https://namura.cc/wp-content/uploads/2022/12/b0f3769176eeffbd5abb90e91461dc87-e1677758490252.jpg
END:VEVENT
BEGIN:VEVENT
DTSTART;VALUE=DATE:20140706
DTEND;VALUE=DATE:20140707
DTSTAMP:20260423T204957
CREATED:20230302T121849Z
LAST-MODIFIED:20230302T121857Z
UID:1479-1404604800-1404691199@namura.cc
SUMMARY:CIRCUS 2nd Anivesary special! DJ HARVEY 25TH ANNIVERSARY TOUR OF JAPAN supported by NEIGHBORHOOD ×Mr Ties 1st Japan Tour 2014
DESCRIPTION:“神に最も近い男” DJ HARVEYが来日25周年記念ツアーを開催！20年以上に渡り数々の伝説を生んできた男「DJ HARVEY」。ダンスミュージック・シーンの絶対王者が新たな伝説を刻む瞬間をぜひ現場で目撃してほしい。そして現在のリアルBerlin No1Partyと称されるHomopatikを主催する若きカリスマDJ’s DJ、Mr Tiesが遂に初来日！大阪名村造船所跡地(STUDIO PARTITA)にて夢の競演が実現! \n□日時・料金 2014年7月6日（日）\nOPEN 15:00\nADV:3500\nDOOR:4000\n(別途1ドリンク代金500円必要) \n□チケット\nチケットぴあ　0570-02-9999(P-code:235-227)\nローソンチケット 0570-084-005(L-code:59579)\nCN playguide 0570-08-9999\nCN playguide 　 0570-08-9999\ne+　http://eplus.jp/ \n\n  \nMAIN ROOM::\nDJ HARVEY (Locussolus\, Wildest Dreams / LA) / Mr Ties(Homopatik/Berlin) /\nKENJI TAKIMI(Crue-L / Being Borings)OPEN AIR::\nDJ AGEISHI(AHB pro)/ Yoshihiro Okino(KYTOTO JAZZ MASSIVE )/ ESPECIAL RECORDS)\n/ MANGOOSE(NEWTONE RECORDS)/DJ YASUHISA(TetralogisticS)/Keiburger\nVJ:KOZEE　LIGHTING:SOLA
URL:https://namura.cc/event/2014-07-06/
ATTACH;FMTTYPE=image/jpeg:https://namura.cc/wp-content/uploads/2023/03/20140526-DJ-Harvey730.jpg
END:VEVENT
BEGIN:VEVENT
DTSTART;TZID=Asia/Tokyo:20140603T150000
DTEND;TZID=Asia/Tokyo:20140603T160000
DTSTAMP:20260423T204957
CREATED:20230213T060027Z
LAST-MODIFIED:20230511T030833Z
UID:531-1401807600-1401811200@namura.cc
SUMMARY:クリエイティブセンター大阪　ミニ見学ツアー vol.34
DESCRIPTION:近代化産業遺産に認定されている「名村造船跡地」=クリエイティブセンター大阪の館内見学ツアーです。\n造船所跡地の施設内をスタッフがご説明しながらご案内致します。\n※ツアー時間は40分程度を予定しております。（途中退場可） \n■日時　2014年6月3日（火）　15:00 ※40分程度\nクリエイティブセンター大阪　入口警備員室前集合 \n■参加方法\n予約不要・現地集合／参加費は無料です。 \n■お問合せ\n06-4702-7085（クリエイティブセンター大阪）
URL:https://namura.cc/event/20140603/
ATTACH;FMTTYPE=image/jpeg:https://namura.cc/wp-content/uploads/2022/12/b0f3769176eeffbd5abb90e91461dc87-e1677758490252.jpg
END:VEVENT
BEGIN:VEVENT
DTSTART;VALUE=DATE:20140527
DTEND;VALUE=DATE:20140528
DTSTAMP:20260423T204957
CREATED:20230302T115434Z
LAST-MODIFIED:20230302T115848Z
UID:1446-1401148800-1401235199@namura.cc
SUMMARY:CITY SENTO
DESCRIPTION:RE-THINKING THE JAPAN BATH \nA DESIGN RESEARCH INSTALLATION BY DUTCH DESIGNER HARM RENSINK \n■日時\n2014年5月27日（火）10.00-15.00\nTUESDAY MAY 27TH 10.00-15.00 \n■入場料\n無料（FREE) \n■場所\nSTUDIO PARTITTA \n■アーティスト\nHARM RENSINK \nWWW.HARMRENSINK.NL
URL:https://namura.cc/event/20140527/
ATTACH;FMTTYPE=image/png:https://namura.cc/wp-content/uploads/2023/03/20140522-CITY-SENTO-1.png
END:VEVENT
BEGIN:VEVENT
DTSTART;VALUE=DATE:20140524
DTEND;VALUE=DATE:20140525
DTSTAMP:20260423T204957
CREATED:20230213T060905Z
LAST-MODIFIED:20230213T063205Z
UID:534-1400889600-1400975999@namura.cc
SUMMARY:写音プロジェクト
DESCRIPTION:名村造船所の野外とスタジオでのコスプレ撮影会＋アニソンライブ＋廃墟VJ＋工場VJ＋VOGUEの奇跡のサブカルMIX！\n造船所跡地という産業遺産に眠る＜廃墟のポテンシャル＞を最大限活かしたユニークな空間で、最大限に出来ることを考えたらこうなってしまったイベント！！！ \n■日時\n2014年5月24日（土）\n>前半イベント\n野外とスタジオでのコスプレ撮影会\n10:00-15:30\n>後半イベント\nアニソンバンドライブ・VOGUEダンス・廃墟DJ・工場DJ！\n16時?20時\n■参加費\nコスプレイヤー：1500円\nカメラマン・ライブ参加者一律：2500円\n16時からのイベントから参加される方はワンドリンクチケットが付きます。通しで参加するレイヤーさんは断然お得！！ \n詳細情報\nhttp://doitehu.wix.com/syaon \n造船所跡地という産業遺産に眠る＜廃墟のポテンシャル＞を最大限活かしたユニークな空間で、最大限に出来ることを考えたらこうなってしまったイベント！！！ \n前半と後半に分かれたイベント！\n前半は名村造船所のスタジオPARTITAとその周囲でコスプレ撮影会を開催！\n後半はアニソンライブ・VOGUE・廃墟工場VJを開催！コスプレ衣装のままで参加オッケー！！ \nさらに！海外のジョジョ立ちといわれる「VOGUE（ヴォーグ）」。\nN.Y、日本、台湾など国際的に活躍するプロの方がヴォーギングを踊ってくれます！ヴォーグのかっこよさに触れたら、自分もやってみたくなる。\n出来るだけ参加型のイベントにしたいのでコスプレランウェイ（参加自由）もします！お気に入りのキャラクターでキメ顔キメポーズでかっこよく歩きましょう！歩き方はVOGUEダンサーがわかりやすくお手本をみせてくれます！！ \n廃墟DJ・VJによる廃墟写真を見ながらのDJ！大スクリーンに映し出される廃墟をたっぷり堪能しよう！ \n最後は工場・インダストリアルミュージック。CMや某アニメ映画などに楽曲を提供しているプロによる工場DJ・VJが参戦！\nサブカルチャー好きにはたまらない内容がギッチリ詰まっています！ \n【オールジャンルコスプレ撮影会】\n■海辺・工場・倉庫、スタジオと幅広いコスプレが可能！\n■PARTITA周辺と中のスタジオが撮影場所になります。\n＊音響リハーサルも同時に行っています。\n■露出は過度でない限り規制ありません。\n■男性の女装はご遠慮ください。\n■金属製武器類、鉄、アルミ、ステン等の模造刀類や銃類等も約1ｍサイズまでなら可能。\n＊男性・女性更衣室それぞれ用意しています。\n＊男性カメラマンさんのご参加はＯＫです。\n＊16時以降は外撮影は出来なくなります。\n＊シャワールームに大きな鏡があります。\n＊貴重品をしまうロッカー完備。\n＊16時以降はドリンクカウンター以外の飲食の持込ができなくなります。\n■タイムスケジュール\n◆午前10 時から15 時半 Partita スタジオ内・外会場で撮影会＊撮影会中もスタジオでは音響設備の準備を同時に行っています。\n◆夕方16 時からPartita 屋内スタジオでClubフェス 開始\nアニソンライブ・アニソンDJ・VOGUE・コスプレランウェイ・廃墟VJ・工場VJ\n会場終了20 時予定（3時間?3時間半を予定） \n【出演者一覧】\n◆1000SAY　-A THOUSAND SAY-\n男女ツインヴォーカル・エレクトロサウンドを基調としたバンドサウンドは、デジタルとアナログを包括し、彼らの掲げるコンセプト『次世代ファンタジー』を体現する。\n映像、アート、ファッション、イラストなど日本ポップクリエーターとのコラボレーションなど、その表現は多岐にわたり高い評価を得ている。\n◆VOGUE\nN.Y、台湾、日本で国際的に活躍するVOGUEダンスからは日本のファーザーといわれるモニカ・ミズラヒが出演！！あのハウス・オブ・ニンジャともならぶVOGUEのカリスマの一人。\n◆廃墟DJ・VJ\nむー（ウルエ）\nロックバンド『ウルエ』のメンバーとしてキーボード、アレンジを担当。独創的な音使いで賛否を呼ぶ。\n個人での活動は、純粋芸術音楽のプロデュース、舞台音響など、キーボーディストの枠を超えて活躍中。 \n夢煙夏士\n廃墟写真・コスプレ写真家。雑誌にも記事を寄稿している。またVOCALOID（ボーカロイド・ボカロ）Pでもある。\nイベントに一切参加しないことでも有名（笑） \n◆工場DJ・VJ\nJUNICHI WATANABE\n333-333-333Records主催。インダストリアルミュージックを基軸に作品を発表する傍ら、ファッションショーの選曲やKYOSHOのプロモミュージック、Wowowで放送された「R60スネークマンショー」のエンディング曲等を手がけ、幅広く活動している。\nライブやDJでは映像のディレクションも手がけ、音とビジュアルでノイジーかつ攻撃的な世界観を構築させている。\nVJ：メガドリル \n◆プロモーションレイヤー\n三夏\n関西を中心に活動する実力派コスプレイヤー。\n写音プロジェクトのプロモーションレイヤーとして参加！！多彩なキャラクターになり愛くるしい笑顔でファンを魅了する！！ \nチャリティーイベントも開催！！！\n◆東北ライブハウス大作戦\n東北のライブハウスを盛り上げるため、復活させ同じようなイベントを開催するためにこのイベントで集めた募金を全額寄付します！！！\nhttp://www.livehouse-daisakusen.com/
URL:https://namura.cc/event/20140524/
ATTACH;FMTTYPE=image/jpeg:https://namura.cc/wp-content/uploads/2023/02/20140425-mikka.jpg
END:VEVENT
BEGIN:VEVENT
DTSTART;VALUE=DATE:20140518
DTEND;VALUE=DATE:20140519
DTSTAMP:20260423T204957
CREATED:20230213T063854Z
LAST-MODIFIED:20230213T074940Z
UID:540-1400371200-1400457599@namura.cc
SUMMARY:Kansai Celtic Music Festival DEMAT!
DESCRIPTION:■日時\n2014年5月18日（日）\nOPEN 12:00\nSTART 12:30\nCLOSE 21:30 \n■チケット\nADV. ￥2\,000\nDOOR ￥2\,500 \n一般発売：３月4日（水）10：00- \n【チケットの購入方法】\nｅ＋（イープラス）　http://eplus.jp/（ＰＣ・携帯共通）\nファミリーマート店内ファミポート\nプレイガイドの購入方法に従い、お求めください。 \n■お問合せ\n“DEMAT!” インフォメーション・コンタクト\nKansaiBreizh\ninfo@kansaibreizh.com \nhttp://kansaibreizh.com/demat/ Brieg Guerveno \nフランスのブルターニュ地方出身のシンガーソングライターBrieg Guervenoは７０年代フォークロックから近代的ロックメタルまで多様なジャンルの音楽を提供し、影響を与えている。\nブルトン語で書かれた詞にはメロディーとは対象的に、悲観的感情や現代社会に対する抵抗といった気持ちが刻まれている。\n透き通って、また心を動かされるような魅力的な歌声は私たちを彼が創造する音楽の世界、そして漸進的なロックの世界に導いてくれる。\n2006年、ソロ活動を始め自身初のフォークロックレコード”SedeR”を発売。彼のグループを連れてBrest 2008\, Pan Celtic Festival (Irlande)\, Dazibao\, La Gallésie en Fête\, le festival des Filets Bleus\, le festival des Chants de Marinなどに出演。\n2011年、Coop Breizhから初アルバム “Noziou Deiou”を発売。\n2012年、ブルトンのロック界で有名なベーシストXavier SoulabailとドラマーJoachim Blanchetが加入。10月には無料ダウンロードレコード”Bleuniou ad distruj”を発売し大きな成功を収める。数ヵ月後、ブルターニュ地方とFrance 3から“2012年ブルトン語レコード最優秀賞”を受賞。\nBrieg Guervenoと彼のグループは今後さらに勢いを増し、ブルターニュロックの再生のシンボルとなるような革新をもたらすだろう。 \nSuperbelle \nレッテルや分類は忘れよう。\nアイルランド伝統音楽のエッセンスに、ブレイクコアーのパワー、エレクトロとジャズの風味を加え、全部をミックス。 これをプレイリストに入れて、夜を待つ。 これで「スーパーベル」の音楽の出来上がり。 ビタミンたっぷりでエネルギッシュ、時には羽目をはずすこともある。 パリの路地とダブリンのパブの匂い、この二都市の夜をかけ合わせたように、さまざまなジャンルや味わいの混合。 ともかく彼らについて行こう。「スーパーベル」の音楽がどんなに身近に感じられても、まだ行き先はわからないから。 \nMohikan Family’s \nティンホイッスル、アコーディオン、ヴォーカル、ガットギター、ウッドベース、ドラムの6人からなる編成で、大阪を中心に活動するアコースティックロックバンド。\nアイリッシュ、ジプシー、ケルト、クレツマー、フラメンコ、ミュゼットなどのヨーロッパトラッドミュージックをベースにロックやラテン、その他いろんな要素を混ぜ込んだワールドミクスチャーミュージックを展開中。\nロックなどに飽き足らず、ワールドミュージックに手を出してしまい、アコースティックの気持ちよさを体感！\nこれをきっかけに実験的な融合を試みながら新しいアコースティックミュージックの有り方を現在進行形で目指す。 \nRevili’o \n前身のJAD、Thy Countyを経て2012年結成。\n2011年、当初は野原武と梶野潤の2名で曲作りやライブを行っていたが、翌2012年春、持田桐と山崎大輔（共に元JAD）が加入。\nこれを機に、バンドを正式にRevili’O（レビリオ）と名付ける。語源は野原による造語。\nその数ヶ月後、たまたま大阪でのライブ後に出会った高木大貴（元Haggis）と意気投合し、その場で加入。\nしばらく打楽器無しの編成で活動していたが、2013年に入って間も無くアイリッシュパブでの演奏後に山本壮典が声をかけてくる。そのまま加入。\n現在に至る。\nIrish、Old American trad、Alt.Countryをベースにしたフォークロックバンド。\nメンバーは基本的に6名だが、ライブによって編成が変わる。特に小編成の場合はドラム＆ベースレスとなる事が多く、より素朴で土臭い雰囲気を前面に押し出したスタイルとなる。\nまたこうした小編成時は自らを”Revili’O&Sons”と名乗り、6名での活動内容とは差別化を図っている。\n因みにメンバー間の年齢&居住地の差が広い。 \nSamurai Celt Mine \n笛師 清水俊介率いる和製ケルティックバンド。\n日本人であること、また海外で長く暮らし、旅した経験から\n生まれる楽曲は世界情緒に溢れる。\nアイルランド、ガリシア、ブルターニュ等のケルト音楽のリズムに\nメンバー独自のグルーヴをのせて奏でる。\nFlute&Whistle\, Fiddle\, Woodbass\, Cajon\, Guitar等の木製楽器を使用し、\n楽曲の激しさや切なさの中にも木のぬくもりや優しさを感じさせる。\n日本の古都 京都を中心に活動中。 \nLes Korrigans \n現代でもフランスの各地で踊り会が行われている。日本でもフランスの踊り会が開かれており、そこで結成されたのが”Korrigan –コリガン-“。 アイリッシュ音楽などの楽を愛するメンバーが集まり、踊り会で踊れる音楽を奏でています♪
URL:https://namura.cc/event/20140518/
ATTACH;FMTTYPE=image/jpeg:https://namura.cc/wp-content/uploads/2023/02/20140429-Kansai-Celtic-Music-Festival-DEMAT.jpeg
END:VEVENT
BEGIN:VEVENT
DTSTART;VALUE=DATE:20140511
DTEND;VALUE=DATE:20140512
DTSTAMP:20260423T204957
CREATED:20230213T064153Z
LAST-MODIFIED:20230213T071114Z
UID:543-1399766400-1399852799@namura.cc
SUMMARY:春ロック2014
DESCRIPTION:CAMURO DANCE STUDIO presents 遊べる！踊れる！カムロのお祭りイベント！！ \n■日時\n2014年5月11日(日)\nOPEN　13:00／STRAT　14:00 \n■チケット\n前売2500円\n当日3000円\n※どちらも別途ドリンク代500円がかかります \nTICKET INFO\nローソンチケット 0570-084-005　［Lコード 58596］ \n詳しくは\nhttp://camuro.jp/news/ ・MC 　AMI / ゴルフ\n・DJ　TOGASHI / K-Katsu \n【GUEST DANCER】\n■おかま更衣室 ■甘いTAA!!■エリツィン＋SHUN＋れな＋KAISEI■AUM ■Beats Me!Beasty Me! ■BRUISES.W■C ■choreOringz ■DUMMY!!!! ■EROTIC JAPAN■HAYESTA ■ILL CLASSIC ■Jacuzzi ■MAHINA&MICO ■MO☆JO ■Nextep ■RUMBLE ■SECOND LINE CREW \n【SOLO PERFORMANCE】\nJohn／LARRSON \n【LIVE】\n■yurisa LIVE choreo Kyo-hey
URL:https://namura.cc/event/20140511/
ATTACH;FMTTYPE=image/jpeg:https://namura.cc/wp-content/uploads/2023/02/20140429-harurokku.jpg
END:VEVENT
BEGIN:VEVENT
DTSTART;VALUE=DATE:20140506
DTEND;VALUE=DATE:20140507
DTSTAMP:20260423T204957
CREATED:20230213T065018Z
LAST-MODIFIED:20230511T030812Z
UID:546-1399334400-1399420799@namura.cc
SUMMARY:クリエイティブセンター大阪　ミニ見学ツアー vol.33
DESCRIPTION:近代化産業遺産に認定されている「名村造船跡地」=クリエイティブセンター大阪の館内見学ツアーです。\n造船所跡地の施設内をスタッフがご説明しながらご案内致します。\n※ツアー時間は40分程度を予定しております。（途中退場可） \n■日時\n2014年5月6日（火祝）　15:00 ※40分程度\nクリエイティブセンター大阪　入口警備員室前集合 \n■参加方法\n予約不要・現地集合／参加費は無料です。 \n■お問合せ\n06-4702-7085（クリエイティブセンター大阪）
URL:https://namura.cc/event/20140506/
ATTACH;FMTTYPE=image/jpeg:https://namura.cc/wp-content/uploads/2022/12/b0f3769176eeffbd5abb90e91461dc87-e1677758490252.jpg
END:VEVENT
BEGIN:VEVENT
DTSTART;VALUE=DATE:20140427
DTEND;VALUE=DATE:20140428
DTSTAMP:20260423T204957
CREATED:20230213T065755Z
LAST-MODIFIED:20230213T065755Z
UID:548-1398556800-1398643199@namura.cc
SUMMARY:MOODYMANNJAPAN TOUR OSAKA -SUNDAY AFTERNOON SPECIAL-
DESCRIPTION:CIRCUS&AHB PRODUCTIONS presents\nMOODYMANNJAPAN TOUR OSAKA -SUNDAY AFTERNOON SPECIAL- \n■日時\n2014年4月27日(日)\nOPEN 15:00／CLOSE 23:00 \n■チケット\n前売:3\,500円\n当日:4\,000円\n※各プレイガイドで3月1日から発売開始! \n■出演\nMOODYMANN\nAnd more specials!! >Moodymann (KDJ\, Mahogani Music / From Detroit) \nデトロイトを拠点に活動するアーティスト、MoodymannことKenny Dixon Jr。現\n代そして今後のダンスミュージックやブラックミュージックを語る上で決して無\n視出来ない存在である。 \nデトロイトテクノ名門レーベルPlanet Eよりファーストアルバム『Silent\nIntroduction』をリリースし、その後Peace Frogよりアルバム『Mahogany\nBrown』\,『Forevernevermore』\,『Silence In The Secret Garden』\,『Black\nMahogani』をリリース。『Black Mahogani』の続編『Black Mahogani ? ~ the\nPitch Black City Collection ~』では、もはやStrataやTribe、Strata Eastと\nいったブラックジャズ?スピリチュアルジャズをも想わす作品を発表し、その限\nりない才能を発揮し続けている。2014年1月にはKenny Dixon Jr.名義でのアルバ\nム『MOODYMANN』をリリース。2014年デトロイトにて、5月23-25日の3日間渡り\nSoul Skate 2014を開催する。 \nwww.mahoganimusic.com\nwww.facebook.com/moodymann313\nwww.facebook.com/soulskate313\nwww.facebook.com/blackmahogani313
URL:https://namura.cc/event/20140427/
ATTACH;FMTTYPE=image/jpeg:https://namura.cc/wp-content/uploads/2023/02/20140223-Moodymann.jpg
END:VEVENT
BEGIN:VEVENT
DTSTART;VALUE=DATE:20140408
DTEND;VALUE=DATE:20140409
DTSTAMP:20260423T204957
CREATED:20230213T070000Z
LAST-MODIFIED:20230511T030744Z
UID:551-1396915200-1397001599@namura.cc
SUMMARY:クリエイティブセンター大阪　ミニ見学ツアー vol.32
DESCRIPTION:近代化産業遺産に認定されている「名村造船跡地」=クリエイティブセンター大阪の館内見学ツアーです。\n造船所跡地の施設内をスタッフがご説明しながらご案内致します。\n※ツアー時間は40分程度を予定しております。（途中退場可） \n■日時\n2014年4月8日（火）　15:00 ※40分程度\nクリエイティブセンター大阪　入口警備員室前集合 \n■参加方法\n予約不要・現地集合／参加費は無料です。 \n■お問合せ\n06-4702-7085（クリエイティブセンター大阪）
URL:https://namura.cc/event/20140408/
ATTACH;FMTTYPE=image/jpeg:https://namura.cc/wp-content/uploads/2022/12/b0f3769176eeffbd5abb90e91461dc87-e1677758490252.jpg
END:VEVENT
BEGIN:VEVENT
DTSTART;VALUE=DATE:20140406
DTEND;VALUE=DATE:20140407
DTSTAMP:20260423T204957
CREATED:20230213T070241Z
LAST-MODIFIED:20230213T070241Z
UID:553-1396742400-1396828799@namura.cc
SUMMARY:大阪墨祭2014（Straight-Life）
DESCRIPTION:□日時\n2014年４月6日（日）\n13:00-21:30 \n□料金\n前売り \3.000\n当日 \3.500\n※中学生以下無料 \n詳しくは\n大阪墨祭 （Straight-Life）facebookページ
URL:https://namura.cc/event/20140406/
ATTACH;FMTTYPE=image/jpeg:https://namura.cc/wp-content/uploads/2023/02/20140404-oosakakokusai.jpg
END:VEVENT
BEGIN:VEVENT
DTSTART;VALUE=DATE:20140405
DTEND;VALUE=DATE:20140406
DTSTAMP:20260423T204957
CREATED:20230213T071010Z
LAST-MODIFIED:20230213T071010Z
UID:559-1396656000-1396742399@namura.cc
SUMMARY:DADDY G(MASSIVE ATTACK DJ SET) JAPAN TOUR 2014
DESCRIPTION:■日時\n2014年4月5日(土)\n21:00〜 \n■料金\nADV:3000 / DOOR:3500 \n■Ticket Info\nチケットぴあ　0570-02-9999（P-code：226-636)\nLAWSON ticket 0570-084-005（L-code：55991)\nCN playguide 　0570-08-9999\ne＋http://eplus.jp\n■出演\nDADDY G(MASSIVE ATTACK)\nDRY&HEAVY / MIGHTY MASSA/SAK-DUB-I/DJ CASSIS SODA (COCOLO BLAND) /D.J.Fulltono(BootyTune)\n/DJ Tell(Buddha Smog)\nROOM2::\nDJ NAGAY(WWW)/DJ ASO(CONNECT)/SOU(quarter)/EYEz(GOTHAMCITY)/Betty/No-key \n>>DADDY G(MASSIVE ATTACK) \nレジェンドのなかのレジェンドと称される、DADDY GことGRANT MARSHALL。\nWILD BUNCH SOUND SYSTEMの創始者であり、MASSIVE ATTACKの中心的なメンバー。\nそしてSMITH＆MIGHTY、TRICKY、PORTISHEAD等に代表されるDUB、REGGAE、\nFUNK、DISCO、HIP HOPを取り込んだUKブリストル・サウンドの父としてその名を世に刻んだ。\n15年以上に渡りグローバルに活躍するDADDY G。そのスピリットは、ありとあら\nゆるジャンルのアーティスト達にも多大な影響を与えてきた。MASSIVE ATTACK\nとして活躍する以前は、DJとしてその名を轟かせていた。\n当時、姉の友人の影響もあり10歳という若さでミックステープを作成し、\n頭角を現し出し、その卓越したセンスで1980年にはブリストルで一番の若手DJ\nとしての地位を確立していた。彼がかける斬新なDISCO、PUNK FUNK、SOUL、\nDUB 、REGGAEには、多くのファンが虜になり、そのファンの熱狂ぶりからも、\n彼のDJ セットがどれだけ他のアーティストと一線を期していたことかがうかがう事ができる。 \nその選曲やミックスのスキルのみならず、マイクをも自由に操るDADDY G。\nあらゆるDJ が存在する中で、彼がクリエイトするミュージック・ワールドには、\n他では魅る事とができない、とても特別な暖かみと存在感を感じる事が出来る。
URL:https://namura.cc/event/20140405/
ATTACH;FMTTYPE=image/jpeg:https://namura.cc/wp-content/uploads/2023/02/20140314-Daddy_G_fix-01_f.jpg
END:VEVENT
BEGIN:VEVENT
DTSTART;VALUE=DATE:20140330
DTEND;VALUE=DATE:20140331
DTSTAMP:20260423T204957
CREATED:20230213T074616Z
LAST-MODIFIED:20230213T074616Z
UID:561-1396137600-1396223999@namura.cc
SUMMARY:SIX NINE WARS-ぼくらの七カ月間戦争- Episode 1.「ムッP LIVES」
DESCRIPTION:FC限定Live&メンバープロデュースLive \n\n□日時\n2014年3月30日（日）\nOPEN 16:00\nSTART 17:00 \n□チケット料金\n前売券￥5\,800（税込）\n当日券￥6\,300（税込）\n※オールスタンディング\n※入場時ドリンク代別途必要\n※未就学児童入場不可 \n【朱ゥノ吐先行受付】\n2014年1月7日（火）12:00?1月9日（木）18:00 \n【虚無僧DU MODE先行受付】\n2014年1月20日（月）12:00?1月22日（水）16:00 \n【チケット一般発売日】\n2014年2月8日（土） \n詳細はSIX NINE WARS特設サイトにて
URL:https://namura.cc/event/20140330/
ATTACH;FMTTYPE=image/jpeg:https://namura.cc/wp-content/uploads/2023/02/20140107-haro_a-.jpg
END:VEVENT
BEGIN:VEVENT
DTSTART;VALUE=DATE:20140329
DTEND;VALUE=DATE:20140330
DTSTAMP:20260423T204957
CREATED:20230213T075613Z
LAST-MODIFIED:20230213T075613Z
UID:563-1396051200-1396137599@namura.cc
SUMMARY:SIX NINE WARS-ぼくらの七カ月間戦争- Episode 1.「ムッP LIVES」
DESCRIPTION:FC限定Live&メンバープロデュースLive \n\n□日時：\n2014年3月29日（土）\nOPEN 16:00\nSTART 17:00 \n□チケット料金\n前売券￥5\,800（税込）\n当日券￥6\,300（税込）\n※オールスタンディング\n※入場時ドリンク代別途必要\n※未就学児童入場不可 \n【朱ゥノ吐先行受付】\n2014年1月7日（火）12:00?1月9日（木）18:00 \n【虚無僧DU MODE先行受付】\n2014年1月20日（月）12:00?1月22日（水）16:00 \n【チケット一般発売日】\n2014年2月8日（土） \n詳細はSIX NINE WARS特設サイトにて
URL:https://namura.cc/event/20140329/
ATTACH;FMTTYPE=image/jpeg:https://namura.cc/wp-content/uploads/2023/02/20140107-haro_a-.jpg
END:VEVENT
BEGIN:VEVENT
DTSTART;VALUE=DATE:20140316
DTEND;VALUE=DATE:20140317
DTSTAMP:20260423T204957
CREATED:20230213T075801Z
LAST-MODIFIED:20230213T075801Z
UID:565-1394928000-1395014399@namura.cc
SUMMARY:SIX NINE WARS-ぼくらの七カ月間戦争- Episode 1.「ムッP LIVES」
DESCRIPTION:FC限定Live&メンバープロデュースLive \n\n□日時：\n2014年3月16日（日）\nOPEN 16:00\nSTART 17:00 \n□チケット料金\n前売券￥5\,800（税込）\n当日券￥6\,300（税込）\n※オールスタンディング\n※入場時ドリンク代別途必要\n※未就学児童入場不可 \n【朱ゥノ吐先行受付】\n2014年1月7日（火）12:00?1月9日（木）18:00 \n【虚無僧DU MODE先行受付】\n2014年1月20日（月）12:00?1月22日（水）16:00 \n【チケット一般発売日】\n2014年2月8日（土） \n詳細はSIX NINE WARS特設サイトにて
URL:https://namura.cc/event/20140316/
ATTACH;FMTTYPE=image/jpeg:https://namura.cc/wp-content/uploads/2023/02/20140107-haro_a-.jpg
END:VEVENT
BEGIN:VEVENT
DTSTART;VALUE=DATE:20140315
DTEND;VALUE=DATE:20140316
DTSTAMP:20260423T204957
CREATED:20230213T075950Z
LAST-MODIFIED:20230213T075950Z
UID:567-1394841600-1394927999@namura.cc
SUMMARY:SIX NINE WARS-ぼくらの七カ月間戦争- Episode 1.「ムッP LIVES」
DESCRIPTION:FC限定Live&メンバープロデュースLive \n□日時：\n2014年3月15日（土）\nOPEN 16:00\nSTART 17:00 \n□チケット料金\n前売券￥5\,800（税込）\n当日券￥6\,300（税込）\n※オールスタンディング\n※入場時ドリンク代別途必要\n※未就学児童入場不可 \n【朱ゥノ吐先行受付】\n2014年1月7日（火）12:00?1月9日（木）18:00 \n【虚無僧DU MODE先行受付】\n2014年1月20日（月）12:00?1月22日（水）16:00 \n【チケット一般発売日】\n2014年2月8日（土） \n詳細はSIX NINE WARS特設サイトにて
URL:https://namura.cc/event/20140315/
ATTACH;FMTTYPE=image/jpeg:https://namura.cc/wp-content/uploads/2023/02/20140107-haro_a-.jpg
END:VEVENT
BEGIN:VEVENT
DTSTART;VALUE=DATE:20140314
DTEND;VALUE=DATE:20140315
DTSTAMP:20260423T204957
CREATED:20230213T081009Z
LAST-MODIFIED:20230213T081009Z
UID:569-1394755200-1394841599@namura.cc
SUMMARY:クリエイティブセンター大阪　ミニ見学ツアー vol.31
DESCRIPTION:近代化産業遺産に認定されている「名村造船跡地」=クリエイティブセンター大阪の館内見学ツアーです。\n造船所跡地の施設内をスタッフがご説明しながらご案内致します。\n※ツアー時間は40分程度を予定しております。（途中退場可） \n■日時　2014年3月4日（火）　15:00 ※40分程度\nクリエイティブセンター大阪　入口警備員室前集合 \n■参加方法\n予約不要・現地集合／参加費は無料です。 \n■お問合せ\n06-4702-7085（クリエイティブセンター大阪）
URL:https://namura.cc/event/20140304/
ATTACH;FMTTYPE=image/jpeg:https://namura.cc/wp-content/uploads/2022/12/b0f3769176eeffbd5abb90e91461dc87-e1677758490252.jpg
END:VEVENT
BEGIN:VEVENT
DTSTART;VALUE=DATE:20140216
DTEND;VALUE=DATE:20140217
DTSTAMP:20260423T204957
CREATED:20230213T081345Z
LAST-MODIFIED:20230213T081345Z
UID:571-1392508800-1392595199@namura.cc
SUMMARY:NANIWA GRIND
DESCRIPTION:■日時\n2014年2月16日（日）\nOPEN/START 13:00- \n■チケット\n前売2300 円\n当日2800円 \nプレイガイド絶賛発売中‼︎\nチケットぴあ\nPコード:219-144\nローソンチケット\nLコード:54949\nCNプレイガイド\n0570-08-9999 \n■特設サイト\nKO-JIZEROTHREE8DAYZ
URL:https://namura.cc/event/20140216/
ATTACH;FMTTYPE=image/jpeg:https://namura.cc/wp-content/uploads/2023/02/20140209-NANIWA-GRIND.jpeg
END:VEVENT
BEGIN:VEVENT
DTSTART;VALUE=DATE:20140215
DTEND;VALUE=DATE:20140217
DTSTAMP:20260423T204957
CREATED:20230213T082552Z
LAST-MODIFIED:20230213T082552Z
UID:574-1392422400-1392595199@namura.cc
SUMMARY:「Birds?あなたのジュージカルバードで汚れた壁をアートにする！」
DESCRIPTION:アーティストワークショップ「Birds?あなたのジュージカルバードで汚れた壁をアートにする！」\n北加賀屋にある芸術施設のクリエイティブセンター大阪では、\n毎年オランダからアーティストを招き、長期滞在型の美術制作を行っています。 \n車の排気ガスやススなどで汚れてしまった壁を利用して、都市をデザインしてみましょう。\n壁に落書きするスプレーやペンキを使うのではなく、洗浄機で汚れた壁をアートに美しく蘇らせます。 \n参加アーティスト　＜ヨルン・ビシュルー＞ \n■日時\n2014年\n2月15日（土）13:00-16:00\n2月16日（日）13:00-16:00 \n■場所\nクリエイティブセンター大阪入り口付近集合 \n■参加費\n無料 \n■定員\n20名（先着順）/小学生以上 \n■申込はこちら\nワークショップお申込みフォーム \n■参加の注意事項】\n・住之江区にお住まいの方のみを対象としています。\n・小学生以上から参加可能です。\n・中学生以下でご参加の場合は保護者の同意を事前にお取りください。\n・ワークショップ内容は天候などにより変更になることがあります。\n・雨天決行。荒天の場合は中止となります。中止の場合にはお電話にてご連絡させていただきます。 \n■当日の持ち物\n・汚れても良い服装、寒くない服装\n・濡れても良い靴　（高圧洗浄機を使用するので、濡れる可能性があります）
URL:https://namura.cc/event/20140215-16/
ATTACH;FMTTYPE=image/jpeg:https://namura.cc/wp-content/uploads/2023/02/20140131-ws201402.jpg
END:VEVENT
BEGIN:VEVENT
DTSTART;VALUE=DATE:20140204
DTEND;VALUE=DATE:20140205
DTSTAMP:20260423T204957
CREATED:20230213T082750Z
LAST-MODIFIED:20230213T082750Z
UID:582-1391472000-1391558399@namura.cc
SUMMARY:クリエイティブセンター大阪　ミニ見学ツアー vol.30
DESCRIPTION:近代化産業遺産に認定されている「名村造船跡地」=クリエイティブセンター大阪の館内見学ツアーです。\n造船所跡地の施設内をスタッフがご説明しながらご案内致します。\n※ツアー時間は40分程度を予定しております。（途中退場可） \n■日時\n2014年2月4日（火）　15:00 ※40分程度\nクリエイティブセンター大阪　入口警備員室前集合 \n■参加方法\n予約不要・現地集合／参加費は無料です。 \n■お問合せ\n06-4702-7085（クリエイティブセンター大阪）
URL:https://namura.cc/event/20140204/
ATTACH;FMTTYPE=image/jpeg:https://namura.cc/wp-content/uploads/2022/12/b0f3769176eeffbd5abb90e91461dc87-e1677758490252.jpg
END:VEVENT
BEGIN:VEVENT
DTSTART;VALUE=DATE:20140114
DTEND;VALUE=DATE:20140115
DTSTAMP:20260423T204957
CREATED:20230213T082910Z
LAST-MODIFIED:20230213T082910Z
UID:584-1389657600-1389743999@namura.cc
SUMMARY:クリエイティブセンター大阪　ミニ見学ツアー vol.29
DESCRIPTION:近代化産業遺産に認定されている「名村造船跡地」=クリエイティブセンター大阪の館内見学ツアーです。\n造船所跡地の施設内をスタッフがご説明しながらご案内致します。\n※ツアー時間は40分程度を予定しております。（途中退場可） \n■日時　2014年1月14日（火）　15:00 ※40分程度\nクリエイティブセンター大阪　入口警備員室前集合 \n■参加方法\n予約不要・現地集合／参加費は無料です。 \n■お問合せ\n06-4702-7085（クリエイティブセンター大阪）
URL:https://namura.cc/event/20140114/
ATTACH;FMTTYPE=image/jpeg:https://namura.cc/wp-content/uploads/2022/12/b0f3769176eeffbd5abb90e91461dc87-e1677758490252.jpg
END:VEVENT
BEGIN:VEVENT
DTSTART;VALUE=DATE:20131231
DTEND;VALUE=DATE:20140101
DTSTAMP:20260423T204957
CREATED:20230213T083053Z
LAST-MODIFIED:20230213T083053Z
UID:586-1388448000-1388534399@namura.cc
SUMMARY:ONE NATION
DESCRIPTION:年に一度の大阪名村造船所跡地STUDIO PARTITAのカウントダウンパーティーが開催決定!! \n□日時：\n2013年12月31日\nOPEN 20:00 \n□料金\nADV:3000 DOOR:3500\n※チケットは各プレイガイドに手間もなく発売開始！！ \n□出演:\nPhil Hartonoll(ORBITAL) and more \nゲストにダンス・ミュージックシーンで最も有名なアーティストのひとりOrbitalよりPhil Hartnollが緊急出演!!今年1年の集大成!「ONE NATION」のタイトルのもと素晴らしいダンスミュージックのもと輝かしい2014年を皆でむかえよう! Phil Hartnoll（ORBITAL） \nダンス・ミュージックシーンで最も有名なイギリスのアーティストのひとりであ\nるOrbital。1989年の結成以来、多くの歴史的な名曲を発表し、その存在はテク\nノ／ハウスのライブユニットのパイオニアとして、ダンスシーンのみならず、幅\n広い音楽シーンで活躍している。　Philは10年前よりOrbitalの活動とあわせて\nDjとしてのキャリアを重ね、その地位を確立してきた。2012年Oribitalは、\nSpace Ibiza(ESP)\, Cream?elds(UK)\,Secret\nGarden(UK)\,BeyondWonderland(USA)\,Metamorphose(JP)など世界各地のフェス\nティバルやビッグクラブでのヘッドライナーをつとめ、同時にDjとして、\nMinistry of Sound London\,The End\, Turnmills そしてFabric(London\,Ibiza\,\nMadrid\, Valencia)などで精力的な活動をしている。
URL:https://namura.cc/event/20131231/
ATTACH;FMTTYPE=image/jpeg:https://namura.cc/wp-content/uploads/2023/02/20131205-Phil_Press_Fina.jpg
END:VEVENT
BEGIN:VEVENT
DTSTART;VALUE=DATE:20131229
DTEND;VALUE=DATE:20131230
DTSTAMP:20260423T204957
CREATED:20230213T083242Z
LAST-MODIFIED:20230213T083242Z
UID:588-1388275200-1388361599@namura.cc
SUMMARY:OILWORKS TECHNICS
DESCRIPTION:12月29日（日）年の瀬に大阪名村造船所跡地(studio partita)にて\noilworkstechnics osakaが開催決定！\nOlive oilを筆頭にスペシャルゲストにDJ KRUSH他豪華ラインナップが実現！！\nAfter partyはCIRCUSにて！ \n□日時\n2013年 12月 29日 (日)\nOPEN/START 15:30/16:00\nCLOSE 22:00 \n□料金\nADV/3500 DOOR/4000(DRINK別途）\nオールスタンディング\nドリンク代別途\500必要 \n□問合せ\nCircus 06-6241-3822 \noilworkstechnics osaka « CLUB CIRCUS oilworkstechnics osaka \n□出演:\nOlive Oil／POPY OIL／DJ KRUSH／5lack／PUNPEE／RINO LATINA ・／KOJOE & origami players／< KOJOE(Rap)\,SWING-O a.k.a 45(Key)\,Shingo Suzuki(Bass) from Ovall\nmabanua(Drums) >／NAGAN SERVER／DJ YASA／MASA aka Conomark／Ritto／YUKSTA-ILL／TAKE-T／Seiho／THE OTOGIBANASHI’S／Campanella／Ramza／DJ PWU／And Vice Versa／Aru-2／SNEEEZE／ZORZI／ZEEK／DJ 城家／DJ 鬼タモリ／GREENDISEL／MONK α／Tell／GREENWORKS／DJ S2／S.B.O／DEATH FLAMINGO／Katafuta\nand more…… \n□LIVE PAINT\nSUIKO／skloloct／NOVOL／KLEPTOMANIAC／VERY／RYOHEI／nyk×stan \n□プレイガイド!!\nチケットぴあ　0570-02-9999(P-code:217-344)\nローソンチケット0570-084-005(L-code:59649)\nCN playguide 0570-08-9999\ne＋http://eplus.jp
URL:https://namura.cc/event/20131229/
ATTACH;FMTTYPE=image/jpeg:https://namura.cc/wp-content/uploads/2023/02/20131123-oliveoil.jpg
END:VEVENT
BEGIN:VEVENT
DTSTART;VALUE=DATE:20131223
DTEND;VALUE=DATE:20131224
DTSTAMP:20260423T204957
CREATED:20230213T083550Z
LAST-MODIFIED:20230213T083550Z
UID:590-1387756800-1387843199@namura.cc
SUMMARY:リスキーダイスと七人の客人　大阪篇
DESCRIPTION:□日時\n2013年12月23日（月・天皇誕生日）\nOPEN16:30／START18:00 \n□チケット\n前売：2\,000円　当日:3\,000円 (D代別途500円必要) \n□TOTAL INFO\nBACK YARD PROMOTON\n06-6536-1630 \n□出演：\n【SOUND】\nRISKY DICE \n【GUEST ARTIST】\nHISATOMI/導楽/NATURAL WEAPON/寿君/DIZZLE/APOLLO/KIRA \n□TICKET INFO:\nチケットぴあ　0570-02-9999(P-code:216-208)\nローソンチケット 0570-084-005(L-code:56981)\nCN playguide 0570-08-9999\ne＋　http://eplus.jp \n□前売券取り扱い店舗〉\nDISSIDENT 06-6125-5760／ROCKERS ISLAND 06-6537-6233／FIVE STAR 06-6538-9001\nOVERPREAD 06-6543-5677／E.S.P. TRICK STAR 06-6532-0111
URL:https://namura.cc/event/20131223/
ATTACH;FMTTYPE=image/jpeg:https://namura.cc/wp-content/uploads/2023/02/20131211-0003.jpg
END:VEVENT
END:VCALENDAR