BEGIN:VCALENDAR
VERSION:2.0
PRODID:-//クリエイティブセンター大阪（CCO） - ECPv6.2.1//NONSGML v1.0//EN
CALSCALE:GREGORIAN
METHOD:PUBLISH
X-WR-CALNAME:クリエイティブセンター大阪（CCO）
X-ORIGINAL-URL:https://namura.cc
X-WR-CALDESC:クリエイティブセンター大阪（CCO） のイベント
REFRESH-INTERVAL;VALUE=DURATION:PT1H
X-Robots-Tag:noindex
X-PUBLISHED-TTL:PT1H
BEGIN:VTIMEZONE
TZID:Asia/Tokyo
BEGIN:STANDARD
TZOFFSETFROM:+0900
TZOFFSETTO:+0900
TZNAME:JST
DTSTART:20150101T000000
END:STANDARD
END:VTIMEZONE
BEGIN:VEVENT
DTSTART;VALUE=DATE:20160305
DTEND;VALUE=DATE:20160307
DTSTAMP:20260423T074640
CREATED:20230310T060045Z
LAST-MODIFIED:20230310T060052Z
UID:1821-1457136000-1457308799@namura.cc
SUMMARY:【スペース助成】MuDA black chamber［Performance］
DESCRIPTION:本事業は、ハイパーパフォーマンスグループ「MuDA」による公演及び、展覧会を、クリエイティブセンター大阪 BLACK CHAMBER にて、行うというものです。\n宇宙の普遍運動を基にした、MuDA独自の負荷体現運動、負荷転換運動、連続衝突運動を、多様なメディアを使用し、儀式的に遂行します。\n公演（Performance）は約75分を予定。関西では約1 年半ぶりのフルパフォーマンスとなります。\n「Movements exhibition」と題した展覧会は、公演の痕跡（物、音、像、空間）と共に、5時間に渡って行われる、人間、物体、行為、現象の展覧会となります。———————————————————- \n伸縮する、詰まる弾ける、衝突する。\nそして転換する、を旨とする。\n独自の運動で、全方向の運動で。\n1方向に集まり回転する為に。\n進む為に表出する負荷体現の物体、壁、大地。\n衝突と共にスパークする、音、圧、像。\n蓄積されていく。\n掛かり続ける負荷による、1歩。\nシステム、フォルムは次へと変容し続ける。 \n———————————————————-\n■ Performance \n□日時\n2016年3月5日(土) – 6日(日)\n19:00 開演　＊30分前開場\n□料金\n一般：前売 2500円 ／ 当日 3000円\n学生：前売 1500円 ／ 当日 2000円　＊要証明書\nペアチケット：4000円　＊前売りのみ \n———————————————————-\n■ Movements exhibition \n□日時\n2016年3月12日(土) – 13日(日)\n15:00 – 20:00　＊途中入退場自由\n□料金\n1000円　＊Performanceチケットを持参の方は500円off \n———————————————————-\n■ お問い合わせ・ご予約 \nMAIL：muda.japan@gmail.com\n＊メールでのご予約の際は、タイトルに「公演予約」として頂き、本文に「お名前・人数・来場日時・券種」をご明記下さい。こちらからの返信をもって、ご予約完了とさせて頂きます。 \n———————————————————-\n□詳しくは\nHP：http://muda-japan.com/\nFB：https://www.facebook.com/muda.japan \n□主催・制作：MuDA\n□助成：アーツサポート関西　おおさか創造千島財団　京都芸術センター制作支援事業 \n\n  \n\n□構築：MuDA\n□ダンス・美術：QUICK　内田和成　出川晋　三重野龍　CHIBIGUTS　田崎洋輔　福島駿　渋谷陽菜 ／ ボディーペイント：出川晋\n□サウンドデザイン・DJ：山中透\n□映像・プログラミング：小西小多郎　竹内祥訓\n□デバイス制作：安藤英由樹 ／ 照明：筆谷亮也 ／ 音響：水上和真\n□宣伝美術：三重野龍 ／ 記録写真：辻村講司 ／ web制作：荒木康代\n□制作チーフ・グッズデザイン：秋山はるか\n□ディレクション・コンセプト・基礎デザイン：QUICK■ MuDA \nダンサー・演出家のQUICK を中心に、ジャンル、年代の異なる多様なアーティスト達が集まり、京都を拠点に結成されたハイパーパフォーマンスグループ。宇宙のリズム =「ぶつかることから始まる」、いのちのリズム=「立ち上がり続ける」等、生命 ( いのち) の振起活動を模索し、カタチに起こした、他者や物体、大地等と常に肉体を衝突させる、MuDA 独自の身体術を軸に活動を展開。生命、身体、負荷、儀式、宇宙といった普遍をテーマに、ダンス、音楽、映像、美術等、多様なメディアを使用したパフォーマンス、展示、WS 等を各地で行う。
URL:https://namura.cc/event/2016-03-05/
ATTACH;FMTTYPE=image/jpeg:https://namura.cc/wp-content/uploads/2023/03/20160201-MuDA02-OMOTE-.jpg
END:VEVENT
BEGIN:VEVENT
DTSTART;VALUE=DATE:20160228
DTEND;VALUE=DATE:20160229
DTSTAMP:20260423T074640
CREATED:20230310T054759Z
LAST-MODIFIED:20230310T054806Z
UID:1797-1456617600-1456703999@namura.cc
SUMMARY:COS JOY
DESCRIPTION:コスプレイベント \n□日時\n2016年\n2月28日（日）10:00-18:00 \n□詳しくは\nCOSJOYホームページ\nhttp://www.comicon.co.jp/cosjoy/zousenindex.htm
URL:https://namura.cc/event/2016-02-28/
ATTACH;FMTTYPE=image/jpeg:https://namura.cc/wp-content/uploads/2023/03/20150602-cosjoy.jpg
END:VEVENT
BEGIN:VEVENT
DTSTART;VALUE=DATE:20160223
DTEND;VALUE=DATE:20160224
DTSTAMP:20260423T074640
CREATED:20230310T054852Z
LAST-MODIFIED:20230310T054900Z
UID:1799-1456185600-1456271999@namura.cc
SUMMARY:クリエイティブセンター大阪　ミニ見学ツアー vol.54
DESCRIPTION:近代化産業遺産に認定されている「名村造船跡地」=クリエイティブセンター大阪の館内見学ツアーです。\n造船所跡地の施設内をスタッフがご説明しながらご案内致します。\n※ツアー時間は40分程度を予定しております。（途中退場可） \n■日時　2016年2月23日（火）15:00 ※40分程度\nクリエイティブセンター大阪　入口警備員室前集合 \n■参加方法\n予約不要・現地集合／参加費は無料です。 \n■お問合せ\n06-4702-7085（クリエイティブセンター大阪）
URL:https://namura.cc/event/2016-02-23/
ATTACH;FMTTYPE=image/jpeg:https://namura.cc/wp-content/uploads/2022/12/b0f3769176eeffbd5abb90e91461dc87-e1677758490252.jpg
END:VEVENT
BEGIN:VEVENT
DTSTART;VALUE=DATE:20160221
DTEND;VALUE=DATE:20160222
DTSTAMP:20260423T074640
CREATED:20230310T055010Z
LAST-MODIFIED:20230310T055017Z
UID:1801-1456012800-1456099199@namura.cc
SUMMARY:東京ファッションスナップコレクション in大阪
DESCRIPTION:□日時:\n2016年2月21日(日)\nOPEN：17:00\nSTART:18:00 \n□チケット:\n2500円+ドリンク代500円 \n□詳しくは\nhttp://audition96.wix.com/online-photos-jp
URL:https://namura.cc/event/2016-02-21/
ATTACH;FMTTYPE=image/jpeg:https://namura.cc/wp-content/uploads/2023/03/20160122-tfso2016.jpg
END:VEVENT
BEGIN:VEVENT
DTSTART;VALUE=DATE:20160211
DTEND;VALUE=DATE:20160212
DTSTAMP:20260423T074640
CREATED:20230310T055119Z
LAST-MODIFIED:20230310T055127Z
UID:1803-1455148800-1455235199@namura.cc
SUMMARY:Fruits Note Winter Live 『WAVE』~届けようこの声を~
DESCRIPTION:アカペラライブ！ \n□日時：\n2/11（Thu）\nopen 15:45\nstart 16:00 \n□ticket\n800yen
URL:https://namura.cc/event/2016-02-11/
ATTACH;FMTTYPE=image/jpeg:https://namura.cc/wp-content/uploads/2023/03/20160205-fn2016.jpg
END:VEVENT
BEGIN:VEVENT
DTSTART;VALUE=DATE:20160125
DTEND;VALUE=DATE:20160222
DTSTAMP:20260423T074640
CREATED:20230310T054047Z
LAST-MODIFIED:20230310T054105Z
UID:1748-1453680000-1456099199@namura.cc
SUMMARY:【スペース助成】クロニクル、クロニクル！
DESCRIPTION:□日時\n2016年1月25日（月）〜2月21日（日）\n13:00-19:00 \n※休廊日：火曜、水曜 \n□入場料\n入場無料 \n□詳しくは\nhttp://www.chronicle-chronicle.jp \n□助成\nおおさか創造千島財団
URL:https://namura.cc/event/2016-01-25/
ATTACH;FMTTYPE=image/jpeg:https://namura.cc/wp-content/uploads/2023/03/20160106-kuronikuru-o.jpg
END:VEVENT
BEGIN:VEVENT
DTSTART;VALUE=DATE:20160124
DTEND;VALUE=DATE:20160125
DTSTAMP:20260423T074640
CREATED:20230310T054548Z
LAST-MODIFIED:20230310T054557Z
UID:1793-1453593600-1453679999@namura.cc
SUMMARY:COS JOY
DESCRIPTION:コスプレイベント \n□日時\n2016年\n1月24日（日）10:00-18:00 \n□詳しくは\nCOSJOYホームページ\nhttp://www.comicon.co.jp/cosjoy/zousenindex.htm
URL:https://namura.cc/event/2016-01-24/
ATTACH;FMTTYPE=image/jpeg:https://namura.cc/wp-content/uploads/2023/03/20150602-cosjoy.jpg
END:VEVENT
BEGIN:VEVENT
DTSTART;VALUE=DATE:20160113
DTEND;VALUE=DATE:20160114
DTSTAMP:20260423T074640
CREATED:20230310T054656Z
LAST-MODIFIED:20230310T054705Z
UID:1795-1452643200-1452729599@namura.cc
SUMMARY:クリエイティブセンター大阪　ミニ見学ツアー vol.53
DESCRIPTION:近代化産業遺産に認定されている「名村造船跡地」=クリエイティブセンター大阪の館内見学ツアーです。\n造船所跡地の施設内をスタッフがご説明しながらご案内致します。\n※ツアー時間は40分程度を予定しております。（途中退場可） \n■日時　2016年1月13日（水）15:00 ※40分程度\nクリエイティブセンター大阪　入口警備員室前集合 \n■参加方法\n予約不要・現地集合／参加費は無料です。 \n■お問合せ\n06-4702-7085（クリエイティブセンター大阪）
URL:https://namura.cc/event/2016-01-13/
ATTACH;FMTTYPE=image/jpeg:https://namura.cc/wp-content/uploads/2022/12/b0f3769176eeffbd5abb90e91461dc87-e1677758490252.jpg
END:VEVENT
BEGIN:VEVENT
DTSTART;VALUE=DATE:20151227
DTEND;VALUE=DATE:20151228
DTSTAMP:20260423T074640
CREATED:20230309T072721Z
LAST-MODIFIED:20230309T072728Z
UID:1726-1451174400-1451260799@namura.cc
SUMMARY:COS JOY
DESCRIPTION:コスプレイベント \n□日時\n2015年\n12月27日（日）10:00-18:00 \n□詳しくは\nCOSJOYホームページ\nhttp://www.comicon.co.jp/cosjoy/zousenindex.htm
URL:https://namura.cc/event/2015-12-27/
ATTACH;FMTTYPE=image/jpeg:https://namura.cc/wp-content/uploads/2023/03/20150602-cosjoy.jpg
END:VEVENT
BEGIN:VEVENT
DTSTART;VALUE=DATE:20151226
DTEND;VALUE=DATE:20151227
DTSTAMP:20260423T074640
CREATED:20230309T072831Z
LAST-MODIFIED:20230309T072838Z
UID:1728-1451088000-1451174399@namura.cc
SUMMARY:奇異基地2015
DESCRIPTION:関西・関東より集められた様々な手法で表現活動をしている作家・パフォーマーなど多数の表現者達を集め、１つの芸術展覧祭を開催します。\n普段、寄り添っているようで離れているものたちを混ぜ合わせることで、いま \n□日時\n2015年12月26日（土）\nSTART 15:00（受付30分前/開場15分前）\nEND 21:00 \n□チケット\n一般（前売）　2000円　/　高校生以下（前売）　1000円\n一般（当日）　2500円　/　高校生以下（前売）　1500円\n※中学生以下無料\n※高校生は学生証の提示が必要 \n□詳しくは\nhttp://kiikichi.web.fc2.com
URL:https://namura.cc/event/2015-12-26/
ATTACH;FMTTYPE=image/jpeg:https://namura.cc/wp-content/uploads/2023/03/20151125-kiikichi2015.jpg
END:VEVENT
BEGIN:VEVENT
DTSTART;VALUE=DATE:20151220
DTEND;VALUE=DATE:20151221
DTSTAMP:20260423T074640
CREATED:20230309T073049Z
LAST-MODIFIED:20230309T073058Z
UID:1733-1450569600-1450655999@namura.cc
SUMMARY:BUZZ STYLE 大阪予選
DESCRIPTION:□日時\n2015年12月20日（日）\nOPEN 13:00\nSTART 14:00 \n□詳しくは\nhttp://buzzstyle.info
URL:https://namura.cc/event/2015-12-20-2/
ATTACH;FMTTYPE=:
END:VEVENT
BEGIN:VEVENT
DTSTART;VALUE=DATE:20151220
DTEND;VALUE=DATE:20151221
DTSTAMP:20260423T074640
CREATED:20230309T072951Z
LAST-MODIFIED:20230309T072959Z
UID:1730-1450569600-1450655999@namura.cc
SUMMARY:ROFC16～Bayside Rising Sun～
DESCRIPTION:ROFC16 ～Bayside Rising Sun～　伊是名秀宣引退試合\n□日時\n12月20日（日） \nOPEN 15:30\nSTART 16:00 \n□入場料：\n前売り指定席8000円+500円(1drink)\n前売り立ち見5000円 +500円(1drink) \n共に当日500円up \nチケットぴあ　Pコード 831-178\nhttp://md.pia.jp/pia/guide/orderbyphone.jsp \n□問合せ：\nROFC実行委員会\nhttp://rising-on.com/\n072-349-8239 \n主催者：ROFC実行委員会\n制作：株式会社VERSUS
URL:https://namura.cc/event/2015-12-20/
ATTACH;FMTTYPE=:
END:VEVENT
BEGIN:VEVENT
DTSTART;VALUE=DATE:20151219
DTEND;VALUE=DATE:20151220
DTSTAMP:20260423T074640
CREATED:20230309T073225Z
LAST-MODIFIED:20230309T073225Z
UID:1736-1450483200-1450569599@namura.cc
SUMMARY:Asian festival
DESCRIPTION:□日時\n12/19(土)\n16:00-22:00 \n□チケット\n通常期間　2500円\n早期割引期間　2000円　(～2015.11.19) \n□詳しくは\nPumpit 【カンボジア学校建設プロジェクト】
URL:https://namura.cc/event/2015-12-19/
ATTACH;FMTTYPE=image/jpeg:https://namura.cc/wp-content/uploads/2023/03/20151125-pumpit2015.jpg
END:VEVENT
BEGIN:VEVENT
DTSTART;VALUE=DATE:20151218
DTEND;VALUE=DATE:20151219
DTSTAMP:20260423T074640
CREATED:20230309T073358Z
LAST-MODIFIED:20230309T073407Z
UID:1738-1450396800-1450483199@namura.cc
SUMMARY:THE STAR FESTIVAL 2015 Closing party
DESCRIPTION:年末恒例！\nTHE STAR FESTIVAL 2015のClosing partyが今年は12月18日（金曜日）に開催決定！\nテクノ・シーンのトップスターであり、レーベルCADENZAを主宰するなど常に世界中からその動向が注目されているスーパースターDJのルチアーノと過去何度もTHE STAR FESTIVALに出演し、ミラクルなセットを披露してくれるLawrenceが登場!□日時：\n12/18(金）\nOPEN 22:00 \n□チケット:\nADV: 4500 \nPeaTiXチケット http://ptix.co/1RjHiwj\nローソンチケット : Lコード 53901\nチケットぴあ : Pコード 281246\ne+ \n□出演：\nLUCIANO(CADENZA )\nLAWRENCE (DIAL / SMALLVILLE / MULE MUSIQ)\nand more special guests!\nVOID INCUBUS Soundsystem by TSSL \nVJ: KOZEE\nLIGHTING: SOLA \n□more info:\nTHE STAR FESTIVAL\nhttp://www.thestarfestival.com/ \n\n  \nLUCIANO\nCadenza Records 主宰、プロデューサーとして、エレクトロニック・ミュージック・シーンで、世界的なトップスターでへと登り詰めた “Luciano”。ダンスカルチャーのブームによって巻き起 こった、第1フェーズの時代から、アーティストのスターが次々と生まれ、エゴと名声が音楽への情熱よりも目立つ第2フェーズの時代へと移行して行く中、カ リスマ性を持つパフォーマーである Luciano は、音楽に直進的に心を捧げるスタイルを貫き、世の中に “第3フェーズ” を示した重要人物だ。スイスで生まれ、サンディエゴで育った彼は、デトロイトで Juan Atkins や、Model 500 が放つ音楽の魅力に取り付かれていった。彼の出身地でもあるチリでも、若年層が知名度を上げ、エレクトロニックミュージックのレベルを引き上げて行く中、21歳でサンディエゴの “Love Parade” で、何千人もの観客相手にパフォーマンスを披露。彼の音楽への愛情が名声と共に世界に発信された瞬間だった。\nその年 Luciano は、ヨーロッパへ拠点を移動し、更なる挑戦へ挑む。同じ南アメリカ繋がりから、Ricardo Villalobos や、Pier Bucci の後押しを得て、徐々に彼の名前は新天地でも徐々に知れ渡る事となった。DC10 のアンダーグラウンドイベント “Circoloco” では、彼の熱いラテンリズムと悩殺テクノミュージックは熱狂的なファンを集め、完全なる自分のプラットフォームを築きあげた。06年には、イギリスの老舗レーベル “Soma” から声がかかり、”Sci.Fi.Hi.FI.Vol2″ の制作後、ロンドンのスーパークラブ “Fabric” から MIX CD “Fabric 4” をリリースし、Radio 1の “essential mix” にツイストを加え大きな話題を呼ぶ。\nLuciano の最大の業績は、Cadenza Records と、Cadenza Lab を生み出した事だ。また、ミニマルシーンの先駆けレーベル “Perlon”、Steve Bug のレーベル “Poker Flat”、ご存知 Richie Hawtin のレーベル “M_nus” と、数々のTOPレーベルから楽曲をリリースし革新を極め、Luciano の周りには自然と優秀でクリエイティブなアーティストが集まり、彼自身のレーベルである Cadenza は、数年エレクトロニックシーンで有数なレーベルに伸し上がって行った。 \nLuciano はアーティストとして、イビザを始めサンパウロ、フランクフルト、ロンドン、東京、ペルー、ベルリンなどの大都市で、あらゆるフェスティバルやイベントで パフォーマンスを披露して来た。常にエレクトロニック・ミュージックに新しい流れを求め続ける彼は、09年に新たなプロジェクト “AETHER LIVE” を始動。今までに無いサウンドと、音楽の近未来的融合を革新的な物へとしながらも、彼の音楽への情熱は常に消える事がなく進化していく。\nイビザ島のビーチバー “USHUAIA” で、DC10が閉鎖中であった09年の夏、アンダーグラウンド精神を取り戻そうと、無料でパーティーを開催。その 1度きりのイベントが発端となり、今ではイビザの名を有名にした世界規模のサマーイベントへと発展させ、様々なパーティー人種と、音楽エリートで埋め尽くされる事となった。\n10年の夏、”USHUAIA” に戻り、日曜日の午後2時から深夜0時まで “PACHA” / IBIZA の最も有名なパーティーでパフォーマンスを行い、大きな業績を残した。その経験からスターとなった Luciano に多くのオファーが殺到したが、彼の音楽ビジョンを表現しきれるのは PACHA だけであり、PACHA でのパフォーマンスにこだわっている。その PACHA で6月上旬から9月末の間、毎週日曜日にパーティーを行い、Luciano を象徴するパーティーが “Cadenza Vagabundos”。自分の音楽への情熱に素直に従った結果、成功の極みへと導かれていったのである。 \nLAWRENCE
URL:https://namura.cc/event/2015-12-18/
ATTACH;FMTTYPE=image/jpeg:https://namura.cc/wp-content/uploads/2023/03/20151127-TSF15_Final.jpg
END:VEVENT
BEGIN:VEVENT
DTSTART;VALUE=DATE:20151213
DTEND;VALUE=DATE:20151214
DTSTAMP:20260423T074640
CREATED:20230309T074114Z
LAST-MODIFIED:20230309T074114Z
UID:1743-1449964800-1450051199@namura.cc
SUMMARY:COS JOY
DESCRIPTION:コスプレイベント \n□日時\n2015年\n12月13日（日）10:00-18:00 \n□詳しくは\nCOSJOYホームページ\nhttp://www.comicon.co.jp/cosjoy/zousenindex.htm
URL:https://namura.cc/event/2015-12-13-2/
ATTACH;FMTTYPE=image/jpeg:https://namura.cc/wp-content/uploads/2023/03/20150602-cosjoy.jpg
END:VEVENT
BEGIN:VEVENT
DTSTART;VALUE=DATE:20151213
DTEND;VALUE=DATE:20151214
DTSTAMP:20260423T074640
CREATED:20230309T073505Z
LAST-MODIFIED:20230309T073950Z
UID:1741-1449964800-1450051199@namura.cc
SUMMARY:SYMBOL OSAKA Vol.12
DESCRIPTION:□日時：\n12/13(Sun)\nOPEN 12:00\nSTART 13:00\nCLOSE 21:00 \n□チケット\nADV:2500(with 1drink)\nDOOR:3000(with1drink) \n□詳しくは\nシンボル大阪
URL:https://namura.cc/event/2015-12-13/
ATTACH;FMTTYPE=image/jpeg:https://namura.cc/wp-content/uploads/2023/03/20151125-symbolosaka2015.jpg
END:VEVENT
BEGIN:VEVENT
DTSTART;VALUE=DATE:20151208
DTEND;VALUE=DATE:20151209
DTSTAMP:20260423T074640
CREATED:20230309T074222Z
LAST-MODIFIED:20230309T074230Z
UID:1746-1449532800-1449619199@namura.cc
SUMMARY:クリエイティブセンター大阪　ミニ見学ツアー vol.52
DESCRIPTION:近代化産業遺産に認定されている「名村造船跡地」=クリエイティブセンター大阪の館内見学ツアーです。\n造船所跡地の施設内をスタッフがご説明しながらご案内致します。\n※ツアー時間は40分程度を予定しております。（途中退場可） \n■日時　2015年12月8日（火）15:00 ※40分程度\nクリエイティブセンター大阪　入口警備員室前集合 \n■参加方法\n予約不要・現地集合／参加費は無料です。 \n■お問合せ\n06-4702-7085（クリエイティブセンター大阪）
URL:https://namura.cc/event/2015-12-08/
ATTACH;FMTTYPE=image/jpeg:https://namura.cc/wp-content/uploads/2022/12/b0f3769176eeffbd5abb90e91461dc87-e1677758490252.jpg
END:VEVENT
BEGIN:VEVENT
DTSTART;VALUE=DATE:20151129
DTEND;VALUE=DATE:20151130
DTSTAMP:20260423T074640
CREATED:20230309T070919Z
LAST-MODIFIED:20230309T070927Z
UID:1701-1448755200-1448841599@namura.cc
SUMMARY:FUTEBOLiSTA　2015天下一武道会・大阪ラウンド
DESCRIPTION:□日時\n2015年11月29日（日）\nOPEN PM11:00\nCLOSE PM18:00 \n□チケット\n前売り/立ち見　2\,000yen\n当日/立ち見　2\,500yen\n(中学生以下無料)\n※販売予定数量が前売りの段階で終わってしまった場合は当日券の販売は無くなります。 \n□詳しくは\nhttp://www.luz-e-sombra.com/futebolista/
URL:https://namura.cc/event/2015-11-29/
ATTACH;FMTTYPE=image/jpeg:https://namura.cc/wp-content/uploads/2023/03/20151125-futebolista.jpg
END:VEVENT
BEGIN:VEVENT
DTSTART;VALUE=DATE:20151128
DTEND;VALUE=DATE:20151129
DTSTAMP:20260423T074640
CREATED:20230309T071022Z
LAST-MODIFIED:20230309T071030Z
UID:1704-1448668800-1448755199@namura.cc
SUMMARY:COS JOY
DESCRIPTION:コスプレイベント \n□日時\n2015年\n11月28日（日）10:00-17:00 \n□詳しくは\nCOSJOYホームページ\nhttp://www.comicon.co.jp/cosjoy/zousenindex.htm
URL:https://namura.cc/event/2015-11-28/
ATTACH;FMTTYPE=image/jpeg:https://namura.cc/wp-content/uploads/2023/03/20150602-cosjoy.jpg
END:VEVENT
BEGIN:VEVENT
DTSTART;VALUE=DATE:20151122
DTEND;VALUE=DATE:20151124
DTSTAMP:20260423T074640
CREATED:20230309T071158Z
LAST-MODIFIED:20230309T071227Z
UID:1706-1448150400-1448323199@namura.cc
SUMMARY:EVKK 11月公演「黒い湖のほとり-Am Schwarzen See」
DESCRIPTION:二組の夫婦が湖のほとりで再会する。\n四人の会話は、過去と現在を重ね合わせ、\nはたまた引き離しながら、\n四年前のある事件に近づいていく。\nしかし核心にふれることはできないままだ。\nこれからもそう。\n私たちが求め、理解しようとする「核心」や「真実」というものは、一体何か。\nこの作品はそれ自体を問いかけてくるのです。 \nドイツを代表する劇作家デーア・ローアー。\nミニマルでリズミカルな語りが\n詩的で強靭なイメージをかきたてます。\nその独特の世界に、大阪のここにしかない場所ーー\n造船所の跡地であり、経済産業省の文化遺産にも認定されているこの会場で\n夕暮れから日没にかけて、自然光を利用した演出プランでのぞみます。\n偶然性がもらたす、演劇ならではの「再現できない」芸術的僥倖を確信します。 \n◇作：デーア・ローアー\n◇訳：村瀬民子　論創社刊 「泥棒たち/黒い湖のほとりで」より\n◇演出：外輪能隆 \n□日時：\n2015年11月22～23日\n11月22日(日)16:00\n11月23日(月・祝)16:00 \n□料金：\n前売：3000円\n当日：3500円 \n□詳しくは\nhttp://www.evkk.net
URL:https://namura.cc/event/2015-11-22/
ATTACH;FMTTYPE=image/jpeg:https://namura.cc/wp-content/uploads/2023/03/20150911-evkk11.jpg
END:VEVENT
BEGIN:VEVENT
DTSTART;VALUE=DATE:20151120
DTEND;VALUE=DATE:20151124
DTSTAMP:20260423T074640
CREATED:20230309T071411Z
LAST-MODIFIED:20230309T071411Z
UID:1708-1447977600-1448323199@namura.cc
SUMMARY:新聞家「川のもつれホー」［おおさか創造千島財団スペース助成］
DESCRIPTION:◇作・演出：村社祐太朗\n◇出演：上蓑佳代　後藤ひかり\n◇美術：椋本真理子 \n□日時\n11/20（金）19:30\n11/21（土） 19:30\n11/22（日） 19:30\n11/23（月祝）19:30 \n□チケット\n一般=予約 1500円\n当日 1800円\nU22(予約のみ)=500円 \n□申込\n予約フォーム \nweb:http://sinbunka.com \n□助成\nおおさか創造千島財団
URL:https://namura.cc/event/2015-11-20/
ATTACH;FMTTYPE=image/jpeg:https://namura.cc/wp-content/uploads/2023/03/20150818-kawanomotsure-o.jpg
END:VEVENT
BEGIN:VEVENT
DTSTART;VALUE=DATE:20151115
DTEND;VALUE=DATE:20151116
DTSTAMP:20260423T074640
CREATED:20230309T071510Z
LAST-MODIFIED:20230309T071516Z
UID:1710-1447545600-1447631999@namura.cc
SUMMARY:BiSH [Eden of Sorrow Tour]　大阪公演
DESCRIPTION:□日時\n2015年11月15日(日)\nOpen16:00／Start17:00 \n□お問い合せ\nグリーンズ 06-6882-1224
URL:https://namura.cc/event/2015-11-15/
ATTACH;FMTTYPE=:
END:VEVENT
BEGIN:VEVENT
DTSTART;VALUE=DATE:20151114
DTEND;VALUE=DATE:20151115
DTSTAMP:20260423T074640
CREATED:20230309T071637Z
LAST-MODIFIED:20230309T072034Z
UID:1712-1447459200-1447545599@namura.cc
SUMMARY:ザ・ベスト・オブ 藤井隆 “AUDIO VISUAL” release party SPECIAL
DESCRIPTION:□日時：\n11/14(SAT)\n開場15:00\n開演16:00\n終演20:00＊藤井隆ＣＤ＆グッズ販売サイン握手会あり！\n＊整理番号順にご入場となります。\n＊撮影機器、録音・録画機器のお持込みは御遠慮下さい。□チケット\n前売3300円\n当日3800円\n(別途１ドリンク600円) \n□プレイガイド\nチケットぴあ P-CODE(280191)\nローソンチケット L-CODE(59497)\nイープラス　http://eplus.jp/\n楽天チケット http://ticket.rakuten.co.jp/ \n□主催\nCIRCUS\nhttp://circus-osaka.com/ \n\n  \n-RELEASE LIVE-\n\n藤井隆-未知やすえと歌仲間-\n未知やすえ\nバッファロー吾郎\nココリコ田中\n宇都宮まき-LIVE-\nSugar’s Campaign \n-DJ-\nokadada\nand more! \n-VJ-\nMAR
URL:https://namura.cc/event/2015-11-14/
ATTACH;FMTTYPE=image/jpeg:https://namura.cc/wp-content/uploads/2023/03/20151030-1114takashi.jpg
END:VEVENT
BEGIN:VEVENT
DTSTART;VALUE=DATE:20151108
DTEND;VALUE=DATE:20151109
DTSTAMP:20260423T074640
CREATED:20230309T072143Z
LAST-MODIFIED:20230309T072152Z
UID:1717-1446940800-1447027199@namura.cc
SUMMARY:COS JOY
DESCRIPTION:コスプレイベント \n□日時\n2015年\n11月8日（日）10:00-17:00 \n□詳しくは\nCOSJOYホームページ\nhttp://www.comicon.co.jp/cosjoy/zousenindex.htm
URL:https://namura.cc/event/2015-11-08/
ATTACH;FMTTYPE=image/jpeg:https://namura.cc/wp-content/uploads/2023/03/20150602-cosjoy.jpg
END:VEVENT
BEGIN:VEVENT
DTSTART;VALUE=DATE:20151106
DTEND;VALUE=DATE:20151107
DTSTAMP:20260423T074640
CREATED:20230309T072258Z
LAST-MODIFIED:20230309T072306Z
UID:1719-1446768000-1446854399@namura.cc
SUMMARY:クリエイティブセンター大阪　ミニ見学ツアー vol.51
DESCRIPTION:近代化産業遺産に認定されている「名村造船跡地」=クリエイティブセンター大阪の館内見学ツアーです。\n造船所跡地の施設内をスタッフがご説明しながらご案内致します。\n※ツアー時間は40分程度を予定しております。（途中退場可） \n■日時　2015年11月6日（金）15:00 ※40分程度\nクリエイティブセンター大阪　入口警備員室前集合 \n■参加方法\n予約不要・現地集合／参加費は無料です。 \n■お問合せ\n06-4702-7085（クリエイティブセンター大阪）
URL:https://namura.cc/event/2015-11-06/
ATTACH;FMTTYPE=image/jpeg:https://namura.cc/wp-content/uploads/2022/12/b0f3769176eeffbd5abb90e91461dc87-e1677758490252.jpg
END:VEVENT
BEGIN:VEVENT
DTSTART;VALUE=DATE:20151102
DTEND;VALUE=DATE:20151103
DTSTAMP:20260423T074640
CREATED:20230309T072439Z
LAST-MODIFIED:20230309T072439Z
UID:1721-1446422400-1446508799@namura.cc
SUMMARY:メタメタ vol.3
DESCRIPTION:キラーイベント大阪上陸！\nカットによるステージワークの、超現在進行形。 \n□日時：\n2015年11月2日(月)\n開場　17:00\n開演　18:00\n終了　19:30\n※15:30より座席指定開始 \n□チケット\nS席：￥5\,400-\nA席：￥4\,320-\n※S席は着席、A席は着席または立ち見となりますので、予めご了承ください。 \n□CAST:\n森 福充 (HEAVENS)　／ 芦原 照成 　(Nicole.) ／ 神谷 翼 (SCREEN) \n□詳しくは\nhttp://gamo-kansai.jp/seminar/メタメタ-vo-3/
URL:https://namura.cc/event/2015-11-02/
ATTACH;FMTTYPE=image/jpeg:https://namura.cc/wp-content/uploads/2023/03/20151022-metameta.jpg
END:VEVENT
BEGIN:VEVENT
DTSTART;VALUE=DATE:20151101
DTEND;VALUE=DATE:20151102
DTSTAMP:20260423T074640
CREATED:20230309T072605Z
LAST-MODIFIED:20230309T072612Z
UID:1724-1446336000-1446422399@namura.cc
SUMMARY:一日限りの屋台村
DESCRIPTION:□日時\n11月1日(日）\n12:00-16:30 \n□詳しくは\nhttps://www.facebook.com/77osaka
URL:https://namura.cc/event/2015-11-01/
ATTACH;FMTTYPE=image/jpeg:https://namura.cc/wp-content/uploads/2023/03/20151015-yataimura6.jpg
END:VEVENT
BEGIN:VEVENT
DTSTART;VALUE=DATE:20151031
DTEND;VALUE=DATE:20151101
DTSTAMP:20260423T074640
CREATED:20230309T065524Z
LAST-MODIFIED:20230309T065530Z
UID:1676-1446249600-1446335999@namura.cc
SUMMARY:TOWA TEI CUTE RELEASE PAERTY IN OSAKA
DESCRIPTION:細野晴臣、高橋幸宏、砂原良徳、LEO今井、UAなど多彩なミュージシャンを迎えて制作されたTOWA TEIの通算８枚目となるアルバム『CUTE』のリリースパーティーが10月31日(土)大阪名村造船所跡地にて開催決定！ 約２年ぶりに大阪でのPALYをリリースパーティーで披露するTOWA TEIをメインに砂原良徳、DJ TASAKA、SEX山口、Licaxxx、Okadada、SEKITOVAと注目のアーティストがラインナップ！ \n□日時\n10月31日(土)\nOPEN/START 13:00 \n□チケット\n前売り 3500円\n当日 4000円\n※別途1ドリンク代 \nプレイガイド：\n○ローソンチケット Lコード：51642\n○チケットぴあ Pコード：276785\n○イープラス　こちら\n○Peatix　 http://peatix.com/event/113861 \n□出演アーティスト：\nTOWA TEI / 砂原良徳 / DJ TASAKA / SEX山口 / Licaxxx / Okadada / SEKITOVA\nNAOTARO / TREMORELA / unbalance / batch. / MTSK / Taihei Koyama / DJ YUKKO / 明農聖 meaning know say \n□お問い合わせ：\nCIRCUS　 06-6241-3822
URL:https://namura.cc/event/2015-10-31-2/
ATTACH;FMTTYPE=image/jpeg:https://namura.cc/wp-content/uploads/2023/03/20151009-201510311.jpg
END:VEVENT
BEGIN:VEVENT
DTSTART;VALUE=DATE:20151031
DTEND;VALUE=DATE:20151101
DTSTAMP:20260423T074640
CREATED:20230309T065415Z
LAST-MODIFIED:20230310T071420Z
UID:1674-1446249600-1446335999@namura.cc
SUMMARY:HALLOWEEN PARTY Presented By American Apparel
DESCRIPTION:□日時\n10月31日(土)\nOPEN/START 22:00 \n□チケット\n前売:3000yen\n当日:3500yen\n＊別途１ドリンク代 \n○チケットぴあ　P-code(277902)\n○Peatix http://ptix.co/1Ks32nH\n○イープラス　こちら \n□出演アーティスト\nIdjut Boys / TOMOKI TAMURA / Norio / Keiburger / Monashee / Hiro Ezaki / Mitsuyas / Ryo Yoshida / YUUNA / GUCHI / DAICHI / LOSSNAME / Dejirumasara \n□お問い合わせ：\nCIRCUS 06-6241-382
URL:https://namura.cc/event/2015-10-31/
ATTACH;FMTTYPE=image/jpeg:https://namura.cc/wp-content/uploads/2023/03/20151015-151031_AmericanApparel.jpg
END:VEVENT
BEGIN:VEVENT
DTSTART;VALUE=DATE:20151025
DTEND;VALUE=DATE:20151026
DTSTAMP:20260423T074640
CREATED:20230309T065631Z
LAST-MODIFIED:20230309T065638Z
UID:1679-1445731200-1445817599@namura.cc
SUMMARY:COS JOY
DESCRIPTION:コスプレイベント \n□日時\n2015年\n10月25日（日）10:00-18:00 \n□詳しくは\nCOSJOYホームページ\nhttp://www.comicon.co.jp/cosjoy/zousenindex.htm
URL:https://namura.cc/event/2015-10-25/
ATTACH;FMTTYPE=image/jpeg:https://namura.cc/wp-content/uploads/2023/03/20150602-cosjoy.jpg
END:VEVENT
END:VCALENDAR