BEGIN:VCALENDAR
VERSION:2.0
PRODID:-//クリエイティブセンター大阪（CCO） - ECPv6.2.1//NONSGML v1.0//EN
CALSCALE:GREGORIAN
METHOD:PUBLISH
X-WR-CALNAME:クリエイティブセンター大阪（CCO）
X-ORIGINAL-URL:https://namura.cc
X-WR-CALDESC:クリエイティブセンター大阪（CCO） のイベント
REFRESH-INTERVAL;VALUE=DURATION:PT1H
X-Robots-Tag:noindex
X-PUBLISHED-TTL:PT1H
BEGIN:VTIMEZONE
TZID:Asia/Tokyo
BEGIN:STANDARD
TZOFFSETFROM:+0900
TZOFFSETTO:+0900
TZNAME:JST
DTSTART:20140101T000000
END:STANDARD
END:VTIMEZONE
BEGIN:VEVENT
DTSTART;VALUE=DATE:20150418
DTEND;VALUE=DATE:20150419
DTSTAMP:20260423T155117
CREATED:20230308T084604Z
LAST-MODIFIED:20230308T084628Z
UID:1578-1429315200-1429401599@namura.cc
SUMMARY:KANSAI ADULT FESTIVAL 2015
DESCRIPTION:■日時\n2015年4月18日土曜日\n開場　13:00〜\n開演　13:30〜\n終演　19:00 \n■料金：前売2500円　当日3500円\n（ともに別途１ドリンク500円必要）\n※18歳未満または高校生の入場禁止です。\n身分証の確認をさせていただく場合がございます。 \n■詳しくは\nhttp://kaf2015.com \n●主催：パッショングループ\n●企画・制作：関西アダルトフェスティバル運営事務局\n●協力：レッテルアーツ実行委員会\n●プロデュース：三村康仁
URL:https://namura.cc/event/2015-04-18/
ATTACH;FMTTYPE=image/png:https://namura.cc/wp-content/uploads/2023/03/20150319-KAFo.png
END:VEVENT
BEGIN:VEVENT
DTSTART;VALUE=DATE:20150412
DTEND;VALUE=DATE:20150413
DTSTAMP:20260423T155117
CREATED:20230308T084902Z
LAST-MODIFIED:20230308T084902Z
UID:1580-1428796800-1428883199@namura.cc
SUMMARY:BJ-STYLE♯2
DESCRIPTION:■日時：\n2015年4月12日(日) \n開場時間 12:00\n開始時間 13:00 \n■詳しくは\n大日本プロレスHP \n■主催・お問い合せ\n大日本プロレス/四ツ葉工芸\n045-507-1751\n080-3594-0428
URL:https://namura.cc/event/2015-04-12/
ATTACH;FMTTYPE=image/jpeg:https://namura.cc/wp-content/uploads/2023/03/20150405-dainihonpuroresu.jpg
END:VEVENT
BEGIN:VEVENT
DTSTART;VALUE=DATE:20150409
DTEND;VALUE=DATE:20150410
DTSTAMP:20260423T155117
CREATED:20230308T085050Z
LAST-MODIFIED:20230308T085050Z
UID:1582-1428537600-1428623999@namura.cc
SUMMARY:クリエイティブセンター大阪　ミニ見学ツアー vol.44
DESCRIPTION:近代化産業遺産に認定されている「名村造船跡地」=クリエイティブセンター大阪の館内見学ツアーです。\n造船所跡地の施設内をスタッフがご説明しながらご案内致します。\n※ツアー時間は40分程度を予定しております。（途中退場可） \n■日時　2015年4月9日（木）　15:00 ※40分程度\nクリエイティブセンター大阪　入口警備員室前集合 \n■参加方法\n予約不要・現地集合／参加費は無料です。 \n■お問合せ\n06-4702-7085（クリエイティブセンター大阪）
URL:https://namura.cc/event/2015-04-09/
ATTACH;FMTTYPE=image/jpeg:https://namura.cc/wp-content/uploads/2022/12/b0f3769176eeffbd5abb90e91461dc87-e1677758490252.jpg
END:VEVENT
BEGIN:VEVENT
DTSTART;VALUE=DATE:20150329
DTEND;VALUE=DATE:20150330
DTSTAMP:20260423T155117
CREATED:20230308T084231Z
LAST-MODIFIED:20230308T084242Z
UID:1573-1427587200-1427673599@namura.cc
SUMMARY:【お知らせ】大阪墨祭 2015開催中止のお知らせ
DESCRIPTION:諸事情により『Straight-Life 2015 大阪墨祭 』開催中止となりました。\n詳しくは \n大阪墨祭 （Straight-Life）Facebookページ \n＝＝＝＝＝＝＝＝＝＝＝＝＝＝＝＝\n■日時\n2015年\n4月4日(土) 15:00〜　開催中止\n4月5日(日) 12:00〜　開催中止
URL:https://namura.cc/event/2015-03-29-2/
ATTACH;FMTTYPE=:
END:VEVENT
BEGIN:VEVENT
DTSTART;VALUE=DATE:20150329
DTEND;VALUE=DATE:20150330
DTSTAMP:20260423T155117
CREATED:20230308T084113Z
LAST-MODIFIED:20230308T084113Z
UID:1531-1427587200-1427673599@namura.cc
SUMMARY:AFRICAN FESTA KANSAI 2015
DESCRIPTION:アフリカ各国の楽器とダンスパフォーマンス・アフリカンファッションショー・アフリカ雑貨の出店や飲食コーナーなど、子供から大人までアフリカを丸ごと楽しめるお祭り開催！！ \n■日時\n2015年3月29日（日）\n13:00〜 \n■チケット\n前売り2000円\n当日　2500円\n※別途ワンドリンク\n小学生以下無料 \nチケットはイープラスにて\nhttp://eplus.jp \n■詳しくは\nアフリカンフェスタ関西Facebookページ\nhttps://www.facebook.com/africanfestakansai
URL:https://namura.cc/event/2015-03-29/
ATTACH;FMTTYPE=image/jpeg:https://namura.cc/wp-content/uploads/2023/03/20150204-afk2015.jpg
END:VEVENT
BEGIN:VEVENT
DTSTART;VALUE=DATE:20141019
DTEND;VALUE=DATE:20141020
DTSTAMP:20260423T155117
CREATED:20230302T124112Z
LAST-MODIFIED:20230302T124112Z
UID:1513-1413676800-1413763199@namura.cc
SUMMARY:鎮守府に着任しました！～藤永田ニ見ユル刻～
DESCRIPTION:艦これオンリー同人誌即売会です。\nコスプレも可能です。\n駆逐艦建造をしておりました藤永田造船所跡を臨む\nこの名村造船跡地にて開催いたします！ \n■日時\n2014年10月19日(日) 12:00～15:30(予定) \n■入場料\n有料(後日ご案内) \n□詳細情報\nhttp://www.e-comicomi.com/chinjuhu/
URL:https://namura.cc/event/2014-10-19/
ATTACH;FMTTYPE=image/jpeg:https://namura.cc/wp-content/uploads/2023/03/20140604-chinjufu_flyer.jpg
END:VEVENT
BEGIN:VEVENT
DTSTART;VALUE=DATE:20141011
DTEND;VALUE=DATE:20141012
DTSTAMP:20260423T155117
CREATED:20230302T124229Z
LAST-MODIFIED:20230302T124236Z
UID:1515-1412985600-1413071999@namura.cc
SUMMARY:THE STAR FESTIVAL -SUNSET-
DESCRIPTION:THE STAR FESTIVAL -SUNSET-\n■日時\n10/11(SAT)\nOPEN 15:00 START 16:00 CLOSE 23:00 \n■チケット\nADV:3500円　当日:4\,000円 \nチケットぴあ（P-code：239-598）\nローソンチケット（L-code：59628）\ne＋ http://eplus.jp \n出演：\nSpecial guest!\nDEAD BEAT feat Paul St Hailaire a.k.a. Tikiman\nSteffan Goldmann\nAoki takamasa
URL:https://namura.cc/event/2014-10-11/
ATTACH;FMTTYPE=:
END:VEVENT
BEGIN:VEVENT
DTSTART;VALUE=DATE:20141007
DTEND;VALUE=DATE:20141008
DTSTAMP:20260423T155117
CREATED:20230302T124418Z
LAST-MODIFIED:20230302T124424Z
UID:1517-1412640000-1412726399@namura.cc
SUMMARY:クリエイティブセンター大阪　ミニ見学ツアー vol.38
DESCRIPTION:近代化産業遺産に認定されている「名村造船跡地」=クリエイティブセンター大阪の館内見学ツアーです。\n造船所跡地の施設内をスタッフがご説明しながらご案内致します。\n※ツアー時間は40分程度を予定しております。（途中退場可） \n■日時　2014年10月7日（火）　15:00 ※40分程度\nクリエイティブセンター大阪　入口警備員室前集合 \n■参加方法\n予約不要・現地集合／参加費は無料です。 \n■お問合せ\n06-4702-7085（クリエイティブセンター大阪）
URL:https://namura.cc/event/2014-10-07/
ATTACH;FMTTYPE=image/jpeg:https://namura.cc/wp-content/uploads/2022/12/b0f3769176eeffbd5abb90e91461dc87-e1677758490252.jpg
END:VEVENT
BEGIN:VEVENT
DTSTART;VALUE=DATE:20141004
DTEND;VALUE=DATE:20141005
DTSTAMP:20260423T155117
CREATED:20230302T124543Z
LAST-MODIFIED:20230302T124550Z
UID:1519-1412380800-1412467199@namura.cc
SUMMARY:野外ストリートフェス vol.1『Day to day』
DESCRIPTION:Day to dayとは……\nジャンルレスな野外でのストリートイベント！\n最高に気持いい場所で、同じ空間で、音楽を体全体で感じ、子供から大人までが一緒になって、最高に楽しむためのイベントです！DANCE SHOW、LIVE、DJ PLAY、GRAFFITIなどをはじめ、特別な美味しいご飯にお酒、普段なら一度に目にすることの出来ない様々なジャンルの融合した最高のイベントを開催します。お客さん、出演者、全員がイベントの主役に！■日時：\n2014/10/4(SAT)\n11:00～20:00 \n■TICKET ：\n一般：前売3000円/当日3500円\n18歳未満のみ：前売り2000円/当日2500円 \n詳しくは\nhttp://www.camroc.co.jp/daytoday/ \n\n  \n〈SPECIAL GUEST LIVE〉\nM.O.S.A.D.\nNORIKIYO\nKIRA〈GUEST DANCE〉\nM.P.P.!! aka Mo’ Phat Party!!\nHEXBEX\nWORK MIO SNAKER\nREIKO from OUTSET&CHIHIRO from BAblack \n〈GUEST DJ〉\nDJ DEFLO from SD JUNKSTA \n…and more!!!!!
URL:https://namura.cc/event/2014-10-04/
ATTACH;FMTTYPE=image/jpeg:https://namura.cc/wp-content/uploads/2023/03/20140901-10523565_286829041512396_961152796796712152_n.jpg
END:VEVENT
BEGIN:VEVENT
DTSTART;VALUE=DATE:20140928
DTEND;VALUE=DATE:20140929
DTSTAMP:20260423T155117
CREATED:20230302T123710Z
LAST-MODIFIED:20230302T123716Z
UID:1506-1411862400-1411948799@namura.cc
SUMMARY:Seasons
DESCRIPTION:「Seasons」\n関西屈指の個性的なロケーションを誇る名村造船所跡地の野外スペースを利用した屋外ステージでの音楽ライブのほか、約20店舗からなるマーケットコート、ワークショップ、ハンモックコーナー、キャンドルエリアなど夏の終わりと秋の始まりを告げるサンセットパーティー「Seasons」を開催！！■日時\n2014年9月28日（日）\nOPEN 12:00\nSTART 13:00 -CLOSE 22:00 \n■チケット：\n前売4000円 / 当日4500円(ドリンク別) \n\n出演アーティスト：\nAurora Acoustic(小島大介&井上薫) feat Shinsuke Fujieda\nEVISBEATSとPUNCH&MIGHTY\n\r\nKAKATO(環ROY×鎮座DOPENESS)\n\r\nShing02 & SPIN MASTER A-1\n\r\nLainy J Groove\nWONDER HEADZ(from Nabowa)\nDragon76 – Live Paint –DJ-\nAgeishi -DJ-\nyokoyama宇宙\nwasica\nDoppo\nDejirumasara \n\r\nand more… \n【マーケット&ワークショップ】\nキュリアストレーディング(ハンモックコーナー)\n民族楽器コイズミ(アサラト(パチカ)ワークショップ)\nIJIRI COFFEE\n遊び場GREEN\nlove cycle\nBORN CLOTHING\nHAND MADE KONOHA\nムスカンパサラ\n他
URL:https://namura.cc/event/2014-09-28/
ATTACH;FMTTYPE=image/jpeg:https://namura.cc/wp-content/uploads/2023/03/20140902-140928_seasons.jpg
END:VEVENT
BEGIN:VEVENT
DTSTART;VALUE=DATE:20140925
DTEND;VALUE=DATE:20140926
DTSTAMP:20260423T155117
CREATED:20230302T123824Z
LAST-MODIFIED:20230302T123830Z
UID:1509-1411603200-1411689599@namura.cc
SUMMARY:コンドルズ合宿ワークショップ2014 開催決定！！　受講者大募集！！！
DESCRIPTION:2014年秋【コンドルズ合宿ワークショップ】の開催が決定！！\n今年でついに9回目！　今年は初の大阪開催！！\n世界で活躍中のダンスカンパニー「コンドルズ」主宰の近藤良平氏を講師に迎え、4泊5日の合宿形式でオリジナルダンス作品を創作します。\nダンス初挑戦でも大丈夫！全国から集うメンバーとともに、レッスンあり、ダンス講義ありの、熱い５日間を過ごしましょう！！ \n9月25日(木) 応募用紙必着 \n詳しくはこちら\nコンドルズ合宿ワークショップ2014　開催要項
URL:https://namura.cc/event/2014-09-25/
ATTACH;FMTTYPE=image/jpeg:https://namura.cc/wp-content/uploads/2023/03/20140823-20140820-CGM14_webtop1.jpg
END:VEVENT
BEGIN:VEVENT
DTSTART;VALUE=DATE:20140902
DTEND;VALUE=DATE:20140903
DTSTAMP:20260423T155117
CREATED:20230302T123939Z
LAST-MODIFIED:20230302T123945Z
UID:1511-1409616000-1409702399@namura.cc
SUMMARY:クリエイティブセンター大阪　ミニ見学ツアー vol.37
DESCRIPTION:近代化産業遺産に認定されている「名村造船跡地」=クリエイティブセンター大阪の館内見学ツアーです。\n造船所跡地の施設内をスタッフがご説明しながらご案内致します。\n※ツアー時間は40分程度を予定しております。（途中退場可） \n■日時　2014年9月2日（火）　15:00 ※40分程度\nクリエイティブセンター大阪　入口警備員室前集合 \n■参加方法\n予約不要・現地集合／参加費は無料です。 \n■お問合せ\n06-4702-7085（クリエイティブセンター大阪）
URL:https://namura.cc/event/2014-09-02/
ATTACH;FMTTYPE=image/jpeg:https://namura.cc/wp-content/uploads/2022/12/b0f3769176eeffbd5abb90e91461dc87-e1677758490252.jpg
END:VEVENT
BEGIN:VEVENT
DTSTART;VALUE=DATE:20140830
DTEND;VALUE=DATE:20140831
DTSTAMP:20260423T155117
CREATED:20230302T122025Z
LAST-MODIFIED:20230302T122032Z
UID:1482-1409356800-1409443199@namura.cc
SUMMARY:ローション大運動会in大阪
DESCRIPTION:ローション大運動会　in 大阪\n〜お待たせしました！やっと会場が見つかりましたスペシャル！〜 \n約1tのローションを使い、運動会を開催！\nすべてがヌルヌルこんな経験は人生初！\n真夏の暑さをローションで吹っ飛ばせ！ \n■日 時：\n2014年8月30日（土）\n開場 12:00／開演 13:00\n※終了予定時刻は16:00頃を予定しております。 \n■料金:参加費：\n男性：10\,800円※税込み\n女性：9\,800円（税込み） \n参加資格：18歳以上の健康的な男女 \n■申込み\nhttp://peatix.com/event/45982/published \n公式HP\nhttp://lotion.event-kikaku.com \n■主 催：ローションスポーツ協会\n■企画制作：株式会社ハイ／zaigoo inc.\n■協 賛：ローションペペ（中島化学産業株式会社）\n■お問合せ：info@lotion.event-kikaku.com
URL:https://namura.cc/event/2014-08-30/
ATTACH;FMTTYPE=image/jpeg:https://namura.cc/wp-content/uploads/2023/03/20140729-2014Lotion_S225.jpg
END:VEVENT
BEGIN:VEVENT
DTSTART;VALUE=DATE:20140829
DTEND;VALUE=DATE:20140830
DTSTAMP:20260423T155117
CREATED:20230302T122144Z
LAST-MODIFIED:20230302T122151Z
UID:1484-1409270400-1409356799@namura.cc
SUMMARY:TOKYO FASHION SNAP COLLECTION 2014
DESCRIPTION:TOKYO FASHION SNAP COLLECTION 2014 \n■日時\n2014年8月29日（金）\n開場：17:00\n開演：18:00〜21:00 \n■チケット\n前売　2\,500円\n当日　3\,000円 \n■詳しくは\ntwitter→@tfsnap\nlaf.maiker@gmail.com
URL:https://namura.cc/event/2014-08-29/
ATTACH;FMTTYPE=image/jpeg:https://namura.cc/wp-content/uploads/2023/03/20140827-2014TFSC.jpg
END:VEVENT
BEGIN:VEVENT
DTSTART;VALUE=DATE:20140823
DTEND;VALUE=DATE:20140824
DTSTAMP:20260423T155117
CREATED:20230302T122702Z
LAST-MODIFIED:20230302T122708Z
UID:1490-1408752000-1408838399@namura.cc
SUMMARY:SUMMER & MUSIC WEDDING Fes
DESCRIPTION:SUMMER & MUSIC WEDDING Fes\nミュージックフェス＋夏祭り＋ちょっとだけ壮志とさおりの結婚式 \n■日時\n2014年8月23日（ 土）\n16：00～21：00（開場15：00） \n■チケット\n・壮志＆さおりのお祝いをしてやろう！という方はこちらのチケット\nプラチナチケット　¥10\,000-(うち金券2\,000円分含む、お席あり)\n・壮志＆さおりのことはよう知らんけどバンド見たい！とか、ちょっと来てみたい！と　　か、とにかくお祭り騒ぎがしたい！という方はこちらのチケット\nゴールドチケット　¥4\,000-　(うち金券500円分含む、お席なし)\n・中学生以上20歳未満の方はこちらのチケットで。\n小人チケット　¥4\,000-　(うち金券500円分含む、お席なし) \n※１：小学生以下は入場無料です！\n※２：当日、会場にはプラチナチケットご購入の方のお人数分しか椅子の用意がありません。\nその他チケットの方は飲食も含め完全なスタンディングとなりますのでチケットご購入の際はご注意ください。 \n詳しくはこちら\nhttp://arcadia-pwt.com/sm/index.html
URL:https://namura.cc/event/2014-08-23/
ATTACH;FMTTYPE=image/png:https://namura.cc/wp-content/uploads/2023/03/20140815-sm.png
END:VEVENT
BEGIN:VEVENT
DTSTART;VALUE=DATE:20140821
DTEND;VALUE=DATE:20140822
DTSTAMP:20260423T155117
CREATED:20230302T122814Z
LAST-MODIFIED:20230302T122843Z
UID:1492-1408579200-1408665599@namura.cc
SUMMARY:SOUND SHOCK 2014
DESCRIPTION:SOUND SHOCK 2014\nSOUND SHOCKは今年で６年目を迎える関西の軽音楽団体で行うフェス形式の合同ライブです！関西の軽音楽団体に所属する学生のために大きな活躍のステージを提供します！\n今年も学生バンドだけでなく様々なゲストアーティストの方にご出演していただきたいます！ぜひお越しください！■日時\n2014年8月21日（金）\nOPEN 10:30\nSTART 11:00〜■チケット\nチケット料金：2000円+1drink代500円\n※学生証提示で500円割引\n※再入場不可 \n■詳しくは\nhttp://www.sound-shock.com/index.html \n\n■ゲストアーティスト\n＜スペシャルゲスト＞\nHaKU\nasobius＜オープニングスペシャルゲスト＞\n空想委員会＜ゲスト＞\n夜の本気ダンス\n植田真梨恵\nMAMADRIVE\nココロオークション\nQOOLAND\nファジーロジック\nmaholoba city pop\nAIRFLIP\n今後ぎつね\n絶景クジラ
URL:https://namura.cc/event/2014-08-21/
ATTACH;FMTTYPE=image/png:https://namura.cc/wp-content/uploads/2023/03/20140812-soundshock2014.png
END:VEVENT
BEGIN:VEVENT
DTSTART;VALUE=DATE:20140815
DTEND;VALUE=DATE:20140818
DTSTAMP:20260423T155117
CREATED:20230302T122959Z
LAST-MODIFIED:20230302T123012Z
UID:1496-1408060800-1408319999@namura.cc
SUMMARY:鳥公園＃10への工程１　ショーイング公演「空白の色はなにいろか？」
DESCRIPTION:おおさか創造千島財団スペース助成\n鳥公園＃10への工程１　ショーイング公演「空白の色はなにいろか？」 \n作・演出 西尾佳織\n出演 浅井浩介(わっしょいハウス)、武井翔子、西山真来 \n■日時\n2014年8月15日(金)〜17日(日) \n15日(金)19:30\n16日(土)14:00/19:00\n17日(日)14:00\n* 受付開始、開場は開演の30分前 \n■チケット\n前売：2200円\n当日：2700円 \n詳しくは\nhttp://bird-park.info \n■スタッフ\n作・演出:西尾佳織 \n舞台監督:さかいまお\n舞台美術:中村友美\n照明:石田光羽\n宣伝美術:鈴木哲生\n制作協力:若旦那家康\n制作:萩谷早枝子\nOTHER MEMBER:森すみれ\n助成:おおさか創造千島財団\n協力:わっしょいハウス　六尺堂　ART COMPLEX \n企画・製作・主催:鳥公園
URL:https://namura.cc/event/2014-08-15/
ATTACH;FMTTYPE=image/png:https://namura.cc/wp-content/uploads/2023/03/20140722-torikouen_o.png
END:VEVENT
BEGIN:VEVENT
DTSTART;VALUE=DATE:20140810
DTEND;VALUE=DATE:20140811
DTSTAMP:20260423T155117
CREATED:20230302T123147Z
LAST-MODIFIED:20230302T123147Z
UID:1498-1407628800-1407715199@namura.cc
SUMMARY:8／10コスプレイベント“COS・JOY”中止のお知らせ
DESCRIPTION:本日8月10日に予定しておりましたCOS・JOY大阪in造船跡地は台風11号接近に伴い、敷地入口に設置されている防潮堤が大阪府治水事務所の指示により防潮堤閉鎖され、イベントの開催が中止せざる負えなくなりましたので、お知らせいたします。
URL:https://namura.cc/event/2014-08-10/
ATTACH;FMTTYPE=image/jpeg:https://namura.cc/wp-content/uploads/2023/03/20140810-zousenindex.jpg
END:VEVENT
BEGIN:VEVENT
DTSTART;VALUE=DATE:20140808
DTEND;VALUE=DATE:20140809
DTSTAMP:20260423T155117
CREATED:20230302T123257Z
LAST-MODIFIED:20230302T123303Z
UID:1500-1407456000-1407542399@namura.cc
SUMMARY:クリエイティブセンター大阪　ミニ見学ツアー vol.36
DESCRIPTION:近代化産業遺産に認定されている「名村造船跡地」=クリエイティブセンター大阪の館内見学ツアーです。\n造船所跡地の施設内をスタッフがご説明しながらご案内致します。\n※ツアー時間は40分程度を予定しております。（途中退場可） \n■日時　2014年8月8日（金）　15:00 ※40分程度\nクリエイティブセンター大阪　入口警備員室前集合 \n■参加方法\n予約不要・現地集合／参加費は無料です。 \n■お問合せ\n06-4702-7085（クリエイティブセンター大阪）
URL:https://namura.cc/event/2014-08-08/
ATTACH;FMTTYPE=image/jpeg:https://namura.cc/wp-content/uploads/2022/12/b0f3769176eeffbd5abb90e91461dc87-e1677758490252.jpg
END:VEVENT
BEGIN:VEVENT
DTSTART;VALUE=DATE:20140803
DTEND;VALUE=DATE:20140804
DTSTAMP:20260423T155117
CREATED:20230302T123417Z
LAST-MODIFIED:20230302T123423Z
UID:1502-1407024000-1407110399@namura.cc
SUMMARY:劇団子供鉅人 大阪最後の大宴会!!!「オオサカ・ファイナル・デー！〜東京行ってくるデー！〜」
DESCRIPTION:大阪・関西のみなさん、こんにちは！劇団子供鉅人です！我々は２０１４年の夏、生まれ故郷大阪から東京にお引っ越しします。ほんまに離れがたい大阪なんですが、新しいステップを踏み出すための決断です！これまで我々を見守り、育ててくれた大阪と関西のみなさんに感謝の気持ちと出発の決意をこめて、劇団子供鉅人、大阪最後の大宴会を開催します！昼から夜までどんちゃん騒ぎの８時間！みんな、来てや！来てや！来てや〜〜〜!!!!!!!!!!来なけりゃ泣く!!!!!!!!!!!! \n□日時\n2014年8月3日（日）\nOPEN 14:00/START 14:30/END 22:00 \n□料金\n2500円（1ドリンク付／予約不要／当日受付） \nタイムテーブル近日公開！詳しくは劇団HPまで！\nhttp://www.kodomokyojin.com \n□出演\n劇団子供鉅人・オールスターズ／シアタースコア（イガキアキコ＋中林キララ＋かんのとしこ＋三原智行＋宮田あずみ＋ワタンベ）／デグルチーニ／たゆたう／さとりらんぽ（佐伯真有美＋PIKA☆＋呉山夕子）　／小倉向＋松原哲也（白い汽笛）／DJメメント　　他 \n□FOOD\n谷口カレー／ピンポン食堂／満腹寺　他 \n□展示\n橋本大和／明地清恵／高木陽春／　他 \n□トークショー\n中村悠介（インセクツ）西尾孔志（映画監督）／小田島等（イラストレーター）／服部滋樹（graf代表）　／益山貴司（劇団子供鉅人代表） \n□イベント　「オノマトペプロレス特別大会」一般参加部門／プロ部門大会 \n□東京資金SOSオークション！
URL:https://namura.cc/event/2014-08-03/
ATTACH;FMTTYPE=image/jpeg:https://namura.cc/wp-content/uploads/2023/03/20140722-osaka_finalday.jpg
END:VEVENT
BEGIN:VEVENT
DTSTART;VALUE=DATE:20140802
DTEND;VALUE=DATE:20140803
DTSTAMP:20260423T155117
CREATED:20230302T123528Z
LAST-MODIFIED:20230302T123539Z
UID:1504-1406937600-1407023999@namura.cc
SUMMARY:鳥公園ワークショップ「書きたてほやほやの鳥公園新作『空白の色はなにいろか？』の 戯曲を公演会場で俳優より先に
DESCRIPTION:鳥公園ワークショップ\n「書きたてほやほやの鳥公園新作『空白の色はなにいろか？』の\n戯曲を公演会場で俳優より先に読んでみる」 \n■日時\n2014年8月 2日( 土)\n13 : 00 – 17 : 00\n受付・開場12: 30 – \n■料金 参加者1 0 0 0 円、見学者5 0 0 円 \n■申込方法\n以下の項目をi n f o . b i r d p a r k @ g m a i l . c o m までご連絡くださ \n│参加の場合│…お名前、年齢、演劇経験の有無、ご連絡先。\n│見学の場合│…お名前、ご連絡先。 \n詳しくは\nhttp://bird-park.info
URL:https://namura.cc/event/2014-08-02/
ATTACH;FMTTYPE=:
END:VEVENT
BEGIN:VEVENT
DTSTART;VALUE=DATE:20140725
DTEND;VALUE=DATE:20140728
DTSTAMP:20260423T155117
CREATED:20230302T120200Z
LAST-MODIFIED:20230302T120934Z
UID:1451-1406246400-1406505599@namura.cc
SUMMARY:第20回日本国際パフォーマンス・アート・フェスティバル（ニパフ'14）in 大阪
DESCRIPTION:第20回日本国際パフォーマンス・アート・フェスティバル（ニパフ’14）ニパフ’14東京—ニパフ’14大阪—ニパフ’14信州セミナー—ニパフ’14長野 \n人間の威力！芸術の威力！ニパフの威力！ \n大阪公演\n■日時：\n7月25日(金)　19:00〜（開場 18:30）\n7月26日(土)　19:00〜（開場 18:30）\n7月27日(日) 　16:00〜（開場 15:30）\n＊出演者は毎日異なります。毎日6−10名の出演。各10〜20分の作品。計２時間程度。途中入退場可。開場は開演30分前です。 \n［付帯イベント］\n◆アーティスト・トーク：海外アーティストが各国の状況を語る。随時通訳付き。\n7月24日(木)　18:00-20:00\n会費：学生1\,000円、一般1\,200円。\n野外パフォーマンス：自然の中のパフォーマンス。 \n■入場チケット\n・学生前売2\,200円（当日＋300円）\n・一般前売2\,500円（当日＋300円）\n・高校生1\,500円（当日のみ） \n［東京・大阪］\n・学生３日券6\,000円\n・一般３日券7\,000円 \n◆問合せ・予約；090-1652-9127 または E-mail:nipaf@avis.ne.jp\n◆Face Book：http://www.facebook.com/NIPAF \n◆出演アーティスト\n［海外］全カ所出演\n１バルトローメ・フェランド（スペイン・バレンシア、男）\n２モニカ・ギュンター＆ロディー・シル（スイス・ルーチェルン、女＆男、東京・大阪のみ）\n３リチャード・キッタ（スロバキア・コシューチェ、男）\n４モイーン・ファトマ（インド・デリー、女）\n５グエン・プオン・リン（ベトナム・ハノイ、女）\n６シャイラ・ジナット・ルニ（バングラデシュ・クルナ、女）\n７リティ・マハルジャン（ネパール・ラリトゥプール、女）\n８ワタン・ウマ（台湾・新竹、男）\n９ソン・ヌンギョン（韓国・ソウル、男） \n［日本］（出演地）\n１霜田誠二（全カ所）、２黒田オサム（全カ所）、３倉田めば（全カ所）、４犬飼美也妃（全カ所）、５濱田明李（全カ所）、６正田ユミ子（東京・大阪）、７小林清乃（東京・大阪）、８鎌田寛子（東京）、９小笠原里美（東京）、10張慈恩（東京）、11杉英恵（東京）、 12亘敏治（大阪）、13大橋正教（大阪）、14諸見里太志（大阪）、15山本彩織（大阪） \n◆主　催；日本国際パフォーマンス・アート・フェスティバル（ニパフ）実行委員会（代表：霜田誠二）\n◆共　催；東京NIPAF、大阪NIPAF、長野NIPAF\n◆協　力；3331 Arts Chiyoda、クリエイティブ・センター大阪、ネオン・ホール\n◆助　成；日本芸術文化振興会、おおさか千島創造財団、長野市芸術文化振興基金
URL:https://namura.cc/event/20140725/
ATTACH;FMTTYPE=image/jpeg:https://namura.cc/wp-content/uploads/2023/03/20140710-10406714_291241754387581_8859102219228406854_n.jpg
END:VEVENT
BEGIN:VEVENT
DTSTART;VALUE=DATE:20140717
DTEND;VALUE=DATE:20140718
DTSTAMP:20260423T155117
CREATED:20230302T121536Z
LAST-MODIFIED:20230302T121536Z
UID:1475-1405555200-1405641599@namura.cc
SUMMARY:7月20日Fight club vol\,17中止のお知らせ
DESCRIPTION:本日(7/17)、主催者のfight club 運営事務局より、7/20（日）に予定しておりました「Fight club vol\,17」を急遽中止しますと連絡がありましたので、ご報告いたします。 \n詳細につきましては、fight club 運営事務局までお問合せ下さい。 \nクリエイティブセンター大阪
URL:https://namura.cc/event/2014-07-17/
ATTACH;FMTTYPE=image/jpeg:https://namura.cc/wp-content/uploads/2023/03/20140717-0720cancel.jpg
END:VEVENT
BEGIN:VEVENT
DTSTART;VALUE=DATE:20140708
DTEND;VALUE=DATE:20140709
DTSTAMP:20260423T155117
CREATED:20230302T121649Z
LAST-MODIFIED:20230302T121657Z
UID:1477-1404777600-1404863999@namura.cc
SUMMARY:クリエイティブセンター大阪　ミニ見学ツアー vol.35
DESCRIPTION:近代化産業遺産に認定されている「名村造船跡地」=クリエイティブセンター大阪の館内見学ツアーです。\n造船所跡地の施設内をスタッフがご説明しながらご案内致します。\n※ツアー時間は40分程度を予定しております。（途中退場可） \n■日時　2014年7月8日（火）　15:00 ※40分程度\nクリエイティブセンター大阪　入口警備員室前集合 \n■参加方法\n予約不要・現地集合／参加費は無料です。 \n■お問合せ\n06-4702-7085（クリエイティブセンター大阪）
URL:https://namura.cc/event/2014-07-08/
ATTACH;FMTTYPE=image/jpeg:https://namura.cc/wp-content/uploads/2022/12/b0f3769176eeffbd5abb90e91461dc87-e1677758490252.jpg
END:VEVENT
BEGIN:VEVENT
DTSTART;VALUE=DATE:20140706
DTEND;VALUE=DATE:20140707
DTSTAMP:20260423T155117
CREATED:20230302T121849Z
LAST-MODIFIED:20230302T121857Z
UID:1479-1404604800-1404691199@namura.cc
SUMMARY:CIRCUS 2nd Anivesary special! DJ HARVEY 25TH ANNIVERSARY TOUR OF JAPAN supported by NEIGHBORHOOD ×Mr Ties 1st Japan Tour 2014
DESCRIPTION:“神に最も近い男” DJ HARVEYが来日25周年記念ツアーを開催！20年以上に渡り数々の伝説を生んできた男「DJ HARVEY」。ダンスミュージック・シーンの絶対王者が新たな伝説を刻む瞬間をぜひ現場で目撃してほしい。そして現在のリアルBerlin No1Partyと称されるHomopatikを主催する若きカリスマDJ’s DJ、Mr Tiesが遂に初来日！大阪名村造船所跡地(STUDIO PARTITA)にて夢の競演が実現! \n□日時・料金 2014年7月6日（日）\nOPEN 15:00\nADV:3500\nDOOR:4000\n(別途1ドリンク代金500円必要) \n□チケット\nチケットぴあ　0570-02-9999(P-code:235-227)\nローソンチケット 0570-084-005(L-code:59579)\nCN playguide 0570-08-9999\nCN playguide 　 0570-08-9999\ne+　http://eplus.jp/ \n\n  \nMAIN ROOM::\nDJ HARVEY (Locussolus\, Wildest Dreams / LA) / Mr Ties(Homopatik/Berlin) /\nKENJI TAKIMI(Crue-L / Being Borings)OPEN AIR::\nDJ AGEISHI(AHB pro)/ Yoshihiro Okino(KYTOTO JAZZ MASSIVE )/ ESPECIAL RECORDS)\n/ MANGOOSE(NEWTONE RECORDS)/DJ YASUHISA(TetralogisticS)/Keiburger\nVJ:KOZEE　LIGHTING:SOLA
URL:https://namura.cc/event/2014-07-06/
ATTACH;FMTTYPE=image/jpeg:https://namura.cc/wp-content/uploads/2023/03/20140526-DJ-Harvey730.jpg
END:VEVENT
BEGIN:VEVENT
DTSTART;TZID=Asia/Tokyo:20140603T150000
DTEND;TZID=Asia/Tokyo:20140603T160000
DTSTAMP:20260423T155117
CREATED:20230213T060027Z
LAST-MODIFIED:20230511T030833Z
UID:531-1401807600-1401811200@namura.cc
SUMMARY:クリエイティブセンター大阪　ミニ見学ツアー vol.34
DESCRIPTION:近代化産業遺産に認定されている「名村造船跡地」=クリエイティブセンター大阪の館内見学ツアーです。\n造船所跡地の施設内をスタッフがご説明しながらご案内致します。\n※ツアー時間は40分程度を予定しております。（途中退場可） \n■日時　2014年6月3日（火）　15:00 ※40分程度\nクリエイティブセンター大阪　入口警備員室前集合 \n■参加方法\n予約不要・現地集合／参加費は無料です。 \n■お問合せ\n06-4702-7085（クリエイティブセンター大阪）
URL:https://namura.cc/event/20140603/
ATTACH;FMTTYPE=image/jpeg:https://namura.cc/wp-content/uploads/2022/12/b0f3769176eeffbd5abb90e91461dc87-e1677758490252.jpg
END:VEVENT
BEGIN:VEVENT
DTSTART;VALUE=DATE:20140527
DTEND;VALUE=DATE:20140528
DTSTAMP:20260423T155117
CREATED:20230302T115434Z
LAST-MODIFIED:20230302T115848Z
UID:1446-1401148800-1401235199@namura.cc
SUMMARY:CITY SENTO
DESCRIPTION:RE-THINKING THE JAPAN BATH \nA DESIGN RESEARCH INSTALLATION BY DUTCH DESIGNER HARM RENSINK \n■日時\n2014年5月27日（火）10.00-15.00\nTUESDAY MAY 27TH 10.00-15.00 \n■入場料\n無料（FREE) \n■場所\nSTUDIO PARTITTA \n■アーティスト\nHARM RENSINK \nWWW.HARMRENSINK.NL
URL:https://namura.cc/event/20140527/
ATTACH;FMTTYPE=image/png:https://namura.cc/wp-content/uploads/2023/03/20140522-CITY-SENTO-1.png
END:VEVENT
BEGIN:VEVENT
DTSTART;VALUE=DATE:20140524
DTEND;VALUE=DATE:20140525
DTSTAMP:20260423T155117
CREATED:20230213T060905Z
LAST-MODIFIED:20230213T063205Z
UID:534-1400889600-1400975999@namura.cc
SUMMARY:写音プロジェクト
DESCRIPTION:名村造船所の野外とスタジオでのコスプレ撮影会＋アニソンライブ＋廃墟VJ＋工場VJ＋VOGUEの奇跡のサブカルMIX！\n造船所跡地という産業遺産に眠る＜廃墟のポテンシャル＞を最大限活かしたユニークな空間で、最大限に出来ることを考えたらこうなってしまったイベント！！！ \n■日時\n2014年5月24日（土）\n>前半イベント\n野外とスタジオでのコスプレ撮影会\n10:00-15:30\n>後半イベント\nアニソンバンドライブ・VOGUEダンス・廃墟DJ・工場DJ！\n16時?20時\n■参加費\nコスプレイヤー：1500円\nカメラマン・ライブ参加者一律：2500円\n16時からのイベントから参加される方はワンドリンクチケットが付きます。通しで参加するレイヤーさんは断然お得！！ \n詳細情報\nhttp://doitehu.wix.com/syaon \n造船所跡地という産業遺産に眠る＜廃墟のポテンシャル＞を最大限活かしたユニークな空間で、最大限に出来ることを考えたらこうなってしまったイベント！！！ \n前半と後半に分かれたイベント！\n前半は名村造船所のスタジオPARTITAとその周囲でコスプレ撮影会を開催！\n後半はアニソンライブ・VOGUE・廃墟工場VJを開催！コスプレ衣装のままで参加オッケー！！ \nさらに！海外のジョジョ立ちといわれる「VOGUE（ヴォーグ）」。\nN.Y、日本、台湾など国際的に活躍するプロの方がヴォーギングを踊ってくれます！ヴォーグのかっこよさに触れたら、自分もやってみたくなる。\n出来るだけ参加型のイベントにしたいのでコスプレランウェイ（参加自由）もします！お気に入りのキャラクターでキメ顔キメポーズでかっこよく歩きましょう！歩き方はVOGUEダンサーがわかりやすくお手本をみせてくれます！！ \n廃墟DJ・VJによる廃墟写真を見ながらのDJ！大スクリーンに映し出される廃墟をたっぷり堪能しよう！ \n最後は工場・インダストリアルミュージック。CMや某アニメ映画などに楽曲を提供しているプロによる工場DJ・VJが参戦！\nサブカルチャー好きにはたまらない内容がギッチリ詰まっています！ \n【オールジャンルコスプレ撮影会】\n■海辺・工場・倉庫、スタジオと幅広いコスプレが可能！\n■PARTITA周辺と中のスタジオが撮影場所になります。\n＊音響リハーサルも同時に行っています。\n■露出は過度でない限り規制ありません。\n■男性の女装はご遠慮ください。\n■金属製武器類、鉄、アルミ、ステン等の模造刀類や銃類等も約1ｍサイズまでなら可能。\n＊男性・女性更衣室それぞれ用意しています。\n＊男性カメラマンさんのご参加はＯＫです。\n＊16時以降は外撮影は出来なくなります。\n＊シャワールームに大きな鏡があります。\n＊貴重品をしまうロッカー完備。\n＊16時以降はドリンクカウンター以外の飲食の持込ができなくなります。\n■タイムスケジュール\n◆午前10 時から15 時半 Partita スタジオ内・外会場で撮影会＊撮影会中もスタジオでは音響設備の準備を同時に行っています。\n◆夕方16 時からPartita 屋内スタジオでClubフェス 開始\nアニソンライブ・アニソンDJ・VOGUE・コスプレランウェイ・廃墟VJ・工場VJ\n会場終了20 時予定（3時間?3時間半を予定） \n【出演者一覧】\n◆1000SAY　-A THOUSAND SAY-\n男女ツインヴォーカル・エレクトロサウンドを基調としたバンドサウンドは、デジタルとアナログを包括し、彼らの掲げるコンセプト『次世代ファンタジー』を体現する。\n映像、アート、ファッション、イラストなど日本ポップクリエーターとのコラボレーションなど、その表現は多岐にわたり高い評価を得ている。\n◆VOGUE\nN.Y、台湾、日本で国際的に活躍するVOGUEダンスからは日本のファーザーといわれるモニカ・ミズラヒが出演！！あのハウス・オブ・ニンジャともならぶVOGUEのカリスマの一人。\n◆廃墟DJ・VJ\nむー（ウルエ）\nロックバンド『ウルエ』のメンバーとしてキーボード、アレンジを担当。独創的な音使いで賛否を呼ぶ。\n個人での活動は、純粋芸術音楽のプロデュース、舞台音響など、キーボーディストの枠を超えて活躍中。 \n夢煙夏士\n廃墟写真・コスプレ写真家。雑誌にも記事を寄稿している。またVOCALOID（ボーカロイド・ボカロ）Pでもある。\nイベントに一切参加しないことでも有名（笑） \n◆工場DJ・VJ\nJUNICHI WATANABE\n333-333-333Records主催。インダストリアルミュージックを基軸に作品を発表する傍ら、ファッションショーの選曲やKYOSHOのプロモミュージック、Wowowで放送された「R60スネークマンショー」のエンディング曲等を手がけ、幅広く活動している。\nライブやDJでは映像のディレクションも手がけ、音とビジュアルでノイジーかつ攻撃的な世界観を構築させている。\nVJ：メガドリル \n◆プロモーションレイヤー\n三夏\n関西を中心に活動する実力派コスプレイヤー。\n写音プロジェクトのプロモーションレイヤーとして参加！！多彩なキャラクターになり愛くるしい笑顔でファンを魅了する！！ \nチャリティーイベントも開催！！！\n◆東北ライブハウス大作戦\n東北のライブハウスを盛り上げるため、復活させ同じようなイベントを開催するためにこのイベントで集めた募金を全額寄付します！！！\nhttp://www.livehouse-daisakusen.com/
URL:https://namura.cc/event/20140524/
ATTACH;FMTTYPE=image/jpeg:https://namura.cc/wp-content/uploads/2023/02/20140425-mikka.jpg
END:VEVENT
BEGIN:VEVENT
DTSTART;VALUE=DATE:20140518
DTEND;VALUE=DATE:20140519
DTSTAMP:20260423T155117
CREATED:20230213T063854Z
LAST-MODIFIED:20230213T074940Z
UID:540-1400371200-1400457599@namura.cc
SUMMARY:Kansai Celtic Music Festival DEMAT!
DESCRIPTION:■日時\n2014年5月18日（日）\nOPEN 12:00\nSTART 12:30\nCLOSE 21:30 \n■チケット\nADV. ￥2\,000\nDOOR ￥2\,500 \n一般発売：３月4日（水）10：00- \n【チケットの購入方法】\nｅ＋（イープラス）　http://eplus.jp/（ＰＣ・携帯共通）\nファミリーマート店内ファミポート\nプレイガイドの購入方法に従い、お求めください。 \n■お問合せ\n“DEMAT!” インフォメーション・コンタクト\nKansaiBreizh\ninfo@kansaibreizh.com \nhttp://kansaibreizh.com/demat/ Brieg Guerveno \nフランスのブルターニュ地方出身のシンガーソングライターBrieg Guervenoは７０年代フォークロックから近代的ロックメタルまで多様なジャンルの音楽を提供し、影響を与えている。\nブルトン語で書かれた詞にはメロディーとは対象的に、悲観的感情や現代社会に対する抵抗といった気持ちが刻まれている。\n透き通って、また心を動かされるような魅力的な歌声は私たちを彼が創造する音楽の世界、そして漸進的なロックの世界に導いてくれる。\n2006年、ソロ活動を始め自身初のフォークロックレコード”SedeR”を発売。彼のグループを連れてBrest 2008\, Pan Celtic Festival (Irlande)\, Dazibao\, La Gallésie en Fête\, le festival des Filets Bleus\, le festival des Chants de Marinなどに出演。\n2011年、Coop Breizhから初アルバム “Noziou Deiou”を発売。\n2012年、ブルトンのロック界で有名なベーシストXavier SoulabailとドラマーJoachim Blanchetが加入。10月には無料ダウンロードレコード”Bleuniou ad distruj”を発売し大きな成功を収める。数ヵ月後、ブルターニュ地方とFrance 3から“2012年ブルトン語レコード最優秀賞”を受賞。\nBrieg Guervenoと彼のグループは今後さらに勢いを増し、ブルターニュロックの再生のシンボルとなるような革新をもたらすだろう。 \nSuperbelle \nレッテルや分類は忘れよう。\nアイルランド伝統音楽のエッセンスに、ブレイクコアーのパワー、エレクトロとジャズの風味を加え、全部をミックス。 これをプレイリストに入れて、夜を待つ。 これで「スーパーベル」の音楽の出来上がり。 ビタミンたっぷりでエネルギッシュ、時には羽目をはずすこともある。 パリの路地とダブリンのパブの匂い、この二都市の夜をかけ合わせたように、さまざまなジャンルや味わいの混合。 ともかく彼らについて行こう。「スーパーベル」の音楽がどんなに身近に感じられても、まだ行き先はわからないから。 \nMohikan Family’s \nティンホイッスル、アコーディオン、ヴォーカル、ガットギター、ウッドベース、ドラムの6人からなる編成で、大阪を中心に活動するアコースティックロックバンド。\nアイリッシュ、ジプシー、ケルト、クレツマー、フラメンコ、ミュゼットなどのヨーロッパトラッドミュージックをベースにロックやラテン、その他いろんな要素を混ぜ込んだワールドミクスチャーミュージックを展開中。\nロックなどに飽き足らず、ワールドミュージックに手を出してしまい、アコースティックの気持ちよさを体感！\nこれをきっかけに実験的な融合を試みながら新しいアコースティックミュージックの有り方を現在進行形で目指す。 \nRevili’o \n前身のJAD、Thy Countyを経て2012年結成。\n2011年、当初は野原武と梶野潤の2名で曲作りやライブを行っていたが、翌2012年春、持田桐と山崎大輔（共に元JAD）が加入。\nこれを機に、バンドを正式にRevili’O（レビリオ）と名付ける。語源は野原による造語。\nその数ヶ月後、たまたま大阪でのライブ後に出会った高木大貴（元Haggis）と意気投合し、その場で加入。\nしばらく打楽器無しの編成で活動していたが、2013年に入って間も無くアイリッシュパブでの演奏後に山本壮典が声をかけてくる。そのまま加入。\n現在に至る。\nIrish、Old American trad、Alt.Countryをベースにしたフォークロックバンド。\nメンバーは基本的に6名だが、ライブによって編成が変わる。特に小編成の場合はドラム＆ベースレスとなる事が多く、より素朴で土臭い雰囲気を前面に押し出したスタイルとなる。\nまたこうした小編成時は自らを”Revili’O&Sons”と名乗り、6名での活動内容とは差別化を図っている。\n因みにメンバー間の年齢&居住地の差が広い。 \nSamurai Celt Mine \n笛師 清水俊介率いる和製ケルティックバンド。\n日本人であること、また海外で長く暮らし、旅した経験から\n生まれる楽曲は世界情緒に溢れる。\nアイルランド、ガリシア、ブルターニュ等のケルト音楽のリズムに\nメンバー独自のグルーヴをのせて奏でる。\nFlute&Whistle\, Fiddle\, Woodbass\, Cajon\, Guitar等の木製楽器を使用し、\n楽曲の激しさや切なさの中にも木のぬくもりや優しさを感じさせる。\n日本の古都 京都を中心に活動中。 \nLes Korrigans \n現代でもフランスの各地で踊り会が行われている。日本でもフランスの踊り会が開かれており、そこで結成されたのが”Korrigan –コリガン-“。 アイリッシュ音楽などの楽を愛するメンバーが集まり、踊り会で踊れる音楽を奏でています♪
URL:https://namura.cc/event/20140518/
ATTACH;FMTTYPE=image/jpeg:https://namura.cc/wp-content/uploads/2023/02/20140429-Kansai-Celtic-Music-Festival-DEMAT.jpeg
END:VEVENT
BEGIN:VEVENT
DTSTART;VALUE=DATE:20140511
DTEND;VALUE=DATE:20140512
DTSTAMP:20260423T155117
CREATED:20230213T064153Z
LAST-MODIFIED:20230213T071114Z
UID:543-1399766400-1399852799@namura.cc
SUMMARY:春ロック2014
DESCRIPTION:CAMURO DANCE STUDIO presents 遊べる！踊れる！カムロのお祭りイベント！！ \n■日時\n2014年5月11日(日)\nOPEN　13:00／STRAT　14:00 \n■チケット\n前売2500円\n当日3000円\n※どちらも別途ドリンク代500円がかかります \nTICKET INFO\nローソンチケット 0570-084-005　［Lコード 58596］ \n詳しくは\nhttp://camuro.jp/news/ ・MC 　AMI / ゴルフ\n・DJ　TOGASHI / K-Katsu \n【GUEST DANCER】\n■おかま更衣室 ■甘いTAA!!■エリツィン＋SHUN＋れな＋KAISEI■AUM ■Beats Me!Beasty Me! ■BRUISES.W■C ■choreOringz ■DUMMY!!!! ■EROTIC JAPAN■HAYESTA ■ILL CLASSIC ■Jacuzzi ■MAHINA&MICO ■MO☆JO ■Nextep ■RUMBLE ■SECOND LINE CREW \n【SOLO PERFORMANCE】\nJohn／LARRSON \n【LIVE】\n■yurisa LIVE choreo Kyo-hey
URL:https://namura.cc/event/20140511/
ATTACH;FMTTYPE=image/jpeg:https://namura.cc/wp-content/uploads/2023/02/20140429-harurokku.jpg
END:VEVENT
END:VCALENDAR