BEGIN:VCALENDAR
VERSION:2.0
PRODID:-//クリエイティブセンター大阪（CCO） - ECPv6.2.1//NONSGML v1.0//EN
CALSCALE:GREGORIAN
METHOD:PUBLISH
X-WR-CALNAME:クリエイティブセンター大阪（CCO）
X-ORIGINAL-URL:https://namura.cc
X-WR-CALDESC:クリエイティブセンター大阪（CCO） のイベント
REFRESH-INTERVAL;VALUE=DURATION:PT1H
X-Robots-Tag:noindex
X-PUBLISHED-TTL:PT1H
BEGIN:VTIMEZONE
TZID:Asia/Tokyo
BEGIN:STANDARD
TZOFFSETFROM:+0900
TZOFFSETTO:+0900
TZNAME:JST
DTSTART:20150101T000000
END:STANDARD
END:VTIMEZONE
BEGIN:VEVENT
DTSTART;VALUE=DATE:20151012
DTEND;VALUE=DATE:20151013
DTSTAMP:20260423T073656
CREATED:20230309T065904Z
LAST-MODIFIED:20230309T065912Z
UID:1684-1444608000-1444694399@namura.cc
SUMMARY:HIGH TIMEZ 2015
DESCRIPTION:□日時：\n2015年10月12日(月祝・体育の日)\nOPEN／START 14:00～□チケット\n前売り¥3500-\n当日¥4000- \n前売りチケット発売日: 7/13(月)※300枚限定\nticket PIA:0570-02-9999（P-code：277-176）\nLAWSON ticket:0570-084-005（L-code：51464）\nCN playguide: 0570-08-9999\ne+ http://eplus.jp \n□Total info\nBack Yard Promotion　06-6213-7077 \n\n  \n■MAIN HOST DEEJAY\nCHEHON■LIVE\nSTINGERZ (ARM STRONG\,BIG BEAR\,CHEHON\,？？？)\nHB FAMILIA (HIDADDY\,遊戯\,YOUTH\,22\,GAZZILA)\n卍LINE / RUEED / NATURAL WEAPON\nSHADY / KAWMAN / M-KEY and more．．． \n■SOUND\nSOUND MISSION / TIDAL WAVE and more．．．
URL:https://namura.cc/event/2015-10-12/
ATTACH;FMTTYPE=image/jpeg:https://namura.cc/wp-content/uploads/2023/03/20150923-HT2015.jpg
END:VEVENT
BEGIN:VEVENT
DTSTART;VALUE=DATE:20151011
DTEND;VALUE=DATE:20151012
DTSTAMP:20260423T073656
CREATED:20230309T070151Z
LAST-MODIFIED:20230309T070200Z
UID:1691-1444521600-1444607999@namura.cc
SUMMARY:CUTTING EDGE 2015 大阪ラウンド
DESCRIPTION:□日時：\n2015年10月11日（日） \n□定員\n詳細は特設HPをご覧ください。 \n□詳しくは\nhttp://www.vantan.com/special/ce2015/
URL:https://namura.cc/event/2015-10-11-2/
ATTACH;FMTTYPE=:
END:VEVENT
BEGIN:VEVENT
DTSTART;VALUE=DATE:20151011
DTEND;VALUE=DATE:20151012
DTSTAMP:20260423T073656
CREATED:20230309T070032Z
LAST-MODIFIED:20230309T070039Z
UID:1688-1444521600-1444607999@namura.cc
SUMMARY:THE UNION-アメリカ村音楽祭-
DESCRIPTION:10月１１日アメリカ村音楽祭　at 大阪名村造船所跡地！\nジャンルレスなアクトが一挙集結するMusic festival最終ラインナップが集結!\n大阪のビッグサウンドRED SPIDER!\n最先端の音楽が世界で注目される、Banvox!\nイタリアの気鋭ラッパーAmir issaa!\nが追加決定!!□日時\n2015年10月11日（日）\n時間 13:00 OPEN/START CLOSE 22:00 \n□出演:\nRED SPIDER/Banvox/Amir issaa from Italy/tofubeats/KOHH/SEIHO/SEKITOVA/SHINGO★西成\n/DJ YOKU feat. TeN (A Hundred Birds)/DJ FUKU/DJ GEORGE/NINJA MOB/BOUNCE CATZ/D41 a.k.a ENEGY-DAI/O-MAN/GRINDCIRCUS/BOIL RHYME/TORNADO/OKADADA/LOOKBOOK/YASHIMA/CAZBOW/ASATO&DK BASELINE\nVJ:KOZEE\nLIGHTING:SOLA \n□チケット\n前売券:3\,500円(8月24日～) 当日券:4500円 \n早割券:2\,500円（8月17日～8月23日）＊限定枚数販売 \n□プレイガイド:\nチケットぴあ P-CODE(274-332)\nローソンチケット L-CODE(59381)\nイープラス http://eplus.jp \n□問い合わせ:\nTRIANGLE http://triangleosaka.net/\nCIRCUS http://circus-osaka.com/\nONZIEME http://www.onzi-eme.com/\nJOULE http://club-joule.jp/\nGRAND Café http://grandcafeosaka.com/ \n\n  \n\nKOHH(コウ) 東京都生まれ\n独特な歌詞表現、思ったことを そのまま 歌詞にしているかのような「適当」な音楽スタイル。2013年11月、全くの無名の状態から処女作 「YELLOW T△PE(イエローテープ)」を リリース。収録曲「JUNJI TAKADA」が高田純次氏のラジオ番組「高田純次の毎日がパラダイス」で紹介され一躍話題に。同じく収録曲の「FAMILY」 では都営住宅での暮らしや母親が薬物依存者である事をカミングアウトし、その独特な生い立ちも注目される。\n2014年2月、世界30ヵ国以上に支部を持つユース向けデジタルメディア、VICEで特集される。日本人HIP HOPアーティストとしては初。2014年7月、自身初のアルバムとなる2ndアルバム「MONOCHROME」をリリース。\niTunes総合アルバム・チャート6位、HIP HOP / RAPチャート1位と新人としては異例。\n2014年10月、\nメルセデス・ベンツファッション・ウィーク東京（Mercedes-Benz FashionWeekTOKYO=MBFWT）では\n落合宏理氏が手掛けるファッションブランド FACETASM(ファセッタズム)のモデルとして参加。\n2015年1月に自身2枚目のアルバムとなる 1stアルバム「梔子(くちなし)」をリリース。\niTunes総合アルバム・チャート1位、HIP HOP / RAPチャート1位を記録する。\n同月、韓国のアーティストKeith Ape – It G Ma (feat. JayAllday\, Loota\, Okasian\, KOHH)に客演参加。\nミュージックビデオが世界的に広まり公開から1ヶ月で100万再生を記録した(2015年4月現在約600万回再生)。\n2015年6月、自身3枚目となるミックステープ「YELLOW TAPE 3」を発売。\n現在はHIP HOPアーティストの枠にとどまらず、ファッション・アイコンとしても支持を集めるなど、\n世界的に注目される存在へと急成長をみせている。\ntofubeats \n\nSEIHO
URL:https://namura.cc/event/2015-10-11/
ATTACH;FMTTYPE=image/jpeg:https://namura.cc/wp-content/uploads/2023/03/20150812-the-union.jpg
END:VEVENT
BEGIN:VEVENT
DTSTART;VALUE=DATE:20151010
DTEND;VALUE=DATE:20151011
DTSTAMP:20260423T073656
CREATED:20230309T070346Z
LAST-MODIFIED:20230309T070346Z
UID:1694-1444435200-1444521599@namura.cc
SUMMARY:Creator's Lounge presents Follow Your Heart Release Tour 2015
DESCRIPTION:□日時\n2015年10⽉ 10⽇(土)\n開場　18:00\n開演　19:00 \n□チケット\nall ticket / 前売：￥3\,300（当日：￥3\,800）\n1Drink別途¥500 \n・チケットぴあ Pコード:268-662\n・ローソンチケット Lコード:56216\n・e+ \n□詳しくは\nRickie-G 公式ホームページ\nhttp://www.rickie-g.com/index.html \n□お問合せ\nKYOTO MUSE TEL 075-223-0389 \n□企画/制作\nCreator’s Lounge
URL:https://namura.cc/event/2015-10-10/
ATTACH;FMTTYPE=image/jpeg:https://namura.cc/wp-content/uploads/2023/03/20150804-fly.jpg
END:VEVENT
BEGIN:VEVENT
DTSTART;VALUE=DATE:20151006
DTEND;VALUE=DATE:20151007
DTSTAMP:20260423T073656
CREATED:20230309T070459Z
LAST-MODIFIED:20230309T070507Z
UID:1696-1444089600-1444175999@namura.cc
SUMMARY:クリエイティブセンター大阪　ミニ見学ツアー vol.50
DESCRIPTION:近代化産業遺産に認定されている「名村造船跡地」=クリエイティブセンター大阪の館内見学ツアーです。\n造船所跡地の施設内をスタッフがご説明しながらご案内致します。\n※ツアー時間は40分程度を予定しております。（途中退場可） \n■日時　2015年10月6日（火）15:00 ※40分程度\nクリエイティブセンター大阪　入口警備員室前集合 \n■参加方法\n予約不要・現地集合／参加費は無料です。 \n■お問合せ\n06-4702-7085（クリエイティブセンター大阪）
URL:https://namura.cc/event/2015-10-06/
ATTACH;FMTTYPE=image/jpeg:https://namura.cc/wp-content/uploads/2022/12/b0f3769176eeffbd5abb90e91461dc87-e1677758490252.jpg
END:VEVENT
BEGIN:VEVENT
DTSTART;VALUE=DATE:20151004
DTEND;VALUE=DATE:20151005
DTSTAMP:20260423T073656
CREATED:20230309T070607Z
LAST-MODIFIED:20230309T070616Z
UID:1699-1443916800-1444003199@namura.cc
SUMMARY:THUNDER ONE MAN LIVE with ANADDA REBEL BAND
DESCRIPTION:-とんだのワンマン-\nTHUNDER ONE MAN LIVE with ANADDA REBEL BAND \n■日時:\n2015.10.04[SUN]\nOPEN17:00(LIVE19:30-) \n■TICKET\n・前売りチケット\n3500YEN[別途1D]オフィシャルライター付き\n・当日チケット\n4000YEN[別途1D] \n※未成年入場可[未就学児童入場不可] \nローソンチケット：Lコード→52570\n[PC/SP]http://I-tike.com\n[TEL]0570-084-005 \n■TOTAL INFORMATION\nURL　　 ：thunder-reggae.com\nMAIL ：thunder.reggae.info@gmail.com\nTWITTER ：@ThunderInfo\nFacebook：Thunder Info
URL:https://namura.cc/event/2015-10-04/
ATTACH;FMTTYPE=image/jpeg:https://namura.cc/wp-content/uploads/2023/03/20150901-20151004THUNDER.jpg
END:VEVENT
BEGIN:VEVENT
DTSTART;VALUE=DATE:20150926
DTEND;VALUE=DATE:20150927
DTSTAMP:20260423T073656
CREATED:20230309T064349Z
LAST-MODIFIED:20230309T064359Z
UID:1652-1443225600-1443311999@namura.cc
SUMMARY:ALL STREET FESTIVAL 2015
DESCRIPTION:ALL STREET FESTIVAL 2015\nミュージック × ダンス × バスケ × ファッション！\nストリートカルチャーを全力で楽しめる夏フェス！！ライブやダンスパフォーマンスを盛り上げながら、迫力のあるバスケやダンスバトルを目の前で応援！！\nMCのトークも楽しんで、美味しいフードや冷たいドリンクも完備、新しい発見や刺激もある「オルスト」開催！\nみんなで創る空間に、夏の終わりに全力で楽しめること間違いなし！！ \n□日時：\n2015年10月26日（土）\n11:00～20:00 \n□チケット\n前売り券　¥3\,500-\n当日券　　¥4\,500-\n※いずれも別途ドリンク代500円必要です。 \n【チケットぴあ】Pコード：270-304\n【ローソンチケット】Lコード：58833\n【e＋】http://eplus.jp\n【CN】0570-08-9999 \n□詳しくは\nhttp://www.allstreetfes.com \n\n  \n豪華賞品を用意した、バスケ3on3、ダンスクルーバトルのエントリー募集中！\n・BASKETBALL 3on3 BATTLE -ALLst CUP-\n・DANCE CREW BATTLE -Crawl Up Summer Special-＜GUEST LIVE＞\n・ベリーグッドマン\n・MAY’S\n・SOFFet\n・etsuco \n＜PICK UP LIVE＞\n・Stereo Osaka \n＜LIVE＞\n・mitti \n＜GUEST DANCE＞\n・ISOPP\n・ひとりでできるもん\n・GSBZ \n＜PERFORMANCE＞\n・LifeUnder(eN) \n・AKIMAN\n・ERi\n・Keita\n・Naoki\n・Hana\n・MIHO\n・Ria\n・R.O.C Headz
URL:https://namura.cc/event/2015-09-26/
ATTACH;FMTTYPE=image/jpeg:https://namura.cc/wp-content/uploads/2023/03/20150918-asfes.jpg
END:VEVENT
BEGIN:VEVENT
DTSTART;VALUE=DATE:20150923
DTEND;VALUE=DATE:20150924
DTSTAMP:20260423T073656
CREATED:20230309T064454Z
LAST-MODIFIED:20230309T064502Z
UID:1655-1442966400-1443052799@namura.cc
SUMMARY:AGILE 3RD ANNIVERSARY FEAT MARCEL DETTMANN
DESCRIPTION:世界屈指のレジデントDJ陣の中でも絶大な人気を誇り、今年のTico clubでも素晴ら\nしいセットを披露した、\nまさに「旬」のアーティストであるMARCEL DETTMANNが待望の再来日公演！ \n□日時\n2015年9月23日（水/祝日)\nOPEN 13:00 / CLOSE 22:00 \nSPECIAL GUEST:\nMarcel Dettmann\nDJ\n* MONASHEE\n* FUMI\n* KEIBURGER\n* MiTSUYASU\n* RYO YOSHIDA\n* YUUNA \n□チケット\n* ADV: 3500\n* DOOR: 4000\n* ※別途1d \n* PeaTiXチケット http://ptix.co/1WBlctl\n・CIRCUS(06-6241-3822)
URL:https://namura.cc/event/2015-09-23/
ATTACH;FMTTYPE=:
END:VEVENT
BEGIN:VEVENT
DTSTART;VALUE=DATE:20150921
DTEND;VALUE=DATE:20150922
DTSTAMP:20260423T073656
CREATED:20230309T064602Z
LAST-MODIFIED:20230309T064610Z
UID:1657-1442793600-1442879999@namura.cc
SUMMARY:珍動会～少しおバカで”珍しい”人々が集まる大運動会～
DESCRIPTION:イベント企画のTRICK DESIGNとミナミのbar AZA-SUは、9月21日、クリエイティブセンター大阪「PARTITA(赤鉄骨)」で、大運動「珍動会」を開催する。 \n「珍動会」とは、文字どおり「珍しい動きで競い合う大会」のことで、「少しおバカで”珍しい”人々が集まる大運動会」がテーマのイベントだ。 \n参加者のターゲットは、流行ものや面白いことに敏感で、非一般的なものに興味を示してしまう人々。イベント(競技)内容には、「まるでハードル走」「SM玉入れ」「ちゅな引き」など、少しふざけてエッチな、ものすごいくだらないものを揃えた。 \n珍動会中の掛け声は「おっ珍しい！」「珍～ん！珍～ん！」で、声に出すのが恥ずかしい人は指で「C」(珍chinのC)を作り、メンバーにエールを送ることもできる。 \n優勝チーム(20名)には国内旅行券をプレゼント。そのほか飲食ブースやマッサージ＆コスプレブースなども用意し、参加者の交流をサポートする。 \n□日時：\n2015年9月21日\n13:00～17:00(12:00～受付開始) \n□参加料金：\n5000円(税込)\n人数：先着200名(20名×10チーム)\n参加資格：健全な男女(年齢制限なし。20代～30代が多め) \n□詳しくは\n珍動会公式HP\nhttp://chindoukai.com
URL:https://namura.cc/event/2015-09-21/
ATTACH;FMTTYPE=image/jpeg:https://namura.cc/wp-content/uploads/2023/03/20150822-tindoukaitop.jpg
END:VEVENT
BEGIN:VEVENT
DTSTART;VALUE=DATE:20150920
DTEND;VALUE=DATE:20150921
DTSTAMP:20260423T073656
CREATED:20230309T064831Z
LAST-MODIFIED:20230309T064837Z
UID:1662-1442707200-1442793599@namura.cc
SUMMARY:COS JOY
DESCRIPTION:コスプレイベント \n□日時\n2015年\n9月20日（日）10:00-18:00 \n□詳しくは\nCOSJOYホームページ\nhttp://www.comicon.co.jp/cosjoy/zousenindex.htm
URL:https://namura.cc/event/2015-09-20-2/
ATTACH;FMTTYPE=image/jpeg:https://namura.cc/wp-content/uploads/2023/03/20150602-cosjoy.jpg
END:VEVENT
BEGIN:VEVENT
DTSTART;VALUE=DATE:20150920
DTEND;VALUE=DATE:20150921
DTSTAMP:20260423T073656
CREATED:20230309T064725Z
LAST-MODIFIED:20230309T064732Z
UID:1659-1442707200-1442793599@namura.cc
SUMMARY:SYMBOL KOBE vol.12 ～Moment～
DESCRIPTION:はじめてdanceに触れた瞬間、\nはじめてバトルに勝った瞬間、\n仲間と歓喜や涙を分かち合った瞬間。\n全ての瞬間が織り成す時間。一瞬一瞬をどう生き、どう描き、どう表現するのか。\n限りある時間を、限りない表現力で。 \n今、最高の瞬間を。 \n□日時：\n2015.9.20(sun) \nOPEN 13:00\nSTART 14:00\nCLOSE 21:00 \n□チケット：\n1回生：前売り 2500yen／当日 3000yen\n一般(2回生以上)：前売り・当日 3000yen \n□詳しくは\nSYMBOL KOBE　HP\nhttp://symbol.jp/ \n\n  \n□Contents：\nサークル代表者Opening Showcase\nサークル別Showcase\nサークル対抗4on4 Freestyle Battle\n2回生Showcase\n4回生Showcase\nGuest Showcase□GUEST\nPLAY B♂Y\nHEXBEX+sucreamgoodman \n□BATTLE JUDGE\nsacco(pulsecode/mole)\nUKIVARY(KNAQWACK/EGYzMATE)\nYU(白ごはん) \n□DJ\nHIDEYOSHI（神戸deバトル）\nSENSE（明石ブレイカーズ/HotPoint）
URL:https://namura.cc/event/2015-09-20/
ATTACH;FMTTYPE=image/jpeg:https://namura.cc/wp-content/uploads/2023/03/20150915-so2015.jpg
END:VEVENT
BEGIN:VEVENT
DTSTART;VALUE=DATE:20150913
DTEND;VALUE=DATE:20150914
DTSTAMP:20260423T073656
CREATED:20230309T064946Z
LAST-MODIFIED:20230309T064946Z
UID:1664-1442102400-1442188799@namura.cc
SUMMARY:COS JOY
DESCRIPTION:コスプレイベント \n□日時\n2015年\n9月13日（日）10:00-18:00 \n□詳しくは\nCOSJOYホームページ\nhttp://www.comicon.co.jp/cosjoy/zousenindex.htm
URL:https://namura.cc/event/cos-joy/
ATTACH;FMTTYPE=image/jpeg:https://namura.cc/wp-content/uploads/2023/03/20150602-cosjoy.jpg
END:VEVENT
BEGIN:VEVENT
DTSTART;VALUE=DATE:20150912
DTEND;VALUE=DATE:20150913
DTSTAMP:20260423T073656
CREATED:20230309T065039Z
LAST-MODIFIED:20230309T065046Z
UID:1667-1442016000-1442102399@namura.cc
SUMMARY:MICHAEL TOUR 2015 "True Blue Angel"
DESCRIPTION:□日時\n9月12日（土）\n開場：17:00／開演：18:00\n9月13日（日）\n開場：14:00／開演：15:00 \n□チケット\nスタンディング：￥6\,480-（税込み）\n※整理番号順の入場となります。\n※入場時に1Drink￥500が必要となります。\n※年齢制限：未就学児入場不可 \n・ローソンチケット：0570-084-005（Lコード：52295）\n・チケットぴあ：0570-02-9999（Pコード：273-897）\n・CNプレイガイド：0570-08-9999\n・イープラス：http://eplus.jp \n□問合せ：\nキョードーインフォメーション 0570-200-888
URL:https://namura.cc/event/2015-09-12/
ATTACH;FMTTYPE=:
END:VEVENT
BEGIN:VEVENT
DTSTART;VALUE=DATE:20150908
DTEND;VALUE=DATE:20150909
DTSTAMP:20260423T073656
CREATED:20230309T065153Z
LAST-MODIFIED:20230309T065202Z
UID:1669-1441670400-1441756799@namura.cc
SUMMARY:クリエイティブセンター大阪　ミニ見学ツアー vol.49
DESCRIPTION:近代化産業遺産に認定されている「名村造船跡地」=クリエイティブセンター大阪の館内見学ツアーです。\n造船所跡地の施設内をスタッフがご説明しながらご案内致します。\n※ツアー時間は40分程度を予定しております。（途中退場可） \n■日時　2015年9月8日（火）15:00 ※40分程度\nクリエイティブセンター大阪　入口警備員室前集合 \n■参加方法\n予約不要・現地集合／参加費は無料です。 \n■お問合せ\n06-4702-7085（クリエイティブセンター大阪）
URL:https://namura.cc/event/2015-09-08/
ATTACH;FMTTYPE=image/jpeg:https://namura.cc/wp-content/uploads/2022/12/b0f3769176eeffbd5abb90e91461dc87-e1677758490252.jpg
END:VEVENT
BEGIN:VEVENT
DTSTART;VALUE=DATE:20150905
DTEND;VALUE=DATE:20150906
DTSTAMP:20260423T073656
CREATED:20230309T065312Z
LAST-MODIFIED:20230309T065320Z
UID:1671-1441411200-1441497599@namura.cc
SUMMARY:GRATEFUL BEER LIVE FESTIVAL 15
DESCRIPTION:□日時:\n9月5日(土)、6日(日)\n12:00〜 \n□料金:\n前売 ¥3500 (2BEER TICKET)\n当日 ¥4\,000 (2BEER TICKET)\n２日間通し前売券 ¥5\,000 (NO BEER TICKET)
URL:https://namura.cc/event/2015-09-05/
ATTACH;FMTTYPE=image/jpeg:https://namura.cc/wp-content/uploads/2023/03/20150829-gblf2015.jpg
END:VEVENT
BEGIN:VEVENT
DTSTART;VALUE=DATE:20150830
DTEND;VALUE=DATE:20150831
DTSTAMP:20260423T073656
CREATED:20230309T063429Z
LAST-MODIFIED:20230309T063437Z
UID:1634-1440892800-1440979199@namura.cc
SUMMARY:COS JOY
DESCRIPTION:コスプレイベント \n□日時\n2015年\n8月30日（日）10:00-17:00 \n□詳しくは\nCOSJOYホームページ\nhttp://www.comicon.co.jp/cosjoy/zousenindex.htm
URL:https://namura.cc/event/2015-08-30/
ATTACH;FMTTYPE=image/jpeg:https://namura.cc/wp-content/uploads/2023/03/20150602-cosjoy.jpg
END:VEVENT
BEGIN:VEVENT
DTSTART;VALUE=DATE:20150829
DTEND;VALUE=DATE:20150830
DTSTAMP:20260423T073656
CREATED:20230309T063532Z
LAST-MODIFIED:20230309T063532Z
UID:1636-1440806400-1440892799@namura.cc
SUMMARY:FEST FES 2015
DESCRIPTION:□日時\n2015年8月29日（土）\n開場　13:00\n開演　13:30 \n□出演\nFEST VAINQUEUR / 凛-the end of corruption world- / Purple Stone /\n少年記 / メカクシ / Shellmy / Cocoon(ex-EVE Ryo) / ASTARIA / FoLLoW / JILLED RAY\nSHIVA(ex-Crimson Shiva) \n□チケット料金\n前売 4\,000円 / 当日4\,500円（税込・オールスタンディング・D別） \n□詳しくは \nhttps://www.festvainqueur.com/contents/14559 \n□問い合わせ：\n夢番地大阪 06-6341-3525 \n□企画：PLUG RECORS west\n□制作：com agent
URL:https://namura.cc/event/fest-fes-2015/
ATTACH;FMTTYPE=:
END:VEVENT
BEGIN:VEVENT
DTSTART;VALUE=DATE:20150826
DTEND;VALUE=DATE:20150827
DTSTAMP:20260423T073656
CREATED:20230309T063646Z
LAST-MODIFIED:20230309T063653Z
UID:1639-1440547200-1440633599@namura.cc
SUMMARY:SOUND SHOCK 2015
DESCRIPTION:□サウンドショックとは…\n2009年8月末に第1回が開催された、今年で7回目を迎える関西の軽音団体を集めた関西で最大級の大学合同イベント！！昨年は4ステージ同時進行のフェス形式ででライブを行い、オリジナルやコピーなど種々様々なバンドが出演し、約1000人が来場!!イベントの最後には大物ゲストアーティストを迎え、会場のテンションを最高潮へと盛り上げてくれます！！□日時：\n2015年8月26日\nopen：11:00 / start ：11:30 \n□チケット\nadv ¥2000+1drink500円(当日学学生証提示で500円キャッシュバック！) \nローソンチケット/チケットぴあ/e+　で好評発売中！ \n□詳しくは\nSOUND SHOCK 2015 HP\nhttp://www.sound-shock.com \n\n  \n□出演バンド\n学生44バンドThe Mirraz\n感覚ピエロ\nココロオークション\n絶景クジラ\nBrian the Sun\nコンテンポラリーな生活\nヤバイTシャツ屋さん\nnicoten\nshellfish\nPRIMAL CURVE\n開花 to Roots\nもちもちみかん
URL:https://namura.cc/event/2015-08-26/
ATTACH;FMTTYPE=image/png:https://namura.cc/wp-content/uploads/2023/03/20150804-ss2015.png
END:VEVENT
BEGIN:VEVENT
DTSTART;VALUE=DATE:20150821
DTEND;VALUE=DATE:20150824
DTSTAMP:20260423T073656
CREATED:20230309T063809Z
LAST-MODIFIED:20230309T063821Z
UID:1642-1440115200-1440374399@namura.cc
SUMMARY:【スペース助成】Next舞台制作塾EX (後半)
DESCRIPTION:舞台芸術制作者に向けた様々なサービスを行う「有限会社ネビュラエクストラサポート(Next)」と、舞台芸術制作者の人材育成と雇用環境整備のための中間支援組織「Explat」がタッグを組んで実施するゼミ「Next舞台制作塾EX」が2015年夏よりスタート！第一弾として、計6日間の集中講座を大阪で開講します。 \n「舞台芸術制作者になるため、続けるための実践型アーツマネジメント＠大阪」(後半) \n■日時\n全6日間・6回(回によって、講義終了時間が延長する場合があります)\n□　前半 は下記参照\nhttp://www.namura.cc/ccoblog/event/item_114.html \n□　後半\n8/21(金) 19:00-21:00\n8/22(土) 13:00-18:30＋個別相談会\n8/23(日) 13:00-18:30＋打ち上げ \n■お申込・詳しくは\nNext 舞台制作塾 – Next Online –\nhttp://www.next-nevula.co.jp/school/20.php \n■主催\n有限会社ネビュラエクストラサポート\nExplat(NPO法人設立認証申請中) \n■助成\n一般財団法人おおさか創造千島財団\n公益財団法人セゾン文化財団
URL:https://namura.cc/event/2015-08-21/
ATTACH;FMTTYPE=image/jpeg:https://namura.cc/wp-content/uploads/2023/03/6744ffd790d0e46df773769b16b3fb5d.jpg
END:VEVENT
BEGIN:VEVENT
DTSTART;VALUE=DATE:20150809
DTEND;VALUE=DATE:20150810
DTSTAMP:20260423T073656
CREATED:20230309T064105Z
LAST-MODIFIED:20230309T064113Z
UID:1646-1439078400-1439164799@namura.cc
SUMMARY:COS JOY
DESCRIPTION:コスプレイベント \n□日時\n2015年\n8月9日（日）10:00-17:00 \n□詳しくは\nCOSJOYホームページ\nhttp://www.comicon.co.jp/cosjoy/zousenindex.htm
URL:https://namura.cc/event/2015-08-09-2/
ATTACH;FMTTYPE=image/jpeg:https://namura.cc/wp-content/uploads/2023/03/20150602-cosjoy.jpg
END:VEVENT
BEGIN:VEVENT
DTSTART;VALUE=DATE:20150809
DTEND;VALUE=DATE:20150810
DTSTAMP:20260423T073656
CREATED:20230309T063954Z
LAST-MODIFIED:20230309T064001Z
UID:1644-1439078400-1439164799@namura.cc
SUMMARY:SUMMER BAKATION2015 ～宴・神・祭～
DESCRIPTION:□日時\n2015年8月9日（日）\nOPEN 11:00\nSTART 11:30\nCLOSE 18:00\n(雨天決行) \n□チケット\n前売予約/￥2000 当日/￥2500\n＊1DRINK代¥500別\n＊前売予約特典としてオリジナルラバーバンドプレゼント！ \n□予約・問い合わせ\ninfo.smbaka@gmail.com
URL:https://namura.cc/event/2015-08-09/
ATTACH;FMTTYPE=image/jpeg:https://namura.cc/wp-content/uploads/2023/03/20150716-samabaka.jpg
END:VEVENT
BEGIN:VEVENT
DTSTART;VALUE=DATE:20150804
DTEND;VALUE=DATE:20150805
DTSTAMP:20260423T073656
CREATED:20230309T064223Z
LAST-MODIFIED:20230309T064223Z
UID:1649-1438646400-1438732799@namura.cc
SUMMARY:クリエイティブセンター大阪　ミニ見学ツアー vol.48
DESCRIPTION:近代化産業遺産に認定されている「名村造船跡地」=クリエイティブセンター大阪の館内見学ツアーです。\n造船所跡地の施設内をスタッフがご説明しながらご案内致します。\n※ツアー時間は40分程度を予定しております。（途中退場可） \n■日時　2015年8月4日（火）15:00 ※40分程度\nクリエイティブセンター大阪　入口警備員室前集合 \n■参加方法\n予約不要・現地集合／参加費は無料です。 \n■お問合せ\n06-4702-7085（クリエイティブセンター大阪）
URL:https://namura.cc/event/%e3%82%af%e3%83%aa%e3%82%a8%e3%82%a4%e3%83%86%e3%82%a3%e3%83%96%e3%82%bb%e3%83%b3%e3%82%bf%e3%83%bc%e5%a4%a7%e9%98%aa%e3%80%80%e3%83%9f%e3%83%8b%e8%a6%8b%e5%ad%a6%e3%83%84%e3%82%a2%e3%83%bc-vol-48/
ATTACH;FMTTYPE=image/jpeg:https://namura.cc/wp-content/uploads/2022/12/b0f3769176eeffbd5abb90e91461dc87-e1677758490252.jpg
END:VEVENT
BEGIN:VEVENT
DTSTART;VALUE=DATE:20150726
DTEND;VALUE=DATE:20150727
DTSTAMP:20260423T073656
CREATED:20230308T090923Z
LAST-MODIFIED:20230308T090930Z
UID:1605-1437868800-1437955199@namura.cc
SUMMARY:COS JOY
DESCRIPTION:コスプレイベント \n□日時\n2015年\n7月26日（日）10:00-17:00 \n□詳しくは\nCOSJOYホームページ\nhttp://www.comicon.co.jp/cosjoy/zousenindex.htm
URL:https://namura.cc/event/2015-07-26/
ATTACH;FMTTYPE=image/jpeg:https://namura.cc/wp-content/uploads/2023/03/20150602-cosjoy.jpg
END:VEVENT
BEGIN:VEVENT
DTSTART;VALUE=DATE:20150725
DTEND;VALUE=DATE:20150727
DTSTAMP:20260423T073656
CREATED:20230308T091156Z
LAST-MODIFIED:20230308T091229Z
UID:1609-1437782400-1437955199@namura.cc
SUMMARY:ローション大運動会2015　大阪大会
DESCRIPTION:■日時：\n2015年7月25日(土)\n2015年7月26日(日)\n各日　開場 12:00/開演 13:00\n※終了予定時間は各日16時頃を予定しております。 \n■料金：\n先行販売特別割引券：各日￥9\,800※税込み（4月7日までにご購入の方）\n通常販売1日券：各日￥10\,800※税込み\n※ 未就学児童入場不可 \n■参加資格：\n18歳以上の一般的な運動会種目を行える健康的な男女 \n■会場：\nクリエィティブセンター大阪 PARITITA（赤鉄骨） \n■お問合せ\ninfo@lotion.event-kikaku.com \n■詳しくは\nhttp://lotion.event-kikaku.com \n■主催：ローションスポーツ協会\n■企画制作：株式会社ハイ／zaigoo inc.\n■協賛：ペペローション（中島化学産業株式会社）
URL:https://namura.cc/event/20150725/
ATTACH;FMTTYPE=image/jpeg:https://namura.cc/wp-content/uploads/2023/03/20150402-cover-rotionundoukai.jpg
END:VEVENT
BEGIN:VEVENT
DTSTART;VALUE=DATE:20150725
DTEND;VALUE=DATE:20150726
DTSTAMP:20260423T073656
CREATED:20230308T091038Z
LAST-MODIFIED:20230308T091047Z
UID:1607-1437782400-1437868799@namura.cc
SUMMARY:【スペース助成】ダミアン・ジャレ + 名和晃平「Vessel」
DESCRIPTION:2015 年 ヴ ィ ラ 九 条 山 レ ジ デ ン ト の 、ダ ミ ア ン ・ ジ ャ レ( 振 付 家 )と 名 和 晃 平 ( 彫 刻 家 )は 、現 在 、ク リ エ イ ティブ セ ン タ ー 大 阪 で 2016 年 に 発 表 予 定 作 品 「Vessel」制作中。 \n□日時\n2015年7月25日\n19:00〜 \n※招待のみ \n□ダンス : エミリオス・アラポグル、エリ・エ、森山未來、佐伯有香\n□振付 : ダミアン・ジャレ\n□舞台美術 : 名和晃平\n□音楽 : 原 摩利彦 \n□制作 : おおさか創造千島財団、ヴィラ九条山、SANDWICH
URL:https://namura.cc/event/2015-07-25/
ATTACH;FMTTYPE=image/jpeg:https://namura.cc/wp-content/uploads/2023/03/20150813-VESSEL-1.jpg
END:VEVENT
BEGIN:VEVENT
DTSTART;VALUE=DATE:20150720
DTEND;VALUE=DATE:20150721
DTSTAMP:20260423T073656
CREATED:20230308T091343Z
LAST-MODIFIED:20230308T091350Z
UID:1611-1437350400-1437436799@namura.cc
SUMMARY:TRIBE
DESCRIPTION:■日時：\n2015年7月20日（日/祝日）\nOPEN:12:00\nSTART:13:00\nCLOSE:22:00 \n■チケット\nADV:3500\nDOOR:4000\n※別途1d \nプレイガイド::\nhttp://ptix.co/1HcBC4O \n・ローソンチケット L-CODE(Lコード：57262)\n・チケットぴあ　P-CODE(269467)\n・楽天チケット\n・イープラス \n■出演:\nDaedelus(NINJA TUNE) / OLIVE OIL / POPY OIL / KOJOE / 5lack / PUMPEE / DJ BAKU / SEIHO / DJ TELL / sou and more
URL:https://namura.cc/event/2015-07-20/
ATTACH;FMTTYPE=image/jpeg:https://namura.cc/wp-content/uploads/2023/03/20150702-TRIBE.jpg
END:VEVENT
BEGIN:VEVENT
DTSTART;VALUE=DATE:20150719
DTEND;VALUE=DATE:20150720
DTSTAMP:20260423T073656
CREATED:20230308T091504Z
LAST-MODIFIED:20230308T091510Z
UID:1613-1437264000-1437350399@namura.cc
SUMMARY:SUMMERズボップくん2015
DESCRIPTION:愛はズボーン×プププランド×THE BOSSSによる企画イベント！ \n□日時：\n2015年7月19日\nopen：11:00\nstart ：12:00 \n□チケット\nadv ¥3000\n+1drink500円 \nプレイガイド：ローソンチケット Lコード:57664\nチケットぴあ Pコード:263-798\ne+\nCNプレイガイド\nモバイルサイトGREENS!チケット \n□出演バンド\n愛はズボーン\nプププランド\nTHE BOSSS\nドミコ\nクリトリックリス\nDAISY LOO\nDENIMS\n夜行性のドビュッシーズ\n神頼みレコード
URL:https://namura.cc/event/2015-07-19/
ATTACH;FMTTYPE=image/jpeg:https://namura.cc/wp-content/uploads/2023/03/20150711-20150719.jpg
END:VEVENT
BEGIN:VEVENT
DTSTART;VALUE=DATE:20150718
DTEND;VALUE=DATE:20150721
DTSTAMP:20260423T073656
CREATED:20230308T091638Z
LAST-MODIFIED:20230308T091646Z
UID:1615-1437177600-1437436799@namura.cc
SUMMARY:【スペース助成】Next舞台制作塾EX 「舞台芸術制作者になるため、続けるための実践型アーツマネジメント＠大阪」
DESCRIPTION:舞台芸術制作者に向けた様々なサービスを行う「有限会社ネビュラエクストラサポート(Next)」と、舞台芸術制作者の人材育成と雇用環境整備のための中間支援組織「Explat」がタッグを組んで実施するゼミ「Next舞台制作塾EX」が2015年夏よりスタート！第一弾として、計6日間の集中講座を大阪で開講します。 \n■日時\n全6日間・6回(回によって、講義終了時間が延長する場合があります)\n□　前半\n7/18(土) 16:30-21:00\n7/19(日) 13:00-19:00＋交流会\n7/20(月・祝) 13:00-18:30＋個別相談会 \n□　後半\n8/21(金) 19:00-21:00\n8/22(土) 13:00-18:30＋個別相談会\n8/23(日) 13:00-18:30＋打ち上げ \n■お申込・詳しくは\nNext 舞台制作塾 – Next Online –\nhttp://www.next-nevula.co.jp/school/20.php \n■主催\n有限会社ネビュラエクストラサポート\nExplat(NPO法人設立認証申請中) \n■助成\n一般財団法人おおさか創造千島財団\n公益財団法人セゾン文化財団
URL:https://namura.cc/event/2015-07-18/
ATTACH;FMTTYPE=image/jpeg:https://namura.cc/wp-content/uploads/2023/03/6744ffd790d0e46df773769b16b3fb5d.jpg
END:VEVENT
BEGIN:VEVENT
DTSTART;VALUE=DATE:20150712
DTEND;VALUE=DATE:20150713
DTSTAMP:20260423T073656
CREATED:20230308T091919Z
LAST-MODIFIED:20230308T091928Z
UID:1620-1436659200-1436745599@namura.cc
SUMMARY:COS JOY
DESCRIPTION:コスプレイベント \n□日時\n2015年\n7月12日（日）10:00-17:00 \n□詳しくは\nCOSJOYホームページ\nhttp://www.comicon.co.jp/cosjoy/zousenindex.htm
URL:https://namura.cc/event/2015-07-12-2/
ATTACH;FMTTYPE=image/jpeg:https://namura.cc/wp-content/uploads/2023/03/20150602-cosjoy.jpg
END:VEVENT
BEGIN:VEVENT
DTSTART;VALUE=DATE:20150712
DTEND;VALUE=DATE:20150713
DTSTAMP:20260423T073656
CREATED:20230308T091806Z
LAST-MODIFIED:20230308T091814Z
UID:1617-1436659200-1436745599@namura.cc
SUMMARY:Device Under Test Device Under Test present 『Laboratory #1』
DESCRIPTION:□日時\n2015年7月12日(日)\nOpen 14:30 Start 15:00 \n□チケット\n前売3\,500円(全席自由・税込)\nオールスタンディング \n□詳しくは\nhttp://bobbymagic.blog.jp/archives/52331290.html \n□主催：Device Under Test\n□共催：KAWAII PEPLUM、”Jack Us”\n□協力：演出アドバイザー／踏音Archipelago 光田哲也、オペレート／エレッ
URL:https://namura.cc/event/2015-07-12/
ATTACH;FMTTYPE=image/jpeg:https://namura.cc/wp-content/uploads/2023/03/20150602-Laboratory.jpg
END:VEVENT
END:VCALENDAR