BEGIN:VCALENDAR
VERSION:2.0
PRODID:-//クリエイティブセンター大阪（CCO） - ECPv6.2.1//NONSGML v1.0//EN
CALSCALE:GREGORIAN
METHOD:PUBLISH
X-ORIGINAL-URL:https://namura.cc
X-WR-CALDESC:クリエイティブセンター大阪（CCO） のイベント
REFRESH-INTERVAL;VALUE=DURATION:PT1H
X-Robots-Tag:noindex
X-PUBLISHED-TTL:PT1H
BEGIN:VTIMEZONE
TZID:Asia/Tokyo
BEGIN:STANDARD
TZOFFSETFROM:+0900
TZOFFSETTO:+0900
TZNAME:JST
DTSTART:20250101T000000
END:STANDARD
END:VTIMEZONE
BEGIN:VEVENT
DTSTART;TZID=Asia/Tokyo:20251017T150000
DTEND;TZID=Asia/Tokyo:20251017T154000
DTSTAMP:20260421T092710
CREATED:20250911T062621Z
LAST-MODIFIED:20250911T062621Z
UID:6281-1760713200-1760715600@namura.cc
SUMMARY:クリエイティブセンター大阪　ミニ見学ツアー vol.185
DESCRIPTION:近代化産業遺産に認定されている「名村造船跡地」=クリエイティブセンター大阪の館内見学ツアーです。\n造船所跡地の施設内をスタッフがご説明しながらご案内致します。\n※ツアー時間は40分程度を予定しております。（途中退場可） \n■日時\n2025年10月17日（金）15:00 ※30-40分程度\nクリエイティブセンター大阪　入口警備員室前集合 \n■参加方法\n予約不要・現地集合／参加費は無料です。\n※動画撮影はNGとしております。 \n■お問合せ\n06-4702-7085（クリエイティブセンター大阪）
URL:https://namura.cc/event/20251017/
END:VEVENT
BEGIN:VEVENT
DTSTART;VALUE=DATE:20251017
DTEND;VALUE=DATE:20251020
DTSTAMP:20260421T092710
CREATED:20250829T065318Z
LAST-MODIFIED:20250921T075925Z
UID:6251-1760659200-1760918399@namura.cc
SUMMARY:北加賀屋 MULTI BARTHE　 @CCO敷地内駐車スペース
DESCRIPTION:こちらのお問合せは大阪サウナ DESSE 06-4256-4137までお願いします。 \n□日時\n2025年9月20日（土）～11月3日（月・祝）の金土日、祝日\n11:00～21:00（金曜日のみ15時開場） \n□会場\nCCO敷地内駐車スペース\n※同日クリエイティブセンター大阪敷地内の各施設で別のイベント開催中ですので予めご了承下さい。 \n□チケット\n2時間制 4\,500円（税込）\nhttps://coubic.com/desse/2772931 \n□詳しくは\nhttps://multi.barthe.world/ \n□お問い合わせ\n大阪サウナ DESSE　06-4256-4137
URL:https://namura.cc/event/20251017-19/
END:VEVENT
BEGIN:VEVENT
DTSTART;VALUE=DATE:20251013
DTEND;VALUE=DATE:20251014
DTSTAMP:20260421T092710
CREATED:20251012T001242Z
LAST-MODIFIED:20251012T001512Z
UID:6325-1760313600-1760399999@namura.cc
SUMMARY:クリエイティブセンター大阪 de フリマ
DESCRIPTION:□日時\n2025年10月13日(月)\n10:00～14:00（予定）\n※雨天順延 \n□入場料\n無料 \n□詳しくは\nhttps://swapmeet.ne.jp/info/placedetail.html?placeId=P038 \n□お問合せ\n日本スワップミート協会\nTEL: 06-6312-2220
URL:https://namura.cc/event/%e3%82%af%e3%83%aa%e3%82%a8%e3%82%a4%e3%83%86%e3%82%a3%e3%83%96%e3%82%bb%e3%83%b3%e3%82%bf%e3%83%bc%e5%a4%a7%e9%98%aa-de-%e3%83%95%e3%83%aa%e3%83%9e/
END:VEVENT
BEGIN:VEVENT
DTSTART;VALUE=DATE:20251011
DTEND;VALUE=DATE:20251013
DTSTAMP:20260421T092710
CREATED:20250918T072152Z
LAST-MODIFIED:20251011T011455Z
UID:6287-1760140800-1760313599@namura.cc
SUMMARY:Suprer Robocos Expo -スーパーロボコス大展-
DESCRIPTION:□日時\n・2025年10月11日(土）\n13:00-19:00\n・2025年10月12日(日）\n10:00-17:00 \n□詳しくはこちら\nhttps://www.super-robocos-expo.com/sre5th-56/alex
URL:https://namura.cc/event/20251011-12/
END:VEVENT
BEGIN:VEVENT
DTSTART;VALUE=DATE:20251010
DTEND;VALUE=DATE:20251013
DTSTAMP:20260421T092710
CREATED:20250829T065214Z
LAST-MODIFIED:20250921T075944Z
UID:6249-1760054400-1760313599@namura.cc
SUMMARY:北加賀屋 MULTI BARTHE　 @CCO敷地内駐車スペース
DESCRIPTION:こちらのお問合せは大阪サウナ DESSE 06-4256-4137までお願いします。 \n□日時\n2025年9月20日（土）～11月3日（月・祝）の金土日、祝日\n11:00～21:00（金曜日のみ15時開場） \n□会場\nCCO敷地内駐車スペース\n※同日クリエイティブセンター大阪敷地内の各施設で別のイベント開催中ですので予めご了承下さい。 \n□チケット\n2時間制 4\,500円（税込）\nhttps://coubic.com/desse/2772931 \n□詳しくは\nhttps://multi.barthe.world/ \n□お問い合わせ\n大阪サウナ DESSE　06-4256-4137
URL:https://namura.cc/event/202510-12/
END:VEVENT
BEGIN:VEVENT
DTSTART;VALUE=DATE:20251004
DTEND;VALUE=DATE:20251005
DTSTAMP:20260421T092710
CREATED:20250924T042808Z
LAST-MODIFIED:20250924T042808Z
UID:6300-1759536000-1759622399@namura.cc
SUMMARY:Alright Feelin' JAM 2025
DESCRIPTION:□日時\n2025年10月4日(土)\nOPEN 12:00\nSTART 13:00\nCLOSE 20:00 （予定） \n□チケット\nチケットについて \n□詳しくは\nhttps://www.instagram.com/alrightfeelin_japan/?hl=ja
URL:https://namura.cc/event/20251004/
END:VEVENT
BEGIN:VEVENT
DTSTART;VALUE=DATE:20251003
DTEND;VALUE=DATE:20251006
DTSTAMP:20260421T092710
CREATED:20250829T065057Z
LAST-MODIFIED:20250921T075958Z
UID:6247-1759449600-1759708799@namura.cc
SUMMARY:北加賀屋 MULTI BARTHE　 @CCO敷地内駐車スペース
DESCRIPTION:こちらのお問合せは大阪サウナ DESSE 06-4256-4137までお願いします。 \n□日時\n2025年9月20日（土）～11月3日（月・祝）の金土日、祝日\n11:00～21:00（金曜日のみ15時開場） \n□会場\nCCO敷地内駐車スペース\n※同日クリエイティブセンター大阪敷地内の各施設で別のイベント開催中ですので予めご了承下さい。 \n□チケット\n2時間制 4\,500円（税込）\nhttps://coubic.com/desse/2772931 \n□詳しくは\nhttps://multi.barthe.world/ \n□お問い合わせ\n大阪サウナ DESSE　06-4256-4137
URL:https://namura.cc/event/20251003-05/
END:VEVENT
BEGIN:VEVENT
DTSTART;VALUE=DATE:20250927
DTEND;VALUE=DATE:20250929
DTSTAMP:20260421T092710
CREATED:20250829T062417Z
LAST-MODIFIED:20250829T062417Z
UID:6240-1758931200-1759103999@namura.cc
SUMMARY:OSAKA SOUND BARTHE 2025
DESCRIPTION:□日時\n2025年\n9月27日（土）11：00～21：00（受付時間10：30～20：30）\n9月28日（日）11：00～21：00（受付時間10：30～20：30） \n□チケット\n自由(一般)：¥6\,500\n全自由(一般)：¥8\,500\nＶＩＰ席(一般)：¥15\,000\n通し券(一般)：¥16\,000 \nhttps://eplus.jp/sf/detail/4342980001-P0030001 \n□詳しくは\nhttps://sound.barthe.world \n□お問い合わせ\n大阪サウナ DESSE　06-4256-4137
URL:https://namura.cc/event/20250927-28/
END:VEVENT
BEGIN:VEVENT
DTSTART;VALUE=DATE:20250926
DTEND;VALUE=DATE:20250929
DTSTAMP:20260421T092710
CREATED:20250829T070935Z
LAST-MODIFIED:20250829T070935Z
UID:6257-1758844800-1759103999@namura.cc
SUMMARY:北加賀屋 MULTI BARTHE　 @CCO敷地内駐車スペース
DESCRIPTION:□日時\n2025年9月20日（土）～11月3日（月・祝）の金土日、祝日\n11:00～21:00（金曜日のみ15時開場） \n□会場\nCCO敷地内駐車スペース\n※同日クリエイティブセンター大阪敷地内の各施設で別のイベント開催中ですので予めご了承下さい。 \n□チケット\n2時間制 4\,500円（税込）\nhttps://coubic.com/desse/2772931 \n□詳しくは\nhttps://multi.barthe.world/ \n□お問い合わせ\n大阪サウナ DESSE　06-4256-4137
URL:https://namura.cc/event/%e5%8c%97%e5%8a%a0%e8%b3%80%e5%b1%8b-multi-barthe%e3%80%80-cco%e6%95%b7%e5%9c%b0%e5%86%85%e9%a7%90%e8%bb%8a%e3%82%b9%e3%83%9a%e3%83%bc%e3%82%b9/
END:VEVENT
BEGIN:VEVENT
DTSTART;VALUE=DATE:20250920
DTEND;VALUE=DATE:20250922
DTSTAMP:20260421T092710
CREATED:20250829T064554Z
LAST-MODIFIED:20250829T070827Z
UID:6243-1758326400-1758499199@namura.cc
SUMMARY:北加賀屋 MULTI BARTHE　 @CCO敷地内駐車スペース
DESCRIPTION:□日時\n2025年9月20日（土）～11月3日（月・祝）の金土日、祝日\n11:00～21:00（金曜日のみ15時開場） \n□会場\nCCO敷地内駐車スペース\n※同日クリエイティブセンター大阪敷地内の各施設で別のイベント開催中ですので予めご了承下さい。 \n□チケット\n2時間制 4\,500円（税込）\nhttps://coubic.com/desse/2772931 \n□詳しくは\nhttps://multi.barthe.world/ \n□お問い合わせ\n大阪サウナ DESSE　06-4256-4137
URL:https://namura.cc/event/20250920-21/
END:VEVENT
BEGIN:VEVENT
DTSTART;VALUE=DATE:20250919
DTEND;VALUE=DATE:20250922
DTSTAMP:20260421T092710
CREATED:20250911T060930Z
LAST-MODIFIED:20250911T060930Z
UID:6274-1758240000-1758499199@namura.cc
SUMMARY:DESIGNEAST 2025 - IKIKIIKIIKI（いきき・いきいき）-
DESCRIPTION:□日時\n2025年\n9月19日(金)・20日(土）・21日(日) 11:00-21:00 \n※19日(金)は前夜祭[内覧ツアー＋食事会 or BAR] 18:00-21:00（17:30受付開始）\n＊参加希望者は18時には受付終了するよう早めにお越しください\n＊食事会参加希望者は事前予約をお願いします \n□入場料\n前売りチケットはpeatixよりお買い求めください\n【前売】3日間通しパス（9/19-21）一般¥7\,500 学生¥5\,500\n【前売】2日間通しパス（9/20-21）一般¥5\,500 学生¥3\,500\n【前売】前夜祭入場パス（9/19）一般/学生¥2\,000\n【前売/当日】1日入場パス（9/20 or 21）一般¥3\,000 学生¥2\,000\n＊高校生以下は入場無料\n＊入場後は、トークや展示、映画上映はフリーで、フードやドリンク、物販はキャッシュオンでお楽しみいただけます\n＊前夜祭の「4人のシェフによる、5皿の食事会」、サンダー・ワッシンクによるスタジオ参加費、小林一毅によるライブドローイングは別途お申し込みが必要です \n□詳しくは\nhttps://designeast.jp \n□主催：DESIGNEAST実行委員会（家成俊勝 / 多田智美 / 原田祐馬 / 水野大二郎 / 柳原照弘）\n□特別協力：千島土地株式会社\n□協力：京都工芸繊維大学 KYOTO Design Lab、NEW LIGHT POTTERY
URL:https://namura.cc/event/20250919-21/
END:VEVENT
BEGIN:VEVENT
DTSTART;TZID=Asia/Tokyo:20250918T150000
DTEND;TZID=Asia/Tokyo:20250918T154000
DTSTAMP:20260421T092710
CREATED:20250818T104355Z
LAST-MODIFIED:20250818T104355Z
UID:6222-1758207600-1758210000@namura.cc
SUMMARY:クリエイティブセンター大阪　ミニ見学ツアー vol.184
DESCRIPTION:近代化産業遺産に認定されている「名村造船跡地」=クリエイティブセンター大阪の館内見学ツアーです。\n造船所跡地の施設内をスタッフがご説明しながらご案内致します。\n※ツアー時間は40分程度を予定しております。（途中退場可） \n■日時\n2025年9月18日（木）15:00 ※30-40分程度\nクリエイティブセンター大阪　入口警備員室前集合 \n■参加方法\n予約不要・現地集合／参加費は無料です。\n※動画撮影はNGとしております。 \n■お問合せ\n06-4702-7085（クリエイティブセンター大阪）
URL:https://namura.cc/event/20250918/
END:VEVENT
BEGIN:VEVENT
DTSTART;VALUE=DATE:20250913
DTEND;VALUE=DATE:20250915
DTSTAMP:20260421T092710
CREATED:20250826T030358Z
LAST-MODIFIED:20250826T030358Z
UID:6233-1757721600-1757894399@namura.cc
SUMMARY:NEW ENERGY OSAKA
DESCRIPTION:□日時\n2025年\n9月13日(土) 11:00-19:00\n9月14日(日) 11:00-17:00 \n□入場料\n入場無料 \n□詳しくは\nhttps://new-energy.ooo/2025osaka/
URL:https://namura.cc/event/2025091314/
END:VEVENT
BEGIN:VEVENT
DTSTART;VALUE=DATE:20250907
DTEND;VALUE=DATE:20250908
DTSTAMP:20260421T092710
CREATED:20250905T025747Z
LAST-MODIFIED:20250905T025747Z
UID:6269-1757203200-1757289599@namura.cc
SUMMARY:大阪フリンジフェスティバル &映画 「THE KILLER GOLDFISH」大阪プレミア試写会
DESCRIPTION:□日時\n2025年9月7日（日）\n13:00 – 15:00［大阪フリンジフェスティバル］\n15:30–開場 15:00-上映スタート［映画 「THE KILLER GOLDFISH」大阪プレミア試写会 ］ \n□内容\nSnowfro × Terry Tomonaga（RIZE3x Founder）トーク／日本語通訳あり \n□詳しくは\n◯RIZE ART DAY – Snowfro スペシャルワークショップとトーク\n参加については、下記フォームよりご登録でご案内ください。\nhttps://luma.com/v2zg5rzh\n・定員に達し次第受付終了 \n◯大阪フリンジフェスティバル\nhttps://osakafringe2025.com
URL:https://namura.cc/event/20250907/
END:VEVENT
BEGIN:VEVENT
DTSTART;VALUE=DATE:20250906
DTEND;VALUE=DATE:20250907
DTSTAMP:20260421T092710
CREATED:20250901T020324Z
LAST-MODIFIED:20250901T020324Z
UID:6261-1757116800-1757203199@namura.cc
SUMMARY:Unsound Osaka @CCO
DESCRIPTION:□日時\n2025年9月6日（土）\nOPEN / START: 15:30 \n□チケット\nZAIKOにて販売中 \n□詳しくは\nhttps://unsound.jp/jp/
URL:https://namura.cc/event/20250906/
END:VEVENT
BEGIN:VEVENT
DTSTART;VALUE=DATE:20250821
DTEND;VALUE=DATE:20250822
DTSTAMP:20260421T092710
CREATED:20250819T041704Z
LAST-MODIFIED:20250819T041704Z
UID:6220-1755734400-1755820799@namura.cc
SUMMARY:MARVELOUS OSAKA
DESCRIPTION:□日時\n2025年8月21日(木)\nOPEN:14:00-\nCLOSE: 20:00- \n□チケット\n前売¥1\,000 / 当日¥3\,000\n※12歳未満入場料のみ無料\n※入場の際に別途¥2\,000必要(2drink1food代) \n□詳しくは\nhttps://www.instagram.com/marvelous_group/
URL:https://namura.cc/event/20250821/
END:VEVENT
BEGIN:VEVENT
DTSTART;VALUE=DATE:20250820
DTEND;VALUE=DATE:20250821
DTSTAMP:20260421T092710
CREATED:20250809T034630Z
LAST-MODIFIED:20250815T035846Z
UID:6212-1755648000-1755734399@namura.cc
SUMMARY:BASS ON TOP presents SOUND SHOCK 2025
DESCRIPTION:□日時\n2025年8月20日(土)\nOPEN 10:30\nSTART 11:00 \n□チケット\n前売り￥2\,000＋1ドリンク代￥500\n※各プレイガイドにて発売中\nイープラス https://eplus.jp/soundshock/\nチケットぴあ https://w.pia.jp/t/sound-shock2025/\nローソンチケット https://l-tike.com/search/?lcd=53229 \n■主催・企画・制作\nSOUND SHOCK運営委員会 \n■特別協賛\n株式会社ベースオントップ \n■協力\nGREENS \n□詳しくは\nSOUND SHOCKホームページ\nhttp://www.sound-shock.com/
URL:https://namura.cc/event/20250820/
END:VEVENT
BEGIN:VEVENT
DTSTART;VALUE=DATE:20250816
DTEND;VALUE=DATE:20250818
DTSTAMP:20260421T092710
CREATED:20250801T040419Z
LAST-MODIFIED:20250801T040419Z
UID:6204-1755302400-1755475199@namura.cc
SUMMARY:miniちかっぱ祭ver.23.0inOSAKA
DESCRIPTION:□日時\n2025年\n8月16日(土) 開場10:30／開演11:30\n8月17日(日) 開場10:30／開演11:30 \n□チケット\n各日VIPチケット前売り券：12\,000円(当日1ドリンク600円別途必要)\n各日一般チケット前売り券 ：6\,000円(当日1ドリンク600円別途必要）\n※当日券の販売は状況によりご案内となります。 \n□詳しくは\nhttps://info6970450.wixsite.com/my-site/
URL:https://namura.cc/event/20250816-17/
END:VEVENT
BEGIN:VEVENT
DTSTART;TZID=Asia/Tokyo:20250814T150000
DTEND;TZID=Asia/Tokyo:20250814T154000
DTSTAMP:20260421T092710
CREATED:20250724T031421Z
LAST-MODIFIED:20250724T031421Z
UID:6180-1755183600-1755186000@namura.cc
SUMMARY:クリエイティブセンター大阪　ミニ見学ツアー vol.184
DESCRIPTION:近代化産業遺産に認定されている「名村造船跡地」=クリエイティブセンター大阪の館内見学ツアーです。\n造船所跡地の施設内をスタッフがご説明しながらご案内致します。\n※ツアー時間は40分程度を予定しております。（途中退場可） \n■日時\n2025年8月14日（木）15:00 ※30-40分程度\nクリエイティブセンター大阪　入口警備員室前集合 \n■参加方法\n予約不要・現地集合／参加費は無料です。\n※動画撮影はNGとしております。 \n■お問合せ\n06-4702-7085（クリエイティブセンター大阪）
URL:https://namura.cc/event/20250814/
END:VEVENT
BEGIN:VEVENT
DTSTART;VALUE=DATE:20250812
DTEND;VALUE=DATE:20250815
DTSTAMP:20260421T092710
CREATED:20250708T014219Z
LAST-MODIFIED:20250708T014219Z
UID:6140-1754956800-1755215999@namura.cc
SUMMARY:大人の肝試し -闇夜の工場跡地-
DESCRIPTION:□日時\n2025年8月12日(火)~8月14日(木)\n18:00~20:30​​\n①18:00~18:30 (日没前のため、やや控えめの恐怖度となります)\n②18:40~19:10 (日没前のため、やや控えめの恐怖度となります)\n③19:20~19:50\n④20:00~20:30\n​1回/6名様でご案内 \n□料金\n3\,000円\n​事前予約制、空き枠がある場合は当日受付可。\nお電話でご確認ください。 \n□お問合せ\n​​京都オカルト商会\n​occult666.love@gmail.com\n070-8329-8344 \n□詳しくは\nhttps://tiget.net/users/738780
URL:https://namura.cc/event/20250812-14/
END:VEVENT
BEGIN:VEVENT
DTSTART;VALUE=DATE:20250809
DTEND;VALUE=DATE:20250810
DTSTAMP:20260421T092710
CREATED:20250724T030108Z
LAST-MODIFIED:20250724T030108Z
UID:6177-1754697600-1754783999@namura.cc
SUMMARY:Alright Feelin’ Summer SP 2025
DESCRIPTION:□日時\n2025年8月9日（土）\nOPEN 12:00\nSTART 13:00\nCLOSE 20:00 （予定） \n□詳しくは\nhttps://www.instagram.com/alrightfeelin_college/
URL:https://namura.cc/event/20250809/
END:VEVENT
BEGIN:VEVENT
DTSTART;VALUE=DATE:20250805
DTEND;VALUE=DATE:20250806
DTSTAMP:20260421T092710
CREATED:20250721T051154Z
LAST-MODIFIED:20250724T030202Z
UID:6171-1754352000-1754438399@namura.cc
SUMMARY:GOOD TIME -summer fes-
DESCRIPTION:□日時\nー8月5日(火)ー\nOpen：13:30   Start：14:30 \n□チケット\n3\,500円＋500円(1ドリンク)\n＊ドリンク500円は当日入場時の支払い \n□出演者\n「MC」\nMACCHAN\nもり of the year \n「GUEST SHOW CASE」\nCooper\nRicky \n「NUMBER SHOW」\nみひろ\nkaori\nえる\nkonon\n風生勢\nMIKI×HIJIRI\nMayuk1\nNEXUS\n楓\nよしだみらい\nKIYO\ncHam\nRuivo × yusa\nHARUNA\nRYOKA\nまぁち\nAiSP\nmana\nnatsumi\nMAHHA \n「キッチンカー」\nじんべい（たこ焼き・かき氷）\nぴないさーら（沖縄料理）\nえいようスタンド羽釜おにぎり専門店 \n「縁日」\n射的\n輪投げ\nスーパーボールすくい
URL:https://namura.cc/event/20250805/
END:VEVENT
BEGIN:VEVENT
DTSTART;VALUE=DATE:20250802
DTEND;VALUE=DATE:20250803
DTSTAMP:20260421T092710
CREATED:20250716T133659Z
LAST-MODIFIED:20250716T133659Z
UID:6156-1754092800-1754179199@namura.cc
SUMMARY:Live House Pangea presents 新世界FESTIVAL2025
DESCRIPTION:□日時\n2025年8月2日（土）\nOPEN  11:00 \nSTART  12:00  \n□チケット\nADV ¥6000\nU-22 ¥4000 \n＋1drink(¥600) \n■イープラス  https://eplus.jp/shinsekaifes/\n■チケットぴあ https://w.pia.jp/t/shinsekaifes/\n■ローソンチケット https://l-tike.com/shinsekaifes/ \n□詳しくは\nhttps://liveanima.jp/live/gig/live-house-pangea-presents-新世界festival2025
URL:https://namura.cc/event/20250802/
END:VEVENT
BEGIN:VEVENT
DTSTART;VALUE=DATE:20250728
DTEND;VALUE=DATE:20250729
DTSTAMP:20260421T092710
CREATED:20250719T055928Z
LAST-MODIFIED:20250719T055928Z
UID:6161-1753660800-1753747199@namura.cc
SUMMARY:CHOCOLATE SAVAGE vol.6
DESCRIPTION:□日時\n2025年7月28日(月)\nOPEN 13:30\nCLOSE 20:00 \n□チケット\n前売りチケット¥4\,000-\n当日チケット¥4\,500- \n□詳しくは\nhttps://www.instagram.com/chocolate.x.savage/
URL:https://namura.cc/event/20250728/
END:VEVENT
BEGIN:VEVENT
DTSTART;VALUE=DATE:20250727
DTEND;VALUE=DATE:20250728
DTSTAMP:20260421T092710
CREATED:20250709T034654Z
LAST-MODIFIED:20250709T035009Z
UID:6145-1753574400-1753660799@namura.cc
SUMMARY:Dance Event 祭演 vol.4”夏フェス Special”
DESCRIPTION:□日時\n2025年7月27日(日)\nOPEN 12:00-\nSTART 12:30- \n□会場\nstudio PARTITA \n□詳しくは\nhttps://www.instagram.com/saien_danceevent/
URL:https://namura.cc/event/20250727/
END:VEVENT
BEGIN:VEVENT
DTSTART;VALUE=DATE:20250725
DTEND;VALUE=DATE:20250728
DTSTAMP:20260421T092710
CREATED:20250611T092448Z
LAST-MODIFIED:20250611T092448Z
UID:6121-1753401600-1753660799@namura.cc
SUMMARY:Chronograffiti (KCVセレクション)
DESCRIPTION:□日時\n2025年7月25日（金）～27日（日）\n7月25日（金）19:30開演\n7月26日（土）14:30開演 /19:30開演\n7月27日（日）14:30開演\n※開場は各開演の30分前を予定\n上演時間：80分予定 \n□料金\n一般＝3\,500円、U25＝2\,500円、当日＝4\,000円 \nチケット取扱い：ZAIKOイベントページにて\nhttps://toritomokai.zaiko.io/ \n□詳しくは\nhttps://toritomokai.zaiko.io/post/chronograffiti \n＝＝＝＝＝＝＝＝＝＝＝\n作曲：日野浩志郎\n出演：安藤 巴、谷口かんな、前田剛史\n音響：西川文章\nビジュアルエフェクト：古館 健\n舞台監督：小林勇陽\n記録写真：井上嘉和\n宣伝美術：真壁昂士\n制作：伴朱音\n主催：株式会社鳥友会\n共催：一般財団法人 おおさか創造千島財団「KCVセレクション」\n助成：アーツサポート関西\n＝＝＝＝＝＝＝＝＝＝＝
URL:https://namura.cc/event/20250725-27/
END:VEVENT
BEGIN:VEVENT
DTSTART;VALUE=DATE:20250721
DTEND;VALUE=DATE:20250722
DTSTAMP:20260421T092710
CREATED:20250510T060035Z
LAST-MODIFIED:20250509T092941Z
UID:6060-1753056000-1753142399@namura.cc
SUMMARY:LUV(SIC) HEXOLOGY JAPAN TOUR
DESCRIPTION:東京・大阪・沖縄の3都市で実現する「LUV(SIC) HEXALOGY JAPAN TOUR 2025」 \nShing02とNujabesが生み出した「LUV(SIC)」シリーズは、名曲の枠を超え、世界中の耳と心に深く刻まれてきた。\n今回のツアーでは、その6部作を軸にShing02、SPIN MASTER A-1、そしてマンチェスターを拠点にするヒップホップバンドOMAが待望の再来日を果たす。 \n言葉と音が重なり、記憶と未来が交差する——。\nあの特別な世界観に、もう一度出会える夜。\nぜひ、その瞬間に立ち会ってほしい。 \n□日時\n2025年7月21日(月/祝)\nOPEN:16:00\nSTART:17:00 \n□チケット\n▼一般 前売　¥5\,500 スタンディング (税込/Plus Drink Fee)\n※チケット：１人４枚まで購入可能\n※未就学児童は保護者同伴で入場無料。小学生以上チケット必要。 \nチケットぴあ オフィシャル先行\n◯受付期間：5月10日(土) 12:00 ~ 5月17日(土) 23:59\nURL：https://w.pia.jp/t/luvsichexalogytour-2025/\n＝＝＝＝＝ \n＊OMA＊ \nOMAは、イギリス・マンチェスターを拠点に活動する4人組のインストゥルメンタル・ヒップホップバンド。\nChris Larcombe（ギター）、Corben Lamb（キーボード／プロダクション）、James Harper（ベース）、Sam Heeley（ドラム）で構成され、Nas、2Pac、MF DOOM、A Tribe Called Questなどのクラシックヒップホップを独自のバンドアレンジで再構築するスタイルで注目を集める。\n2023年には、Isaiah Rashadのヨーロッパ・北米ツアーにバックバンドとして帯同し、Shing02とのコラボレーションでは「Luv(sic)」シリーズをライブ演奏で再構築。ライブアルバム『Luv(Sic) Hexalogy（Live at Liquidroom）』も発表し、同年夏にはShin02、SPIN MASTER A-1と北米にて「Luv(sic) Hexalogy Tour」を展開しいずれもソールドアウトとなるなど、国際的な評価を高めている。また、ラスベガスのBellagio内にあるBruno Marsのラウンジ「The Pinky Ring」でもゲストバンドとして出演するなど今その動向が注目されている。\nhttps://www.instagram.com/oma.uk/ \n＊Shing02＊ \n1975年、東京都生まれ。現在はホノルルを拠点にグローバルに活躍しているMC/プロデューサー。\n日本のほかタンザニアやイギリスで少年時代を過ごし、15歳のときから暮らし始めた米国・カリフォルニアでヒップホップと出会う。1996年にMCとして日本での活動をスタート。1999年にリリースしたアルバム『緑黄色人種』がロングヒットを記録し、2008年にはアルバム『歪曲』をリリース。ABEMAのHIP HOP CHで2024年5月に放送された「my name is」での密着も話題を集めた。2024年からアメリカ、ヨーロッパ、中国ツアーをはじめとアジアツアーを敢行し精力的な活動を続ける。\nhttps://www.instagram.com/shing02gram/ \n＊SPIN MASTER A-1＊ \n和楽器サウンドを使用した楽曲を中心に現在までにShing02とのアルバム”246911” 。\nSHINGO★西成 “うしろきいつけや (feat. Red Eye) などラッパーとの作品をはじめ自身名義のアルバム”羅針盤”、ブレイクビーツアルバム”B-BOY IN THE SAMURAI SHADOW”などをリリース。\nNIKE SBの公式映像 “WAMONO”や2023年公開のストップモーションアニメ”HIDARI” への楽曲参加など幅広く活動している。\n現在もターンテーブルとドラムマシンを加えたライブパフォーマンス、楽曲制作をアップデートしている。\n2023年9月にはハワイ州立美術館でパフォーマンスするなど海外での評価も徐々に高まってきていおり和楽器とHIPHOP、祭りや民謡など異なる文化を現代音楽と融合させたユニークなスタイルはオーディエンスに新たな音楽体験を提供し続けている。\nhttps://www.instagram.com/a1championsound/
URL:https://namura.cc/event/20250721/
END:VEVENT
BEGIN:VEVENT
DTSTART;VALUE=DATE:20250720
DTEND;VALUE=DATE:20250721
DTSTAMP:20260421T092710
CREATED:20250710T053147Z
LAST-MODIFIED:20250710T053147Z
UID:6150-1752969600-1753055999@namura.cc
SUMMARY:ICE CREAM OSAKA
DESCRIPTION:□日時\n2025年7月20日(日)\nOPEN 14:00- \n□チケット\nADV ¥5\,000-\nDOOR ¥6\,000-\n（別途ドリンクフードチケット+¥1\,000） \nhttps://w.pia.jp/t/icecreamosaka/ \n□詳しくは\nhttps://www.instagram.com/ice_cream_osaka/
URL:https://namura.cc/event/20250720-2/
END:VEVENT
BEGIN:VEVENT
DTSTART;VALUE=DATE:20250719
DTEND;VALUE=DATE:20250720
DTSTAMP:20260421T092710
CREATED:20250611T090545Z
LAST-MODIFIED:20250705T050421Z
UID:6115-1752883200-1752969599@namura.cc
SUMMARY:Excegol
DESCRIPTION:□日時\n2025年7月19日(土)\nOPEN 17:00- \n□会場\n旧事務所棟2F WHITE CHAMBER \n□詳しくは\nhttps://avyss-magazine.com/2025/06/20/61371/
URL:https://namura.cc/event/20250719wc/
END:VEVENT
BEGIN:VEVENT
DTSTART;VALUE=DATE:20250719
DTEND;VALUE=DATE:20250720
DTSTAMP:20260421T092710
CREATED:20250611T090019Z
LAST-MODIFIED:20250623T041321Z
UID:6113-1752883200-1752969599@namura.cc
SUMMARY:鷲尾伶菜　freivor限定 トーク&アコースティックライブ2025 Vol.2
DESCRIPTION:□日時\n2025年7月19日(土)\n1部：開場 14:15 / 開演 15:00\n2部：開場 17:15 / 開演 18:00 \n□チケット\n※FCイベントの為、一般発売はありません \n□問合せ　\n株式会社ROCKGUILD
URL:https://namura.cc/event/20250719/
END:VEVENT
END:VCALENDAR