BEGIN:VCALENDAR
VERSION:2.0
PRODID:-//クリエイティブセンター大阪（CCO） - ECPv6.2.1//NONSGML v1.0//EN
CALSCALE:GREGORIAN
METHOD:PUBLISH
X-WR-CALNAME:クリエイティブセンター大阪（CCO）
X-ORIGINAL-URL:https://namura.cc
X-WR-CALDESC:クリエイティブセンター大阪（CCO） のイベント
REFRESH-INTERVAL;VALUE=DURATION:PT1H
X-Robots-Tag:noindex
X-PUBLISHED-TTL:PT1H
BEGIN:VTIMEZONE
TZID:Asia/Tokyo
BEGIN:STANDARD
TZOFFSETFROM:+0900
TZOFFSETTO:+0900
TZNAME:JST
DTSTART:20110101T000000
END:STANDARD
END:VTIMEZONE
BEGIN:VEVENT
DTSTART;VALUE=DATE:20130219
DTEND;VALUE=DATE:20130220
DTSTAMP:20260423T193844
CREATED:20230213T110514Z
LAST-MODIFIED:20230213T110514Z
UID:678-1361232000-1361318399@namura.cc
SUMMARY:クリエイティブセンター大阪　ミニ見学ツアー vol.18
DESCRIPTION:近代化産業遺産に認定されている「名村造船跡地」=クリエイティブセンター大阪の館内見学ツアーです。\n造船所跡地の施設内をスタッフがご説明しながらご案内致します。\n※ツアー時間は30分程度を予定しております。（途中退場可） \n■日時\n2013年2月19日（火）15:00 ※30分程度\nクリエイティブセンター大阪　入口警備員室前集合 \n■参加方法\n予約不要・現地集合／参加費は無料です。 \n■お問合せ\n06-4702-7085（クリエイティブセンター大阪）
URL:https://namura.cc/event/20130219/
ATTACH;FMTTYPE=image/jpeg:https://namura.cc/wp-content/uploads/2022/12/b0f3769176eeffbd5abb90e91461dc87-e1677758490252.jpg
END:VEVENT
BEGIN:VEVENT
DTSTART;VALUE=DATE:20130115
DTEND;VALUE=DATE:20130116
DTSTAMP:20260423T193844
CREATED:20230214T075311Z
LAST-MODIFIED:20230214T075311Z
UID:681-1358208000-1358294399@namura.cc
SUMMARY:クリエイティブセンター大阪　ミニ見学ツアー vol.17
DESCRIPTION:近代化産業遺産に認定されている「名村造船跡地」=クリエイティブセンター大阪の館内見学ツアーです。\n造船所跡地の施設内をスタッフがご説明しながらご案内致します。\n※ツアー時間は30分程度を予定しております。（途中退場可） \n■日時\n2013年1月15日（火）　15:00 ※30分程度\nクリエイティブセンター大阪　入口警備員室前集合 \n■参加方法\n予約不要・現地集合／参加費は無料です。 \n■お問合せ\n06-4702-7085（クリエイティブセンター大阪）
URL:https://namura.cc/event/20130115/
ATTACH;FMTTYPE=image/jpeg:https://namura.cc/wp-content/uploads/2022/12/b0f3769176eeffbd5abb90e91461dc87-e1677758490252.jpg
END:VEVENT
BEGIN:VEVENT
DTSTART;VALUE=DATE:20121204
DTEND;VALUE=DATE:20121205
DTSTAMP:20260423T193844
CREATED:20230214T075852Z
LAST-MODIFIED:20230214T091759Z
UID:683-1354579200-1354665599@namura.cc
SUMMARY:クリエイティブセンター大阪　ミニ見学ツアー vol.16
DESCRIPTION:近代化産業遺産に認定されている「名村造船跡地」=クリエイティブセンター大阪の館内見学ツアーです。\n造船所跡地の施設内をスタッフがご説明しながらご案内致します。\n※ツアー時間は30分程度を予定しております。（途中退場可） \n■日時\n2012年12月4日（火）　15:00 ※30分程度\nクリエイティブセンター大阪　入口警備員室前集合 \n■参加方法\n予約不要・現地集合／参加費は無料です。 \n■お問合せ\n06-4702-7085（クリエイティブセンター大阪）
URL:https://namura.cc/event/20121204/
ATTACH;FMTTYPE=image/jpeg:https://namura.cc/wp-content/uploads/2022/12/b0f3769176eeffbd5abb90e91461dc87-e1677758490252.jpg
END:VEVENT
BEGIN:VEVENT
DTSTART;VALUE=DATE:20121201
DTEND;VALUE=DATE:20121202
DTSTAMP:20260423T193844
CREATED:20230214T080954Z
LAST-MODIFIED:20230214T080954Z
UID:685-1354320000-1354406399@namura.cc
SUMMARY:Jeroen Erosie Exhibition HOTDOCKS2
DESCRIPTION:■日時\n2012年12月1日 (土）\n17:00-21:00 \n■入場料\n無料＋１ドリンク無料!! \n詳しくは→　http://wpp.namura.cc/
URL:https://namura.cc/event/20121201/
ATTACH;FMTTYPE=image/jpeg:https://namura.cc/wp-content/uploads/2023/02/20121123-HOTDOCKS2.jpg
END:VEVENT
BEGIN:VEVENT
DTSTART;VALUE=DATE:20121123
DTEND;VALUE=DATE:20121126
DTSTAMP:20260423T193844
CREATED:20230214T081308Z
LAST-MODIFIED:20230214T081308Z
UID:693-1353628800-1353887999@namura.cc
SUMMARY:ROGUES' GALLERY／農民車show-2
DESCRIPTION:□日時\n2012年\n11月23日(金・勤労感謝の日)、\n11月24日(土)、\n11月25日(日) \n13:00-20:00（入場無料）\n※試走会：連日・15:00-16:00\n※オープニングパーティ：11月23日・18:00-20:00 \n■主催・制作・企画運営：\nROGUES’ GALLERY\n■共催：\nremo [NPO法人記録と表現とメディアのための組織]\n■助成：\n一般財団法人おおさか創造千島財団\n■協賛：\nSHISEIDO\n■協力：\nクボ倉庫、RESULT、Sunny Mountain Boys、NPO法人淡路島アートセンター
URL:https://namura.cc/event/20121123-25/
ATTACH;FMTTYPE=image/jpeg:https://namura.cc/wp-content/uploads/2023/02/20121123-lg.jpg
END:VEVENT
BEGIN:VEVENT
DTSTART;VALUE=DATE:20121108
DTEND;VALUE=DATE:20121109
DTSTAMP:20260423T193844
CREATED:20230214T081448Z
LAST-MODIFIED:20230214T081448Z
UID:695-1352332800-1352419199@namura.cc
SUMMARY:クリエイティブセンター大阪　ミニ見学ツアー vol.15
DESCRIPTION:近代化産業遺産に認定されている「名村造船跡地」=クリエイティブセンター大阪の館内見学ツアーです。\n造船所跡地の施設内をスタッフがご説明しながらご案内致します。\n※ツアー時間は30分程度を予定しております。（途中退場可） \n■日時\n2012年11月8日（木）　15:00 ※30分程度\nクリエイティブセンター大阪　入口警備員室前集合 \n■参加方法\n予約不要・現地集合／参加費は無料です。 \n■お問合せ\n06-4702-7085（クリエイティブセンター大阪）
URL:https://namura.cc/event/20121108/
ATTACH;FMTTYPE=image/jpeg:https://namura.cc/wp-content/uploads/2022/12/b0f3769176eeffbd5abb90e91461dc87-e1677758490252.jpg
END:VEVENT
BEGIN:VEVENT
DTSTART;VALUE=DATE:20121103
DTEND;VALUE=DATE:20121104
DTSTAMP:20260423T193844
CREATED:20230214T081711Z
LAST-MODIFIED:20230214T081711Z
UID:697-1351900800-1351987199@namura.cc
SUMMARY:RoToR OSAKA 2012
DESCRIPTION:「rotor osaka 2012」は「大阪」と「祭」がコンセプトの、2つの異なったイベント「バクトオーサカ」と「セルフ祭」が融合しストリートの表現性/価値観を提示するイベント。音楽、映像、美術、ダンス、食文化、ファッションなどをクロスオーバーに溢れ才能あるアーティスト達が入り混じり、あらゆるジャンルを飛び越えたコミュニケーションを計ります。大阪ならではの地域性で生まれた個性豊かなアーティスト文化を「祭」というイメージを元に、参加する全ての年代に結びつけることのできる表現文化の軸車（ローター）を目指します。 \n■日時\n2012年11月3日（Sat.)\nopen　12:00\nstart　13:00 -21:00 \n■料金：\n一般前売　3\,500円　／　一般当日　4\,000円\n早割　　3\,000円　（mail受付限定）\n（１ドリンク代別） \n前売取扱\n◯e+（イープラス）（10月1日(月)10:00より発売開始）http://eplus.jp/\n◯RoToR事務局　rotor2012ticket@gmail.com\n（名前、住所、連絡先、e-mail、枚数を明記の上記アドレスに送信ください。） \n■問合先：\nRoToR実行委員会\nmail:: rotor2012info@gmail.com\ntel:: 03-5378-9039 \n＝＝＝＝＝＝＝＝＝＝＝＝＝＝ \nbakuto osakaとは？\n2008年9月にC.C.O統括プロデューサー小原啓渡、時空プロデュサー山辺圭二、佐藤圭子、Dance Company BABY-Q主宰 東野祥子、ファッションブランドSUPA RESQUE WEARS 祷武文、羽山銀河（現ボガルタ）らの呼びかけによって国内外で活躍する、ダンス・音楽・映画・アート・食・ファッション等の表現者達が、アート、音楽、舞台芸術などで最先端の動きを見せる『名村造船所跡地』に一同に会し、純粋な表現の『お祭り』を開催します。「大阪を中心に世界で活躍するアーティスト達の表現をより多くの人に感じてもらいたい！」大阪発ストリート・カルチャーの最も尖った部分を凝縮させた２年に１度のエクストリーム祭典。 \n＝＝＝＝＝＝＝＝＝＝＝＝＝＝ \nセルフ祭とは？\nセルフ祭は「祭りおこして、町おこす」をテーマに、通天閣のおひざもと、新世界市場というシャッター商店街に様々な関西在住のアーティストが集結。開催場所の地域の方とのコミュニケーションを計りつつ、商店街の空きスペースを利用し、関西を中心に活動するものづくりアーティストの活動の場を提供。異空間アーティストのコタケマンを中心に、奇人変人が大集合。また、「お祭り」を開催する事で地域に活気をとりもどし、街の活性化を目指す。関西のTV、雑誌、新聞が祭をとりあげたり 大阪府の施設とセルフ祭がコラボレーションしたりと活動の幅を広げる。「すべてはセルフで」をモットーにただ見ているだけではなく、参加して、頭がおかしくなって、家に帰ってもらうことを目標としている。 \nセルフ祭HP：http://selfmatsuri.ojaru.jp/ \n■海外ゲストアーティスト　profile\nJeroen Erosie\n1976年オランダ生まれ。イラストからタイポグラフィー、落書き、コンプセプチュアルアートまで様々な分野に及ぶ作品を製作。名村造船所跡地防潮堤に幅10メートルのウォールペイントを作成。今回はLIVEPAINTを行う。 \nb. ビードット\n1982年生まれ。アテネにて建築家、ストリートアーティストとして活躍。1996年にグラフィティライターとして活動をはじめ、2000年から2006年までUniversity of Thessaly U.TH. in Volosにて建築を学ぶ。ニューヨークを中心に活躍し、日本にはOSAKA光のルネサンス2010にて巨大バルーンアートを作成。今回も巨大バルーンを展示する。 \n+ 雨天決行。ただし、臨海地域のため、台風、高潮、地震など天災時には中止させていただく場合があります。\n+ ライブはすべてスタンディングです。\n+ 飲食物・麻薬等の薬物・花火類の持ち込みはご遠慮ください。 \nフェイスブック　http://www.facebook.com/RoTorOsaka2012
URL:https://namura.cc/event/20121103/
ATTACH;FMTTYPE=image/jpeg:https://namura.cc/wp-content/uploads/2023/02/20121123-rotorosaka.jpeg
END:VEVENT
BEGIN:VEVENT
DTSTART;VALUE=DATE:20121025
DTEND;VALUE=DATE:20121026
DTSTAMP:20260423T193844
CREATED:20230214T081851Z
LAST-MODIFIED:20230214T081851Z
UID:699-1351123200-1351209599@namura.cc
SUMMARY:クリエイティブセンター大阪　ミニ見学ツアー vol.14
DESCRIPTION:近代化産業遺産に認定されている「名村造船跡地」=クリエイティブセンター大阪の館内見学ツアーです。\n造船所跡地の施設内をスタッフがご説明しながらご案内致します。\n※ツアー時間は30分程度を予定しております。（途中退場可） \n■日時\n2012年10月25日（木）　15:00 ※30分程度\nクリエイティブセンター大阪　入口警備員室前集合 \n■参加方法\n予約不要・現地集合／参加費は無料です。 \n■お問合せ\n06-4702-7085（クリエイティブセンター大阪）
URL:https://namura.cc/event/20121025/
ATTACH;FMTTYPE=image/jpeg:https://namura.cc/wp-content/uploads/2022/12/b0f3769176eeffbd5abb90e91461dc87-e1677758490252.jpg
END:VEVENT
BEGIN:VEVENT
DTSTART;VALUE=DATE:20121020
DTEND;VALUE=DATE:20121021
DTSTAMP:20260423T193844
CREATED:20230214T082141Z
LAST-MODIFIED:20230214T082141Z
UID:702-1350691200-1350777599@namura.cc
SUMMARY:NAMURA ART MEETING実行委員会Vol.4『臨界の創造論』
DESCRIPTION:■日時\n2012年\n10月20日(土)-21日(日) \n主催：NAMURA ART MEETING実行委員会\n助成：おおさか創造千島財団 / 公益財団法人アサヒグループ芸術文化財団 / 公益財団法人朝日新聞文化財団\n協賛：株式会社資生堂\n（2012\,7/17時点）\n問合先：NAMURA ART MEETING実行委員会\nE-mail：office@nam04-34.jp \nWeb : http://nam04-34.jp/
URL:https://namura.cc/event/20121020/
ATTACH;FMTTYPE=image/png:https://namura.cc/wp-content/uploads/2023/02/20120730-title.png
END:VEVENT
BEGIN:VEVENT
DTSTART;VALUE=DATE:20120915
DTEND;VALUE=DATE:20120918
DTSTAMP:20260423T193844
CREATED:20230214T082408Z
LAST-MODIFIED:20230214T082408Z
UID:704-1347667200-1347926399@namura.cc
SUMMARY:DESIGNEAST 03
DESCRIPTION:状況との対話\n世界のEAST・大阪から、国際水準のデザインを都市の新たな可能性を見いだす試みがはじまります。 \n□日時\n2012年9月15日(土)〜17日(月) \nDESIGNEAST 03
URL:https://namura.cc/event/20120915-17/
ATTACH;FMTTYPE=image/png:https://namura.cc/wp-content/uploads/2023/02/20120728-DE03.png
END:VEVENT
BEGIN:VEVENT
DTSTART;VALUE=DATE:20120910
DTEND;VALUE=DATE:20120911
DTSTAMP:20260423T193844
CREATED:20230214T082542Z
LAST-MODIFIED:20230214T082542Z
UID:706-1347235200-1347321599@namura.cc
SUMMARY:クリエイティブセンター大阪　ミニ見学ツアー vol.13
DESCRIPTION:近代化産業遺産に認定されている「名村造船跡地」=クリエイティブセンター大阪の館内見学ツアーです。\n造船所跡地の施設内をスタッフがご説明しながらご案内致します。\n※ツアー時間は30分程度を予定しております。（途中退場可） \n■日時\n2012年9月10日（月）15:00 ※30分程度\nクリエイティブセンター大阪　入口警備員室前集合 \n■参加方法\n予約不要・現地集合／参加費は無料です。 \n■お問合せ\n06-4702-7085（クリエイティブセンター大阪）
URL:https://namura.cc/event/20120910/
ATTACH;FMTTYPE=image/jpeg:https://namura.cc/wp-content/uploads/2022/12/b0f3769176eeffbd5abb90e91461dc87-e1677758490252.jpg
END:VEVENT
BEGIN:VEVENT
DTSTART;VALUE=DATE:20120831
DTEND;VALUE=DATE:20120901
DTSTAMP:20260423T193844
CREATED:20230214T082803Z
LAST-MODIFIED:20230214T082803Z
UID:708-1346371200-1346457599@namura.cc
SUMMARY:NAMURA ART MEETING'04-'34 Vol.04　第2回ボランティア説明会
DESCRIPTION:NAMURA ART MEETING’04-’34 Vol.04『臨界の創造論』\n第2回ボランティア説明会 \n■日時：2012年8月31日 (金) 17:30ー18:30\n■場所：名村造船所大阪工場跡地・製図棟2F \n※ボランティア説明会のあと、広報会議を引き続き開催します。（終了予定：21:00） \n詳しくはこちら
URL:https://namura.cc/event/20120831/
ATTACH;FMTTYPE=:
END:VEVENT
BEGIN:VEVENT
DTSTART;VALUE=DATE:20120808
DTEND;VALUE=DATE:20120809
DTSTAMP:20260423T193844
CREATED:20230214T082924Z
LAST-MODIFIED:20230214T082924Z
UID:711-1344384000-1344470399@namura.cc
SUMMARY:クリエイティブセンター大阪　ミニ見学ツアー vol.12
DESCRIPTION:近代化産業遺産に認定されている「名村造船跡地」=クリエイティブセンター大阪の館内見学ツアーです。\n造船所跡地の施設内をスタッフがご説明しながらご案内致します。\n※ツアー時間は30分程度を予定しております。（途中退場可） \n■日時\n2012年8月8日（水）　15:00 ※30分程度\nクリエイティブセンター大阪　入口警備員室前集合 \n■参加方法\n予約不要・現地集合／参加費は無料です。 \n■お問合せ\n06-4702-7085（クリエイティブセンター大阪）
URL:https://namura.cc/event/20120808/
ATTACH;FMTTYPE=image/jpeg:https://namura.cc/wp-content/uploads/2022/12/b0f3769176eeffbd5abb90e91461dc87-e1677758490252.jpg
END:VEVENT
BEGIN:VEVENT
DTSTART;VALUE=DATE:20120731
DTEND;VALUE=DATE:20120801
DTSTAMP:20260423T193844
CREATED:20230214T083038Z
LAST-MODIFIED:20230214T083038Z
UID:714-1343692800-1343779199@namura.cc
SUMMARY:NAMURA ART MEETING'04-'34 Vol.04『臨界の創造論』ボランティア説明会
DESCRIPTION:NAMURA ART MEETING’04-’34 Vol.04『臨界の創造論』ボランティア説明会 \n■日時：2012年7月31日 (火) 19:00?20:30\n■場所：名村造船所大阪工場跡地・製図棟2F \n詳しくはこちら
URL:https://namura.cc/event/20120731/
ATTACH;FMTTYPE=image/jpeg:https://namura.cc/wp-content/uploads/2022/12/b0f3769176eeffbd5abb90e91461dc87-e1677758490252.jpg
END:VEVENT
BEGIN:VEVENT
DTSTART;VALUE=DATE:20120728
DTEND;VALUE=DATE:20120729
DTSTAMP:20260423T193844
CREATED:20230214T083212Z
LAST-MODIFIED:20230214T083212Z
UID:716-1343433600-1343519999@namura.cc
SUMMARY:クリエイティブセンター大阪　ミニ見学ツアー vol.11
DESCRIPTION:近代化産業遺産に認定されている「名村造船跡地」=クリエイティブセンター大阪の館内見学ツアーです。\n造船所跡地の施設内をスタッフがご説明しながらご案内致します。\n※ツアー時間は30分程度を予定しております。（途中退場可） \n■日時\n2012年7月11日（水）　15:00 ※30分程度\nクリエイティブセンター大阪　入口警備員室前集合 \n■参加方法\n予約不要・現地集合／参加費は無料です。 \n■お問合せ\n06-4702-7085（クリエイティブセンター大阪）
URL:https://namura.cc/event/20120711/
ATTACH;FMTTYPE=image/jpeg:https://namura.cc/wp-content/uploads/2022/12/b0f3769176eeffbd5abb90e91461dc87-e1677758490252.jpg
END:VEVENT
BEGIN:VEVENT
DTSTART;VALUE=DATE:20120727
DTEND;VALUE=DATE:20120901
DTSTAMP:20260423T193844
CREATED:20230214T083845Z
LAST-MODIFIED:20230214T083845Z
UID:725-1343347200-1346457599@namura.cc
SUMMARY:種から育てる子ども料理教室　第1回
DESCRIPTION:□日時：\n全6回　16：30〜18：30\n7月27日（金）\n8月3日（金）\n8月10日（金）\n8月17日（金）\n8月24日（金）\n8月31日（金） \n□場所：CCO クリエイティブセンター大阪２Fホワイエ \n詳しくは\n「種から育てる子ども教室」Blog \n□お申込、お問合先\nE-mail:kodomoseed@gmail.com
URL:https://namura.cc/event/220120727-0831/
ATTACH;FMTTYPE=image/jpeg:https://namura.cc/wp-content/uploads/2023/02/20120531-kodomo_ryouri-omote1.jpg
END:VEVENT
BEGIN:VEVENT
DTSTART;VALUE=DATE:20120713
DTEND;VALUE=DATE:20120714
DTSTAMP:20260423T193844
CREATED:20230214T083403Z
LAST-MODIFIED:20230214T083403Z
UID:719-1342137600-1342223999@namura.cc
SUMMARY:種から育てる子ども料理教室オリエンテーション
DESCRIPTION:□日時：2012年7月13日（金）　17：00ー18：00\n□場所：CCO クリエイティブセンター大阪２Fホワイエ \n詳しくは\n「種から育てる子ども教室」Blog \n□お申込、お問合先\nE-mail:kodomoseed@gmail.com
URL:https://namura.cc/event/20120713/
ATTACH;FMTTYPE=image/jpeg:https://namura.cc/wp-content/uploads/2023/02/20120531-kodomo_ryouri-omote1.jpg
END:VEVENT
BEGIN:VEVENT
DTSTART;VALUE=DATE:20120606
DTEND;VALUE=DATE:20120607
DTSTAMP:20260423T193844
CREATED:20230214T083621Z
LAST-MODIFIED:20230214T083621Z
UID:722-1338940800-1339027199@namura.cc
SUMMARY:クリエイティブセンター大阪　ミニ見学ツアー vol.10
DESCRIPTION:近代化産業遺産に認定されている「名村造船跡地」=クリエイティブセンター大阪の館内見学ツアーです。\n造船所跡地の施設内をスタッフがご説明しながらご案内致します。\n※ツアー時間は30分程度を予定しております。（途中退場可） \n■日時\n2012年6月6日（水）　15:00 ※30分程度\nクリエイティブセンター大阪　入口警備員室前集合 \n■参加方法\n予約不要・現地集合／参加費は無料です。 \n■お問合せ\n06-4702-7085（クリエイティブセンター大阪）
URL:https://namura.cc/event/20120606/
ATTACH;FMTTYPE=image/jpeg:https://namura.cc/wp-content/uploads/2022/12/b0f3769176eeffbd5abb90e91461dc87-e1677758490252.jpg
END:VEVENT
BEGIN:VEVENT
DTSTART;VALUE=DATE:20120511
DTEND;VALUE=DATE:20120514
DTSTAMP:20260423T193844
CREATED:20230214T084059Z
LAST-MODIFIED:20230214T084059Z
UID:727-1336694400-1336953599@namura.cc
SUMMARY:SHOCK UP「曼荼羅カフェ」
DESCRIPTION:劇団SHOCK-UP第5回公演\n「曼荼羅カフェ」 \n□日時\n2012年5月\n11日（金）19:30-\n12日（土）15:00-/19:00-\n13日（日）13:00-/17:00-\n※受付・開場は開演の30分前となっております。 \n□会場\nBLACK CHAMBER（名村造船所跡地） \n□アクセス\n地下鉄四つ橋線北加賀屋駅から徒歩10分\nhttp://www.namura.cc/access.html
URL:https://namura.cc/event/20120511-13/
ATTACH;FMTTYPE=:
END:VEVENT
BEGIN:VEVENT
DTSTART;VALUE=DATE:20120508
DTEND;VALUE=DATE:20120509
DTSTAMP:20260423T193844
CREATED:20230214T084227Z
LAST-MODIFIED:20230214T084258Z
UID:729-1336435200-1336521599@namura.cc
SUMMARY:クリエイティブセンター大阪　ミニ見学ツアー vol.9
DESCRIPTION:近代化産業遺産に認定されている「名村造船跡地」=クリエイティブセンター大阪の館内見学ツアーです。\n造船所跡地の施設内をスタッフがご説明しながらご案内致します。\n※ツアー時間は30分程度を予定しております。（途中退場可） \n■日時\n2012年5月8日（火）　15:00 ※30分程度\nクリエイティブセンター大阪　入口警備員室前集合 \n■参加方法\n予約不要・現地集合／参加費は無料です。 \n■お問合せ\n06-4702-7085（クリエイティブセンター大阪）
URL:https://namura.cc/event/20120508/
ATTACH;FMTTYPE=image/jpeg:https://namura.cc/wp-content/uploads/2022/12/b0f3769176eeffbd5abb90e91461dc87-e1677758490252.jpg
END:VEVENT
BEGIN:VEVENT
DTSTART;VALUE=DATE:20120410
DTEND;VALUE=DATE:20120411
DTSTAMP:20260423T193844
CREATED:20230214T084426Z
LAST-MODIFIED:20230214T084426Z
UID:732-1334016000-1334102399@namura.cc
SUMMARY:クリエイティブセンター大阪　ミニ見学ツアー vol.8
DESCRIPTION:近代化産業遺産に認定されている「名村造船跡地」=クリエイティブセンター大阪の館内見学ツアーです。\n造船所跡地の施設内をスタッフがご説明しながらご案内致します。\n※ツアー時間は1時間程度を予定しております。（途中退場可） \n■日時\n2012年4月10日（火）　14:00\nクリエイティブセンター大阪　入口警備員室前集合 \n■参加方法\n予約不要・現地集合／参加費は無料です。 \n■お問合せ\n06-4702-7085（クリエイティブセンター大阪）
URL:https://namura.cc/event/20120410/
ATTACH;FMTTYPE=image/jpeg:https://namura.cc/wp-content/uploads/2022/12/b0f3769176eeffbd5abb90e91461dc87-e1677758490252.jpg
END:VEVENT
BEGIN:VEVENT
DTSTART;VALUE=DATE:20120217
DTEND;VALUE=DATE:20120219
DTSTAMP:20260423T193844
CREATED:20230214T085100Z
LAST-MODIFIED:20230214T085100Z
UID:734-1329436800-1329609599@namura.cc
SUMMARY:Artist In Residence program “HOTDOCKS” 【CCO×NDSM】
DESCRIPTION:特設ウェブサイトにて最新情報を更新しております。\nぜひご覧ください。\n“HOTDOCKS” 【CCO×NDSM】特設ウェブサイト\nhttp://www.namura.cc/tuig/ \n*********************************************************************\nArtist In Residence program “HOTDOCKS” 【CCO×NDSM】\nアーティスト・イン・レジデンス事業\n近代化産業遺産を活用したアートスペースによる国際連携プログラム \nこの度、造船所跡地を改修した複合芸術施設「CCO／クリエイティブセンター大阪」（日本）、「NDSM」（オランダ）による国際連携を目的として、「NDSM」を拠点に活動を続ける「ROBODOCK」による滞在制作プログラムを実施いたします。 \nROBODOCK travels to creative shipyard in Japan \nPROGRAM＞＞プログラム詳細\n昨年3月に起こった東日本大震災復興支援の一環として、招聘アーティストが大阪・北加賀屋での滞在制作により、現代へのメッセージとして再構築したアートプランの発表、展示を行います。 \n▼Performance　“TUIG plays Salto Vitale”（上演時間：約45分）\nシアターアンサンブル「TUIG」日本初公演“Salto Vitale” \n▼Exhibition　“Mobile photo exposition in giant stuntbike”（上演時間：随時）\n巨大自転車“Dicyclet”による移動型写真展覧会 \n▼Salon　“The salon space by the artist from Osaka” （営業時間：18:30-21:00）\n大阪を拠点に活動するアーティストによる“にぎやかサロンスペース” \n会期： 2 月17 日（金）\,18 日（土） 　両日とも19:00-21:00\n受付、開場は18:30より開始いたします。 \n料金： 1\,000 円／day（スタンディング席／全席自由）\n収益の全額を、東日本大震災義援金として寄付します。\n定員：100名\n当日券販売有／ただし、定員に達した場合はご予約のお客様を優先とさせていただきます。 \n【予約方法】\n以下をご記入の上、メールまたはお電話でクリエイティブセンター大阪までお申込ください。\n必要事項：希望日時（2月17日または18日）、お名前、参加人数、電話番号 \n会場：CCO　クリエイティブセンター大阪＜野外／荒天時中止＞\n大阪市住之江区北加賀屋4-1-55 名村造船所跡地\nアクセス：大阪市営地下鉄四つ橋線［北加賀屋］駅4号出口より徒歩10 分 敷地付近有料駐車場あり \n問合・予約：CCO　クリエイティブセンター大阪\nTEL　06-4702-7085/ FAX　06-4702-7086\nMAIL cco@namura.cc\nWEB　http://www.namura.cc/ \n※詳細情報、タイムテーブルなどは特設ウェブサイトにて随時更新いたします。\n※制作過程や天候などにより、プログラムを中止、または内容を変更する場合がございます。\n※各プログラムの最新情報、天候等による公演中止の情報に関しては、特設ウェブサイトよりご確認ください。\n※会場は野外を予定しておりますので、十分な防寒対策をしてお越しください。
URL:https://namura.cc/event/20120217-18/
ATTACH;FMTTYPE=image/jpeg:https://namura.cc/wp-content/uploads/2023/02/20120204-1200202tuig_flyer3-1.jpg
END:VEVENT
BEGIN:VEVENT
DTSTART;VALUE=DATE:20120204
DTEND;VALUE=DATE:20120205
DTSTAMP:20260423T193844
CREATED:20230214T085315Z
LAST-MODIFIED:20230214T085315Z
UID:745-1328313600-1328399999@namura.cc
SUMMARY:『NAMURA152P』　?1/152ピース、描きませんか？?
DESCRIPTION:北加賀屋で活動するNPO法人「Co.to.hana」さんが主催している、壁画ワークショップのご案内です。\nご興味のある方は、ぜひお気軽にご参加ください！ \nNAMURA152Pは、壁面に描かれた152枚のパズルピースに、「１人１ピース」自由に『模様』を描いてもらうワークショップです。\n塗る色だけは決まっていて、152人のピースが描かれると、青のグラデーションの巨大壁画が完成するようになっています。 \n加賀屋地域の方々はもちろん、様々な地域の街の方々、学生、子供たちなど様々な方に参加していただきたいと思っています。\n誰でも描ける簡単な内容になっているので、特別な技術はなくても大丈夫です。\n少しでも興味のある方は是非参加してみてください。 \n絵を描くカンヴァスは、近代化産業遺産にも指定されている ” 名村造船所 “の前の防潮堤。\n最近では、デザインやアート、音楽のイベントが催されていて、様々文化の発信拠点となりつつある場所です。\nクリエイティブセンター大阪：http://www.namura.cc/ \n絵に自信があまりない方でも気軽に参加していただけます。\n是非、ご参加お待ちしております！！ \nまた、ワークショップを手伝ってくださるスタッフも募集しています。\nお気軽にお問い合わせください。 \n■ 公式ホームページ\nhttp://cotohana.jp/namura152p/index.html \n— 詳細 — \n【 開催日時 】\n下記の各日の10:00~13:00、14:00?17:00の二回行います。\n一回あたりの参加者は約10人です。 \n・ 11/23 ( 満員 )\n・12/10 ( 満員 )\n・12/11 ( 10:00からのみ満員 )\n・1/21\n・1/22\n・1/28\n・1/29\n・2/4 \n【 所要時間 】\n約３時間
URL:https://namura.cc/event/20120204/
ATTACH;FMTTYPE=:
END:VEVENT
BEGIN:VEVENT
DTSTART;VALUE=DATE:20111218
DTEND;VALUE=DATE:20111219
DTSTAMP:20260423T193844
CREATED:20230214T085453Z
LAST-MODIFIED:20230214T085453Z
UID:747-1324166400-1324252799@namura.cc
SUMMARY:発売記念コンサートツアー『真夜中を突っ走れ'８６』大阪パルティッタ
DESCRIPTION:『ロックンロール・スルー・ザ・ナイト?真夜中を突っ走れ！』\n発売記念コンサートツアー『真夜中を突っ走れ’８６』 \n□日時\n2011年12月18日(日) \nOPEN 18:00\nSTART 19:00 \n□チケット\n前売り　\3\,800- /　当日　\4\,500-\n（ドリンク代別\500) \n□チケット問合せ\n10/12 10:00?前売り発売開始\ne+:http://eplus.jp \n□お問合せ\nアイエヌジープラス　072-866-4353 \n会場問合せ\nクリエイティブセンター大阪　06-4702-7085
URL:https://namura.cc/event/20111218/
ATTACH;FMTTYPE=:
END:VEVENT
BEGIN:VEVENT
DTSTART;VALUE=DATE:20111126
DTEND;VALUE=DATE:20111127
DTSTAMP:20260423T193844
CREATED:20230214T085737Z
LAST-MODIFIED:20230214T085811Z
UID:750-1322265600-1322351999@namura.cc
SUMMARY:【重要なお知らせ】NWC-FES会場の変更
DESCRIPTION:2011年11月26日に当施設クリエイティブセンター大阪にて開催予定しておりました『NWC-FES』に関して、\n急きょ、風営法に抵触する可能性のある催しに関連するスタジオの貸し出しを中止せざるを得なくなりました。\nそれにともない、予定しておりましたイベントの会場が変更になりましたことをここにお知らせいたします。\nまことに遺憾ながら、ご理解を賜りますよう、よろしくお願い申し上げます。 \n変更内容、詳細につきましては下記URLよりご確認いただきますようお願い申し上げます。\n11/26(土)NWC-FES＠大阪アメリカ村TRIANGLE　http://iflyer.tv/namura/event/90750
URL:https://namura.cc/event/20111126/
ATTACH;FMTTYPE=:
END:VEVENT
BEGIN:VEVENT
DTSTART;VALUE=DATE:20111123
DTEND;VALUE=DATE:20111124
DTSTAMP:20260423T193844
CREATED:20230214T090009Z
LAST-MODIFIED:20230214T090009Z
UID:752-1322006400-1322092799@namura.cc
SUMMARY:【おおさかカンヴァス推進事業2011】「床書キ原寸」／後藤靖香
DESCRIPTION:「床書キ原寸」／後藤靖香 \n今も実寸大の橋の設計図が床に書きこまれたまま残されている巨大な空間に、当時そこで働いていた人々をテーマにした平面作品の新作を展示。日々の葛藤を抱えながらも、誠実に \n労働する人の中に愛おしさと深い尊敬の念を抱く作者が、大阪の歴史と、それを築いてきた人々の魅力を再発見しようと取り組む。 \n■日時\n2011年11月23日（水）〜12月23日（金）\n10：00-19：00（入場18：30まで）\n休館日なし \n■会場：名村造船所跡地　クリエイティブセンター大阪4階（製図室） \n【関連イベント】\n[アーティストトーク01]\n12月3日（土）　14:00?\n建畠晢（京都市立芸術大学学長）、。山田創平（都市社会学者）、後藤靖香（画家）\n*今回のおおさかカンヴァス推進事業の審査委員でもある、建畠さんをお迎えし、\n絵画のことや、作品のモチーフになっている名村造船所跡地や造船所で働く人々についてトークします。今回のドローイングや資料も公開予定です。 \n[アーティストトーク02]\n12月17日　15:00?\n池上司（西宮市大谷記念美術館）、はまぐちさくらこ（画家）、後藤靖香（画家）\n*絵画、制作方法、マンガについてトークします。トーク中、ドローイングと落書きをしながらの「ながら」トークを行います。 \n会場は冷えますので各自防寒の上ご参加下さい。
URL:https://namura.cc/event/20111123/
ATTACH;FMTTYPE=image/jpeg:https://namura.cc/wp-content/uploads/2023/02/20111130-web-ocp_20111203.jpg
END:VEVENT
BEGIN:VEVENT
DTSTART;VALUE=DATE:20111122
DTEND;VALUE=DATE:20111123
DTSTAMP:20260423T193844
CREATED:20230214T090114Z
LAST-MODIFIED:20230214T090146Z
UID:754-1321920000-1322006399@namura.cc
SUMMARY:【重要なお知らせ】Zettai-Mu 16th Anniversary 2011会場の変更
DESCRIPTION:2011年11月22\,23日に当施設クリエイティブセンター大阪にて開催予定しておりました『Zettai-Mu 16th Anniversary 2011』に関して、\n急きょ、風営法に抵触する可能性のある催しに関連するスタジオの貸し出しを中止せざるを得なくなりました。\nそれにともない、予定しておりましたイベントの会場が変更になりましたことをここにお知らせいたします。\nまことに遺憾ながら、ご理解を賜りますよう、よろしくお願い申し上げます。 \n変更内容、詳細につきましては下記URLよりご確認いただきますようお願い申し上げます。\n【重要】会場の変更のお知らせ　（http://www.zettai-mu.net/16th/news13.html）　
URL:https://namura.cc/event/20111122/
ATTACH;FMTTYPE=:
END:VEVENT
BEGIN:VEVENT
DTSTART;VALUE=DATE:20111112
DTEND;VALUE=DATE:20111113
DTSTAMP:20260423T193844
CREATED:20230214T090305Z
LAST-MODIFIED:20230214T090324Z
UID:756-1321056000-1321142399@namura.cc
SUMMARY:クリエイティブセンター大阪　見学ツアー vol.7
DESCRIPTION:近代化産業遺産に認定されている「名村造船跡地」=クリエイティブセンター大阪の館内見学ツアーです。\n造船所跡地の施設内をスタッフがご説明しながらご案内致します。\n※ツアー時間は1時間程度を予定しております。（途中退場可） \n■日時\n2011年11月12日（土）　15:00\nクリエイティブセンター大阪　入口警備員室前集合 \n■参加方法\n予約不要・現地集合／参加費は無料です。 \n■お問合せ\n06-4702-7085（クリエイティブセンター大阪）
URL:https://namura.cc/event/20111112/
ATTACH;FMTTYPE=image/jpeg:https://namura.cc/wp-content/uploads/2022/12/b0f3769176eeffbd5abb90e91461dc87-e1677758490252.jpg
END:VEVENT
BEGIN:VEVENT
DTSTART;VALUE=DATE:20111106
DTEND;VALUE=DATE:20111107
DTSTAMP:20260423T193844
CREATED:20230214T090445Z
LAST-MODIFIED:20230214T090459Z
UID:758-1320537600-1320623999@namura.cc
SUMMARY:LIVE FITTNESS
DESCRIPTION:台湾インストラクターを招いてのエアロビクスイベント「LiveFittness」開催決定！！台湾からインストラクター3名を招聘しイベントを開催致します。このイベントに伴い、AKB48総選挙のようなインストラクターの人気投票「HAPPY総選挙」を開催致します。\n＊「HAPPY総選挙」の詳細は下記をご覧ください。 \n1位?5位に輝いたIRは台湾ＶＳ日本レッスンにてリードを担当します。皆様の1票がHAPPYAERO人気no.1インストラクターが決まる！！\n＊投票権はイベントに参加する事が条件となります。\n投票権のみの販売は致しません。皆様応援よろしくお願いします☆
URL:https://namura.cc/event/20111106/
ATTACH;FMTTYPE=image/jpeg:https://namura.cc/wp-content/uploads/2023/02/20111102-_1.jpg
END:VEVENT
BEGIN:VEVENT
DTSTART;VALUE=DATE:20111102
DTEND;VALUE=DATE:20111103
DTSTAMP:20260423T193844
CREATED:20230214T090623Z
LAST-MODIFIED:20230214T090639Z
UID:760-1320192000-1320278399@namura.cc
SUMMARY:THE STAR FESTIVAL"november"2011 WORLD OF DANCE MUSIC FESTIVAL
DESCRIPTION:■日時\n2011/11/02(WED/祝前日)\nOPEN 21:00 ADV:3500 DOOR:4000 \n９月から３ヶ月連続で行われているクリエイティブセンター大阪（名村造船所跡地)での１１月のTHE STAR FESTIVALは\nまさにWORLD OF DANCE MUSIC FESTIVAL!ROOM1(STUDIO PARTITA)では日本のトッププロデューサーMAKOTOのアルバム”SOULED OUT” のリリースパーティー!とMC TALI ALBUM “DARK DAYS HIGH NIGHTS”WORLD TOUR!を一挙開催!!Drum’n’bass is not dead!!!\nそしてROOM2(BLACKCHAMBER)ではX-DREAM&Henrik Schwarzが一挙来日!日本を代表するTECHNOアーティストと宇宙開発事務局のコラボレーションで\n圧巻の空間を演出!そしてROOM3(REDFRAME)では野外が最も似合うアンビエント・ヴァイブを世界中のダンスフロアに広めている大御所MIXMASTER MORISが登場する!! \n■出演: \nROOM1::BLACKCHAMBER\nX-DREAM&Henrik Schwarz JAPAN TOUR \nX-DREAM-LIVE SET-\nHenrik Schwarz-LIVE SET-\nA.MOCHI-LIVE SET-\nDJ SODEYAMA（ARPA records）\nYUKKE (mo’wave/nautilus/newtone records)\nKUNIMITSU\nYASUHISA\nRYO YOSHIDA\n宇宙開発事務局(SPACE01) \nROOM2:: STUDIO PARTITA\nfeaturing 「MAKOTO (Human Elements / HE:Digital) “Souled Out” Release Tour」\n×MC TALI ALBUM “DARK DAYS HIGH NIGHTS”WORLD TOUR \nXILENT(AUDIO PORN)\nMC TALI\nDJ MAKOTO (Human Elements / HE:Digital)\nDJ Aki(06S/WOMB)\nDJ TOYO\nDJ KENZ1\nCROWD from sapporo\nHIKARI CONNECTION\nDJ MASASHI\nAKANE\nMC LEO\nMC AOI\nPsypnotek project \nROOM3::RED FRAME\nfeaturing　quarter\nMIXMASTER MORRIS a.k.a. THE IRRESISTIBLE FORCE (Ninja Tune / from UK)\nDJ SOU / MICO / YUTOKUMAMOTO / Stupid Boys\nVJ:akkki \nROOM4:GAREKI(HIP HOP)\nDJ A-KILLER\nDJ MEMENTO\nDJ MO-RI\nDJ OKU\nDJ KOM\nDJ KAZUHIDE\nscorpion OKAMOTO\nDJ INSIDE PHAT \nFOOD:世界食堂 / ケバブ　/ 焼き鳥 / DJ居酒屋 \n■チケット\nローソンチケット　0570-084-005 L-CODE(52619)\nチケットぴあ　0570-02-9999 P-CODE(152-183)\nCN playguide 0570-08-9999\ne＋ http://eplus.jp
URL:https://namura.cc/event/20111102/
ATTACH;FMTTYPE=:
END:VEVENT
END:VCALENDAR