BEGIN:VCALENDAR
VERSION:2.0
PRODID:-//クリエイティブセンター大阪（CCO） - ECPv6.2.1//NONSGML v1.0//EN
CALSCALE:GREGORIAN
METHOD:PUBLISH
X-WR-CALNAME:クリエイティブセンター大阪（CCO）
X-ORIGINAL-URL:https://namura.cc
X-WR-CALDESC:クリエイティブセンター大阪（CCO） のイベント
REFRESH-INTERVAL;VALUE=DURATION:PT1H
X-Robots-Tag:noindex
X-PUBLISHED-TTL:PT1H
BEGIN:VTIMEZONE
TZID:Asia/Tokyo
BEGIN:STANDARD
TZOFFSETFROM:+0900
TZOFFSETTO:+0900
TZNAME:JST
DTSTART:20110101T000000
END:STANDARD
END:VTIMEZONE
BEGIN:VEVENT
DTSTART;VALUE=DATE:20110902
DTEND;VALUE=DATE:20110903
DTSTAMP:20260423T185435
CREATED:20230214T093250Z
LAST-MODIFIED:20230214T093250Z
UID:798-1314921600-1315007999@namura.cc
SUMMARY:NWCより重要なおしらせ　KITSUNE CLUB NIGHT 延期
DESCRIPTION:NWCより重要なおしらせ　KITSUNE CLUB NIGHT 延期\nhttp://nwc-fes.blogspot.com/
URL:https://namura.cc/event/20110902/
ATTACH;FMTTYPE=image/jpeg:https://namura.cc/wp-content/uploads/2023/02/20110903-0903nwc.jpg
END:VEVENT
BEGIN:VEVENT
DTSTART;VALUE=DATE:20110827
DTEND;VALUE=DATE:20110828
DTSTAMP:20260423T185435
CREATED:20230214T093345Z
LAST-MODIFIED:20230214T093357Z
UID:800-1314403200-1314489599@namura.cc
SUMMARY:FREE STYLE OUTRO' 8@名村造船所跡地
DESCRIPTION:FREE STYLE OUTRO’ 8\n@名村造船所跡地 \n2010/08/27(SAT)\nOPEN/18:30\nSTART/19:00?ALL NIGHT \n前売り:￥4\,000 当日:￥5000\n(共に別途ドリンク代￥500) \nオフィシャルHP : http://www.freestyleoutro.com \n-TOTAL INFOMATION- \n[a.f.t.b.s]\nhttp://www.afterbase.com\n06-6341-7399 \n[FOCUS INTERNATIONAL]\nhttp://focus-k.com\n06-6561-1877 \n[SMASH WEST]\nhttp://smash-jpn.com\n06-6535-5569
URL:https://namura.cc/event/20110827/
ATTACH;FMTTYPE=:
END:VEVENT
BEGIN:VEVENT
DTSTART;VALUE=DATE:20110825
DTEND;VALUE=DATE:20110826
DTSTAMP:20260423T185435
CREATED:20230214T093448Z
LAST-MODIFIED:20230214T093458Z
UID:804-1314230400-1314316799@namura.cc
SUMMARY:SOUND SHOCK2011
DESCRIPTION:SOUND SHOCK2011 \n2009年に第一回が開催され、15大学の軽音団体を巻き込んだ関西最大級の大学合同ライブイベント「SOUND SHOCK」。年々成長を続けるこのイベントに今年は17もの大学が参加、3ステージ同時進行でライブを行うフェス形式でそれぞれの大学がコピー・オリジナル問わずパフォーマンスを繰り広げる。ライブの最後には学生バンドマンに注目されるアーティストがスペシャルゲストとして出演し会場の盛り上がりは最高潮に！ \n■日程：2011年8月25日（木）\n■場所：クリエイティブセンター大阪\n■主催：\n関西学院大学AVANTGARDE\n関西大学BANDITZ\n甲南大学軽音楽部AVANTGARED（関西学院大学軽音楽サークル）\n■協力：\nKOBE LIVEACT BAR VARIT\nBASS ON TOP\n■チケット (前売/当日）：未定\n■広報：宝塚大学T.U.K.C \n■ＨＰ：http://soundshock.web.fc2.com/TOP.html
URL:https://namura.cc/event/20110825/
ATTACH;FMTTYPE=:
END:VEVENT
BEGIN:VEVENT
DTSTART;VALUE=DATE:20110813
DTEND;VALUE=DATE:20110814
DTSTAMP:20260423T185435
CREATED:20230214T093544Z
LAST-MODIFIED:20230214T093555Z
UID:806-1313193600-1313279999@namura.cc
SUMMARY:STAR NIGHT
DESCRIPTION:open / start 22:00 \n＊心斎橋大丸前から送迎バスが22:00より３０分おきに運行!! \n【MAIN FLOOR】\nVITALIC-SELECTOR SET-\nOLIVER HO\nDJ BAKU（POPGROUP）\nTHE LOWBROWS（LINDATUNE）\nKUNIMITSU\nMONASHEE\nRYUSUKE NAKAMURA \n【2nd FLOOR】\nAdam Marshall / DONGURI / YUSAKU / DJ SOU / RYOMA \n前売り \1\,500(税込・1ドリンク別) / 当日 \2\,000(税込・1ドリンク別) \n7/30?発売開始\nローソン[52024]･e+･ぴあ[146-706]･CN \n(問) 夢番地大阪 06-6341-3525
URL:https://namura.cc/event/20110813/
ATTACH;FMTTYPE=:
END:VEVENT
BEGIN:VEVENT
DTSTART;VALUE=DATE:20110807
DTEND;VALUE=DATE:20110808
DTSTAMP:20260423T185435
CREATED:20230214T093724Z
LAST-MODIFIED:20230511T032554Z
UID:808-1312675200-1312761599@namura.cc
SUMMARY:クリエイティブセンター大阪　見学ツアー vol.6
DESCRIPTION:クリエイティブセンター大阪　見学ツアー \n近代化産業遺産に認定されている「名村造船跡地」=クリエイティブセンター大阪の館内見学ツアーです。\nもと造船所の敷地内をスタッフがご説明しながらご案内致します。\n※ツアー時間は1時間程度を予定しております。（途中退場可） \n■日時\n2011年8月7日（日）　15:00\nクリエイティブセンター大阪　入口警備員室前集合 \n■参加方法\n予約不要・現地集合／参加費は無料です。 \n■お問合せ\n06-4702-7085（クリエイティブセンター大阪）
URL:https://namura.cc/event/20110807/
ATTACH;FMTTYPE=image/jpeg:https://namura.cc/wp-content/uploads/2022/12/b0f3769176eeffbd5abb90e91461dc87-e1677758490252.jpg
END:VEVENT
BEGIN:VEVENT
DTSTART;VALUE=DATE:20110730
DTEND;VALUE=DATE:20110731
DTSTAMP:20260423T185435
CREATED:20230214T093846Z
LAST-MODIFIED:20230214T093857Z
UID:810-1311984000-1312070399@namura.cc
SUMMARY:capsule-"WORLD OF FANTASY"RELEASE PARTY-
DESCRIPTION:DOOR:4\,000yen / ADV:3\,500yen\n※共に別途1ドリンク代（500YEN）がかかります \n■前売り券発売中\n・イープラス :\nファミリーマート店内Famiポート\nまたは http://eplus.jp/capsule （PC / 携帯共通）にアクセス！！！ \n・ローソンチケット [L – 52159] :\nローソン店内Loppi\nまたは http://l-tike.com （PC / 携帯共通）にアクセス！！！ \nなお、5/21公演分のチケットが御利用できます。 \n■SPECEIAL GUEST LIVE\ncapsule \n■SPECIAL GUEST DJ\n中田ヤスタカ(capsule) \n■GUEST VJ\n滝紘平 \n■DJs\nYA-KAN / kohsuke / MAYO / Mizkino \nand MORE! MORE! MORE! \n■INFORMATION\n・ASOBISYSTEM\nhttp://asobisystem.com
URL:https://namura.cc/event/20110730/
ATTACH;FMTTYPE=image/jpeg:https://namura.cc/wp-content/uploads/2023/02/20110614-110730.jpg
END:VEVENT
BEGIN:VEVENT
DTSTART;VALUE=DATE:20110724
DTEND;VALUE=DATE:20110725
DTSTAMP:20260423T185435
CREATED:20230214T093951Z
LAST-MODIFIED:20230214T093951Z
UID:812-1311465600-1311551999@namura.cc
SUMMARY:oosaka real FIGHT CLUB vol.08
DESCRIPTION:【outline】\n《oosaka real FIGHT CLUB vol.08》\n2011.7.24 sun at PARTITA\nOPEN 14:00\nSTART 15:00\nALL STANDING 5\,000yen \n【infomation】\nファイトクラブプロジェクト\ntel:06-6131-0489\nfax:06-6131-1564\nhttp://fightclub.bz/
URL:https://namura.cc/event/oosaka-real-fight-club-vol-08/
ATTACH;FMTTYPE=image/png:https://namura.cc/wp-content/uploads/2023/02/20110722-fc_vol9_logo.png
END:VEVENT
BEGIN:VEVENT
DTSTART;VALUE=DATE:20110723
DTEND;VALUE=DATE:20110724
DTSTAMP:20260423T185435
CREATED:20230214T094106Z
LAST-MODIFIED:20230214T094117Z
UID:815-1311379200-1311465599@namura.cc
SUMMARY:THE CARNIVAL 2011 -5th Anniversary-
DESCRIPTION:開場:13:00 / 終了予定:5:00 \n前売り:￥3\,500 当日:￥4\,500\n(要：入場時に別途ドリンク代￥500) \n注：前売りチケットお持ちの方は、入場混雑時最優先でご案内致します。 \n■ローソンチケット：0570-084-005 [Lコード : 59441]\n■チケットぴあ：0570-02-9999 [Pコード : 134-549]\n■e＋： http://eplus.jp \n※（入場時に身分証明書を提示させていただきます。）\n※（未成年者入場不可。[22:00以降]）\n※（20才未満の方は、アルコール飲料は購入できません。）\n※ 出演者の急遽キャンセルによるチケット払い戻しはできません。 \nhttp://www.focus-k.com/index.html
URL:https://namura.cc/event/20110723/
ATTACH;FMTTYPE=image/jpeg:https://namura.cc/wp-content/uploads/2023/02/20110614-carnival2011_723.jpg
END:VEVENT
BEGIN:VEVENT
DTSTART;VALUE=DATE:20110717
DTEND;VALUE=DATE:20110718
DTSTAMP:20260423T185435
CREATED:20230214T094220Z
LAST-MODIFIED:20230214T094220Z
UID:817-1310860800-1310947199@namura.cc
SUMMARY:THE STAR FESTIVAL -2011 SUMMER-
DESCRIPTION:OPEN 20:00\n今年も開催!! 恒例夏のスターフェスティバルが今年も開催決定！！\n最強タッグが集結！！ \nADV:\3\,500 DOOR:\4\,000\nグループ割:\10\,500(4枚セット/1枚\2\,625)\n※グループ割なら3枚分の料金で4名入場できます。 \nチケットぴあ 0570-02-9999（P-code：140-940）\nローソンチケット 0570-084-005（L-code：52452）\nCN playguide 0570-08-9999\ne+ http://eplus.jp
URL:https://namura.cc/event/the-star-festival-2011-summer/
ATTACH;FMTTYPE=image/jpeg:https://namura.cc/wp-content/uploads/2023/02/20110618-stafes2011summer_flyer_front.jpg
END:VEVENT
BEGIN:VEVENT
DTSTART;VALUE=DATE:20110709
DTEND;VALUE=DATE:20110710
DTSTAMP:20260423T185435
CREATED:20230214T094331Z
LAST-MODIFIED:20230215T044424Z
UID:819-1310169600-1310255999@namura.cc
SUMMARY:GOD BLESS meets B.P.2011-カエルスタジオ and BOND & JUSTICE PRESENTS-
DESCRIPTION:OPEN 18:00 (CLOSE 22:30)\n※オールナイト公演ではありません\nRED SPIDER/KENTY GROSS/BES 出演! \n(出演)\nSILVER BUCK/NG HEAD/Scorpion/BIG BEAR/TAK-Z/VEGA-T/MONKEY B/DONPATHC/DJ ハンマーナオ \nSOUND SYSTEM by K-3756S \n前売 2500円\n当日 3000円\n※共にドリンク代別途500円必要です。\n※未就学児は入場無料。保護者同伴の上ご来場下さい。 \n■TICKET INFO■\nローソンチケット0570-084-005 (Lコード:54874)\nhttp://l-tike.com/d1/AA02G01F1.do?DBNID=1&ALCD=1&LCD=54874 \nFROG STORE 06-6211-2609 \n※ローソンチケット発売中
URL:https://namura.cc/event/20110709/
ATTACH;FMTTYPE=image/jpeg:https://namura.cc/wp-content/uploads/2023/02/20110614-0578.jpg
END:VEVENT
BEGIN:VEVENT
DTSTART;VALUE=DATE:20110626
DTEND;VALUE=DATE:20110627
DTSTAMP:20260423T185435
CREATED:20230215T045146Z
LAST-MODIFIED:20230215T045146Z
UID:821-1309046400-1309132799@namura.cc
SUMMARY:UZUMAKI presents ドンギマナイト vol.3 Xtreme night
DESCRIPTION:14:00 open\n15:00 start \n新木場STUDIO COAST…大阪BIG CATと開催を重ねてきた\nドンギマナイト第三弾もUZUMAKI地元大阪で開催決定！ \n前売 ￥3\,800 / 当日 ￥4\,500\n（オールスタンディング・入場整理番号付・ドリンク別・税込） \n■一般発売日：2011年５月14日(土)\nチケットぴあ：0570-02-9999 （Pコード138-102）\nローソンチケット：0570-08-4005（Ｌコード：57986）\nCNプレイガイド：0570-08-9999 \n主催　UZUMAKI\n企画/制作 　UZUMAKI/gil sound works\n制作　KYODO GROUP INC./gil sound worls\n問い合わせ：キョードーインフォメーション　 06-7732-8888
URL:https://namura.cc/event/20110626/
ATTACH;FMTTYPE=image/jpeg:https://namura.cc/wp-content/uploads/2023/02/20110618-img57549939.jpg
END:VEVENT
BEGIN:VEVENT
DTSTART;VALUE=DATE:20110625
DTEND;VALUE=DATE:20110626
DTSTAMP:20260423T185435
CREATED:20230215T045343Z
LAST-MODIFIED:20230215T045501Z
UID:835-1308960000-1309046399@namura.cc
SUMMARY:NWC “太陽” FES
DESCRIPTION:〔2many DJs来日延期のお知らせ〕\n6/24より予定しておりました2manydjs Japan Tourはアーティストの都合により、公演を延期させていただくこととなりました。\n延期日程は2011年10月〜12月で調整しておりますので、お手持ち のチケットは紛失等されませんように大切に保管してください。チケットの払い戻し等に関しましては延期日程が決定次第、公演公式ホームページ他に てご案内致します。\nチケットをご購入いただき、公演を楽しみにしてくれた皆様に多大なるご迷惑をお掛けしますことを深くお詫び申し上げます。\nただいま公式発表に向けて準備中ですので、もうしばらくお待ちください。 \n尚、『NWC “太陽” FES』公演は2Many DJ’s の出演はありませんが予定通り開催致します。 \nチケット、払い戻しに関する問い合わせ\nTRIANGLE 06-6212-2264 \n名村造船所跡地( http://www.namura.cc/partita.html )という屋内ブース、野外ブースを兼ね備えたロケーションで毎回1500人以上動員している関西が誇るイベント NWC-FES( http://nwc-fes.blogspot.com/ )\nイベント当日は心斎橋大丸前⇔会場送迎バスも運行され、屋台などの\nFOODブースも充実しています!!\n今回は未成年入場可能なデイイベント!! \n【80kidz×☆Taku Takahashi(m-flo)\n×クボタマサヒコ ex.BEAT CRUSADERS】未成年入場可能なデイイベント!!\n6/25(土)\nNWC “太陽” FES@大阪名村造船所跡地 \n14:00-22:00 \n詳細→http://iflyer.tv/namura/event/80511 \nNWC 外国人割引\n外国人の方は2500円で入場可能!!\n2500 yen(NO DRINK).FOR GAIJIN \nグループ割:￥2250(NO DRINK)\n※グループ割なら3枚分の前売りTICKET金額で4名入場できます。\n（前売りチケット販売店、プレイガイドでご購入していただけます。）\nADV:￥3000 (NO DRINK)\nDOOR:￥3500(NO DRINK) \nticket PIA　　0570-02-9999（P-code：-138-646）\nLAWSON ticket 0570-084-005（L-code：58459）\nCN playguide 　0570-08-9999\ne+　　　　　　　　　　 　　 http://eplus.jp \nそして\n6.25 NWC-太陽FES アフターイベントとして\nKITSUNE MAISON 11 “INDIE DANCE ISSUE” RELEASE PARTY決定↓\n【GILDAS(KITSUNE)×80kidz×☆Taku Takahashi(m-flo)\n×クボタマサヒコ ex.BEAT CRUSADERS】\n6/25(土)　23:00-LATE\n@大阪名村造船所跡地 \nNWC 外国人割引\n外国人の方は2500円で入場可能!!\n2500 yen(NO DRINK).FOR GAIJIN \nグループ割:￥2625(NO DRINK)\n※グループ割なら3枚分の前売りTICKET金額で4名入場できます。\n（前売りチケット販売店、プレイガイドでご購入していただけます。）\nADV:￥3500 (NO DRINK)\nDOOR:￥4000(NO DRINK) \nticket PIA　　0570-02-9999（P-code：-142-969）\nLAWSON ticket 0570-084-005（L-code：54846） \n詳細→http://iflyer.tv/studiopartita/event/82635 \n【22:00-5:00まで心斎橋大丸前⇔会場送迎バスも運行されます】\nTIME TABLEはこちら↓\nhttp://iflyer.tv/namura/event/80511 \n【夜☆スタ SUBCULTURE STAGE】もあります!!\n※全身仮装の方は2500円(NO DRINK)で入場可能です!!\n数々の伝説を築き上げて来た関西発サブカルクラブイベント\n夜☆スタが約半年振りの沈黙を破り名村造船所にて開催決定となる！↓\nhttp://www.yorusuta.com/ \n※NWC-太陽FESご入場の方はアフターイベントにそのままご入場出来ます。
URL:https://namura.cc/event/20110625/
ATTACH;FMTTYPE=image/jpeg:https://namura.cc/wp-content/uploads/2023/02/20110619-0625omote2_web.jpg
END:VEVENT
BEGIN:VEVENT
DTSTART;VALUE=DATE:20110624
DTEND;VALUE=DATE:20110625
DTSTAMP:20260423T185435
CREATED:20230215T045608Z
LAST-MODIFIED:20230215T045622Z
UID:839-1308873600-1308959999@namura.cc
SUMMARY:水澤美帆×平本茜子『猫のおはなし』
DESCRIPTION:【女×2=4つのオムニバスストーリー】\n京橋花月劇団「PLAYERS」所属「水澤美帆」と「平本茜子」の２人劇!\n「猫が見る景色」と「人間の日常」が\n４つのオムニバスストーリーで紡がれる \n今春ノンバーバルパフォーマンス「ギア」にて\nヒロインを勤めた「平本茜子」のカムバック公演！ \n猫好き! CCOに集まれ！！ \n『猫のおはなし』\n[脚本] 平本茜子\n[出演] 水澤美帆 平本茜子 \n[日時]2011.6.24(fri) 開場 19:00　開演 19:30\n[会場] SIDE CHAMBER\n[料金] 前売￥1\,500／当日￥1\,700(全席自由席)\n[チケット取扱い]\n・チケットよしもと 0570-041-489(自動応答)／0570-041-356(オペレータ対応)\n・チケットぴあ 【Pコード】413-729\n※チケット予約は先着50名様限定!\n[お問い合わせ]\n・チケットよしもと 0570-036-912(受付時間10:00?18:00) \n平本茜子ブログ\nhttp://h-akaneko.laff.jp/\n水澤美帆ブログ\nhttp://good.laff.jp/blog/
URL:https://namura.cc/event/20110624/
ATTACH;FMTTYPE=image/jpeg:https://namura.cc/wp-content/uploads/2023/02/20110614-avas.jpg
END:VEVENT
BEGIN:VEVENT
DTSTART;VALUE=DATE:20110618
DTEND;VALUE=DATE:20110619
DTSTAMP:20260423T185435
CREATED:20230215T045744Z
LAST-MODIFIED:20230215T045757Z
UID:841-1308355200-1308441599@namura.cc
SUMMARY:ASOBINITE!!! -ASOBISYSTEM×PIF presents-
DESCRIPTION:20:00open \nDOOR 3500yen / ADV 3000yen ※いずれも別途ドリンク代(￥500)が必要となります。 \n■前売プレイガイド：\n・ローソンチケット[L – 58727]：ローソン店内Loppi または　 http://l-tike.com （PC/ 携帯共通）にて発売中（4月29日より発売開始）\n・イープラス：ファミリーマート店内Famiポート または　 http://eplus.jp/xxxxx （PC/ 携帯共通）にて発売中（5月2日より発売開始） \n■SPECIAL GUEST DJ\nTomoyuki Tanaka(FPM) / 中田ヤスタカ(capsule) \nand MORE! MORE! MORE! \n■INFORMATION\n・ASOBISYSTEM\nTEL 03-3470-0140\nhttp://asobisystem.com
URL:https://namura.cc/event/20110618/
ATTACH;FMTTYPE=image/jpeg:https://namura.cc/wp-content/uploads/2023/02/20110430-c9a9ed8b387a4509.jpg
END:VEVENT
BEGIN:VEVENT
DTSTART;VALUE=DATE:20110612
DTEND;VALUE=DATE:20110613
DTSTAMP:20260423T185435
CREATED:20230215T051418Z
LAST-MODIFIED:20230215T051631Z
UID:843-1307836800-1307923199@namura.cc
SUMMARY:1日限りの屋台村
DESCRIPTION:会費　\7\,700\n集まった会費の一部を東北地方太平洋沖地震の復興のための義援金とさせていただきます。 \n・お支払いは現金のみです。各店舗にてご清算ください。\n・チケットを発行致しますので当日まで大切に保管してください。\n・限定300枚です。各店にてお早めにお買い求めください。\n・アルコール提供があるため、お車でのご来場はご遠慮ください。\n・7才以下のお子様は無料です。 \nお問い合せは各店まで\nhttp://www.bistro-hym.com/77/
URL:https://namura.cc/event/20110612/
ATTACH;FMTTYPE=image/jpeg:https://namura.cc/wp-content/uploads/2023/02/20110430-77_2011612.jpg
END:VEVENT
BEGIN:VEVENT
DTSTART;VALUE=DATE:20110605
DTEND;VALUE=DATE:20110606
DTSTAMP:20260423T185435
CREATED:20230215T052242Z
LAST-MODIFIED:20230215T052242Z
UID:845-1307232000-1307318399@namura.cc
SUMMARY:STRAIGHT LIFE 2011-a.publicity stunt.-
DESCRIPTION:15：00-21：00 \n関西最大のTATOO EVENT[STRAIGHT LIFE 2011]開催！！ \nKーStyle Tattooの彫けい氏主催の関西最大級イベント『STRAIGHT LIFE2011』が来る6月11日に開催決定！\n豪華な出演者陣に加え、タトゥー、ライブ、ポールダンスとショーエリアも見ごたえバッチリの予感！ \n主催 K.STYLE TATTOO\n企画 K.STYLE TATTOO、ingPLUS \n前売 \3\,000- ＋ 1ドリンク（\500-）【パンフレット付】\n当日 \3\,500- ＋ 1ドリンク（\500-）【パンフレット付】\n※出演者からもチケットご購入いただけます。 \n【お問い合せ】\nK.STYLE TATTOO 彫けい　090-1145-1780\ningPLUS 平井　　072-866-4353
URL:https://namura.cc/event/20110605/
ATTACH;FMTTYPE=:
END:VEVENT
BEGIN:VEVENT
DTSTART;VALUE=DATE:20110603
DTEND;VALUE=DATE:20110604
DTSTAMP:20260423T185435
CREATED:20230215T052411Z
LAST-MODIFIED:20230215T052425Z
UID:847-1307059200-1307145599@namura.cc
SUMMARY:NWC-FES
DESCRIPTION:【Simian Mobile Disco×DJ *MAAR*（*DEXPISTOLS*）×DJ KYOKO】 \n2011/6/3(金)　21:00-LATE \n■NWC PARTY INFO( http://nwc-fes.blogspot.com/ )\n過去にDigitalism、KITSUNE、CROOERS、STEVE AOKI、MAJOR LAZER、KENTARO、80kidz、DEXPISTOLS…国内外からTOPアーティストを呼び毎回名村造船所跡地という屋内ブース、野外ブースを備えた最高のロケーションで1500人以上動員している関西が誇るイベント NWC-FES!! \n6月3日はゲストにJUSTICE、DIGITALISMらと並んで台頭し、依然高い人気を誇るお馴染みエレクトロ・ダンス・デュオ　Simian Mobile Disco、*DEXPISTOLSからＤＪ　ＭＡＡＲ、*女性DJとして大人気のDJ KYOKOを迎えての開催です!!\nお見逃しなく!! \nグループ割:￥2625(NO DRINK)\n※グループ割なら3枚分の前売りTICKET金額で4名入場できます。\n（前売りチケット販売店、プレイガイドでご購入していただけます。）\nADV:￥3500 (NO DRINK)\nDOOR:￥4000(NO DRINK) \nhttp://iflyer.tv/namura/event/81606
URL:https://namura.cc/event/20110603/
ATTACH;FMTTYPE=:
END:VEVENT
BEGIN:VEVENT
DTSTART;VALUE=DATE:20110527
DTEND;VALUE=DATE:20110528
DTSTAMP:20260423T185435
CREATED:20230215T052601Z
LAST-MODIFIED:20230215T052601Z
UID:849-1306454400-1306540799@namura.cc
SUMMARY:OUTERMIND
DESCRIPTION:2011/5/27(金) CCO(大阪 名村造船所跡地)\nOPEN / START 23:00(終演29:00予定)\n前売￥3\,000(税込 / 別途1ドリンク代￥500) オールスタンディング \n※本公演はオールナイトイベントになりますので20歳未満の方はご入場いただけ\nません。\n※ご入場時にIDチェックを行いますので年齢を証明できるもの(写真付のものに限\nります)をお持ち下さい。\n※オープンスペース(RED FRAME等)以外の各会場には定員が設けられています。\n混雑の状況により入場規制を行う場合がありますので予めご了承下さい。\n※表記は出演順ではありません。タイムテーブルは後日発表します。\n※チケットを営利目的で転売することは法律で禁止されています。 \n■Artists\nthe HIATUS / mouse on the keys / middle9 / 片平実(Getting Better) / 神啓文(Free Throw)\nHARFBY&TEAM SECOND ROYAL / idiot deUx / DJ BIRD / DJ RYUZ / DJ BOKU …and more \n【オフィシャル先行予約】\n受付期間：2011/4/29(金)12:00?5/1(日)18:00\n受付URL： http://eplus.jp/outermind/\n枚数制限：お一人様1申込み最大2枚まで\n1)受付にはe+のプレオーダーシステム(抽選制)を利用します。\n先着順ではございません。\n2)e+会員登録(無料)をお済ませのうえ、期間内にお申込み下さい。 \n■チケット一般発売日\n5/15(日)10:00\nチケットぴあ / ローソンチケット / e+にて \n■total information : ソーゴー大阪 06-6344-3326(平日11:00-19:00) \n■主催/運営:PIF / ソーゴー大阪\n■企画/制作:IRON GEAR RECORDS
URL:https://namura.cc/event/20110527/
ATTACH;FMTTYPE=image/jpeg:https://namura.cc/wp-content/uploads/2023/02/20110502-DownloadedFile.jpeg
END:VEVENT
BEGIN:VEVENT
DTSTART;VALUE=DATE:20110522
DTEND;VALUE=DATE:20110523
DTSTAMP:20260423T185435
CREATED:20230215T052722Z
LAST-MODIFIED:20230215T052734Z
UID:851-1306022400-1306108799@namura.cc
SUMMARY:RED BULL BC ONE JAPAN OSAKA CYPHER
DESCRIPTION:今年の11月にロシアで開催される『RED BULL BC ONE』へ出場をかけた日本予選が遂に開催決定！！\nその名も『RED BULL BC ONE CYPHER』\nTOKYO CYPHERから1名\nOSAKA CYPHERから1名\n合計2名が日本代表として7月30日に台湾で開催されるアジア大会に参加できます。 \n大阪大会 / OSAKA CYPHER\n日程 : 2011年5月22日（日）\n時間 : 12:00 – 18:00\n場所 : Studio Partita（名村造船跡地）\n大阪市住之江区北加賀屋 4-1-55\n※大阪・東京のいずれの大会にも出場可能です。\n※大阪・東京の両大会に出場することも可能です。 \nJUDGES\nKAZUHIRO / ALL AREA\, OGS /　ATSUO / MASTER PEACE ROCKERS /　KJ / BERAMYS\, ICHIGEKI \nDJs\nDJ MAR /　DJ TEE \nRed Bull BC One Japan Cypher
URL:https://namura.cc/event/20110522/
ATTACH;FMTTYPE=image/jpeg:https://namura.cc/wp-content/uploads/2023/02/20110413-bcone_logo_cypher_japan.jpg
END:VEVENT
BEGIN:VEVENT
DTSTART;VALUE=DATE:20110520
DTEND;VALUE=DATE:20110521
DTSTAMP:20260423T185435
CREATED:20230215T052915Z
LAST-MODIFIED:20230215T052915Z
UID:853-1305849600-1305935999@namura.cc
SUMMARY:「絆」Mu-mode Presents.
DESCRIPTION:超豪華海外アーティストの共演！！FERRY CORSTEN、DJ SLATER、autoKratz！！\n日本のアーティストも超豪華！SUGIURUMN、BRYAN BURTON-LEWIS、O-MAN…and more \n◆大阪公演2011年5月20日（金曜日)◆\nstudioPARTITA(名村造船跡地)\n※屋外特設ステージあり \n※両日程ともオールナイト公演　22：00?5：00\n※18歳未満の方のご入場をお断りします \n[ 料金 ]\n大阪前売りチケット￥4\,500/当日￥5\,000 \n[ チケット ]\n前売り先行限定発売 チケットぴあ Pコード[136-504]　発売中 \n前売り先行限定発売　eプラス　発売中 \nローソンチケット 発売中　Lコード　「56880」発売中
URL:https://namura.cc/event/20110520/
ATTACH;FMTTYPE=image/jpeg:https://namura.cc/wp-content/uploads/2023/02/20110427-kizuna0422_front.jpg
END:VEVENT
BEGIN:VEVENT
DTSTART;VALUE=DATE:20110515
DTEND;VALUE=DATE:20110516
DTSTAMP:20260423T185435
CREATED:20230215T053050Z
LAST-MODIFIED:20230215T053102Z
UID:856-1305417600-1305503999@namura.cc
SUMMARY:MilkyHolmes Live Tour 2011 "Secret Garden"
DESCRIPTION:17:30 OPEN \nチケット一般販売は\nチケットぴあ：http://tinyurl.com/3theaq7\nローチケ：http://tinyurl.com/3uk8ump \nhttp://milky-holmes.com/
URL:https://namura.cc/event/20110515/
ATTACH;FMTTYPE=image/jpeg:https://namura.cc/wp-content/uploads/2023/02/20110429-photo.jpg
END:VEVENT
BEGIN:VEVENT
DTSTART;VALUE=DATE:20110513
DTEND;VALUE=DATE:20110514
DTSTAMP:20260423T185435
CREATED:20230215T053225Z
LAST-MODIFIED:20230215T053240Z
UID:858-1305244800-1305331199@namura.cc
SUMMARY:【公演中止】REALTHING ENTERTAINMENT PRESENTS 「DEAD THIS TIME」 ?一騎討ちSOUND CLASH?
DESCRIPTION:REALTHING ENTERTAINMENT PRESENTS\n「DEAD THIS TIME」\n?一騎討ちSOUND CLASH?\n公演中止のご案内
URL:https://namura.cc/event/20110513/
ATTACH;FMTTYPE=image/jpeg:https://namura.cc/wp-content/uploads/2023/02/20110429-5.13kouen-chushi.jpg
END:VEVENT
BEGIN:VEVENT
DTSTART;VALUE=DATE:20110506
DTEND;VALUE=DATE:20110507
DTSTAMP:20260423T185435
CREATED:20230215T053352Z
LAST-MODIFIED:20230215T053403Z
UID:860-1304640000-1304726399@namura.cc
SUMMARY:THE STAR FESTIVAL"GOLDENWEEK SPECIAL"Roni Size Japan Tour 2011 × D-NOX ＆ BECKERS 2nd Album "DISTANCE" Release Japan Tour
DESCRIPTION:2011/5/6(fri)\nTHE STAR FESTIVAL”GOLDENWEEK SPECIAL”\nRoni Size Japan Tour 2011 × D-NOX ＆ BECKERS 2nd Album “DISTANCE” Release Japan Tour\n@名村造船所跡地 \nSTUDIO PARTITA:: \nRONI SIZE(FULL CYCLE / V RECORDINGS)\nDJ KENTARO(NINJA TUNE)\nDJ BAKU(POP GROUP)\nKO-JI ZERO THREE\nDJ TOYO(Blackbeatzbox)\nDJ KENZ1(Blackbeatzbox)\nHIKARI CONNECTION\nMASSIVE(NIGHTLIFE)\nDJ MASASHI&MC AOI \nBLACK CHAMBER: \nRelease Special Live Se:\nD-NOX & BECKERS （ SPROUT : Germany）\nD-NOX ( SPROUT : Germany )\nBECKERS（SPROUT / ELECTRIBE / BAROQUE : Germany）\nKEN ISHII\nKOICHI SATO \nOPEN AIR:presented by Dream Festival Crew\nYOSUKE(HOUSE-STUDIO R) / POOH / idiot deUx / SHIMA aka SHI-MAXX / Yusuke Sakata \nBC 2F:DO UR THING LOUNGE:\nTWOSEVEN CLASH / Tokyo Component \nPebbles:presented by Warm\nHARUTAKA / LIGHT-ONE / MGO / KAZUYA TANAKA(CUE) / Chise / ILL DE CABEZA / NATSUKO / Alice / BigTed / U-SAKU / PPRKRFT / DJ SAYUMI \nFOOD:世界食道 and more!! \n開場　20時?オールナイト　前売：3500円　当日：4000円\nOPEN 20:00 ADV:3500 DOOR:4000\nグループ割引き　12000円（4枚組/1枚￥3000円）\nチケットぴあ　0570-02-9966(P-code:137-266）\nローソンチケット 0570-084-005(L-code:56439)\nCN Playguide 0570-08-9999\ne＋　http://eplus.jp\n★4日間通しチケット:\5\,000　L-code(56423) P-code(782-959)\n告知動画になります。\nhttp://www.youtube.com/watch?v=Ht0p4Zm1Mmw\nWEB SITE:\nhttp://www.thestarfestival.com/
URL:https://namura.cc/event/20110506/
ATTACH;FMTTYPE=image/jpeg:https://namura.cc/wp-content/uploads/2023/02/20110423-02.jpg
END:VEVENT
BEGIN:VEVENT
DTSTART;VALUE=DATE:20110503
DTEND;VALUE=DATE:20110504
DTSTAMP:20260423T185435
CREATED:20230215T054113Z
LAST-MODIFIED:20230215T054113Z
UID:862-1304380800-1304467199@namura.cc
SUMMARY:THE STAR FESTIVAL"GOLDENWEEK SPECIAL"DJ HARVEY×FUNCTION　JAPAN TOUR
DESCRIPTION:2011/5/3(tue)\nDJ HARVEY×FUNCTION　JAPAN TOUR\nTHE STAR FESTIVAL”GOLDENWEEK SPECIAL” \n@名村造船所跡地\nDJ HARVEY (Locussolus\, Sarcastic Disco / LA)\nEYE (BOREDOMS)\nALTZ(FLOWER OF LIFE)\nDNT(POWWOW / FLOWER OF LIFE)\nSUNPAULO（佐藤タイジ＆森俊之）\nCOLO(Betaland)\nLIGHTING:YAMACHANG \n@BLACKCHAMBER presented by TetraLogisticS\nFUNCTION (Sandwell District / Berlin)\nTOMOKI TAMURA(\nKUNIMITSU(TetralogisticS)\nYASUHISA(TetralogisticS)\nFUMI\nPsypnotek Project \nSETSUNA\nZYUACK(TIMOTHY REALLY / SELF SERVICE)\nMASANORI MIKAMI(SLEAZE)\nKIUCHI(URBAN RESEARCH/Outerspace Kobe)\nRyoYoshida \nFOOD:世界食道　and more!! \nOPEN 20:00　ADV:\3\,500　DOOR:\4\,000　グループ割チケット:\12\,000(4名様)　4日間通しチケット:\5\,000\nローソンチケット L-code(53428) / チケットぴあ P-code(135-633) / e+ / CN playguide\n★4日間通しチケット:\5\,000　L-code(56423) P-code(782-959) \n告知動画になります。\nhttp://www.youtube.com/watch?v=Ht0p4Zm1Mmw \n2011年GW、生ける伝説「DJ HARVEY」をヘッドライナーに迎えて、名村造船所にて西日本最大のダンスフェスが開催決定!!\nBlackchamberには相対するテクノ界における真のアンダーグラウンド・ヒーロー、ファンクションが登場する！ \nWEB SITE:http://www.thestarfestival.com/
URL:https://namura.cc/event/20110503/
ATTACH;FMTTYPE=image/jpeg:https://namura.cc/wp-content/uploads/2023/02/20110423-HARVEY11_JP_flyer_front.jpg
END:VEVENT
BEGIN:VEVENT
DTSTART;VALUE=DATE:20110502
DTEND;VALUE=DATE:20110503
DTSTAMP:20260423T185435
CREATED:20230215T054306Z
LAST-MODIFIED:20230215T054318Z
UID:873-1304294400-1304380799@namura.cc
SUMMARY:THE STAR FESTIVAL"GOLDENWEEK SPECIAL"NEW SENTIMENT×SpaceGathering 2011
DESCRIPTION:THE STAR FESTIVAL”GOLDENWEEK SPECIAL” \nSpaceGathering 2011　@ BlackChamber 名村造船所跡地 \nLive:Seiichiro Tanaka(Hypnodisk)\nDjs:Boris Brejcha （Harthouse/Autist-Records from Germany)\nREE.K(Hypnodisk\,Spacegathering) / MASA(Hypnodisk\,Spacegathering)\nHiDe(Deepulse)\nVJ:TON2\nSpace Lounge Floor:\nLive:Piper at Dawn（THE AGE OF LOVE）\nDjs:Lobo（Deepulse/net.） / saki（THE AGE OF LOVE） and more\nmoreinfo:\nhttp://thestarfestival.com\nhttp://www.spacegathering.net \nNEW SENTIMENT　@STUDIO PARTITA \nRAJA RAM(TIP.WORLD/from UK) / DJ LUCAS(TIP.WORLD/from UK)\nM.MINAMI(NEW SENTIMENT) / MONASHEE(NEW SENTIMENT)\nCRAZY-Z / kohsuke / MAYO / 大倉ノブヤス\nLAZER WORKS:PsypnoTeK Project \n@OPEN AIR\nRyoma / MOTOSHI / TKBoo!! / NATs / RANSON / HOCK / 1TO / shohei / STINKY RAT \nFOOD:世界食道 and more!! \nOPEN 20:00　ADV:\3\,500　DOOR:\4\,000　グループ割チケット:\12\,000(4名様)　４日間通しチケット:\5\,000\nローソンチケット L-code(56430) / チケットぴあ P-code(137-269) / e+ / CN playguide\n★4日間通しチケット:\5\,000　L-code(56423) P-code(782-959)\n告知動画になります。\nhttp://www.youtube.com/watch?v=Ht0p4Zm1Mmw \nREE.Kが主催するSpacegatheringの大阪公演がBoris Brejchaの来日を加えブラックチャンバーにて、そしてDJ界のスーパースターであり、マルチアーティスト７０歳を超えてその勢いはとどまることを知らないRAJARAMの待望の再来日が名村造船所跡地全域にて公演決定!! \nWEB SITE:http://www.thestarfestival.com/
URL:https://namura.cc/event/20110502/
ATTACH;FMTTYPE=image/jpeg:https://namura.cc/wp-content/uploads/2023/02/20110409-110502_starfes_gwsp_o.jpg
END:VEVENT
BEGIN:VEVENT
DTSTART;VALUE=DATE:20110430
DTEND;VALUE=DATE:20110501
DTSTAMP:20260423T185435
CREATED:20230215T054427Z
LAST-MODIFIED:20230215T054440Z
UID:875-1304121600-1304207999@namura.cc
SUMMARY:DJ NOBU "ON" RELEASE TOUR
DESCRIPTION:2011/04/30(sat)DJ NOBU “ON” RELEASE TOUR\nEXCLUSIVE OPEN TO LAST LONG SET! \nOPEN 22:00 DOOR:2000\n送迎シャトルバスが心斎橋大丸前から21:30より随時運行! \nDJ: DJ NOBU (FUTURE TERROR / DAZZ Y DJ NOBU)\nLIGHTING：YAMACHANG (FLOWER OF LIFE/POW WOW/from OSAKA)\nroom2:MIZUKAWA / KATO / and mor!!
URL:https://namura.cc/event/20110430/
ATTACH;FMTTYPE=image/jpeg:https://namura.cc/wp-content/uploads/2023/02/20110406-on1.jpg
END:VEVENT
BEGIN:VEVENT
DTSTART;VALUE=DATE:20110429
DTEND;VALUE=DATE:20110430
DTSTAMP:20260423T185435
CREATED:20230215T054549Z
LAST-MODIFIED:20230215T054602Z
UID:877-1304035200-1304121599@namura.cc
SUMMARY:【公演内容変更】NIGHTWALKER&CO FESTIVAL 2011
DESCRIPTION:【公演内容変更】NIGHTWALKER&CO FESTIVAL 2011\n-AFTER 5 VOL.1 Release Party-\n@STUDIO PARTITA & RED FRAME \n◆日時\n2011/4/29(fri)\nＯＰＥＮ　19:00／ＳＴＡＲＴ　19:00　　?　Mid night \n◆チケット\n前売り　￥３，５００\n当日券　￥４，０００\nグループ割:\10\,500(4枚セット/1枚\2\,625)※グループ割なら3枚分の前売料金で4名入場できます。 \n※１８歳未満入場不可（ＩＤチェック有り。身分を証明できるものをお持ちください）\n※入場時に1ドリンク別途￥５００必要となります。 \nチケット発売日2011年4月13日（水） \nhttp://iflyer.tv/namura/event/75847 \n◆アーティスト\n☆Taku Takahashi(m-flo\,TCY Recordings)\nTHE LOWBROWS(LINDATUNE)\nTAKU-HERO(KILL THE HERO/NWC)\nKO-MATSUSHIMA\nMAMORU(onzeheures+DOG KYOTO/NWC)\nJAXX DA FISHWORKS\nand MORE…
URL:https://namura.cc/event/20110429/
ATTACH;FMTTYPE=image/jpeg:https://namura.cc/wp-content/uploads/2023/02/20110407-4.29-info-2.jpg
END:VEVENT
BEGIN:VEVENT
DTSTART;VALUE=DATE:20110423
DTEND;VALUE=DATE:20110424
DTSTAMP:20260423T185435
CREATED:20230215T054740Z
LAST-MODIFIED:20230215T054740Z
UID:879-1303516800-1303603199@namura.cc
SUMMARY:クリエイティブセンター大阪　ミニ見学ツアー
DESCRIPTION:クリエイティブセンター大阪　ミニ見学ツアー \n3月29日に「朝日新聞」に掲載されたクリエイティブセンター大阪のミニ見学ツアーを開催いたします。\nどうぞお気軽にご参加ください。 \n■日時　2011年4月23日（土）　15:00\nクリエイティブセンター大阪　入口警備員室前集合\n※ツアー時間は45分程度を予定しております。（途中退場可） \n■内容\n名村造船跡地内の見学 \n■参加方法\n予約不要・現地集合／参加費は無料です。 \n■お問合せ\n06-4702-7085（クリエイティブセンター大阪） \n同日、クリエイティブセンター大阪から徒歩5分のところにあるAIR大阪にて、チャリティーカフェ in　AIR大阪が開催されております。\nこちらも併せて、お越しください。\n※14:00\,17:00にAIR大阪施設内のご案内をいたします。見学可。
URL:https://namura.cc/event/20110423/
ATTACH;FMTTYPE=image/jpeg:https://namura.cc/wp-content/uploads/2022/12/b0f3769176eeffbd5abb90e91461dc87-e1677758490252.jpg
END:VEVENT
BEGIN:VEVENT
DTSTART;VALUE=DATE:20110409
DTEND;VALUE=DATE:20110410
DTSTAMP:20260423T185435
CREATED:20230215T054851Z
LAST-MODIFIED:20230215T054903Z
UID:882-1302307200-1302393599@namura.cc
SUMMARY:STONES THROW LOVES JAPAN! TOUR 2011 in OSAKA
DESCRIPTION:STONES THROW LOVES JAPAN! TOUR 2011 in OSAKA\nfeat. PEANUT BUTTER WOLF\, J.ROCC & MAYER HAWTHORNE \n2011.4.9 (SAT) at 名村造船所跡地 STUDIO PARTITA & Red Frame \nPeanut Butter Wolf-Exclusive Live Video-DJ set-\nJ.ROCC (Beat Junkies)-”Some Cold Rock Stuf”Album Release Special DJ set-\nMayer Hawthorne-An Exclusive DJ set- \nDJ IKKEI / DJ A-KILLER / DJ QUESTA / DJ FLIP\nDJ TSUGU / DJ TAIZO / DJ MASH / DJ YASUSHI / DJ拓音 / DJ BONGFUNK / DJ MONTY\nDancer: sucreamgoodman & HEXBEX \nOPEN 21:00\nADV:3000 DOOR:3500(別途１D) \nローソンチケット　0570-084-005 Ｌコード(52980)\nチケットぴあ　0570-02-9966 P-CODE(131-781)\ne＋ http://eplus.jp\nCN playguide 0570-08-9999 \nWe love Japan!\nMessage from Stones Throw to Japan\,\nand an update on the Stones Throw Japan Tour \nこの度の東北太平洋沖地震によりによりお亡くなりになった方々のご冥福と被災地の方々ならびにそのご家族に対して、心からお見舞いを申し上げます。\nStones Throwが音楽レーベルとして設立された1996年より、私たちが素晴らしいと信じてリリースしてきた音楽作品に対しての日本の方々からの力強いサポートは、常に感謝の気持ちでいっぱいであります。現在日本の皆様が直面している困難な状況に対して、世界中からのサポートにより一日も早い復興が行われるよう、心よりお祈り申し上げます。今回の興行によるStones Throwへの利益は全てを日本赤十字社を通じて被災された方々への義援金とさせて頂きます。ツアー各開催地のファンの方々のリクエストとアーティスト達自身の「日本の為に何か行動をしたい」という強い気持ちによる決断。日本の方々には困難を乗り越えられる前向きで強い意思を持って頂く為、STONES THROWとSTUSSYは全力でサポートさせて頂きますので皆様のご協力を宜しくお願い致します。 \nSTONES THROWアーティスト、スタッフ一同\nhttp://www.stonesthrow.com/news/2011/03/we-love-japan \n会場も急遽変更となりましたがより大きな規模へ、よりよい公演へと向かってますので期待してお待ちください。\n乗車無料の送迎シャトルバスも心斎橋-会場間で運行されます。皆様の来場を心よりお待ちしてます。 \nSTONES THROW JAPAN TOUR 2011大阪公演関係者一同
URL:https://namura.cc/event/20110409/
ATTACH;FMTTYPE=image/jpeg:https://namura.cc/wp-content/uploads/2023/02/20110405-4.9-Stones-Throw-Namura-Osaka-Ura.jpg
END:VEVENT
BEGIN:VEVENT
DTSTART;VALUE=DATE:20110401
DTEND;VALUE=DATE:20110402
DTSTAMP:20260423T185435
CREATED:20230215T054959Z
LAST-MODIFIED:20230215T054959Z
UID:884-1301616000-1301702399@namura.cc
SUMMARY:ZETTAI-MU"springup" 2011@名村造船所跡地
DESCRIPTION:2011/4/1(fri) 20:00-LATE\n* SonarSoundTokyoの日程短縮より4/1開催に変更になりました。 \n会場：CCO（STUDIO PARTITA&BLACK CHAMBER&RED FLAME ARENA&WHITE CHAMBER） \n第２段ラインナップ： \nBattles(Warp Records UK)\nFlying Lotus(Warp Records/Brainfeeder LA)\nModeselektor(Monkeytown Records\,DE) *New!!\n*toe(JP)*New!!\n*Dry&Heavy(JP) *New!!\n*Kode9(Hyperdub UK)\nO.N.O(THA BLUE HERB JP)\nMichita(Ill Dance Music\,JP) *New!!\n*And more…..
URL:https://namura.cc/event/zettai-muspringup-2011%e5%90%8d%e6%9d%91%e9%80%a0%e8%88%b9%e6%89%80%e8%b7%a1%e5%9c%b0/
ATTACH;FMTTYPE=image/jpeg:https://namura.cc/wp-content/uploads/2023/02/20110309-2dn_lineup_new.jpg
END:VEVENT
END:VCALENDAR