BEGIN:VCALENDAR
VERSION:2.0
PRODID:-//クリエイティブセンター大阪（CCO） - ECPv6.2.1//NONSGML v1.0//EN
CALSCALE:GREGORIAN
METHOD:PUBLISH
X-ORIGINAL-URL:https://namura.cc
X-WR-CALDESC:クリエイティブセンター大阪（CCO） のイベント
REFRESH-INTERVAL;VALUE=DURATION:PT1H
X-Robots-Tag:noindex
X-PUBLISHED-TTL:PT1H
BEGIN:VTIMEZONE
TZID:Asia/Tokyo
BEGIN:STANDARD
TZOFFSETFROM:+0900
TZOFFSETTO:+0900
TZNAME:JST
DTSTART:20090101T000000
END:STANDARD
END:VTIMEZONE
BEGIN:VEVENT
DTSTART;VALUE=DATE:20100411
DTEND;VALUE=DATE:20100412
DTSTAMP:20260423T143751
CREATED:20230215T073600Z
LAST-MODIFIED:20230215T073600Z
UID:1012-1270944000-1271030399@namura.cc
SUMMARY:コスメル@造船跡地
DESCRIPTION:COSMODE取材決定！！\n屋内１Ｆ-４Ｆ全て開放！　雨でも問題なし！ \n■4月11日(日）　　11：00?16：00 \n【入場料】　コスプレ参加　1\,500円　一般・撮影参加　2\,000円 \n★イベント詳細情報 \n【お問合せ】コスメル。
URL:https://namura.cc/event/%e3%82%b3%e3%82%b9%e3%83%a1%e3%83%ab%e9%80%a0%e8%88%b9%e8%b7%a1%e5%9c%b0/
ATTACH;FMTTYPE=:
END:VEVENT
BEGIN:VEVENT
DTSTART;VALUE=DATE:20100410
DTEND;VALUE=DATE:20100411
DTSTAMP:20260423T143751
CREATED:20230215T073719Z
LAST-MODIFIED:20230215T073730Z
UID:1015-1270857600-1270943999@namura.cc
SUMMARY:RIDDIM ISLANDリリースパーティー
DESCRIPTION:■開催日：4月10日（土）\n■OPEN：22:00-CLOSE：5:00\n■チケット：前売り ￥2\,500　当日 ￥3\,000\n【ARTIST】\nJUMBO MAATCH\nTAKAFIN\nBOXER KID\nKENTY GROSS\nCHEHON\nVADER\nARM STRONG\nBIG BEAR\nDOMINO KAT\nAKANE\nJAHVANEEZE\nRUEED\nSTEREON\n強\nHISATOMI\nMISON-B\nTAK-Z\nHI-BREAD\nZOVEKING\nPEQUU \n【SOUND】\nRODEM CYCLONE\nKING JAM\nBREAK JAM\nOUT TEMPO \n【SOUND SYSTEM】BLAZING DOG \n(前売り先行発売情報)\n前売りチケットは以下の各ショップで3月1日より先行発売開始！！\nROCKERS ISLAND：06-6537-6233\nDISSIDENT：06-6212-5531\nFIVE STAR：06-6538-9001\nOVERPREAD：06-6543-5677\nOVERPREAD UNLIMITED：06-6532-2677\nTRICK STAR：06-6245-2800\nFROG STORE：06-6251-0012\n420 RECORDZ：06-6243-4200 \n（ローソンチケット情報）3月6日より一般発売開始！\nTEL：0570-000-777\nLコード：52208\nWEB：ローチケ.com( http://l-tike.com )\n☆★☆★☆★☆★☆★☆★☆★☆★☆★☆★☆★☆★☆★☆★☆★☆★\nROCKERS ISLAND大阪\n〒550-0014\n大阪府大阪市西区北堀江1-2-17四ツ橋川崎ビル東側1F\nTEL:06-6537-6233\nFAX:06-6212-7380
URL:https://namura.cc/event/20100410/
ATTACH;FMTTYPE=:
END:VEVENT
BEGIN:VEVENT
DTSTART;VALUE=DATE:20100404
DTEND;VALUE=DATE:20100405
DTSTAMP:20260423T143751
CREATED:20230215T073823Z
LAST-MODIFIED:20230215T073834Z
UID:1018-1270339200-1270425599@namura.cc
SUMMARY:COSJOY大阪in造船跡地
DESCRIPTION:COSJOY初の廃墟系イベント開催決定！1F?4Fまで当イベント貸し切り！！ \n2010年4月4日（日）\n11：00-16：00(コスプレ可能時間) \n【入場料】　1500円 （フリードリンク + お菓子付）\n※写真撮影のみの方も同額です \n★イベント詳細情報 \n【問合せ】COSJOY
URL:https://namura.cc/event/20100404/
ATTACH;FMTTYPE=:
END:VEVENT
BEGIN:VEVENT
DTSTART;VALUE=DATE:20100403
DTEND;VALUE=DATE:20100404
DTSTAMP:20260423T143751
CREATED:20230215T074026Z
LAST-MODIFIED:20230215T074026Z
UID:1020-1270252800-1270339199@namura.cc
SUMMARY:UltraPumpin
DESCRIPTION:blackchamber 19:00 start\nPARTITA 21:00 start \nADV:\3500(NO DRINK)\nグループ割:\2625(NO DRINK)\n※グループ割なら3枚分の前売りTICKET金額で4名入場できます。\nDOOR:\4000(NO DRINK) \nUltraPumpin DJs: \nYOJI (HELLHOUSE RECORDINGS）\nREMO-CON(HELLHOUSE RECORDINGS）\nM.MINAMI\nKOICHI SATO\nO-MAN aka DJ BeYonD\nTOMMY\nMONASHEE \nVJ＆LASER:\nPsypnoTek Project \nStage 2: Night Walker x Co-Stage [Start: 19:00] \nDex Pistols\nUsus (Rip Slyme)\nMademdiselle Yulia\nDJ Kyoko\nSex \nGuest Live:\nDamage(3am Set) \nNight Walker x Co Allstars\nTaku-Hero\nFu-Tsuka\nAnabolicateroid\nDonouri \n■プレイガイド(グループ割チケットも購入可能です。)\nLOWSON TICKET:( http://l-tike.com/ )0570-084-005(L-code:59906)\nイ-プラス:( http://eplus.jp )\n※NIGHTWALKERで検索 \n前売りチケット取り扱いSHOP\n■大阪エリア\nTRIANGLE　06-6212-2264\nDog　06-6538-8766\ndix heures　06-6532-2413\nPROTY 06-6359-8884\nHair&Make Chikashitsu 06-6718-4379 \n■京都エリア\nonze heures　075−211−6379 \nNIGHTWALKER×CO-STAGE(BLACKCHAMBER) \nNIGHTWALKER×CO-の詳しい詳細はこちら↓\nhttp://www.iflyer.jp/event/54333 \nGUEST DJs: \nDEXPISTOLS\nUSUS(RIPSLYME) \nMADEMOISELLE YULIA\nDJ KYOKO\nSEX\nand MORE… \nGUEST LIVE:\nDAMAGE (3AM SET)\nand MORE…. \nNIGHTWALKER×CO-DJs:\nTAKU-HERO\nFU-TSUKA\nAnabolicsteroid\nDONGURI\nand MORE…. \n■プレイガイド\nLOWSON TICKET:( http://l-tike.com/ )0570-084-005(L-code:59906)\nイ-プラス:( http://eplus.jp ) \n前売りチケット取り扱いSHOP\n■大阪エリア\nDog　06-6538-8766\nTRIANGLE　06-6212-2264\ndix heures　06-6532-2413\nHair&Make Chikashitsu 06-6718-4379 \n■京都エリア\nonze heures　075−211−6379\nDog KYOTO　075-212-5212 \n■NIGTWALKER×CO- Twitter\nhttp://twitter.com/NightWalker_Co\n↑↑↑↑↑↑↑↑↑↑↑↑↑↑↑↑↑↑\n!!!!FOLLOW ME!!!! \n■MIXIコミュニティー\nNIGTWALKER( http://mixi.jp/view_community.pl?id=3352931 )\nCO-( http://mixi.jp/view_community.pl?id=2479740 )\nNIGHTWALKER×CO-FESTIVAL( http://mixi.jp/view_community.pl?id=4666192 )
URL:https://namura.cc/event/20100403/
ATTACH;FMTTYPE=image/jpeg:https://namura.cc/wp-content/uploads/2023/02/20100316-pumpiom.jpg
END:VEVENT
BEGIN:VEVENT
DTSTART;VALUE=DATE:20100328
DTEND;VALUE=DATE:20100329
DTSTAMP:20260423T143751
CREATED:20230215T074119Z
LAST-MODIFIED:20230215T074130Z
UID:1023-1269734400-1269820799@namura.cc
SUMMARY:格闘技「制覇」
DESCRIPTION:open 14:00\nstart 15:00 \nhttp://cmizer.com/movie/89461\nhttp://ameblo.jp/xxseihaxx/entry-10487428947.html
URL:https://namura.cc/event/20100328/
ATTACH;FMTTYPE=image/jpeg:https://namura.cc/wp-content/uploads/2023/02/20100327-o0350050010460427009.jpg
END:VEVENT
BEGIN:VEVENT
DTSTART;VALUE=DATE:20100326
DTEND;VALUE=DATE:20100327
DTSTAMP:20260423T143751
CREATED:20230215T074239Z
LAST-MODIFIED:20230215T074239Z
UID:1025-1269561600-1269647999@namura.cc
SUMMARY:ASOBINITE capsule RELEASE PARTY"PLAYER"
DESCRIPTION:2010年3月26日（金）\nOPEN: 21:00 \nDOOR：4\,000円\nADV：3\,500円\n※18歳未満入場禁止 \n心斎橋大丸前—会場間を\n22時から5時までピストンバス運行
URL:https://namura.cc/event/asobinite-capsule-release-partyplayer/
ATTACH;FMTTYPE=image/jpeg:https://namura.cc/wp-content/uploads/2023/02/20100309-1003ASOBINITE.jpg
END:VEVENT
BEGIN:VEVENT
DTSTART;VALUE=DATE:20100321
DTEND;VALUE=DATE:20100322
DTSTAMP:20260423T143751
CREATED:20230215T074509Z
LAST-MODIFIED:20230215T074509Z
UID:1029-1269129600-1269215999@namura.cc
SUMMARY:プロレスリング紫焔『旗揚げ興業』
DESCRIPTION:2010年3月21日（日） \n詳細が決まり次第、更新いたします。\nご期待下さい！ \n■主催\nプロレスリング紫焔\nWEB\nhttp://www.shi-en.com/ \nチケットお問い合わせ\nticket@shi-en.com
URL:https://namura.cc/event/%e3%83%97%e3%83%ad%e3%83%ac%e3%82%b9%e3%83%aa%e3%83%b3%e3%82%b0%e7%b4%ab%e7%84%94%e3%80%8e%e6%97%97%e6%8f%9a%e3%81%92%e8%88%88%e6%a5%ad%e3%80%8f/
ATTACH;FMTTYPE=:
END:VEVENT
BEGIN:VEVENT
DTSTART;VALUE=DATE:20100321
DTEND;VALUE=DATE:20100322
DTSTAMP:20260423T143751
CREATED:20230215T074402Z
LAST-MODIFIED:20230215T074413Z
UID:1027-1269129600-1269215999@namura.cc
SUMMARY:チーム いち『'10 Fashion Show』
DESCRIPTION:2010年3月21日（日）\n1st　15:00 ／ 2nd　17:00 \n【前売・当日】1\,000円\n「あなたの夢は何デスカ？」 \n一つの物語を5つの章に分け、7人のクリエイターたちによって繰り広げられるFashion Show \n■チケット取扱・問合せ\nはるよ\npinkusaida@yahoo.co.jp\nご希望のチケット枚数・お名前・連絡先を上記アドレスまでご連絡下さい
URL:https://namura.cc/event/20100321/
ATTACH;FMTTYPE=:
END:VEVENT
BEGIN:VEVENT
DTSTART;VALUE=DATE:20100320
DTEND;VALUE=DATE:20100323
DTSTAMP:20260423T143751
CREATED:20230215T074638Z
LAST-MODIFIED:20230215T074649Z
UID:1032-1269043200-1269302399@namura.cc
SUMMARY:崖淵五次元 『ラジオドッグ超☆絶☆版』
DESCRIPTION:2010年\n3月20日（土）19:00\n3月21日（日）13:00 ／ 18:00\n3月22日（月）13:00 ／ 17:00 \n【前売】2\,000円\n【当日】2\,200円\n★同一日時の公演に3名以上のグループでご予約いただくと、前売料金から200円オフ！！ ■脚本\nオカモト國ヒコ \n■演出\n岩橋功 \n■出演\n池内明美　南カツオ（劇団　蒼創戯曲）　岩橋功　よしひろ　谷口敏也　井上奈穂（甲南一座）　飯田智恵（劇団　斬音）　藤田守尊　芥松之介　他 \n■チケット取扱\n崖淵五次元\nMAIL girigoji@takoru.sakura.ne.jp\nご希望の日時・お名前・連絡先を上記アドレスまでご連絡下さい \n■問合せ\n崖淵五次元\nWEB http://girigoji.jugem.jp/
URL:https://namura.cc/event/20100320/
ATTACH;FMTTYPE=:
END:VEVENT
BEGIN:VEVENT
DTSTART;VALUE=DATE:20100306
DTEND;VALUE=DATE:20100307
DTSTAMP:20260423T143751
CREATED:20230215T074759Z
LAST-MODIFIED:20230215T074811Z
UID:1035-1267833600-1267919999@namura.cc
SUMMARY:BLAZING DOG ENTERTAINMENT prezents VINTAGE TIME vol.2
DESCRIPTION:2010/3/6(sat)\nOPEN/START 22:00?TILL MORNING \n前売り　\3\,000\n当日券　\3\,500\n（入場時ドリンク代別途\500必要） \n※18歳未満入場不可（IDチェック有。身分を証明できるものをお持ち下さい。）\nSPECIAL GUEST;\nINNER CIRCLE \nGUEST SOUND:\nBARRIER FREE\nSENSATION \n[SOUND SYSTEM] BLAZING DOG \nTicket PIA 0570-02-9999 (P-CODE:349-546)\nLOWSON ticket 0570-084-005 (L-CODE:56121)\nCN playguide 0570-08-9999\ne+ http://eplus.jp \n主催　BLAZING DOG ENTERTAINMENT\n制作　BACK YARD PROMOTION
URL:https://namura.cc/event/20100306/
ATTACH;FMTTYPE=:
END:VEVENT
BEGIN:VEVENT
DTSTART;VALUE=DATE:20100305
DTEND;VALUE=DATE:20100308
DTSTAMP:20260423T143751
CREATED:20230215T075105Z
LAST-MODIFIED:20230215T075116Z
UID:1040-1267747200-1268006399@namura.cc
SUMMARY:THEATER COMPLEX公演：_BIRTHDAYCAKE_ 『歯車のアルカ-wandering in mechanism-[改訂版]』
DESCRIPTION:2010年\n3月5日（金）19:00\n3月6日（土）13:00 / 18:00\n3月7日（日）14:00 / 18:00 \n前売　2800円\n当日　3300円\n会場　BLACK CHAMBER \nhttp://www.artcomplex.net/ccocomp/ \nCreative Center Osaka 「BLACKCHAMBER_劇団構想」内の企画として2009年11月に旗揚げ。\n500名動員を達成しなければ解散という試練をクリアし、晴れて今回同作品を再演できることとなりました。特別な日の特別なプレゼントのように、幸福を感じられる作品を生み出して行きたいと思います。今回はもう一つのアルカの物語。 \n■作・演出・振付　窪木亨\n■キャスト　月野碧　広川文　吉井葵　青木道弘（ザビエル）　穴吹良太　泉希衣子　崎本実弥　島田さやか　末長香織　DAMA　辻井一朗　林寛子　保坂雄大　吉識優（プラチカ）　よしひろ　他\n■美術　mymonky\n■照明　中澤英一（ARTCOMPLEX）　公文名創\n■音響　ポテト（Ｓ）\n■楽曲　森崇博(PROVOKE)　他\n■映像　窪木亨　工藤義人\n■衣装　いずみえりこ\n■メイク　福田桃子\n■宣伝美術　北村美沙子\n■制作　辻口裕介　BLACKCHAMBER_劇団構想 \n■チケット取扱\nTheater Complex（TEL\,WEB SITE）\n予約フォーム \n■劇団問合せ\nBLACK CHAMBER 劇団構想　_BIRTHDAYCAKE_\nTEL 06-4702-7085（CCO内）\nMAIL cco@namura.cc\nWEB http://www.artcomplex.net/ccocomp
URL:https://namura.cc/event/20100305-2/
ATTACH;FMTTYPE=image/jpeg:https://namura.cc/wp-content/uploads/2023/02/20091215-_BIRTHDAYCAKE_.jpg
END:VEVENT
BEGIN:VEVENT
DTSTART;VALUE=DATE:20100305
DTEND;VALUE=DATE:20100308
DTSTAMP:20260423T143751
CREATED:20230215T074946Z
LAST-MODIFIED:20230215T074958Z
UID:1038-1267747200-1268006399@namura.cc
SUMMARY:THEATER COMPLEX公演：Plant Seeds Project 『源八橋西詰　-I’M STANDING AT THE CROSSROADS AGAIN-』
DESCRIPTION:2010年\n3月5日（金）20:00\n3月6日（土）15:00 / 19:00\n3月7日（日）13:00 / 17:00 \n前売　1800円\n当日　2000円\n会場　SIDE CHAMBER 名古屋の土壌に種をまき、芽を出し、花を咲かせ、ちっちゃな綿毛を皆さまの心にお届けしようと立ち上げた名古屋演劇種まき企画Plant Seeds Project。\n固定のメンバーを決めず公演ごとに生まれるチームは極彩色の花を咲かせ、新しい種を飛ばします！\nいつかあなたが心に花を咲かせるための力になりますように… \n■作　後藤ひろひと（吉本興業、Piper）\n■演出　若月咲弥（（株）ルート）\n■出演　とおやま優子（Plant Seeds Project）　他\n■音楽　遠山正樹\n■制作　MIYA　柴栄佳美　Plant Seeds Project \n■チケット取扱い\nTheater Complex（TEL\,WEB SITE）\n予約フォーム \n■劇団問合せ\nPlant Seeds Project\nTEL 090-1747-8921\nMAIL plantseedsproject@yahoo.co.jp\nWEB http://yaplog.jp/psp-nagoya/
URL:https://namura.cc/event/20100305/
ATTACH;FMTTYPE=image/jpeg:https://namura.cc/wp-content/uploads/2023/02/20091216-20100305PlantSeedProject.jpg
END:VEVENT
BEGIN:VEVENT
DTSTART;VALUE=DATE:20100225
DTEND;VALUE=DATE:20100301
DTSTAMP:20260423T143751
CREATED:20230215T080228Z
LAST-MODIFIED:20230215T080228Z
UID:1044-1267056000-1267401599@namura.cc
SUMMARY:THEATER COMPLEX公演 劇団Lowo=Tar=Voga 『SILVER 30』
DESCRIPTION:2010年\n2月25日（木）19:00\n2月26日（金）19:00\n2月27日（土）15:00 / 19:00\n2月28日（日）13:00 / 17:00 \n前売　3000円\n当日　3200円\n学生　2000円\n会場　BLACK CHAMBER \nLowo=Tar=Voga　HP\nhttp://www.lowotarvoga.net/ \n1997 年、草壁カゲロヲと近藤和見が結成した劇団。旗揚げからしばらく野外劇を志向していたが緩やかに、2001年より演劇・ムーブメント・音楽・美術など、表 現のカテゴリーを意識しない活動へ変遷する。また、文学や詩、美学の領域からテーマを採集・再構築する手法で、オリジナリティの高いテーマを発見してい る。神社・ギャラリー・ライブハウス・カフェ・教会・劇場など、さまざまな場所で公演をおこなっている。劇団名『カゲロヲ派たる僕ら』の略語が由来。 \n■作・演出・音楽　近藤 和見\n■原作モチーフ　「駆込み訴え」太宰 治 \n■キャスト　草壁 カゲロヲ\n草壁 カゲロヲ\nハ・スジョン\n赤井 正宏（project ENJIN）\n足立 昌弥（黒テント）\nゆかわ たかし（昭和芸能舎）\n岩橋 功（ギリゴジ）\n松嵜 佑一\n横山 直樹\nふくだ まさと\n袋坂 ヤスオ \n■スタッフ\n演奏・音楽： 波多野 敦子（triola）\n振付： 日置 あつし（SUGAR＆salts）\n美術プラン： 水波 流（ART COMPLEX）\n舞台監督・美術プラン： 蘇立 盛\n舞台監督補： 平井 陽\n照明： 高円 敦美\n照明操作： 真田 貴吉\n音響： 粕谷 茂一（Slim Chance Audio）\n音響補： 末松 めぐみ\n映像： 吉光 清隆\n音効： 椎名 晃嗣（劇団飛び道具）\n脚本補： 天野 嬰\nレコーディングエンジニア： 甲田 徹\n衣裳： 石野 良子\n衣裳補： 樹下 由紀\nメイク： 福田 桃子\n記録映像： 柴田 友美\n記録写真： 中村 文博\n宣伝美術： 荒木 康代\n美術スタッフ： 池田 精堂・金川 英里香・古賀 睦・西山 寛\n制作スタッフ：井田 将史・イル・江草 祥子・奥村 麻希子\nカオリモコン・菊池 有里子・猿丸 ヨウコ\n中野 麻衣子・平本 知枝美\n協力：伊藤 豊・大久保 朝憲・木村 真束・鮫島 サトシ\n寺本 秀成（atsu）・中川 絵美・橋本 一弘\n協賛： セイコーエプソン株式会社\n制作チーフ： 星川 ユリコ\n著作・制作： Lowo=Tar=Voga \n■チケット取扱\nTheater Complex（TEL\,WEB SITE）\n予約フォーム \n■劇団問合せ\nOFFICE VOGA\nmail：info@lowotarvoga.net \n◎web\n劇団公式web http://www.lowotarvoga.net/\n草壁カゲロヲblog http://note.lowotarvoga.net/\n近藤和見blog http://blog.lowotarvoga.net/
URL:https://namura.cc/event/20100225-2/
ATTACH;FMTTYPE=image/jpeg:https://namura.cc/wp-content/uploads/2023/02/20100107-silver30-omo-fin.jpg
END:VEVENT
BEGIN:VEVENT
DTSTART;VALUE=DATE:20100225
DTEND;VALUE=DATE:20100301
DTSTAMP:20260423T143751
CREATED:20230215T075550Z
LAST-MODIFIED:20230215T075606Z
UID:1042-1267056000-1267401599@namura.cc
SUMMARY:THEATER COMPLEX公演：明朗会計 『胡蝶』
DESCRIPTION:2010年\n2月25日（木）19:00\n2月26日（金）19:00\n2月27日（土）13:00 / 18:00\n2月28日（日）14:00 / 18:00 \n前売　1500円\n当日　2000円\n会場　SIDE CHAMBER 2004年4月1日に設立\n現代社会がどんどんややこしく、そして不可解になっていく中で「分かりやすい芝居」がやりたいという動機の元、有志が集まり結成しました。\n現在は現代劇・時代劇・朗読劇を三本の柱として公演を行っています。\n観に来ていただいたお客様に何かをお持ち帰りいただければ幸いです。 \n■作・演出　YASU\n■出演者　大和田智子　小林良子　菊池航　藤田穣　永督朗　西岡和哉　萩原有見　高橋英子　いぶき(楽処がむしゃら)　橋本源氏　他\n■照明　岸本真貴子 \n■チケット取扱\nTheater Complex（TEL\,WEB SITE）\n予約フォーム \n■劇団問合せ\nTEL 09019078183\nMAIL meirouyasu@ezweb.ne.jp
URL:https://namura.cc/event/20100225/
ATTACH;FMTTYPE=image/jpeg:https://namura.cc/wp-content/uploads/2023/02/20100424-meirou.jpg
END:VEVENT
BEGIN:VEVENT
DTSTART;VALUE=DATE:20100219
DTEND;VALUE=DATE:20100222
DTSTAMP:20260423T143751
CREATED:20230215T080725Z
LAST-MODIFIED:20230215T080741Z
UID:1060-1266537600-1266796799@namura.cc
SUMMARY:THEATER COMPLEX公演：Pithecanthropus Effectus＋Uranachi 『おとなしい給仕』
DESCRIPTION:2010年\n2月19日（金）19:00\n2月20日（土）13:00 / 18:00\n2月21日（日）14:00 / 18:00 \n前売　2000円\n当日　2500円\n会場　SIDE CHAMBER \nアフタートークのお知らせ（NEW！） \nさまざまな分野から豪華ゲストをお迎えして上演後のアフタートークを行なうことになりました。\n（上演とアフタートークを含めて約2時間程度となります）\nゲストラインナップ\n2月19日（金）19:00　小笠原博毅（おがさわら ひろき）　さん\n2月20日（土）13:00　調整中\n2月20日（土）18:00　洪貴義（ほん きうい） さん\n2月21日（日）14:00　細見和之（ほそみ かずゆき） さん 、田尻芳樹（たじり よしき） さん \n詳細はこちらを御参照下さい。\nhttp://pithecan-e.net/\n猿人〈Pithecanthropus〉が直立歩行〈Erectus〉をはじめたその瞬間から、劇的なる時空間もはじまった。始原に演じられたパフォーマンス〈Effectus〉を、いま・ここに甦らせること。およそ到達不可能なこの目標に向かって飽くなき試行錯誤を続ける人。彼こそは、Pithecanthropus Effectus。 \n■出演出　ピテカントロプス・エフェクトゥス／ロプロプ\n■演出補佐　鈴木径一郎\n■美術　岸昆虫（ウラナチ）\n■舞台効果　廣瀬良二／池坂麻記\n■チラシ＆Webデザイン　山崎民子 \n■チケット取扱\nTheater Complex（TEL\,WEB SITE）\n予約フォーム \n■劇団問合せ\nTEL 070-5600-3611\nMAIL royterek@yahoo.co.jp
URL:https://namura.cc/event/20100219-2/
ATTACH;FMTTYPE=image/jpeg:https://namura.cc/wp-content/uploads/2023/02/20091215-20100219PE_U.jpg
END:VEVENT
BEGIN:VEVENT
DTSTART;VALUE=DATE:20100219
DTEND;VALUE=DATE:20100222
DTSTAMP:20260423T143751
CREATED:20230215T080605Z
LAST-MODIFIED:20230215T080605Z
UID:1057-1266537600-1266796799@namura.cc
SUMMARY:THEATER COMPLEX公演：MOVIE LOVERS BEST SELECTION
DESCRIPTION:2010年\n2月19日（金）12:30-\n2月20日（土）12:30-\n2月21日（日）12:30- \n【前売】1000円\n【当日】1500円 \n自主映画に発表の場を創出し、観客と製作者の垣根を越えた交流の場（サロン）を提供します。また、メジャー・インディーズにとらわれず、観客に支持されアンコール上映の要望が高い作品も取り上げていき、関係者を招いての座談会・交流会も企画しています。
URL:https://namura.cc/event/20100219/
ATTACH;FMTTYPE=image/jpeg:https://namura.cc/wp-content/uploads/2023/02/20100107-20091229-20091228-imgtitle.jpg
END:VEVENT
BEGIN:VEVENT
DTSTART;VALUE=DATE:20100217
DTEND;VALUE=DATE:20100219
DTSTAMP:20260423T143751
CREATED:20230215T081022Z
LAST-MODIFIED:20230215T081037Z
UID:1062-1266364800-1266537599@namura.cc
SUMMARY:Artist In Residence program “HOTDOCKS” 【CCO×NDSM】
DESCRIPTION:アーティスト・イン・レジデンス事業\n近代化産業遺産を活用したアートスペースによる国際連携プログラム \nこの度、造船所跡地を改修した複合芸術施設「CCO／クリエイティブセンター大阪」（日本）、「NDSM」（オランダ）による国際連携を目的として、「NDSM」を拠点に活動を続ける「ROBODOCK」による滞在制作プログラムを実施いたします。 \nROBODOCK travels to creative shipyard in Japan \nPROGRAM＞＞プログラム詳細\n昨年3月に起こった東日本大震災復興支援の一環として、招聘アーティストが大阪・北加賀屋での滞在制作により、現代へのメッセージとして再構築したアートプランの発表、展示を行います。 \n▼Performance　“TUIG plays Salto Vitale”（上演時間：約45分）\nシアターアンサンブル「TUIG」日本初公演“Salto Vitale” \n▼Exhibition　“Mobile photo exposition in giant stuntbike”（上演時間：随時）\n巨大自転車“Dicyclet”による移動型写真展覧会 \n▼Salon　“The salon space by the artist from Osaka” （営業時間：18:30-21:00）\n大阪を拠点に活動するアーティストによる“にぎやかサロンスペース” \n会期： 2 月17 日（金）\,18 日（土） 　両日とも19:00-21:00\n受付、開場は18:30より開始いたします。 \n料金： 1\,000 円／day（スタンディング席／全席自由）\n収益の全額を、東日本大震災義援金として寄付します。\n定員：100名\n当日券販売有／ただし、定員に達した場合はご予約のお客様を優先とさせていただきます。
URL:https://namura.cc/event/20100217/
ATTACH;FMTTYPE=image/jpeg:https://namura.cc/wp-content/uploads/2023/02/20120204-1200202tuig_flyer3-1-1.jpg
END:VEVENT
BEGIN:VEVENT
DTSTART;VALUE=DATE:20100211
DTEND;VALUE=DATE:20100308
DTSTAMP:20260423T143751
CREATED:20230215T081318Z
LAST-MODIFIED:20230215T081321Z
UID:1065-1265846400-1268006399@namura.cc
SUMMARY:THEATER COMPLEX展示：　Katrin Paul solo show「融解：結晶」
DESCRIPTION:大阪市住之江区の木津川河口に位置する名村造船所跡地の広大な敷地を活用するため設立された、クリエイティブセンター大阪。\n造船所跡地という産業遺産に眠る＜廃墟のポテンシャル＞を最大限活かしたユニークな空間で、さまざまな「クリエイション」と「コミュニケーション」のための実験の場を提案します。 \nこの度、クリエイティブセンター大阪初の大規模な美術作品展示を開催する運びとなりましたので、ご案内いたします。 \nドイツ人写真家Katrin Paul（カトリン・パウル）によるインスタレーション展示。 \n2010年\n2月11日〜3月7日まで展示\n木曜日（2月11、25日のみ）　17:00-19:00\n金曜日　17:00-19:00\n土・日曜日　12:00-19:00 \nオープニングパーティー　2月11日18:00-20:00 \n入場無料 ドイツ・フランクフルト生まれ。\n2004年多摩美術大学大学院美術研究博士後期過程修了、博士号取得。\n大阪在住のドイツ人アーティスト、カトリン・パウルは12年前から東京に暮らしアーティストとして活動している。\n2004年には多摩美術大学で博士号を取得。日本国内外において個展やグループ転を精力的にこなす。\n彼女の作品は個人のコレクションだけでなく、国際的なコレクションにもなっている。
URL:https://namura.cc/event/20100211/
ATTACH;FMTTYPE=image/jpeg:https://namura.cc/wp-content/uploads/2023/02/20100210-cKatrin-Paul_Salz_01.jpg
END:VEVENT
BEGIN:VEVENT
DTSTART;VALUE=DATE:20100211
DTEND;VALUE=DATE:20100215
DTSTAMP:20260423T143751
CREATED:20230215T081554Z
LAST-MODIFIED:20230215T081608Z
UID:1070-1265846400-1266191999@namura.cc
SUMMARY:THEATER COMPLEX公演：空間 悠々劇的 『透明人間の告白』
DESCRIPTION:2010年\n2月11日（木祝）15:00 / 19:00\n2月12日（金）19:00\n2月13日（土）13:00 / 18:00\n2月14日（日）14:00 \n前売　2000円\n当日　2500円\n会場　SIDE CHAMBER ストレートな舞台はもとよりコントライブ、即興ライブにラジオドラマ、吹き替え、落語まで…\nその表現は節操なく多岐に渡る。うっかり公演をしないまま３年を稽古場で過ごし、当劇場のエンゲキング×シバイズムに３年ぶりにコントで参戦。\n「シニカルコント」の名をいただき、ついでに演技上手と褒められ、頭に乗っての今回の公演。\n演劇人には程遠く、”イッパイイッパイ”が売りの集団です。 \n『透明人間の告白』\n■作　まえかわゆみこ / 今井慎太郎\n■演出　まえかわゆみこ\n■出演者・　今井慎太郎　金本輝男　竹内宏樹　山口満由　鎌田健一　ことえ　吉瀬晶子　辻本佳代　鍛冶有希　柴田聖心\n■音響　斎木淳一\n■制作　鎌田健一郎　松本りょうへい \n『GEKITEKI “即興ショー” 』\n■出演　空間 悠々劇的\n■音響　斎木淳一\n※お客様からお題をいただきその場で芝居を作ります。\n※日程は未定です \n■チケット取扱\nTheater Complex（TEL\,WEB SITE）\n予約フォーム \n■劇団問合せ\n空間 悠々劇的\nWEB http://www.gekiteki.com
URL:https://namura.cc/event/20100211-3/
ATTACH;FMTTYPE=image/jpeg:https://namura.cc/wp-content/uploads/2023/02/20091215-20100211yuyugekiteki.jpg
END:VEVENT
BEGIN:VEVENT
DTSTART;VALUE=DATE:20100211
DTEND;VALUE=DATE:20100215
DTSTAMP:20260423T143751
CREATED:20230215T081431Z
LAST-MODIFIED:20230215T081444Z
UID:1067-1265846400-1266191999@namura.cc
SUMMARY:THEATER COMPLEX公演：logbook制作向上委員会 『logbook ver.4』
DESCRIPTION:2010年\n2月11日（木祝）17:30\n2月12日（金）19:30\n2月13日（土）15:30／19:30\n2月14日（日）15:30 \n前売　2500円\n当日　2800円\n会場　BLACK CHAMBER 演劇ジャンルのボーダーを超越した、現代の見世物小屋「logbook」が、さらにバージョンアップして登場！　ロックあり、笑いあり、メッセージあり、センチメンタルあり… クールでスピーディーに展開。エキセントリックなラストシーン、GOGOロック＆プログレッシブなライブ演奏は必見・必聴！ \n■構成・楽曲・演出／佐藤香聲\n■共同楽曲／ザ・喫茶店 \n■performers\nファイヴ＆スーザン（ザ・喫茶店）、かのうとおっさん、越智仁美（へそCHAプロジェクト）ピンク地底人2号（ピンク地底人）、ほか \n■musicians\npiano & keyboards：佐藤香聲（銀幕遊學◎レプリカント）\ndrums：多賀聡（多賀工務店）、ほか \n■チケット取扱\nTheater Complex（TEL\,WEB SITE）\n予約フォーム \n■劇団問い合わせ先\nlogbook\nWEB http://logbook2010.blogspot.com\nMAIL info.logbook@gmail.com
URL:https://namura.cc/event/20100211-2/
ATTACH;FMTTYPE=image/jpeg:https://namura.cc/wp-content/uploads/2023/02/20091215-20100211logbook.jpg
END:VEVENT
BEGIN:VEVENT
DTSTART;VALUE=DATE:20100206
DTEND;VALUE=DATE:20100207
DTSTAMP:20260423T143751
CREATED:20230215T081725Z
LAST-MODIFIED:20230215T081740Z
UID:1072-1265414400-1265500799@namura.cc
SUMMARY:大阪ファッションデザイン専門学校『MONO COLLECATION 2010―Costume&Artwork』
DESCRIPTION:2010年2月6日（土）\n1st Show 14:00 ／2nd Show 16:00\n★開場時間　13：00ー17：30 本校では、年に一度”MONO COLLECTION”として、学生作品発表会を開催いたしております。本校の教育理念のひとつでもある「モノづくり」を象徴した”MONO”というキーワードをもとに、本校で培われたモノづくりの力を広く社会に向けて披露する催しです。 \n今年度はタイトルを”MONO COLLECATION 2010―Costume&Artwork”とし、前年度のテーマ「芽吹き」からの進化を主眼に置き、様々な人と人とのつながりを経て成長した若い感性が生み出す世界観、そして”新しいMONO”を独自の空間アートとして映し出すことにチャレンジしてみたいと考えております。 \n大阪ファッションデザイン専門学校　校長\n岩本美恵子 \n■問合せ\n大阪ファッションデザイン専門学校\nWEB http://www.ofdc.ac.jp/mono_collection/2010/index.html
URL:https://namura.cc/event/20100206/
ATTACH;FMTTYPE=:
END:VEVENT
BEGIN:VEVENT
DTSTART;VALUE=DATE:20100201
DTEND;VALUE=DATE:20100202
DTSTAMP:20260423T143751
CREATED:20230215T081835Z
LAST-MODIFIED:20230215T081845Z
UID:1075-1264982400-1265068799@namura.cc
SUMMARY:舞台照明効果の研究評価実験
DESCRIPTION:大阪大学基礎工学部システム科学科佐藤研究室 \n■内容\n複数の照明機材で一つのシーンを生成する舞台照明を対象として、複数の並列な要因で完成情報を形成するものに対して、簡易なモデル式を仮定し、それに基づいて完成情報の解析と任意の完成情報をもつ舞台照明の生成を行い、感性情報のモデル化について検証します。 \n■実験スタート\n14：00?\n※1時間ごとに数回行います。 \n■参加費無料\n予約不要\n※実験に協力いただける方は是非おこし下さい。 \n■場所\nサイドチェンバー
URL:https://namura.cc/event/20100201/
ATTACH;FMTTYPE=:
END:VEVENT
BEGIN:VEVENT
DTSTART;VALUE=DATE:20100130
DTEND;VALUE=DATE:20100131
DTSTAMP:20260423T143751
CREATED:20230215T082113Z
LAST-MODIFIED:20230215T082136Z
UID:1078-1264809600-1264895999@namura.cc
SUMMARY:Mighty Crown Entertainment presents "BACK TO THE HARDCORE"
DESCRIPTION:2010/1/30(土) @大阪PARTITA\nOPEN/START　23:00 \n【チケット料金】\n■前売　￥3000（税込) DRINK 別\n■当日　￥3500（税込) DRINK 別 \n【プレイガイド】 ローソンチケット 　0570-084-005　（ Ｌコード：56253 ） \n【販売協力店】\nROCKERS ISLAND大阪　06-6537-6233\nDISSIDENT 06-6212-5531\nFIVE STAR 06-6538-9001 \n『BACK TO THE HARDCORE』開催決定!!! \nYEAR OF THE TIGER! 2010年一発目のクラウンダンス!\n70’s-90’sにこだわった MIGHTY CROWN 1サウンドによるハードコア新年会!\nNext Lebel Sound Systemを携え、 横浜／名古屋／大阪と 全国３カ所で開催決定!! \n【 出 演 】 MIGHTY CROWN -the far east rulaz- with The Next Level SOUND SYSTEM
URL:https://namura.cc/event/20100130/
ATTACH;FMTTYPE=image/jpeg:https://namura.cc/wp-content/uploads/2023/02/20100129-BTTH_osa_flyer.jpg
END:VEVENT
BEGIN:VEVENT
DTSTART;VALUE=DATE:20100122
DTEND;VALUE=DATE:20100125
DTSTAMP:20260423T143751
CREATED:20230215T082605Z
LAST-MODIFIED:20230215T082608Z
UID:1080-1264118400-1264377599@namura.cc
SUMMARY:MOVIE LOVERS vol.1
DESCRIPTION:■日時：2010年1月22日[金]〜 24日[日]\n■会場：BLACK CHAMBER、SIDE CHAMBER\n■料金：【予約】1000円/日　【当日】1500円/日\n■予約・問合：クリエイティブセンター大阪 06-4702-7085\nhttp://www.artcomplex.net/ml/ \n自主映画に発表の場を創出し、観客と製作者の垣根を越えた交流の場（サロン）を提供します。また、メジャー・インディーズにとらわれず、観客に指示されアンコール上映の要望が高い作品も取り上げていき、関係者を招いての座談会・交流会も企画しています。
URL:https://namura.cc/event/20100122/
ATTACH;FMTTYPE=image/jpeg:https://namura.cc/wp-content/uploads/2023/02/20100107-20091229-20091228-imgtitle.jpg
END:VEVENT
BEGIN:VEVENT
DTSTART;VALUE=DATE:20091230
DTEND;VALUE=DATE:20091231
DTSTAMP:20260423T143751
CREATED:20230215T082818Z
LAST-MODIFIED:20230215T082832Z
UID:1082-1262131200-1262217599@namura.cc
SUMMARY:THE STAR FESTIVAL 2009
DESCRIPTION:THE STAR FESTIVAL 2009\n「WORLD OF DANCE MUSIC FESTIVAL!」 \n■2009.12.30 (水)\nopen 20:30 start 21:00\nBLACK CHAMBER & studio PARTITTA (大阪-名村造船所跡地-） \n■TICKETS INFORMATION \n・〈一般前売りチケット〉\3\,000円\n・当日チケット / \3\,500円 \n■問合せ TRIANGLE(06-6212-2264)\nwww.thestarfestival.com \n■TICKETS INFORMATION \n・〈一般前売りチケット〉絶賛発売中 \3\,000円 \n※ ローソンチケット　0570-084-005 Ｌコード(58718)　http://l-tike.com/\n※ チケットぴあ　0570-02-9966 Ｐ?ＣＯＤＥ(340-127)　http://t.pia.jp\n※ CN(セブンイレブン) 0570-08-9999\n※ e＋ http://eplus.jp \n・当日チケット / \3\,500円\n※ 入場券は規定枚数に達し次第、販売を終了させて頂きますので 、当日券の\n販売が行われない場合もございます。ご希望の方はなるべく早めにご購入下さい。
URL:https://namura.cc/event/20091230/
ATTACH;FMTTYPE=image/jpeg:https://namura.cc/wp-content/uploads/2023/02/20091202-STFFLYB4_o_mini.jpg
END:VEVENT
BEGIN:VEVENT
DTSTART;VALUE=DATE:20091226
DTEND;VALUE=DATE:20091227
DTSTAMP:20260423T143751
CREATED:20230215T082948Z
LAST-MODIFIED:20230215T082959Z
UID:1085-1261785600-1261871999@namura.cc
SUMMARY:ZETTAI-MU FINAL OF 2009 『 MINISTRY OF DANCE 』
DESCRIPTION:■ZETTAI-MU FINAL OF 2009\n『 MINISTRY OF DANCE 』 \n■2009.12.26 (SAT)\nopen 20:30 –\nBLACK CHAMBER & studio PARTITTA (大阪-名村造船所跡地-） \n■TICKETS INFORMATION \n・ZETTAI-MU.NET〈早割前売りチケット〉10月31日(土)受付開始 / \3\,800円\n・〈一般前売りチケット〉11月14日(土)発売開始 / \4\,300円\n・当日チケット / \4\,800円 \n■問合せ E-Mail：fin09@zettai-mu.net（Zettai-Mu）\n※ お問い合わせは〈fin09@zettai-mu.net〉まで、E-Mailのみ受け付けています。 \n■特設ウェブ（PCのみ）\nhttp://www.zettai-mu.net/fin09 \n■ZETTAI-MU（OFFICIAL SITE）\nhttp://www.zettai-mu.net/
URL:https://namura.cc/event/20091226/
ATTACH;FMTTYPE=image/jpeg:https://namura.cc/wp-content/uploads/2023/02/20091114-1226.jpg
END:VEVENT
BEGIN:VEVENT
DTSTART;VALUE=DATE:20091219
DTEND;VALUE=DATE:20091220
DTSTAMP:20260423T143751
CREATED:20230215T083118Z
LAST-MODIFIED:20230215T083130Z
UID:1087-1261180800-1261267199@namura.cc
SUMMARY:ULTRA PUMPIN 2009
DESCRIPTION:■ULTRA PUMPIN 2009 FINAL DANCE \n■2009.12.19 (土)\nopen 20:30 start 21:00\nstudio PARTITTA&RED FLAME(大阪-名村造船所跡地-） \n■問合せ TRIANGLE(06-6212-2264) \n■TICKETS INFORMATION \n・〈一般前売りチケット〉絶賛発売中 \3\,000円 \n※ ローソンチケット　０５７０?０８４?００５ Ｌコード(58693)　http://l-tike.com/\n※ チケットぴあ　０５７０?０２?９９６６ Ｐ?ＣＯＤＥ(340-122)　http://t.pia.jp\n※ CN(セブンイレブン）\n※ e＋ http://eplus.jp \n全国のローソン、ファミリーマート、ぴあ、サークルK・サンクスおよびTRIANGLE、協力各店舗にてご購入いただけます。取り扱い店舗は後日、フライヤー＆当ホームページ等にて発表致します。 \n・当日チケット / \4\,000円\n※ 入場券は規定枚数に達し次第、販売を終了させて頂きますので 、当日券の\n販売が行われない場合もございます。ご希望の方はなるべく早めにご購入下さい。
URL:https://namura.cc/event/20091219/
ATTACH;FMTTYPE=image/jpeg:https://namura.cc/wp-content/uploads/2023/02/20091119-tokushoku_image.jpg
END:VEVENT
BEGIN:VEVENT
DTSTART;VALUE=DATE:20091213
DTEND;VALUE=DATE:20091214
DTSTAMP:20260423T143751
CREATED:20230215T083649Z
LAST-MODIFIED:20230215T083649Z
UID:1089-1260662400-1260748799@namura.cc
SUMMARY:すみのえミュージックフェスタ
DESCRIPTION:すみのえミュージックフェスタ \n造船所がアート空間に。\n70年代サウンドの輝き！ \n■日時 2009年12月13日（日）13:00-17:00\n■会場 名村造船大阪工場跡地 スタジオパルティッタ （クリエイティブセンター大阪内）\n→アクセスマップ\n■料金　　　入場無料\n■出演（出演予定時刻）\nワッツタックス(13:15-) / パラダイス(13:45-) / INSTANT(14:15-) / ザ・フロントライン(14:45-) / The 72 kt ブルースバンド(15:15-) / 自立支援協議会バンド(15:45-) / SOS(16:15-) \n■問合せ クリエイティブセンター大阪\n担当：イノマタ\n電話　06-4702-7085\ncco＠namura.cc\nhttp://www.namura.cc/ \n■主催 近代化産業遺産（名村造船大阪工場跡地）を未来に活かす地域活性化実行委員会
URL:https://namura.cc/event/20091213/
ATTACH;FMTTYPE=image/jpeg:https://namura.cc/wp-content/uploads/2023/02/20091204-smf_top.jpg
END:VEVENT
BEGIN:VEVENT
DTSTART;VALUE=DATE:20091212
DTEND;VALUE=DATE:20091213
DTSTAMP:20260423T143751
CREATED:20230215T083934Z
LAST-MODIFIED:20230215T094708Z
UID:1105-1260576000-1260662399@namura.cc
SUMMARY:Ｒｅ！ＢＩＲＴＨ！！ 『BLACK BOX』
DESCRIPTION:Ｒｅ！ＢＩＲＴＨ！！第５回公演『BLACK BOX』 \n<会場>　サイドチェンバー \n＜日時＞\n２００９年１２月\n１２日：１５時-／１９時-\n１３日：１３時-／１７時- \n＜料金＞\n当日：\1200\n前売：\1000\n学生：\800\n(※要･学生証) \nhttp://1st.geocities.jp/re_birth4649/\n＜あらすじ＞\n大阪湾で黒い箱が引き上げられた。\nそれは遥かなる悠久の時を経た遺物だった。\nそれに呼応して何処からともなく広まったゲーム。\nまるで箱が引き上げられる事を知っていたかのように…。\n箱に寄せられる期待は人々の未来への希望として活気づいてゆく。\n箱はその特徴とゲームに因んで『BLACK BOX』と名付けられた。\nそれ以来、何だか不可解な夢を見る男。\nそして世界は少しずつ変化してゆく。\n箱への期待と共に…。\n本当の希望とは、ある種、悲劇的な真実にのみ\n含まれているのかもしれない。 \n＜作・演出＞\n仲原時雨丸 \n＜ＣＡＳＴ＞\n庄司ゆうき\n西村紗耶香\nあや\n河内涼那\n碩本雄市\n松尾拓斗\n桐久保大吉 \n＜ＳＴＡＦＦ＞\n照明／仲原時雨丸\n音響／水間建二\n映像・宣伝美術／市村知崇\n舞台美術／渡辺宝雄
URL:https://namura.cc/event/20091212/
ATTACH;FMTTYPE=:
END:VEVENT
BEGIN:VEVENT
DTSTART;VALUE=DATE:20091204
DTEND;VALUE=DATE:20091205
DTSTAMP:20260423T143751
CREATED:20230215T084043Z
LAST-MODIFIED:20230215T084056Z
UID:1107-1259884800-1259971199@namura.cc
SUMMARY:NIGHTWALKER @NAMURA
DESCRIPTION:■日時　2009年12月4日(金）OPEN AIR\n■会場　STUDIO PARUTITA・BLACKCHAMBER\n■料金　ADV:4000 DOOR:5000\n■チケット取扱い\nローソンチケット　0570-084-005 Lコード(54626)\nチケットぴあ　0570-02-9966 P-CODE(338-954)\nCN(セブンイレブン）　0570-08-9999\ne＋ http://eplus.jp \n■STUDIO PARTITA \nDJ:DIGITALISM/GILDAS & MASAYA(KITSUNE)/TAKU-HERO(NIGHTWALKER)\nLIVE:80kidz\nNIGHTWALKER ALL DJ’S \n■BLACKCHAMBER pruduce by TRIANGLE \nDJ:MASASHI&MC AOI/KUNIMITSU&YASUHISA\nE:KIREEK/DAMAGE/ELLECTION\nLAZER:PsypnoTek Project
URL:https://namura.cc/event/20091204/
ATTACH;FMTTYPE=image/jpeg:https://namura.cc/wp-content/uploads/2023/02/20091119-1204A4_2_o1.jpg
END:VEVENT
END:VCALENDAR