BEGIN:VCALENDAR
VERSION:2.0
PRODID:-//クリエイティブセンター大阪（CCO） - ECPv6.2.1//NONSGML v1.0//EN
CALSCALE:GREGORIAN
METHOD:PUBLISH
X-WR-CALNAME:クリエイティブセンター大阪（CCO）
X-ORIGINAL-URL:https://namura.cc
X-WR-CALDESC:クリエイティブセンター大阪（CCO） のイベント
REFRESH-INTERVAL;VALUE=DURATION:PT1H
X-Robots-Tag:noindex
X-PUBLISHED-TTL:PT1H
BEGIN:VTIMEZONE
TZID:Asia/Tokyo
BEGIN:STANDARD
TZOFFSETFROM:+0900
TZOFFSETTO:+0900
TZNAME:JST
DTSTART:20240101T000000
END:STANDARD
END:VTIMEZONE
BEGIN:VEVENT
DTSTART;VALUE=DATE:20241201
DTEND;VALUE=DATE:20241202
DTSTAMP:20260422T024337
CREATED:20241113T085729Z
LAST-MODIFIED:20241113T090012Z
UID:5747-1733011200-1733097599@namura.cc
SUMMARY:NAMURA ATTACK2024
DESCRIPTION:□日時\n2024年12月1日（日）\nOPEN 12:30\nCLOSE 21:00 \n□チケット\nADV ¥4\,000-\nDOOR ¥4\,500-\n※入場時に別途1D代 ¥500- \n□詳しくは\nhttps://freshdancestudio.com/news/details/431.html
URL:https://namura.cc/event/20241201/
ATTACH;FMTTYPE=image/jpeg:https://namura.cc/wp-content/uploads/2024/11/NAMURAattack202412.jpg
END:VEVENT
BEGIN:VEVENT
DTSTART;VALUE=DATE:20241130
DTEND;VALUE=DATE:20241201
DTSTAMP:20260422T024337
CREATED:20241116T035021Z
LAST-MODIFIED:20241116T035021Z
UID:5763-1732924800-1733011199@namura.cc
SUMMARY:SYMBOL KOBE vol.21
DESCRIPTION:□日時\n2024年11月30日(土)\nOPEN 13:00\nSTART 14:00\nCLOSE 20:30 \n□チケット\n¥3000- \n□詳しくは\nhttps://www.instagram.com/symbol_kobe/
URL:https://namura.cc/event/20241130/
ATTACH;FMTTYPE=image/jpeg:https://namura.cc/wp-content/uploads/2024/11/20241130.jpg
END:VEVENT
BEGIN:VEVENT
DTSTART;VALUE=DATE:20241123
DTEND;VALUE=DATE:20241124
DTSTAMP:20260422T024337
CREATED:20241121T033642Z
LAST-MODIFIED:20241121T033642Z
UID:5774-1732320000-1732406399@namura.cc
SUMMARY:MARVELOUS OSAKA 2024
DESCRIPTION:□日時\n2024年11月23日(土)\nOPEN 14:00\nCLOSE 20:00 \n□チケット\n前売¥1\,000 / 当日¥3\,000\n※12歳未満入場料のみ無料\n※入場の際に別途¥2\,000必要(2drink1food代) \n□詳しくは\nhttps://www.instagram.com/marvelous_group/
URL:https://namura.cc/event/20241123/
ATTACH;FMTTYPE=image/jpeg:https://namura.cc/wp-content/uploads/2024/11/20241123.jpeg
END:VEVENT
BEGIN:VEVENT
DTSTART;VALUE=DATE:20241122
DTEND;VALUE=DATE:20241124
DTSTAMP:20260422T024337
CREATED:20240731T011328Z
LAST-MODIFIED:20240731T011328Z
UID:5598-1732233600-1732406399@namura.cc
SUMMARY:AVS2024＠OSAKA
DESCRIPTION:□日時\nDay1：2024年11月22日（金）17:00~\nDay2：2024年11月23日（土）12:45~ \n□チケット\n\n・Day1のみ：5000円\n・Day2のみ：10000円\n・Day1&Day2：15000円 \n\n・Day1のみ：5000円\n・Day2のみ：15000円\n・Day1&Day2：20000円 \n□詳しくは\nhttps://www.atotsugiventuresummit.jp
URL:https://namura.cc/event/20241122-23/
ATTACH;FMTTYPE=image/jpeg:https://namura.cc/wp-content/uploads/2024/07/avs2024.jpeg
END:VEVENT
BEGIN:VEVENT
DTSTART;VALUE=DATE:20241117
DTEND;VALUE=DATE:20241118
DTSTAMP:20260422T024337
CREATED:20241105T033853Z
LAST-MODIFIED:20241105T034022Z
UID:5739-1731801600-1731887999@namura.cc
SUMMARY:ICE CREAM OSAKA
DESCRIPTION:□日時\n2024年11月17日(日)\nOPEN 13:30-\nCLOSE 21:00- \n□チケット\nADV ¥5\,000-\nDOOR ¥6\,000-\n共に別途¥1\,000-(ドリンク+フード券付き)\n小学生までは入場無料（保護者同伴） \n□詳しくは\nhttps://www.instagram.com/ice_cream_osaka/
URL:https://namura.cc/event/20241117/
ATTACH;FMTTYPE=image/jpeg:https://namura.cc/wp-content/uploads/2024/11/20241117o.jpeg
END:VEVENT
BEGIN:VEVENT
DTSTART;VALUE=DATE:20241116
DTEND;VALUE=DATE:20241117
DTSTAMP:20260422T024337
CREATED:20241029T021128Z
LAST-MODIFIED:20241029T021128Z
UID:5728-1731715200-1731801599@namura.cc
SUMMARY:AIR REAL 25th Anniversary
DESCRIPTION:□日時\n2024年11月16日(土)\n12:00-20:00 \n□チケット\n前売3\,500円（税込）　\n当日4\,500円（税込）\n※４歳以上の方は入場料が必要となります。\n※自由 \n□詳しくは\nAIR REAL 25th Anniversary
URL:https://namura.cc/event/20241116/
ATTACH;FMTTYPE=image/jpeg:https://namura.cc/wp-content/uploads/2024/10/20241116.jpg
END:VEVENT
BEGIN:VEVENT
DTSTART;VALUE=DATE:20241110
DTEND;VALUE=DATE:20241111
DTSTAMP:20260422T024337
CREATED:20241101T062901Z
LAST-MODIFIED:20241101T062901Z
UID:5734-1731196800-1731283199@namura.cc
SUMMARY:すみのえアート・ビート2024
DESCRIPTION:==お願い＝＝\n会場駐車場及び周辺道路は、大変混雑することが予想されております。\n可能な限り公共交通機関をご利用ください。近隣の方は徒歩でのご来場をお願いいたします。 \n□日時\n2024年11月10日(日)\n10:00～16:00\n※雨天決行 \n□入場料\n入場無料 \n□詳しくは\nhttps://suminoeartbeat.wixsite.com/home
URL:https://namura.cc/event/20241110/
ATTACH;FMTTYPE=image/jpeg:https://namura.cc/wp-content/uploads/2024/11/20241110AB.jpg
END:VEVENT
BEGIN:VEVENT
DTSTART;VALUE=DATE:20241104
DTEND;VALUE=DATE:20241105
DTSTAMP:20260422T024337
CREATED:20241029T052033Z
LAST-MODIFIED:20241029T052143Z
UID:5718-1730678400-1730764799@namura.cc
SUMMARY:【ご注意ください】11/4のイベントについて
DESCRIPTION:2024年11月4日(月)はMACHIOKOSHI FESTIVALを開催いたします。\n(本来2024年9月1日(日)に予定してましたが、台風により延期になったイベントになります。） \n最近、上記イベントとは別のダンスイベントに出演・参加者（ダンサー）さんから多数お電話いただきます。\n当日お間違えないか確認の上お越しいただければと思います。 \nクリエイティブセンター大阪
URL:https://namura.cc/event/20241104attention/
ATTACH;FMTTYPE=image/png:https://namura.cc/wp-content/uploads/2024/10/1104tyui.png
END:VEVENT
BEGIN:VEVENT
DTSTART;VALUE=DATE:20241104
DTEND;VALUE=DATE:20241105
DTSTAMP:20260422T024337
CREATED:20241026T010013Z
LAST-MODIFIED:20241026T010013Z
UID:5715-1730678400-1730764799@namura.cc
SUMMARY:MACHIOKOSHI FESTIVAL
DESCRIPTION:□日時\n2024年11月4日(月祝）\nOPEN 12:00-\nSTART 13:00- \n□チケット\n当日：¥4\,000-\n前売：¥3\,000- \n□詳しくは\nhttps://www.instagram.com/k_nwp_minami_machiokoshi/
URL:https://namura.cc/event/20241104/
ATTACH;FMTTYPE=image/jpeg:https://namura.cc/wp-content/uploads/2024/10/20241104machi.jpg
END:VEVENT
BEGIN:VEVENT
DTSTART;VALUE=DATE:20241103
DTEND;VALUE=DATE:20241104
DTSTAMP:20260422T024337
CREATED:20241027T091204Z
LAST-MODIFIED:20241027T091204Z
UID:5723-1730592000-1730678399@namura.cc
SUMMARY:TASOGARE HOLIDAY -タソガレの休日-
DESCRIPTION:□日時\n2024年11月3日（日）\nOPEN & START 12:00 \n□料金\nADV. ￥7\,500（1D代別途）\n一般発売（ぴあ）：〜11月2日（土）23:59 （Pコード：282-381）\n※未就学児童入場不可\n※雨天決行（天災時除く）\n※中学生以下は保護者同伴に限り入場無料（保護者1名につき2名まで）。但し、ドリンク代は必要。 \n□詳しくは\nhttps://www.instagram.com/tasogare_coffee_jp/ \n□主催:TASOGARE COFFEE
URL:https://namura.cc/event/20241103/
ATTACH;FMTTYPE=image/jpeg:https://namura.cc/wp-content/uploads/2024/10/tasogareholiday_2024.jpg
END:VEVENT
BEGIN:VEVENT
DTSTART;VALUE=DATE:20241026
DTEND;VALUE=DATE:20241028
DTSTAMP:20260422T024337
CREATED:20241009T033402Z
LAST-MODIFIED:20241009T033516Z
UID:5701-1729900800-1730073599@namura.cc
SUMMARY:大阪造船所アイドルフェス
DESCRIPTION:□日時\n2024年\n10月26日（土）OPEN 10:00/START 11:00\n10月27日（日）OPEN 10:00/START 11:00 \n□チケット\n・10月26日（土）チケット\nhttps://t.livepocket.jp/e/ozif_2024_1026\n・10月27日（日）チケット\nhttps://t.livepocket.jp/e/ozif_2024_1027 \n□詳しくは\nhttps://x.com/Osakazosenjo
URL:https://namura.cc/event/20241026-27/
ATTACH;FMTTYPE=image/jpeg:https://namura.cc/wp-content/uploads/2024/10/20241026-27.jpg
END:VEVENT
BEGIN:VEVENT
DTSTART;VALUE=DATE:20241019
DTEND;VALUE=DATE:20241021
DTSTAMP:20260422T024337
CREATED:20241007T073522Z
LAST-MODIFIED:20241007T073522Z
UID:5698-1729296000-1729468799@namura.cc
SUMMARY:KITAKAGAYA FLEA & ASIA BOOK MARKET
DESCRIPTION:□日時\n2024年\n10月19日（土）12:00−19:00\n10月20日（日）11:00-18:30 \n□チケット\n各日700円（税込み）再入場可\n※飲食物の持ち込み禁止  \n□詳しくは\nhttps://kitakagayaflea.jp
URL:https://namura.cc/event/20241019-20/
ATTACH;FMTTYPE=image/jpeg:https://namura.cc/wp-content/uploads/2024/10/kf20242024.jpg
END:VEVENT
BEGIN:VEVENT
DTSTART;VALUE=DATE:20241013
DTEND;VALUE=DATE:20241014
DTSTAMP:20260422T024337
CREATED:20241003T085945Z
LAST-MODIFIED:20241003T085945Z
UID:5692-1728777600-1728863999@namura.cc
SUMMARY:SUMINOE TRIBE 2024
DESCRIPTION:□日時\n2024年10月13日(日)\nOPEN：12:00\nCLOSE：21:30  \n□チケット\n前売り：￥3\,000-\n当　日：￥3\,500-\n18歳以下 :  入場無料\n※受付時に顔写真付き身分証を提示いただきます。\n※入場時、受付にて別途ドリンク代（￥500）をいただきます。 \n□詳しくは\nhttps://suminoetribe.net
URL:https://namura.cc/event/20241013/
ATTACH;FMTTYPE=image/jpeg:https://namura.cc/wp-content/uploads/2024/10/suminoetribe2024t.jpg
END:VEVENT
BEGIN:VEVENT
DTSTART;VALUE=DATE:20241012
DTEND;VALUE=DATE:20241014
DTSTAMP:20260422T024337
CREATED:20241003T022126Z
LAST-MODIFIED:20241003T022126Z
UID:5686-1728691200-1728863999@namura.cc
SUMMARY:Super Robocos Expo 5th
DESCRIPTION:□日時\n2024年\n10月12日(土) 13:00~19:00\n10月13日(日)10:00~17:00 \n□入場料\n入場無料\n​※中学生（16歳未満）以下のお子様だけでのご来場はできません。 \n□詳しくは\nhttps://www.s-r-e-2024.com
URL:https://namura.cc/event/20241012-13/
ATTACH;FMTTYPE=image/png:https://namura.cc/wp-content/uploads/2024/10/202410robocos.png
END:VEVENT
BEGIN:VEVENT
DTSTART;VALUE=DATE:20240929
DTEND;VALUE=DATE:20240930
DTSTAMP:20260422T024337
CREATED:20240903T064012Z
LAST-MODIFIED:20240903T064012Z
UID:5663-1727568000-1727654399@namura.cc
SUMMARY:RAWEST vol.1 -crossing over culture-
DESCRIPTION:□日時\n2024年9月29日(日)\n11:00- OPEN\n12:00- START \n□チケット\n前売チケット：3\,500円＋1drink\n当日チケット：4\,000円+ 1drink \n□詳しくは\nhttps://www.instagram.com/th3___rawest/
URL:https://namura.cc/event/20240929/
ATTACH;FMTTYPE=image/png:https://namura.cc/wp-content/uploads/2024/09/20240929.png
END:VEVENT
BEGIN:VEVENT
DTSTART;VALUE=DATE:20240928
DTEND;VALUE=DATE:20240930
DTSTAMP:20260422T024337
CREATED:20240925T051913Z
LAST-MODIFIED:20240925T051913Z
UID:5677-1727481600-1727654399@namura.cc
SUMMARY:NEW TC テント先行発表会！
DESCRIPTION:□日時\n2024年\n9月28日（土）10:00〜17:00\n9月29日（日）10:00〜16:00 \n□展示製品\nNEWウータS、NEWウータL、クク1、クク2、ギモーグ、ロロ、ゼクーM、ギギ2 予定\n※会場の状況によって展示内容を変更する場合がございます。 \n□入場料\n無料 \n□詳しくは\nhttps://zanearts.com/blogs/journal/
URL:https://namura.cc/event/20250928-29/
ATTACH;FMTTYPE=image/png:https://namura.cc/wp-content/uploads/2024/09/zanearts.png
END:VEVENT
BEGIN:VEVENT
DTSTART;VALUE=DATE:20240928
DTEND;VALUE=DATE:20240929
DTSTAMP:20260422T024337
CREATED:20240701T021258Z
LAST-MODIFIED:20240722T071355Z
UID:5554-1727481600-1727567999@namura.cc
SUMMARY:a Soulflex Joint 「MILESTONE」
DESCRIPTION:□日時\n2024年9月28日(土)\n開場　16:00-\n開演　16:30- \n□チケット\n前売　¥5500-(税込）+drink¥600-別途必要\n当日　¥6000-(税込）+drink¥600-別途必要\n※一般発売日　2024年7月20日(土)10:00〜 \n□問合せ\nキョードーインフォメーション(11:00-18:00 日祝除く)\n0570-200-888
URL:https://namura.cc/event/20240928/
ATTACH;FMTTYPE=image/jpeg:https://namura.cc/wp-content/uploads/2024/07/20240928.jpg
END:VEVENT
BEGIN:VEVENT
DTSTART;TZID=Asia/Tokyo:20240919T150000
DTEND;TZID=Asia/Tokyo:20240919T154000
DTSTAMP:20260422T024337
CREATED:20240908T085048Z
LAST-MODIFIED:20240908T085048Z
UID:5668-1726758000-1726760400@namura.cc
SUMMARY:クリエイティブセンター大阪　ミニ見学ツアー vol.175
DESCRIPTION:近代化産業遺産に認定されている「名村造船跡地」=クリエイティブセンター大阪の館内見学ツアーです。\n造船所跡地の施設内をスタッフがご説明しながらご案内致します。\n※ツアー時間は40分程度を予定しております。（途中退場可） \n■日時\n2024年9月19日（木）15:00 ※30-40分程度\nクリエイティブセンター大阪　入口警備員室前集合 \n■参加方法\n予約不要・現地集合／参加費は無料です。\n※マスク着用、もしくはご持参ください。\n※動画撮影はNGとしております。 \n■お問合せ\n06-4702-7085（クリエイティブセンター大阪）
URL:https://namura.cc/event/20240919/
ATTACH;FMTTYPE=image/jpeg:https://namura.cc/wp-content/uploads/2022/12/9a1f83b5ea3772fe94e010ead633edc2.jpeg
END:VEVENT
BEGIN:VEVENT
DTSTART;VALUE=DATE:20240915
DTEND;VALUE=DATE:20240916
DTSTAMP:20260422T024337
CREATED:20240903T013137Z
LAST-MODIFIED:20240903T044214Z
UID:5656-1726358400-1726444799@namura.cc
SUMMARY:CHOREO SPOT vol.2
DESCRIPTION:□日時\n2024年9月15日（日）\nOPEN 15:00-\nSTART 16:00-\nCLOSE 18:30- \n□チケット\n¥4\,000-(自由席)\n⚠️当日券はございませんので必ずプロフィール欄リンクからご購入の上、\nご来場ください。 \n□詳しくは\nchoreospot instagram \n▪️主催のコメント \n前回は初開催ながら来場者300名を超える\n大盛況をいただき、ありがとうございました。 \n今回の会場は、、\nクリエイティブセンター大阪”STUDIO PARTITA” \n私達運営が目指している、作品がより輝くための照明音響、お客様の熱量を生み出せる会場です！ \n作品作りに情熱を持った方\nダンスショーが好きな方が集まる、\n“心震えるイベント”にできるよう\n全力で準備してまいります！ \n当イベントは\n知り合いが踊るから観にくるだけでなく\n来場者がイベント自体に面白さを感じ、\n来てよかった！と思えるイベントです！ \nダンスショーに愛のある運営が作り上げることで\n成し遂げられると思っていますし、\n本来イベントはそうあるべきだと思っています🔥 \nVol.2も沢山のご来場お待ちしています！✨
URL:https://namura.cc/event/20240915/
ATTACH;FMTTYPE=image/png:https://namura.cc/wp-content/uploads/2024/09/CHOREO-SPOT-vol.2.png
END:VEVENT
BEGIN:VEVENT
DTSTART;VALUE=DATE:20240908
DTEND;VALUE=DATE:20240909
DTSTAMP:20260422T024337
CREATED:20240829T052330Z
LAST-MODIFIED:20240829T052516Z
UID:5634-1725753600-1725839999@namura.cc
SUMMARY:ZERO vol.3 Summer fes
DESCRIPTION:□日時\n2024年9月8日(日)\nOPEN 11:30\nSTART l2:00 \n□チケット\n前売り　￥4\,000-\n当日　　￥5\,000-\n別途ドリンク代　￥600- \n□詳しくは\nhttps://www.instagram.com/o0_zero_0o/
URL:https://namura.cc/event/20240908/
ATTACH;FMTTYPE=image/jpeg:https://namura.cc/wp-content/uploads/2024/08/20240908zero.jpg
END:VEVENT
BEGIN:VEVENT
DTSTART;VALUE=DATE:20240901
DTEND;VALUE=DATE:20240902
DTSTAMP:20260422T024337
CREATED:20240826T030434Z
LAST-MODIFIED:20240829T170724Z
UID:5627-1725148800-1725235199@namura.cc
SUMMARY:［延期］マチオコシ 1000人フェス
DESCRIPTION:開催延期のお知らせ \n\n\n\n9 月 1 日(日) に開催を予定しておりました「MACHIOKOSHI 1000 Festival」ですが、大型の台 風 10 号接近が予測されており、安全な運営が難しいとの判断により、やむなく開催を延期させ ていただくことになりました。 天候の都合とはいえ、楽しみにしておられた皆様、関係者の皆様にはご迷惑をお掛けいたします こと、またイベント開催直前のご案内となりましたことを、お詫び申し上げます。 なお、イベント自体は 11/4(祝)に延期する事になります。 お越しいただく皆様に楽しんでいただける内容にしていきますので、引き続き引き続きご支援賜 りますようお願い申し上げます。 \n運営一同より \n\n\n\n  \n□日時\n2024年9月1日(日)\n12:00-20:30 \n□チケット\n当日 ¥4000-\n前売 ¥3000-\n※2FOOD\,2DRINK付き \n□詳しくは\nhttps://www.instagram.com/k_nwp_minami_machiokoshi/\nhttps://w8amadeus8m.wixsite.com/machiokoshi
URL:https://namura.cc/event/20240901/
ATTACH;FMTTYPE=image/jpeg:https://namura.cc/wp-content/uploads/2024/08/0901enki.jpg
END:VEVENT
BEGIN:VEVENT
DTSTART;VALUE=DATE:20240831
DTEND;VALUE=DATE:20240902
DTSTAMP:20260422T024337
CREATED:20240809T052258Z
LAST-MODIFIED:20240829T170759Z
UID:5613-1725062400-1725235199@namura.cc
SUMMARY:［延期］NEW TC テント先行発表会！
DESCRIPTION:【 イベント延期のお知らせ 】\n・\n今週末に大阪市で予定しておりました【新製品「ウータTC」の先行発表会】は、台風10号の接近に伴う暴風・大雨が予想されるため、下記の通り延期とさせていただきます。\n・\n////// 延期日程 //////\n●場所／クリエイティブセンター大阪\n●日時／2024年9月28日（土）10:00〜17:00、29日（日）10:00〜16:00\n・\n本イベントへの参加をご予定されていた皆様には、多大なご迷惑をお掛けする事をお詫び申し上げます。\n・\n※ウータTCのWEBサイトへの情報公開は、9月3日を予定しております。大阪での展示イベントは情報公開後になる事をご了承ください。 \nhttps://www.instagram.com/zanearts_outdoor/p/C_PZCrUv6ku/ \n\n□日時\n2024年\n8月31日（土）\n9月1日（日） \n□展示製品\nNEWウータS、NEWウータL、クク1、クク2、ギモーグ、ロロ、ゼクーM、ギギ2 予定\n※会場の状況によって展示内容を変更する場合がございます。 \n□入場料\n無料 \n□詳しくは\nhttps://zanearts.com/blogs/journal/
URL:https://namura.cc/event/20240831-0901/
ATTACH;FMTTYPE=image/png:https://namura.cc/wp-content/uploads/2024/08/2024TCTENTenki.png
END:VEVENT
BEGIN:VEVENT
DTSTART;TZID=Asia/Tokyo:20240829T150000
DTEND;TZID=Asia/Tokyo:20240829T154000
DTSTAMP:20260422T024337
CREATED:20240726T064717Z
LAST-MODIFIED:20240828T063950Z
UID:5593-1724943600-1724946000@namura.cc
SUMMARY:［中止］クリエイティブセンター大阪　ミニ見学ツアー vol.175
DESCRIPTION:お知らせ\n台風10号の接近にともない、8月29日に予定しておりました見学ツアーは中止させていただきます。\n（次回は未定ですが、9月の中旬ごろを検討しております。） \n申し訳ございませんが、ご了承いただければと思います。 \n＝＝＝＝＝＝＝＝＝＝＝＝＝＝ \n近代化産業遺産に認定されている「名村造船跡地」=クリエイティブセンター大阪の館内見学ツアーです。\n造船所跡地の施設内をスタッフがご説明しながらご案内致します。\n※ツアー時間は40分程度を予定しております。（途中退場可） \n■日時\n2024年8月29日（木）15:00 ※30-40分程度\nクリエイティブセンター大阪　入口警備員室前集合 \n■参加方法\n予約不要・現地集合／参加費は無料です。\n※マスク着用、もしくはご持参ください。\n※動画撮影はNGとしております。 \n■お問合せ\n06-4702-7085（クリエイティブセンター大阪）
URL:https://namura.cc/event/20240829/
ATTACH;FMTTYPE=image/jpeg:https://namura.cc/wp-content/uploads/2022/12/9a1f83b5ea3772fe94e010ead633edc2.jpeg
END:VEVENT
BEGIN:VEVENT
DTSTART;VALUE=DATE:20240826
DTEND;VALUE=DATE:20240827
DTSTAMP:20260422T024337
CREATED:20240819T053453Z
LAST-MODIFIED:20240819T053453Z
UID:5621-1724630400-1724716799@namura.cc
SUMMARY:MARVELOUS summer
DESCRIPTION:□日時\n2024年8月26日(月)\nOPEN 14:00\nCLOSE 21:00 \n□チケット\nTICKET ¥1\,000\n※12歳未満入場無料のみ無料\n※入場の際に別途¥2\,000必要(2drink+1food代) \n□詳しくは\nhttps://www.instagram.com/marvelous_group/
URL:https://namura.cc/event/20240826/
ATTACH;FMTTYPE=image/jpeg:https://namura.cc/wp-content/uploads/2024/08/20240826.jpeg
END:VEVENT
BEGIN:VEVENT
DTSTART;VALUE=DATE:20240824
DTEND;VALUE=DATE:20240826
DTSTAMP:20260422T024337
CREATED:20240819T030302Z
LAST-MODIFIED:20240819T030302Z
UID:5618-1724457600-1724630399@namura.cc
SUMMARY:miniちかっぱ祭ver.13.0inOSAKA
DESCRIPTION:□日時\n2024年\n8月24日(土)　開場10:30／開演11:30\n8月25日(日） 開場10:30／開演11:30  \n□チケット\n各日VIPチケット前売り券：12\,000円(当日1ドリンク600円別途必要)\n各日一般チケット前売り券 ：6\,000円(当日1ドリンク600円別途必要）\n※当日券の販売は状況によりご案内となります。\nhttps://tiget.net/events/337472 \n□詳しくは\nhttps://info6970450.wixsite.com/my-site
URL:https://namura.cc/event/20240824-25/
ATTACH;FMTTYPE=image/png:https://namura.cc/wp-content/uploads/2024/08/2024082425tikappa.png
END:VEVENT
BEGIN:VEVENT
DTSTART;VALUE=DATE:20240821
DTEND;VALUE=DATE:20240822
DTSTAMP:20260422T024337
CREATED:20240801T054015Z
LAST-MODIFIED:20240801T054049Z
UID:5601-1724198400-1724284799@namura.cc
SUMMARY:SOUND SHOCK2024
DESCRIPTION:□日時\n2024年8月21日（水）\nOPEN 10:30\nSTART 11:00 \n□チケット\n2000円＋ドリンク代（500円）\nタオル付きチケット：2500円＋ドリンク代（500円） \n□詳しくは\nhttps://www.sound-shock.com
URL:https://namura.cc/event/20240821/
ATTACH;FMTTYPE=image/png:https://namura.cc/wp-content/uploads/2024/08/Soundshock2024.png
END:VEVENT
BEGIN:VEVENT
DTSTART;VALUE=DATE:20240816
DTEND;VALUE=DATE:20240819
DTSTAMP:20260422T024337
CREATED:20240801T113904Z
LAST-MODIFIED:20240801T114309Z
UID:5605-1723766400-1724025599@namura.cc
SUMMARY:新作音楽公演「歌と逆に。歌に。」
DESCRIPTION:□日時\n2024年8月16日（金）〜18日（日）\n　①8月16日（金）19:30-\n　②8月17日（土）14:30-\n　③8月17日（土）19:30-\n　④8月18日（日）14:30-\n　※開場は各開演の30分前を予定 \n□チケット\n一般＝4\,000円、U25＝3\,000円\n当日＝5\,000円 \nZAIKOイベントページにて https://toritomokai.zaiko.io/ \n□詳しくは\nhttps://www.instagram.com/utagyaku \n□クレジット\n作曲：日野浩志郎\n詩・構成：池田昇太郎\n出演：池田昇太郎、坂井遥香、白丸たくト、田上敦巳、谷口かんな、中川裕貴、日野浩志郎\n舞台監督：小林勇陽\n音響：西川文章\n照明：中山奈美\n美術：LOYALTY FLOWERS\n宣伝美術：大槻智央\n宣伝写真：Katja Stuke & Oliver Sieber、Richard James Dunn\n宣伝・記録編集：永江大\n記録映像：Nishi Junnosuke\n記録写真：井上嘉和、Richard James Dunn\n制作：伴朱音\n主催：株式会社鳥友会、日野浩志郎\n共催：一般財団法人 おおさか創造千島財団「KCVセレクション」\n助成：大阪市助成事業、全国税理士共栄会\n協力：大阪文学学校、エル・ライブラリー\n問合：utagyaku@gmail.com
URL:https://namura.cc/event/20240816-18/
ATTACH;FMTTYPE=image/jpeg:https://namura.cc/wp-content/uploads/2024/08/hinoflyer.jpg
END:VEVENT
BEGIN:VEVENT
DTSTART;VALUE=DATE:20240810
DTEND;VALUE=DATE:20240811
DTSTAMP:20260422T024337
CREATED:20240718T071930Z
LAST-MODIFIED:20240718T071930Z
UID:5580-1723248000-1723334399@namura.cc
SUMMARY:Alright Feelin' Summer Special
DESCRIPTION:□日時\nOPEN 12:00-\nSTART 13:00-\nCLOSE 20:00- \n□詳しくは\nhttps://www.instagram.com/alrightfeelin_japan/
URL:https://namura.cc/event/20240810/
ATTACH;FMTTYPE=image/png:https://namura.cc/wp-content/uploads/2024/07/20240810.png
END:VEVENT
BEGIN:VEVENT
DTSTART;VALUE=DATE:20240804
DTEND;VALUE=DATE:20240805
DTSTAMP:20260422T024337
CREATED:20240724T061834Z
LAST-MODIFIED:20240724T062001Z
UID:5574-1722729600-1722815999@namura.cc
SUMMARY:NATUMATURI
DESCRIPTION:□日時\n2024年8月4日（日）\n0PEN 12:30-\nSTART 13:30- \n□チケット\n¥4\,000- +1ドリンク \n□詳しくは\nhttps://www.instagram.com/na_tsu_matsuri2024/
URL:https://namura.cc/event/20240804/
ATTACH;FMTTYPE=image/png:https://namura.cc/wp-content/uploads/2024/07/20240804-1.png
END:VEVENT
BEGIN:VEVENT
DTSTART;VALUE=DATE:20240801
DTEND;VALUE=DATE:20240802
DTSTAMP:20260422T024337
CREATED:20240718T053236Z
LAST-MODIFIED:20240718T053236Z
UID:5577-1722470400-1722556799@namura.cc
SUMMARY:GOOD TIME -summer fes-
DESCRIPTION:□日時\n2024年8月1日(木)\nOPEN 13:00　\nSTART 14:00　 \n□チケット\n3\,500円＋500円(1ドリンク)\n＊ドリンク500円は当日入場時の支払い \n□詳しくは\nhttps://t.livepocket.jp/e/v6j2t
URL:https://namura.cc/event/20240801/
ATTACH;FMTTYPE=image/jpeg:https://namura.cc/wp-content/uploads/2024/07/20240801.jpeg
END:VEVENT
END:VCALENDAR