BEGIN:VCALENDAR
VERSION:2.0
PRODID:-//クリエイティブセンター大阪（CCO） - ECPv6.2.1//NONSGML v1.0//EN
CALSCALE:GREGORIAN
METHOD:PUBLISH
X-WR-CALNAME:クリエイティブセンター大阪（CCO）
X-ORIGINAL-URL:https://namura.cc
X-WR-CALDESC:クリエイティブセンター大阪（CCO） のイベント
REFRESH-INTERVAL;VALUE=DURATION:PT1H
X-Robots-Tag:noindex
X-PUBLISHED-TTL:PT1H
BEGIN:VTIMEZONE
TZID:Asia/Tokyo
BEGIN:STANDARD
TZOFFSETFROM:+0900
TZOFFSETTO:+0900
TZNAME:JST
DTSTART:20230101T000000
END:STANDARD
END:VTIMEZONE
BEGIN:VEVENT
DTSTART;VALUE=DATE:20230923
DTEND;VALUE=DATE:20230925
DTSTAMP:20260422T095400
CREATED:20230915T042705Z
LAST-MODIFIED:20230922T031023Z
UID:4715-1695427200-1695599999@namura.cc
SUMMARY:大阪造船所アイドルフェスmini
DESCRIPTION:□日時\n2023年\n9月23日(土) OPEN 10:30　 START 11:30\n9月24日(日) OPEN 10:30　 START 11:30 \n□チケット\n・9月23日チケットURL\nhttps://t.livepocket.jp/e/zosenjo230923\n・9月24日チケットURL\nhttps://t.livepocket.jp/e/zosenjo230924 \n□詳しくは\nhttps://twitter.com/Osakazosenjo \n 
URL:https://namura.cc/event/20230923-24/
ATTACH;FMTTYPE=image/jpeg:https://namura.cc/wp-content/uploads/2023/09/2023092324idol.jpeg
END:VEVENT
BEGIN:VEVENT
DTSTART;VALUE=DATE:20230922
DTEND;VALUE=DATE:20230923
DTSTAMP:20260422T095400
CREATED:20230915T052530Z
LAST-MODIFIED:20230915T052758Z
UID:4720-1695340800-1695427199@namura.cc
SUMMARY:すたんぴっ！による、おたんぴっ！のためのすたんぴっ！だけのフェス ティバル
DESCRIPTION:■日時\n2023年9月22日(金)\nOPEN 17:30\nSTART 18:30 \n■チケット\nカメラ席　15\,000円（限定Tシャツ付き）\n優先入場　10\,000円（限定Tシャツ付き）\n手売り　2\,000円（ブロマイド付き）\nワンコインエリア　500円 \n■詳しくは\nhttps://www.mme.tokyo/stanpi
URL:https://namura.cc/event/20230922/
ATTACH;FMTTYPE=image/png:https://namura.cc/wp-content/uploads/2023/09/nophoto.png
END:VEVENT
BEGIN:VEVENT
DTSTART;TZID=Asia/Tokyo:20230921T150000
DTEND;TZID=Asia/Tokyo:20230921T154000
DTSTAMP:20260422T095400
CREATED:20230908T043831Z
LAST-MODIFIED:20230908T043831Z
UID:4630-1695308400-1695310800@namura.cc
SUMMARY:クリエイティブセンター大阪　ミニ見学ツアー vol.163
DESCRIPTION:近代化産業遺産に認定されている「名村造船跡地」=クリエイティブセンター大阪の館内見学ツアーです。\n造船所跡地の施設内をスタッフがご説明しながらご案内致します。\n※ツアー時間は40分程度を予定しております。（途中退場可） \n■日時\n2023年9月21日（木）15:00 ※30-40分程度\nクリエイティブセンター大阪　入口警備員室前集合 \n■参加方法\n予約不要・現地集合／参加費は無料です。\n※マスク着用、もしくはご持参ください。\n※動画撮影はNGとしております。 \n■お問合せ\n06-4702-7085（クリエイティブセンター大阪）
URL:https://namura.cc/event/20230921/
ATTACH;FMTTYPE=image/jpeg:https://namura.cc/wp-content/uploads/2022/12/b0f3769176eeffbd5abb90e91461dc87-e1677758490252.jpg
END:VEVENT
BEGIN:VEVENT
DTSTART;VALUE=DATE:20230917
DTEND;VALUE=DATE:20230918
DTSTAMP:20260422T095400
CREATED:20230902T082044Z
LAST-MODIFIED:20230908T021329Z
UID:4483-1694908800-1694995199@namura.cc
SUMMARY:BOC vol.2
DESCRIPTION:□日時\n2023年9月17日（日）\nOPEN 13:00- \n□チケット\n¥2500-+1drink¥500 \n□詳しくは\nhttps://www.instagram.com/base_of_connection/
URL:https://namura.cc/event/boc-vol-2/
ATTACH;FMTTYPE=image/jpeg:https://namura.cc/wp-content/uploads/2023/09/boc2400.jpg
END:VEVENT
BEGIN:VEVENT
DTSTART;VALUE=DATE:20230916
DTEND;VALUE=DATE:20230917
DTSTAMP:20260422T095400
CREATED:20230908T035332Z
LAST-MODIFIED:20230908T035423Z
UID:4626-1694822400-1694908799@namura.cc
SUMMARY:SEA SIDE TOUR 2023 in Osaka『SEA SIDE FES 』
DESCRIPTION:□日時\n2023年9月16日(土)\nOPEN 15:00\nSTART(SHADY ONEMAN LIVE) 19:00~\nCLOSE 21:00 \n□チケット\n前売 4500 円\n当日5000 円(共に入場時 1D 別要) \n□詳しくは\nhttps://www.instagram.com/shady1988gk/
URL:https://namura.cc/event/20230916/
ATTACH;FMTTYPE=image/jpeg:https://namura.cc/wp-content/uploads/2023/09/ssf0916.jpg
END:VEVENT
BEGIN:VEVENT
DTSTART;VALUE=DATE:20230910
DTEND;VALUE=DATE:20230911
DTSTAMP:20260422T095400
CREATED:20230902T082304Z
LAST-MODIFIED:20230902T082304Z
UID:4486-1694304000-1694390399@namura.cc
SUMMARY:ZERO vol.1
DESCRIPTION:□日時\n2023年9月10日（日）\nOPEN 12:00-\nSTART 13:00-\nCLOSE 21:00- \n□チケット\nADV ¥2500-\nDOOR ¥3000-\n※別途ドリンク¥500- \n□詳しくは
URL:https://namura.cc/event/2023-09-10/
ATTACH;FMTTYPE=image/jpeg:https://namura.cc/wp-content/uploads/2023/09/zero400.jpg
END:VEVENT
BEGIN:VEVENT
DTSTART;VALUE=DATE:20230903
DTEND;VALUE=DATE:20230904
DTSTAMP:20260422T095400
CREATED:20230902T082536Z
LAST-MODIFIED:20230907T102433Z
UID:4489-1693699200-1693785599@namura.cc
SUMMARY:関西音楽万博
DESCRIPTION:□日時\n2023年9月3日(日)\nOPEN12:00- \n□チケット\n前売り　¥4500-\n当日 ¥5000- \n□詳しくは\nhttps://kanbaku.com
URL:https://namura.cc/event/2023-09-03/
ATTACH;FMTTYPE=image/jpeg:https://namura.cc/wp-content/uploads/2023/09/kansaipnpaku400.jpg
END:VEVENT
BEGIN:VEVENT
DTSTART;VALUE=DATE:20230902
DTEND;VALUE=DATE:20230903
DTSTAMP:20260422T095400
CREATED:20230819T065839Z
LAST-MODIFIED:20230907T102500Z
UID:4451-1693612800-1693699199@namura.cc
SUMMARY:Improve vol.9
DESCRIPTION:□日時\n2023年9月2日(土)\nOPEN 12:00-\nSTART 13:00-\nCLOSE 20:00- \n□料金\n1ENTRY 3000円\n※3entryで2000円引\n※1drink 300円 \n□詳しくは\nhttps://www.instagram.com/improve_house/
URL:https://namura.cc/event/2023-09-02/
ATTACH;FMTTYPE=image/jpeg:https://namura.cc/wp-content/uploads/2023/08/20230814-improve9.jpg
END:VEVENT
BEGIN:VEVENT
DTSTART;VALUE=DATE:20230826
DTEND;VALUE=DATE:20230827
DTSTAMP:20260422T095400
CREATED:20230819T065928Z
LAST-MODIFIED:20230907T102609Z
UID:4460-1693008000-1693094399@namura.cc
SUMMARY:MARVELOUS 2023
DESCRIPTION:□日時\n2023年9月3日(日)\nOPEN 13:00\nCLOSE 21:00 \n□チケット\nTICKET ¥1\,000\n※6歳未満入場無料\n※入場の際に別途¥3\,000必要(3drink2food代) \n□詳しくは\nhttps://www.instagram.com/marvelous_group/
URL:https://namura.cc/event/2023-08-26/
ATTACH;FMTTYPE=image/jpeg:https://namura.cc/wp-content/uploads/2023/08/20230814-marve2023.jpg
END:VEVENT
BEGIN:VEVENT
DTSTART;VALUE=DATE:20230822
DTEND;VALUE=DATE:20230823
DTSTAMP:20260422T095400
CREATED:20230819T070018Z
LAST-MODIFIED:20230907T102625Z
UID:4462-1692662400-1692748799@namura.cc
SUMMARY:SOUND SHOCK2023
DESCRIPTION:□日時\n2023年8月22日（火）\nOPEN 10:30\nSTART 11:00 \n□チケット\nチケット：2000円＋ドリンク代（500円）\nタオル付きチケット：2500円＋ドリンク代（500円） \nチケット発売：6/24（土）10:00～\ne+/チケットぴあ/ローチケにて販売！\n雨天決行（主催者側で危険と判断した際には、中止いたします。） \n□詳しくは\nオフィシャルHP\nhttp://www.sound-shock.com
URL:https://namura.cc/event/2023-08-22/
ATTACH;FMTTYPE=image/jpeg:https://namura.cc/wp-content/uploads/2023/08/20230807-ss2023.jpg
END:VEVENT
BEGIN:VEVENT
DTSTART;VALUE=DATE:20230819
DTEND;VALUE=DATE:20230821
DTSTAMP:20260422T095400
CREATED:20230819T070746Z
LAST-MODIFIED:20230907T102635Z
UID:4473-1692403200-1692575999@namura.cc
SUMMARY:Live House Pangea presents「新世界FESTIVAL 2023」
DESCRIPTION:□日時\n2023年\n・8月19日(土)\nOPEN  12:00- / START  13:00- \n・8月20日(日)\nOPEN  11:00- / START  12:00- \n□チケット\n一日券前売り：各日5000円\n二日通し券：9000円 /早割通し券：8000 円\n＋1drink(¥600) \n□詳しくは\n<a href=”https://liveanima.jp/live/gig/live-house-pangea-presents「新世界festival-2023」”>https://liveanima.jp/live/gig/live-house-pangea-presents「新世界festival-2023」</a>
URL:https://namura.cc/event/2023-08-19-20/
ATTACH;FMTTYPE=image/jpeg:https://namura.cc/wp-content/uploads/2023/08/20230725-shinsakaifes2023.jpg
END:VEVENT
BEGIN:VEVENT
DTSTART;VALUE=DATE:20230816
DTEND;VALUE=DATE:20230817
DTSTAMP:20260422T095400
CREATED:20230819T070109Z
LAST-MODIFIED:20230907T102711Z
UID:4464-1692144000-1692230399@namura.cc
SUMMARY:GOOD TIME -summer fes-
DESCRIPTION:□日時\n2023年8月16日(水)\nOPEN 13:00\nSTART 14:00 \n□チケット\n3\,500円＋500円(1ドリンク)\n＊ドリンク500円は当日入場時の支払い \n□詳しくは\nhttps://t.livepocket.jp/e/pc8lo
URL:https://namura.cc/event/2023-08-16/
ATTACH;FMTTYPE=image/jpeg:https://namura.cc/wp-content/uploads/2023/08/20230807-gt-summer-fes.jpg
END:VEVENT
BEGIN:VEVENT
DTSTART;VALUE=DATE:20230812
DTEND;VALUE=DATE:20230814
DTSTAMP:20260422T095400
CREATED:20230819T070200Z
LAST-MODIFIED:20230907T102725Z
UID:4466-1691798400-1691971199@namura.cc
SUMMARY:miniちかっぱ祭ver.5.0 in OSAKA
DESCRIPTION:□日時\n2023年\n8月12日(土)開場10:30／開演11:30\n8月13日(日) 開場10:30／開演11:30 \n□チケット\n各日VIPチケット前売り券：12\,000円(当日1ドリンク600円別途必要)\n各日一般チケット前売り券 ：6\,000円(当日1ドリンク600円別途必要）\n※当日券の販売は状況によりご案内となります。 \n□詳しくは\nhttps://tiget.net/events/256528
URL:https://namura.cc/event/2023-08-12-13/
ATTACH;FMTTYPE=image/jpeg:https://namura.cc/wp-content/uploads/2023/08/20230731-tikappa.jpg
END:VEVENT
BEGIN:VEVENT
DTSTART;VALUE=DATE:20230726
DTEND;VALUE=DATE:20230801
DTSTAMP:20260422T095400
CREATED:20230819T071715Z
LAST-MODIFIED:20230907T102740Z
UID:4477-1690329600-1690847999@namura.cc
SUMMARY:ART OSAKA 2023 Expanded セクション
DESCRIPTION:□日時\n2023年7月26日(水)―7月31日(月)\n一般公開\n26日(水)・27日(木) 13:00―19:00\n28日(金)~30日(日) 11:00―19:00\n31日(月) 11:00―17:00 \n□チケット\nExpandedチケット\n¥1\,500 （当日窓口払いのみ） \n□詳しくは\nhttps://www.artosaka.jp/2023/jp/ \n 
URL:https://namura.cc/event/2023-07-26-31/
ATTACH;FMTTYPE=image/jpeg:https://namura.cc/wp-content/uploads/2023/08/2160415.jpg
END:VEVENT
BEGIN:VEVENT
DTSTART;VALUE=DATE:20230717
DTEND;VALUE=DATE:20230718
DTSTAMP:20260422T095400
CREATED:20230819T070312Z
LAST-MODIFIED:20230907T102754Z
UID:4469-1689552000-1689638399@namura.cc
SUMMARY:PARK IN PERK
DESCRIPTION:「PARKiiiNG」5周年を記念して開催される『PARK IN PERK』\nPARKiiiNGにゆかりのある19組のアーティストと7組のDJによるライブ。\n着なくなったファッションアイテムを交換するマーケットプレイス。\nPARKiiiNGのスタッフ達が常日頃から足を運ぶ飲食店9店舗の出店。\nPARK IN PERK特設のバーカウンタースペース。さらにグラフィティアーティストによるアートワーク、もちろんヘアアレンジまで。 \n⁡アクセス抜群で、海風感じる心地良い空間で音楽・ファッション・フード・アートと様々なカルチャーを誰でも手ぶらで1日楽しめるフェスとなってます。 \nPARK IN PERKでいつもとは違うPARKiiiNGをお楽しみください。 \n□日時\n2023年7月17日(月祝）\nOPEN 13:00-\nCLOSE 20:30-\n⁡\n□チケット\nhttps://eplus.jp/sf/detail/3879350001 \n  \n【ARTIST】\n⁡COZY ROOM\nDraw4\nGang Age\nHAEIN\nHAKU\nkojikoji\nKUJA\nMerry Delo\nNeighbors Complain\nNEWLY\nsaccharin\nShurkn Pap (MaisonDe)\nTAEYO\nTERU\nTOFU\nT-STONE\nYONA YONA WEEKENDERS\nYoung Coco\n空音\n［AtoZ］ \n⁡【DJ】\nHAGINAKA\nkengotaki(FULLHOUSE)\nKINPON(渋井不動産\,GRINDCIRCUS)\nnazanael(FULLHOUSE)\nryota(FULLHOUSE)\nSPI-K(from 梅田サイファー)\nTwilightclubs\n［ AtoZ］ \n⁡【SUPPORT】\n時空の歪み renga\nタソガレコーヒースタンド\n灯と戀\n［ AtoZ］ \n【FOOD】\nDADA\nGAGA\nover the over\nSAPPORO SOUP CURRY JACK\nTHE MUSEN IN SHOCK\nお料理 横目\n“今昔”鉄板湯川\nちから食堂\n肉と出汁 立ち呑みピラフ\n［ AtoZ］
URL:https://namura.cc/event/2023-07-17/
ATTACH;FMTTYPE=image/jpeg:https://namura.cc/wp-content/uploads/2023/08/20230707-pinp.jpg
END:VEVENT
BEGIN:VEVENT
DTSTART;VALUE=DATE:20230715
DTEND;VALUE=DATE:20230717
DTSTAMP:20260422T095400
CREATED:20230819T070405Z
LAST-MODIFIED:20230907T102808Z
UID:4471-1689379200-1689551999@namura.cc
SUMMARY:Odd Number Festival 23 summer
DESCRIPTION:□日時\n2023/07/15(土) 11:00開場 ∕ 12:00開演\n2023/07/16(日) 11:00開場 ∕ 12:00開演 \n□チケット\n1日券：各日前売料金(税込)/¥5\,000\n※別途ドリンク別 \n□詳しくは\nhttp://osakabronze.com/event/onf2023/
URL:https://namura.cc/event/2023-07-15-16/
ATTACH;FMTTYPE=image/jpeg:https://namura.cc/wp-content/uploads/2023/08/20230713-10129.jpg
END:VEVENT
BEGIN:VEVENT
DTSTART;TZID=Asia/Tokyo:20230714T150000
DTEND;TZID=Asia/Tokyo:20230714T154000
DTSTAMP:20260422T095400
CREATED:20230620T024102Z
LAST-MODIFIED:20230620T024102Z
UID:4445-1689346800-1689349200@namura.cc
SUMMARY:クリエイティブセンター大阪　ミニ見学ツアー vol.162
DESCRIPTION:近代化産業遺産に認定されている「名村造船跡地」=クリエイティブセンター大阪の館内見学ツアーです。\n造船所跡地の施設内をスタッフがご説明しながらご案内致します。\n※ツアー時間は40分程度を予定しております。（途中退場可） \n■日時\n2023年7月14日（金）15:00 ※30-40分程度\nクリエイティブセンター大阪　入口警備員室前集合 \n■参加方法\n予約不要・現地集合／参加費は無料です。\n※マスク着用、もしくはご持参ください。\n※動画撮影はNGとしております。 \n■お問合せ\n06-4702-7085（クリエイティブセンター大阪）
URL:https://namura.cc/event/2023-07-14/
ATTACH;FMTTYPE=image/jpeg:https://namura.cc/wp-content/uploads/2022/12/b0f3769176eeffbd5abb90e91461dc87-e1677758490252.jpg
END:VEVENT
BEGIN:VEVENT
DTSTART;VALUE=DATE:20230625
DTEND;VALUE=DATE:20230626
DTSTAMP:20260422T095400
CREATED:20230620T024537Z
LAST-MODIFIED:20230907T102905Z
UID:4447-1687651200-1687737599@namura.cc
SUMMARY:NO DANCE NO LIVE vol.4
DESCRIPTION:□日時\n2023年6月25日（日）\nOPEN 14:00-\nSTART 14:30-\nCLOSE 19:30- \n□チケット\n前売　¥2000-\n当日　¥2500-\n※別途１ドリンク¥500- \n□詳しくは\nhttps://www.instagram.com/ndnl_vol4/
URL:https://namura.cc/event/2023-06-25/
ATTACH;FMTTYPE=image/jpeg:https://namura.cc/wp-content/uploads/2023/06/20230618-ndnl4.jpg
END:VEVENT
BEGIN:VEVENT
DTSTART;TZID=Asia/Tokyo:20230609T150000
DTEND;TZID=Asia/Tokyo:20230609T154000
DTSTAMP:20260422T095400
CREATED:20230516T045405Z
LAST-MODIFIED:20230516T045522Z
UID:4437-1686322800-1686325200@namura.cc
SUMMARY:クリエイティブセンター大阪　ミニ見学ツアー vol.161
DESCRIPTION:近代化産業遺産に認定されている「名村造船跡地」=クリエイティブセンター大阪の館内見学ツアーです。\n造船所跡地の施設内をスタッフがご説明しながらご案内致します。\n※ツアー時間は40分程度を予定しております。（途中退場可） \n■日時\n2023年6月9日（金）15:00 ※30-40分程度\nクリエイティブセンター大阪　入口警備員室前集合 \n■参加方法\n予約不要・現地集合／参加費は無料です。\n※マスク着用、もしくはご持参ください。\n※動画撮影はNGとしております。 \n■お問合せ\n06-4702-7085（クリエイティブセンター大阪）
URL:https://namura.cc/event/20230609/
ATTACH;FMTTYPE=image/jpeg:https://namura.cc/wp-content/uploads/2022/12/b0f3769176eeffbd5abb90e91461dc87-e1677758490252.jpg
END:VEVENT
BEGIN:VEVENT
DTSTART;VALUE=DATE:20230603
DTEND;VALUE=DATE:20230605
DTSTAMP:20260422T095400
CREATED:20230518T030424Z
LAST-MODIFIED:20230518T030442Z
UID:4439-1685750400-1685923199@namura.cc
SUMMARY:SOU. 展
DESCRIPTION:□日時\n2023年\n6月3日(土) 10:00-17:00\n6月4日(日) 10:00-17:00 \n□詳しくは\nhttps://www.instagram.com/sou.plants/
URL:https://namura.cc/event/20230603-4/
ATTACH;FMTTYPE=image/png:https://namura.cc/wp-content/uploads/2023/05/sou.png
END:VEVENT
BEGIN:VEVENT
DTSTART;VALUE=DATE:20230527
DTEND;VALUE=DATE:20230529
DTSTAMP:20260422T095400
CREATED:20230511T084101Z
LAST-MODIFIED:20230511T084101Z
UID:4433-1685145600-1685318399@namura.cc
SUMMARY:関西エクストリームウォーク100
DESCRIPTION:□日時\n2023年5月27-28日\n〜11:00（最終時間）\n※クリエイティブセンター大阪は100km部門ゴール地点となります。 \n□詳しくは\nhttps://www.asahi.com/xtremewalk/kansai/
URL:https://namura.cc/event/%e9%96%a2%e8%a5%bf%e3%82%a8%e3%82%af%e3%82%b9%e3%83%88%e3%83%aa%e3%83%bc%e3%83%a0%e3%82%a6%e3%82%a9%e3%83%bc%e3%82%af100/
ATTACH;FMTTYPE=image/png:https://namura.cc/wp-content/uploads/2023/05/20230527.png
END:VEVENT
BEGIN:VEVENT
DTSTART;VALUE=DATE:20230521
DTEND;VALUE=DATE:20230522
DTSTAMP:20260422T095400
CREATED:20230428T031007Z
LAST-MODIFIED:20230428T031007Z
UID:3943-1684627200-1684713599@namura.cc
SUMMARY:HARUROC2023［ROC THE BATTLE × Jazz Showcase Challenge ］
DESCRIPTION:▫日時\n2023年5月21日(日)\nOPEN 12:00-\nSTART 13:00- \n▫チケット\n前売自由 ¥3\,500［1drink代 入場時別途 ¥500］\n当日自由 ¥4\,000［1drink代 入場時別途 ¥500］ \n▫詳しくは\nhttps://camuro.jp/haruroc2023/
URL:https://namura.cc/event/20230521/
ATTACH;FMTTYPE=image/jpeg:https://namura.cc/wp-content/uploads/2023/04/workshop-33-960x566-1.jpg
END:VEVENT
BEGIN:VEVENT
DTSTART;TZID=Asia/Tokyo:20230516T150000
DTEND;TZID=Asia/Tokyo:20230516T160000
DTSTAMP:20260422T095400
CREATED:20230425T014244Z
LAST-MODIFIED:20230429T132658Z
UID:3420-1684249200-1684252800@namura.cc
SUMMARY:クリエイティブセンター大阪　ミニ見学ツアー vol.160
DESCRIPTION:近代化産業遺産に認定されている「名村造船跡地」=クリエイティブセンター大阪の館内見学ツアーです。\n造船所跡地の施設内をスタッフがご説明しながらご案内致します。\n※ツアー時間は40分程度を予定しております。（途中退場可） \n■日時\n2023年5月16日（火）15:00 ※30-40分程度\nクリエイティブセンター大阪　入口警備員室前集合 \n■参加方法\n予約不要・現地集合／参加費は無料です。\n※マスク着用、もしくはご持参ください。\n※動画撮影はNGとしております。 \n■お問合せ\n06-4702-7085（クリエイティブセンター大阪）
URL:https://namura.cc/event/2023-05-16/
ATTACH;FMTTYPE=image/jpeg:https://namura.cc/wp-content/uploads/2022/12/b0f3769176eeffbd5abb90e91461dc87-e1677758490252.jpg
END:VEVENT
BEGIN:VEVENT
DTSTART;VALUE=DATE:20230514
DTEND;VALUE=DATE:20230515
DTSTAMP:20260422T095400
CREATED:20230427T054439Z
LAST-MODIFIED:20230427T054446Z
UID:3792-1684022400-1684108799@namura.cc
SUMMARY:ROCK THEJUICE NOSTALGIA
DESCRIPTION:▫日時\n2023年5月14日(日)\nOPEN:10:00-\nSTART:11:00- \n▫詳しくは\nhttps://www.instagram.com/back_to_nostalgia/
URL:https://namura.cc/event/2023-05-14/
ATTACH;FMTTYPE=image/jpeg:https://namura.cc/wp-content/uploads/2023/04/20230427-20230514.jpg
END:VEVENT
BEGIN:VEVENT
DTSTART;VALUE=DATE:20230429
DTEND;VALUE=DATE:20230430
DTSTAMP:20260422T095400
CREATED:20230418T082807Z
LAST-MODIFIED:20230418T082807Z
UID:3401-1682726400-1682812799@namura.cc
SUMMARY:愛酒でいと 2023
DESCRIPTION:□日時\n2023年4月29日 (土)\nOPEN:13:00 open\nSTART:13:30\nCLOSE:18:00 \n□料金\n前売り 3900 円(e プラス 4200 円)\n3月中旬販売開始!\n当日4300 円\n※前売りチケットは参加飲食店、酒販店にて販売します。\n※会場での飲食には別途費用(キャッシュオン)が必要です。\n※前売りチケットが完売した場合、当日券の販売はありません。 \n□詳しくは\nhttps://www.instagram.com/aishudeito/
URL:https://namura.cc/event/%e6%84%9b%e9%85%92%e3%81%a7%e3%81%84%e3%81%a8-2023/
ATTACH;FMTTYPE=image/jpeg:https://namura.cc/wp-content/uploads/2023/04/20230414-isyu_pop.jpg
END:VEVENT
BEGIN:VEVENT
DTSTART;VALUE=DATE:20230422
DTEND;VALUE=DATE:20230423
DTSTAMP:20260422T095400
CREATED:20230418T082850Z
LAST-MODIFIED:20230418T082850Z
UID:3404-1682121600-1682207999@namura.cc
SUMMARY:freak style session
DESCRIPTION:□日時\n2023年4月22日(土)\n11:00-20:00 \n□料金\nBattle ¥3000-\nDoor ¥2000-\nCospray ¥1000-
URL:https://namura.cc/event/freak-style-session/
ATTACH;FMTTYPE=image/jpeg:https://namura.cc/wp-content/uploads/2023/04/20230408-20230422.jpg
END:VEVENT
BEGIN:VEVENT
DTSTART;VALUE=DATE:20230420
DTEND;VALUE=DATE:20230421
DTSTAMP:20260422T095400
CREATED:20230418T082944Z
LAST-MODIFIED:20230418T082951Z
UID:3406-1681948800-1682035199@namura.cc
SUMMARY:JPMG presents Smoke Out
DESCRIPTION:□日時\n2023年4月20日(木)\nOPEN 15:20-\nSTART 16:20- \n□チケット\n・ticket PIA\nhttps://w.pia.jp/t/smokeout-o/ (P-code:238-588)\n・LAWSON ticket\nhttps://l-tike.com/smoke-out/ (L-code:54306)\n・e+\n<先行> https://eplus.jp/sf/detail/3822300001-P0030001\n<一般> https://eplus.jp/sf/detail/3823470001-P0030001 \n□お問い合わせ\nMTKプロモーション…mtkpromotion@gmail.com
URL:https://namura.cc/event/2023-04-20/
ATTACH;FMTTYPE=image/jpeg:https://namura.cc/wp-content/uploads/2023/04/20230314-20230420.jpg
END:VEVENT
BEGIN:VEVENT
DTSTART;VALUE=DATE:20230418
DTEND;VALUE=DATE:20230419
DTSTAMP:20260422T095400
CREATED:20230418T083030Z
LAST-MODIFIED:20230418T083036Z
UID:3408-1681776000-1681862399@namura.cc
SUMMARY:クリエイティブセンター大阪　ミニ見学ツアー vol.159
DESCRIPTION:近代化産業遺産に認定されている「名村造船跡地」=クリエイティブセンター大阪の館内見学ツアーです。\n造船所跡地の施設内をスタッフがご説明しながらご案内致します。\n※ツアー時間は40分程度を予定しております。（途中退場可） \n■日時\n2023年4月18日（火）15:00 ※30-40分程度\nクリエイティブセンター大阪　入口警備員室前集合 \n■参加方法\n予約不要・現地集合／参加費は無料です。\n※マスク着用、もしくはご持参ください。\n※動画撮影はNGとしております。 \n■お問合せ\n06-4702-7085（クリエイティブセンター大阪）
URL:https://namura.cc/event/2023-04-18/
ATTACH;FMTTYPE=image/jpeg:https://namura.cc/wp-content/uploads/2022/12/b0f3769176eeffbd5abb90e91461dc87-e1677758490252.jpg
END:VEVENT
BEGIN:VEVENT
DTSTART;VALUE=DATE:20230415
DTEND;VALUE=DATE:20230417
DTSTAMP:20260422T095400
CREATED:20230416T031252Z
LAST-MODIFIED:20230418T082709Z
UID:2820-1681516800-1681689599@namura.cc
SUMMARY:大阪造船所アイドルフェス
DESCRIPTION:□日時\n2023年\n4月15日（土）\n4月16日（日）\nOPEN 10:30-□チケット\n通常¥6000-+1D\n優先¥10000-+1D□詳しくは\nhttps://twitter.com/Osakazosenjo
URL:https://namura.cc/event/2023-04-15/
ATTACH;FMTTYPE=image/jpeg:https://namura.cc/wp-content/uploads/2023/04/20230412-20230415-16.jpg
END:VEVENT
BEGIN:VEVENT
DTSTART;VALUE=DATE:20230409
DTEND;VALUE=DATE:20230410
DTSTAMP:20260422T095400
CREATED:20230418T083143Z
LAST-MODIFIED:20230418T083256Z
UID:3410-1680998400-1681084799@namura.cc
SUMMARY:NAMURA ART MEETING ’04–’34 Vol.06「臨海の創造論Ⅱ EX-POSITIONING OVER 2025」
DESCRIPTION:□日時\n2023年4月9日（日）\n14:00～20:00　ミーティング#03\n14:30～16:00　ミーティング#01\n16:30～18:30　ミーティング#02 \n□料金\n前売 2\,000円\n当日 2\,500円\nオンライン配信 1\,000円\n※販売方法は後日発表 \n□ゲスト：\n＜ミーティング#01＞\n伊東豊雄（建築家）、藤村龍至（建築家・東京芸術大学准教授/RFA主宰） \n＜ミーティング#02＞\n家成俊勝（建築家）、笹原晃平（アーティスト）、多田智美（編集者）、塚原悠也（アーティスト）、モデレーター／山本浩貴（文化研究者） \n＜ミーティング#03>\nキュレーション／⽇野浩志郎(⾳楽家・作曲家)、作曲・構成／DODDODO(⾳楽家)、出演／関⼝⼤和（⾃作楽器、electronics）、梅⽥哲也 他、⽴⽯雷（笛、太⿎）、⽯原只寛（sax electronics）、カメイナホコ、Juri Suzue（electronics）、1729（DJ）、⾓⽮胡桃（electronics）、Flagio（Kontrabass）、⼭内弘太（guitar）、⼭本信紀（トランペット、electronics）、⽥上敦⺒（electronics）、吉⽥ヤスシ（vocal、electronics）、DODDODO（electronics） \n□詳しくは\nおおさか創造千島財団\nhttps://chishima-foundation.com/topics/news/20230228.html \n\nプレスリリース（2023/2/28） \n□主催\nNAMURA ART MEETING ’04–’34実行委員会
URL:https://namura.cc/event/2023-04-09/
ATTACH;FMTTYPE=image/jpeg:https://namura.cc/wp-content/uploads/2023/04/20230306-namu6.jpg
END:VEVENT
END:VCALENDAR