BEGIN:VCALENDAR
VERSION:2.0
PRODID:-//クリエイティブセンター大阪（CCO） - ECPv6.2.1//NONSGML v1.0//EN
CALSCALE:GREGORIAN
METHOD:PUBLISH
X-WR-CALNAME:クリエイティブセンター大阪（CCO）
X-ORIGINAL-URL:https://namura.cc
X-WR-CALDESC:クリエイティブセンター大阪（CCO） のイベント
REFRESH-INTERVAL;VALUE=DURATION:PT1H
X-Robots-Tag:noindex
X-PUBLISHED-TTL:PT1H
BEGIN:VTIMEZONE
TZID:Asia/Tokyo
BEGIN:STANDARD
TZOFFSETFROM:+0900
TZOFFSETTO:+0900
TZNAME:JST
DTSTART:20240101T000000
END:STANDARD
END:VTIMEZONE
BEGIN:VEVENT
DTSTART;VALUE=DATE:20240706
DTEND;VALUE=DATE:20240707
DTSTAMP:20260422T013824
CREATED:20240607T061454Z
LAST-MODIFIED:20240607T061554Z
UID:5528-1720224000-1720310399@namura.cc
SUMMARY:OURSONGS BAYSIDE FESTIVAL
DESCRIPTION:□日時\n2024年7月5日(土)\nOPEN 14:00-\nSTART 15:00-  \n□チケット\nADV. ￥7\,500 （1D代別途）\nチケットぴあ \n□詳しくは\nhttps://oursongs.jp
URL:https://namura.cc/event/20240706/
ATTACH;FMTTYPE=image/jpeg:https://namura.cc/wp-content/uploads/2024/06/20240706.jpg
END:VEVENT
BEGIN:VEVENT
DTSTART;VALUE=DATE:20240623
DTEND;VALUE=DATE:20240624
DTSTAMP:20260422T013824
CREATED:20240620T032233Z
LAST-MODIFIED:20240620T032233Z
UID:5538-1719100800-1719187199@namura.cc
SUMMARY:ASTROPOLITAN < PARTITA EDITION >
DESCRIPTION:□日時\n2024年6月23日(日)\nSTART 12:00-21:00 \n□チケット\nADVANCED(前売) 4\,000yen\nDOOR(当日) 5\,000yen\nU25(25歳以下) 3\,000yen\n※25歳以下の方は当日、受付で顔写真付きのIDをご提示ください \n□詳しくは\nhttps://dmt-ent.com/event/2024-06-23-astropolitan-partita-edition/
URL:https://namura.cc/event/20240623/
ATTACH;FMTTYPE=image/jpeg:https://namura.cc/wp-content/uploads/2024/06/20240623_ASTROPOLITAN.jpg
END:VEVENT
BEGIN:VEVENT
DTSTART;VALUE=DATE:20240615
DTEND;VALUE=DATE:20240616
DTSTAMP:20260422T013824
CREATED:20240528T034036Z
LAST-MODIFIED:20240528T034036Z
UID:5509-1718409600-1718495999@namura.cc
SUMMARY:CHOCOLATE SAVAGE vol.4
DESCRIPTION:□日時\n2024年6月15日(土)\nOPEN 13:30\nCLOSE 20:00 \n□チケット\n前売りチケット¥4\,000-\n当日チケット¥4\,500- \n□詳しくは\nhttps://www.instagram.com/chocolate.x.savage/
URL:https://namura.cc/event/20240615/
ATTACH;FMTTYPE=image/jpeg:https://namura.cc/wp-content/uploads/2024/05/20240615.jpg
END:VEVENT
BEGIN:VEVENT
DTSTART;TZID=Asia/Tokyo:20240614T150000
DTEND;TZID=Asia/Tokyo:20240614T154000
DTSTAMP:20260422T013824
CREATED:20240528T040113Z
LAST-MODIFIED:20240528T040145Z
UID:5512-1718377200-1718379600@namura.cc
SUMMARY:クリエイティブセンター大阪　ミニ見学ツアー vol.173
DESCRIPTION:近代化産業遺産に認定されている「名村造船跡地」=クリエイティブセンター大阪の館内見学ツアーです。\n造船所跡地の施設内をスタッフがご説明しながらご案内致します。\n※ツアー時間は40分程度を予定しております。（途中退場可） \n■日時\n2024年6月14日（金）15:00 ※30-40分程度\nクリエイティブセンター大阪　入口警備員室前集合 \n■参加方法\n予約不要・現地集合／参加費は無料です。\n※マスク着用、もしくはご持参ください。\n※動画撮影はNGとしております。 \n■お問合せ\n06-4702-7085（クリエイティブセンター大阪）
URL:https://namura.cc/event/20240614/
ATTACH;FMTTYPE=image/jpeg:https://namura.cc/wp-content/uploads/2022/12/9a1f83b5ea3772fe94e010ead633edc2.jpeg
END:VEVENT
BEGIN:VEVENT
DTSTART;VALUE=DATE:20240608
DTEND;VALUE=DATE:20240609
DTSTAMP:20260422T013824
CREATED:20240529T065336Z
LAST-MODIFIED:20240529T065336Z
UID:5520-1717804800-1717891199@namura.cc
SUMMARY:ちょこらび JAPAN DOMINATION TOUR 2024
DESCRIPTION:□日時\n2024年6月8日(土)\nOPEN 12:30\nSTART 13:00 \n□チケット\n￥5800- \n□詳しくは\nhttps://chocorabi.com
URL:https://namura.cc/event/20240608/
ATTACH;FMTTYPE=image/jpeg:https://namura.cc/wp-content/uploads/2024/05/4124-240402-1.jpg
END:VEVENT
BEGIN:VEVENT
DTSTART;VALUE=DATE:20240602
DTEND;VALUE=DATE:20240603
DTSTAMP:20260422T013824
CREATED:20240522T073442Z
LAST-MODIFIED:20240522T073442Z
UID:5504-1717286400-1717372799@namura.cc
SUMMARY:one hope -AVID 10th Anniversary-
DESCRIPTION:□日時\n2024年6月2日（日）\nOPEN 10:30-\nSTART 11:30-\nCLOSE 20:45- \n□料金\n¥3000 + 1drink Battle Entry\n¥3000 + 1drink Party （Battle 観覧込)\n¥4000 + 1drink Battle Entry + Party \n□詳しくは\nhttps://www.instagram.com/a.j_avid/
URL:https://namura.cc/event/20240602/
ATTACH;FMTTYPE=image/jpeg:https://namura.cc/wp-content/uploads/2024/05/20240602.jpg
END:VEVENT
BEGIN:VEVENT
DTSTART;TZID=Asia/Tokyo:20240524T150000
DTEND;TZID=Asia/Tokyo:20240524T153000
DTSTAMP:20260422T013824
CREATED:20240416T045013Z
LAST-MODIFIED:20240416T045013Z
UID:5441-1716562800-1716564600@namura.cc
SUMMARY:クリエイティブセンター大阪　ミニ見学ツアー vol.172
DESCRIPTION:近代化産業遺産に認定されている「名村造船跡地」=クリエイティブセンター大阪の館内見学ツアーです。\n造船所跡地の施設内をスタッフがご説明しながらご案内致します。\n※ツアー時間は40分程度を予定しております。（途中退場可） \n■日時\n2024年5月24日（金）15:00 ※30-40分程度\nクリエイティブセンター大阪　入口警備員室前集合 \n■参加方法\n予約不要・現地集合／参加費は無料です。\n※マスク着用、もしくはご持参ください。\n※動画撮影はNGとしております。 \n■お問合せ\n06-4702-7085（クリエイティブセンター大阪）
URL:https://namura.cc/event/20240524/
ATTACH;FMTTYPE=image/jpeg:https://namura.cc/wp-content/uploads/2022/12/9a1f83b5ea3772fe94e010ead633edc2.jpeg
END:VEVENT
BEGIN:VEVENT
DTSTART;TZID=Asia/Tokyo:20240519T000000
DTEND;TZID=Asia/Tokyo:20240519T235900
DTSTAMP:20260422T013824
CREATED:20240428T015233Z
LAST-MODIFIED:20240516T072734Z
UID:5456-1716076800-1716163140@namura.cc
SUMMARY:HARUROC 2024
DESCRIPTION:□日時\n2024年5月19日(日) \n□料金\n前売自由 ¥3\,500［1drink代 入場時別途 ¥600］\n当日自由 ¥4\,000［1drink代 入場時別途 ¥600］\nチケットぴあ〈Pコード 653-060〉 \n□詳しくは\nhttps://camuro.jp/haru24/
URL:https://namura.cc/event/20240519/
ATTACH;FMTTYPE=image/jpeg:https://namura.cc/wp-content/uploads/2024/04/20240519.jpg
END:VEVENT
BEGIN:VEVENT
DTSTART;VALUE=DATE:20240512
DTEND;VALUE=DATE:20240513
DTSTAMP:20260422T013824
CREATED:20240326T040022Z
LAST-MODIFIED:20240326T012212Z
UID:5395-1715472000-1715558399@namura.cc
SUMMARY:WONDER Spring DISHES 2024
DESCRIPTION:飲食部門とライブエンターテイメント部門の2つが同じイメージゴールを持ちクロスオーバーする春のフェスティバルイベント \n□日時\n2024年5月12日(日)\n12:00-20:00 (12:30ライブ開演) \n□入場料\n5\,000円（飲食チケット1\,500円付き） \nプレイガイド：\n【オンラインチケット】\n・Teket　https://teket.jp/9586/33185　（決済手数料が別途かかります）\n【ペーパーチケット取扱店】\n・炭火バルあじと　大阪府大阪市北区堂山町9-28 （06-6809-1988）\n・肉と米 焼肉えびす　大阪府大阪市堂山町1-17 （06-6809-5989） \n□出演アーティスト\nTaro (MC)、Violinist SHOGO、NOBU、メロフロート、落合渉、MEGAHORN、\nSatoru Nakagaki、Metis、ryuki hajimu、Ayam、sarA、WARSAN、SHO YOKOGAWA、INFINITY16、\nET-KING、大川良太郎（劇団九州男）、椿千春（劇団九州男） \n□飲食出店店舗\n炭火バルあじと、肉と米焼肉えびす、Off Canale \n□詳しくは\nhttps://www.instagram.com/wonderspringdishes
URL:https://namura.cc/event/20240512/
ATTACH;FMTTYPE=image/jpeg:https://namura.cc/wp-content/uploads/2024/03/20240512.jpg
END:VEVENT
BEGIN:VEVENT
DTSTART;VALUE=DATE:20240506
DTEND;VALUE=DATE:20240507
DTSTAMP:20260422T013824
CREATED:20240404T045713Z
LAST-MODIFIED:20240501T014204Z
UID:5412-1714953600-1715039999@namura.cc
SUMMARY:大日本プロレス「大阪サプライズ72〜名村アドベンチャー•スプラッシュ2024」
DESCRIPTION:□日時\n2024年5月6日（月祝）\n【タイムスケジュール】\n11:30　当日券販売＆チケット引換開始\n12:30　開場\n12:30～12:40　2ショットチェキ撮影会(一般1\,000円・FCBJ会員500円)\n13:00　開始 \n□詳しくは\nhttps://bjw.co.jp/schedule/s2024-05-06/
URL:https://namura.cc/event/20240506/
ATTACH;FMTTYPE=image/jpeg:https://namura.cc/wp-content/uploads/2024/04/IMG_6908-1.jpeg
END:VEVENT
BEGIN:VEVENT
DTSTART;VALUE=DATE:20240428
DTEND;VALUE=DATE:20240429
DTSTAMP:20260422T013824
CREATED:20240324T055343Z
LAST-MODIFIED:20240324T055343Z
UID:5392-1714262400-1714348799@namura.cc
SUMMARY:Freak style session vol.16
DESCRIPTION:□日時\n2024年4月28日(日)\n11:00- OPEN\n12:00- START\n20:00- CLOSE \n□料金\nEntry / 3500yen\n観戦 / 2500yen\nコスプレ観戦 / 1500yen \n□詳しくは\nhttps://twitter.com/fk_stylesession
URL:https://namura.cc/event/20240428/
ATTACH;FMTTYPE=image/jpeg:https://namura.cc/wp-content/uploads/2024/03/20240428.jpg
END:VEVENT
BEGIN:VEVENT
DTSTART;VALUE=DATE:20240421
DTEND;VALUE=DATE:20240422
DTSTAMP:20260422T013824
CREATED:20240412T054515Z
LAST-MODIFIED:20240416T045239Z
UID:5429-1713657600-1713743999@namura.cc
SUMMARY:ダブプロレス「クローズ・トゥ・ジ・エッジ」
DESCRIPTION:□日時\n2024年4月21日(日)\nOPEN 15：00　\nSTART 15:30 \n□入場料\n前売り(スタンディング) ￥6000-\n当日　￥7500-\nU-18　￥3000-　　\n※各1ドリンクオーダー￥600- \n□詳しくは\nhttp://www.dovepro.net/archives/51288673.html
URL:https://namura.cc/event/20240421/
ATTACH;FMTTYPE=image/jpeg:https://namura.cc/wp-content/uploads/2024/04/9b1c2347dc3536a3c9e11e16c50b827a.jpg
END:VEVENT
BEGIN:VEVENT
DTSTART;VALUE=DATE:20240420
DTEND;VALUE=DATE:20240421
DTSTAMP:20260422T013824
CREATED:20240414T083038Z
LAST-MODIFIED:20240414T083038Z
UID:5438-1713571200-1713657599@namura.cc
SUMMARY:JPMG presents Smoke Out supported by Cookies
DESCRIPTION:□日時\n2024年 4月 20日 (土)\nOPEN/START   15:20/16:20 \n□料金\n先行前売 ¥4，200\n一般前売 ¥6\,000\n当日 ¥未定\nticket PIA https://w.pia.jp/t/smokeout-o/ (P-code:265-067)\nLAWSON ticket https://l-tike.com/search/?lcd=53349 (L-code:53349)\ne+ https://eplus.jp/sf/detail/4051570001-P0030001\ne+ https://eplus.jp/sf/detail/4052870001-P0030001 \n□詳しくは\nhttps://backyard-promotion.com/contact_new/
URL:https://namura.cc/event/20240420/
ATTACH;FMTTYPE=image/jpeg:https://namura.cc/wp-content/uploads/2024/04/GKIVgWNbIAEF2N-.jpeg
END:VEVENT
BEGIN:VEVENT
DTSTART;TZID=Asia/Tokyo:20240419T150000
DTEND;TZID=Asia/Tokyo:20240419T154000
DTSTAMP:20260422T013824
CREATED:20240314T055144Z
LAST-MODIFIED:20240314T055144Z
UID:5381-1713538800-1713541200@namura.cc
SUMMARY:クリエイティブセンター大阪　ミニ見学ツアー vol.171
DESCRIPTION:近代化産業遺産に認定されている「名村造船跡地」=クリエイティブセンター大阪の館内見学ツアーです。\n造船所跡地の施設内をスタッフがご説明しながらご案内致します。\n※ツアー時間は40分程度を予定しております。（途中退場可） \n■日時\n2024年4月19日（金）15:00 ※30-40分程度\nクリエイティブセンター大阪　入口警備員室前集合 \n■参加方法\n予約不要・現地集合／参加費は無料です。\n※マスク着用、もしくはご持参ください。\n※動画撮影はNGとしております。 \n■お問合せ\n06-4702-7085（クリエイティブセンター大阪）
URL:https://namura.cc/event/20240419/
ATTACH;FMTTYPE=image/jpeg:https://namura.cc/wp-content/uploads/2022/12/9a1f83b5ea3772fe94e010ead633edc2.jpeg
END:VEVENT
BEGIN:VEVENT
DTSTART;VALUE=DATE:20240413
DTEND;VALUE=DATE:20240415
DTSTAMP:20260422T013824
CREATED:20240404T014442Z
LAST-MODIFIED:20240404T014442Z
UID:5406-1712966400-1713139199@namura.cc
SUMMARY:大阪造船所アイドルフェスmini
DESCRIPTION:□日時\n2024年\n4月13日（土）\n4月14日（日）\nOPEN 10:30 /START 11:30　 \n□チケット\n通常 5\,000円 / 優先 8\,000円（+1DRINK600円）\n⚫︎4月13日（土）\n🔗https://t.livepocket.jp/e/zosenjo240413\n⚫︎4月14日（日）\n🔗https://t.livepocket.jp/e/zosenjo240414 \n□詳しくは\nhttps://t.livepocket.jp/p/qj52r?eid=306307
URL:https://namura.cc/event/20240413-14/
ATTACH;FMTTYPE=image/jpeg:https://namura.cc/wp-content/uploads/2024/04/20240413-14.jpeg
END:VEVENT
BEGIN:VEVENT
DTSTART;VALUE=DATE:20240331
DTEND;VALUE=DATE:20240401
DTSTAMP:20260422T013824
CREATED:20240321T024822Z
LAST-MODIFIED:20240321T024955Z
UID:5387-1711843200-1711929599@namura.cc
SUMMARY:極上 第二章
DESCRIPTION:□日時\n2024年3月31日\nOPEN 13:00 CLOSE 21:00\n[PARTITTA OPEN 14:30] \n□チケット\n前売：3\,000円(税込)\n当日：3\,500円(税込)\n※別途ドリンク代600円(税込)+マグロチケット600円(税込)必要 \n□詳しくは\nhttps://www.instagram.com/gokujyo_entertainment/
URL:https://namura.cc/event/20240331/
ATTACH;FMTTYPE=image/jpeg:https://namura.cc/wp-content/uploads/2024/03/e7ff6944b9d704ff36dbf088acf0fdad.jpg
END:VEVENT
BEGIN:VEVENT
DTSTART;VALUE=DATE:20240330
DTEND;VALUE=DATE:20240331
DTSTAMP:20260422T013824
CREATED:20240329T095001Z
LAST-MODIFIED:20240329T095001Z
UID:5400-1711756800-1711843199@namura.cc
SUMMARY:3/30(土)はイベントはございません。
DESCRIPTION:3/30は主催者の都合でイベントはキャンセルされております。 \n現在主催者に対応を確認中です。 \nクリエイティブセンター大阪
URL:https://namura.cc/event/20240330/
ATTACH;FMTTYPE=:
END:VEVENT
BEGIN:VEVENT
DTSTART;VALUE=DATE:20240324
DTEND;VALUE=DATE:20240325
DTSTAMP:20260422T013824
CREATED:20240318T034255Z
LAST-MODIFIED:20240318T034255Z
UID:5384-1711238400-1711324799@namura.cc
SUMMARY:ICE CREAM OSAKA 13周年
DESCRIPTION:□日時\n2024年3月24日(日)\nOPEN 14:00 CLOSE 21:00\nSTUDO PARTITTA 16:00-20:50 \n□チケット\n前売券：¥5\,000当日券：¥6\,000\n共に別途¥1\,000(1ドリンク+1フード付き）\n小学生以下入場無料（但し保護者同伴） \n□詳しくは\nhttps://twitter.com/ICE_CREAM_osaka
URL:https://namura.cc/event/20240324/
ATTACH;FMTTYPE=image/jpeg:https://namura.cc/wp-content/uploads/2024/03/ICO13.jpeg
END:VEVENT
BEGIN:VEVENT
DTSTART;VALUE=DATE:20240316
DTEND;VALUE=DATE:20240318
DTSTAMP:20260422T013824
CREATED:20240305T062827Z
LAST-MODIFIED:20240305T062827Z
UID:5372-1710547200-1710719999@namura.cc
SUMMARY:miniちかっぱ祭ver.9.0 in OSAKA
DESCRIPTION:□日時\n2024年\n3月16日(土) 開場10:30／開演11:30\n3月17日(日) 開場10:30／開演11:30 \n□チケット\n各日VIPチケット前売り券：12\,000円(当日1ドリンク600円別途必要)\n各日一般チケット前売り券 ：6\,000円(当日1ドリンク600円別途必要）\n※当日券の販売は状況によりご案内となります。\nTIGET\nhttps://tiget.net/events/301257 \n□詳しくは\nhttps://info6970450.wixsite.com/my-site/minichicappa9
URL:https://namura.cc/event/20240316-17/
ATTACH;FMTTYPE=image/jpeg:https://namura.cc/wp-content/uploads/2024/03/470df0d1ac0147bac2a37616b970d0bb.jpg
END:VEVENT
BEGIN:VEVENT
DTSTART;TZID=Asia/Tokyo:20240314T150000
DTEND;TZID=Asia/Tokyo:20240314T154000
DTSTAMP:20260422T013824
CREATED:20240219T044952Z
LAST-MODIFIED:20240219T044952Z
UID:5355-1710428400-1710430800@namura.cc
SUMMARY:クリエイティブセンター大阪　ミニ見学ツアー vol.170
DESCRIPTION:近代化産業遺産に認定されている「名村造船跡地」=クリエイティブセンター大阪の館内見学ツアーです。\n造船所跡地の施設内をスタッフがご説明しながらご案内致します。\n※ツアー時間は40分程度を予定しております。（途中退場可） \n■日時\n2024年3月14日（木）15:00 ※30-40分程度\nクリエイティブセンター大阪　入口警備員室前集合 \n■参加方法\n予約不要・現地集合／参加費は無料です。\n※マスク着用、もしくはご持参ください。\n※動画撮影はNGとしております。 \n■お問合せ\n06-4702-7085（クリエイティブセンター大阪）
URL:https://namura.cc/event/20240314/
ATTACH;FMTTYPE=image/jpeg:https://namura.cc/wp-content/uploads/2022/12/9a1f83b5ea3772fe94e010ead633edc2.jpeg
END:VEVENT
BEGIN:VEVENT
DTSTART;VALUE=DATE:20240308
DTEND;VALUE=DATE:20240310
DTSTAMP:20260422T013824
CREATED:20240219T045730Z
LAST-MODIFIED:20240314T054923Z
UID:5357-1709856000-1710028799@namura.cc
SUMMARY:おおさか創造千島財団スペース助成「Stilllive 2024 : Kinetic Net」
DESCRIPTION:□日時\n2024年\n3月8日(金)〜 9日 (土) 18:00-20:00\n​\n□料金\n一般：3\,500円／U25：2\,500円\nPeatix予約：https://stilllive2024.peatix.com\n​\n□詳しくは\nhttps://www.stilllive.org/activity \n主催：Stilllive\n助成：一般財団法人おおさか創造千島財団、大阪市助成
URL:https://namura.cc/event/20240308-9/
ATTACH;FMTTYPE=image/jpeg:https://namura.cc/wp-content/uploads/2024/02/stilllive.jpeg
END:VEVENT
BEGIN:VEVENT
DTSTART;VALUE=DATE:20240302
DTEND;VALUE=DATE:20240303
DTSTAMP:20260422T013824
CREATED:20240227T041838Z
LAST-MODIFIED:20240227T041838Z
UID:5364-1709337600-1709423999@namura.cc
SUMMARY:MARVELOUS SPRING 2024
DESCRIPTION:□日時\n2024年3月2日(土）\nOPEN 14:00\nCLOSE 21:00 \n□チケット\nTICKET ¥1\,000\n※12歳未満入場料のみ無料\n※入場の際に別途¥2\,000必要(2drink1food代) \n□詳しくは\nhttps://www.instagram.com/marvelous_group/
URL:https://namura.cc/event/20240302/
ATTACH;FMTTYPE=image/jpeg:https://namura.cc/wp-content/uploads/2024/02/20240302.jpeg
END:VEVENT
BEGIN:VEVENT
DTSTART;VALUE=DATE:20240225
DTEND;VALUE=DATE:20240226
DTSTAMP:20260422T013824
CREATED:20240215T024439Z
LAST-MODIFIED:20240215T024752Z
UID:5350-1708819200-1708905599@namura.cc
SUMMARY:DROP POROX ダンス発表会
DESCRIPTION:□日時\n2024年2月25日(日)\nOPEN 10:30-\nSTART 11:00-\nCLOSE 18:00-
URL:https://namura.cc/event/20240225/
ATTACH;FMTTYPE=image/png:https://namura.cc/wp-content/uploads/2023/10/noimage.png
END:VEVENT
BEGIN:VEVENT
DTSTART;VALUE=DATE:20240221
DTEND;VALUE=DATE:20240226
DTSTAMP:20260422T013824
CREATED:20240120T045334Z
LAST-MODIFIED:20240120T045450Z
UID:5317-1708473600-1708905599@namura.cc
SUMMARY:咲くやこの花賞受賞記念展示 『國久真有 PLATEAU –儚さと無我を愛する 、ぐるぐる –』
DESCRIPTION:□日時\n2024年\n2月21日［水］～25日［日］\n12:00–18:00 \n□料金\n無料 \n□詳しくは\nhttps://ameblo.jp/artsintegrate/entry-12836876425.html
URL:https://namura.cc/event/20240221-25/
ATTACH;FMTTYPE=image/jpeg:https://namura.cc/wp-content/uploads/2024/01/202402kunihisa_o.jpg
END:VEVENT
BEGIN:VEVENT
DTSTART;TZID=Asia/Tokyo:20240216T150000
DTEND;TZID=Asia/Tokyo:20240216T154000
DTSTAMP:20260422T013824
CREATED:20240125T014913Z
LAST-MODIFIED:20240125T014925Z
UID:5322-1708095600-1708098000@namura.cc
SUMMARY:クリエイティブセンター大阪　ミニ見学ツアー vol.169
DESCRIPTION:近代化産業遺産に認定されている「名村造船跡地」=クリエイティブセンター大阪の館内見学ツアーです。\n造船所跡地の施設内をスタッフがご説明しながらご案内致します。\n※ツアー時間は40分程度を予定しております。（途中退場可） \n■日時\n2024年2月16日（金）15:00 ※30-40分程度\nクリエイティブセンター大阪　入口警備員室前集合 \n■参加方法\n予約不要・現地集合／参加費は無料です。\n※マスク着用、もしくはご持参ください。\n※動画撮影はNGとしております。 \n■お問合せ\n06-4702-7085（クリエイティブセンター大阪）
URL:https://namura.cc/event/20240216/
ATTACH;FMTTYPE=image/jpeg:https://namura.cc/wp-content/uploads/2022/12/9a1f83b5ea3772fe94e010ead633edc2.jpeg
END:VEVENT
BEGIN:VEVENT
DTSTART;VALUE=DATE:20240208
DTEND;VALUE=DATE:20240209
DTSTAMP:20260422T013824
CREATED:20240120T042904Z
LAST-MODIFIED:20240120T042904Z
UID:5314-1707350400-1707436799@namura.cc
SUMMARY:地球人 あ～とふぇす ～「芸術家」のいない芸術祭～
DESCRIPTION:□日時\n2024年2月8日(水)\nOPEN 10:00-\nCLOSE 18:00- \n□料金\n¥500- \n□詳しくは\nhttps://artfes-tlife.hp.peraichi.com/
URL:https://namura.cc/event/20240208/
ATTACH;FMTTYPE=image/jpeg:https://namura.cc/wp-content/uploads/2024/01/20240208.jpeg
END:VEVENT
BEGIN:VEVENT
DTSTART;VALUE=DATE:20240127
DTEND;VALUE=DATE:20240129
DTSTAMP:20260422T013824
CREATED:20231230T065729Z
LAST-MODIFIED:20231230T091231Z
UID:5285-1706313600-1706486399@namura.cc
SUMMARY:3ブランドの体験会
DESCRIPTION:ゼインアーツ小杉敬さんが手掛ける３ブランド、yozora、SABBATICAL、ZANE ARTSのテントの展示会です。\nサイズや質感などを実際に見て感じて比べることができます。 \n□日時\n2024年\n1月27日（土）11:00-17:00\n1月28日（日）11:00-17:00 \n□入場料\n入場無料はです。 \n□詳しくは\nhttps://www.1101.com/store/yozora_camp/kohaku.html
URL:https://namura.cc/event/20240127-28/
ATTACH;FMTTYPE=image/jpeg:https://namura.cc/wp-content/uploads/2023/12/2024012728.jpg
END:VEVENT
BEGIN:VEVENT
DTSTART;TZID=Asia/Tokyo:20240125T150000
DTEND;TZID=Asia/Tokyo:20240125T154000
DTSTAMP:20260422T013824
CREATED:20231215T050541Z
LAST-MODIFIED:20231215T050541Z
UID:5242-1706194800-1706197200@namura.cc
SUMMARY:クリエイティブセンター大阪　ミニ見学ツアー vol.168
DESCRIPTION:近代化産業遺産に認定されている「名村造船跡地」=クリエイティブセンター大阪の館内見学ツアーです。\n造船所跡地の施設内をスタッフがご説明しながらご案内致します。\n※ツアー時間は40分程度を予定しております。（途中退場可） \n■日時\n2024年1月25日（木）15:00 ※30-40分程度\nクリエイティブセンター大阪　入口警備員室前集合 \n■参加方法\n予約不要・現地集合／参加費は無料です。\n※マスク着用、もしくはご持参ください。\n※動画撮影はNGとしております。 \n■お問合せ\n06-4702-7085（クリエイティブセンター大阪）
URL:https://namura.cc/event/20240125/
ATTACH;FMTTYPE=image/jpeg:https://namura.cc/wp-content/uploads/2022/12/9a1f83b5ea3772fe94e010ead633edc2.jpeg
END:VEVENT
BEGIN:VEVENT
DTSTART;TZID=Asia/Tokyo:20240116T150000
DTEND;TZID=Asia/Tokyo:20240116T154000
DTSTAMP:20260422T013824
CREATED:20231215T050146Z
LAST-MODIFIED:20231215T050626Z
UID:5240-1705417200-1705419600@namura.cc
SUMMARY:クリエイティブセンター大阪　ミニ見学ツアー vol.167
DESCRIPTION:近代化産業遺産に認定されている「名村造船跡地」=クリエイティブセンター大阪の館内見学ツアーです。\n造船所跡地の施設内をスタッフがご説明しながらご案内致します。\n※ツアー時間は40分程度を予定しております。（途中退場可） \n■日時\n2024年1月16日（火）15:00 ※30-40分程度\nクリエイティブセンター大阪　入口警備員室前集合 \n■参加方法\n予約不要・現地集合／参加費は無料です。\n※マスク着用、もしくはご持参ください。\n※動画撮影はNGとしております。 \n■お問合せ\n06-4702-7085（クリエイティブセンター大阪）
URL:https://namura.cc/event/20240116/
ATTACH;FMTTYPE=image/jpeg:https://namura.cc/wp-content/uploads/2022/12/b0f3769176eeffbd5abb90e91461dc87-e1677758490252.jpg
END:VEVENT
BEGIN:VEVENT
DTSTART;VALUE=DATE:20240114
DTEND;VALUE=DATE:20240115
DTSTAMP:20260422T013824
CREATED:20231202T050958Z
LAST-MODIFIED:20231202T050958Z
UID:5225-1705190400-1705276799@namura.cc
SUMMARY:Ryoji Matsui 2024 First collection.
DESCRIPTION:■日時\n2024年1月14日(日)\nOPEN 18:00-\nSTART 18:30- \n■チケット\nRegular ¥ 2\,500-\nStudents ¥ 1\,500- \n■詳しくは\nhttps://www.instagram.com/ryoji__matsui/
URL:https://namura.cc/event/ryoji-matsui-2024-first-collection/
ATTACH;FMTTYPE=image/jpeg:https://namura.cc/wp-content/uploads/2023/12/20240114.jpg
END:VEVENT
END:VCALENDAR