BEGIN:VCALENDAR
VERSION:2.0
PRODID:-//クリエイティブセンター大阪（CCO） - ECPv6.2.1//NONSGML v1.0//EN
CALSCALE:GREGORIAN
METHOD:PUBLISH
X-WR-CALNAME:クリエイティブセンター大阪（CCO）
X-ORIGINAL-URL:https://namura.cc
X-WR-CALDESC:クリエイティブセンター大阪（CCO） のイベント
REFRESH-INTERVAL;VALUE=DURATION:PT1H
X-Robots-Tag:noindex
X-PUBLISHED-TTL:PT1H
BEGIN:VTIMEZONE
TZID:Asia/Tokyo
BEGIN:STANDARD
TZOFFSETFROM:+0900
TZOFFSETTO:+0900
TZNAME:JST
DTSTART:20210101T000000
END:STANDARD
END:VTIMEZONE
BEGIN:VEVENT
DTSTART;VALUE=DATE:20211030
DTEND;VALUE=DATE:20211031
DTSTAMP:20260423T071008
CREATED:20230416T021737Z
LAST-MODIFIED:20230416T021832Z
UID:2797-1635552000-1635638399@namura.cc
SUMMARY:夢を叶えるファッションショー
DESCRIPTION:□日時\n2021年10月30日 （土）\n開場：13:00\n開演：14:00〜18:00\n※定員：94名 \n□チケット\n10\,500円（税抜き）早割りあり\nURL: https://fashionshow-sayaka.peatix.com \n□お問い合わせ先\n夢を叶えるファッションショープロジェクト\nE-mail：sayaka.project1030@gmail.com \n□主催\nSAYAKA
URL:https://namura.cc/event/2021-10-30/
ATTACH;FMTTYPE=image/jpeg:https://namura.cc/wp-content/uploads/2023/04/20210921-20211030yumewokanaeru.jpg
END:VEVENT
BEGIN:VEVENT
DTSTART;VALUE=DATE:20211024
DTEND;VALUE=DATE:20211025
DTSTAMP:20260423T071008
CREATED:20230416T022211Z
LAST-MODIFIED:20230416T022211Z
UID:2799-1635033600-1635119999@namura.cc
SUMMARY:Dub Meeting Osaka Soundsystem Special
DESCRIPTION:大阪のPARTITTA(名村造船所跡地)にて２つの大型サウンドシステムを導入したDubイベントが開催される。UKスタイルのDub/Rootsイベントを展開するDub Meeting Osakaの久々のイベントは、サウンドシステムスペシャルと題して東京からEastaudio SoundsystemとBim One Productionを招聘する。大阪側では関西最強のサウンドシステムとして知られる最高音響を導入し、最高音響側ではDub Meeting Osakaクルーがプレイ、EastaudioサイドではBim One Productionが交互にプレイしセレクションと重低音の鳴りを競い合う。 \n□日時\n2021年10月24日（日）\nSTART：15:00\nCLOSE：20:00 \n□チケット\nAdv:¥1\,000 (D別) / Door:¥1\,500 (D別)\ne+にて販売 \n* 前売り詳細は来週中に追って更新予定です。\n*新形コロナウイルス感染症拡大防止の為、入場時の検温、マスク着用、消毒等の感染対策にご協力願います。 \n□詳しくは\nhttps://www.instagram.com/dub_meeting_osaka/?hl=ja\n  \n□出演 \nBim One Production\n(e-mura\,1TA)\nwith\neastaudio SOUNDSYSTEM \nVS \nDub Meeting Osaka\n(Element\, Dub Kazman\, Sak-Dub-I)\nwith\n最高音響SOUNDSYSTEM \nShop by grassroots \nFood by mr.samosa
URL:https://namura.cc/event/2021-10-24/
ATTACH;FMTTYPE=image/jpeg:https://namura.cc/wp-content/uploads/2023/04/20211005-DMO.jpg
END:VEVENT
BEGIN:VEVENT
DTSTART;VALUE=DATE:20211022
DTEND;VALUE=DATE:20211023
DTSTAMP:20260423T071008
CREATED:20230416T023727Z
LAST-MODIFIED:20230511T031051Z
UID:2801-1634860800-1634947199@namura.cc
SUMMARY:クリエイティブセンター大阪　ミニ見学ツアー vol.137
DESCRIPTION:近代化産業遺産に認定されている「名村造船跡地」=クリエイティブセンター大阪の館内見学ツアーです。\n造船所跡地の施設内をスタッフがご説明しながらご案内致します。\n※ツアー時間は40分程度を予定しております。（途中退場可） \n■日時　2021年10月22日（金）15:00 ※40分程度\nクリエイティブセンター大阪　入口警備員室前集合 \n■参加方法\n予約不要・現地集合／参加費は無料です。\n※マスク着用、もしくはご持参ください。\n※動画撮影はNGとしております。 \n■お問合せ\n06-4702-7085（クリエイティブセンター大阪）
URL:https://namura.cc/event/2021-10-22/
ATTACH;FMTTYPE=image/jpeg:https://namura.cc/wp-content/uploads/2022/12/b0f3769176eeffbd5abb90e91461dc87-e1677758490252.jpg
END:VEVENT
BEGIN:VEVENT
DTSTART;VALUE=DATE:20211017
DTEND;VALUE=DATE:20211018
DTSTAMP:20260423T071008
CREATED:20230416T025229Z
LAST-MODIFIED:20230416T025245Z
UID:2805-1634428800-1634515199@namura.cc
SUMMARY:第2次 #スーパーロボコス大展
DESCRIPTION:□日時\n2021年10月17日（日）\nOPEN : 11:00-\nCLOSE : 17:00- \n□入場料\n無料 \n□詳しくは\n・公式ホームページ\nhttps://www.s-r-e-2021.com/\n・公式Twitterアカウント\nhttps://twitter.com/Robocos_Expo
URL:https://namura.cc/event/2021-10-17-2/
ATTACH;FMTTYPE=image/jpeg:https://namura.cc/wp-content/uploads/2023/04/20211005-robokos.jpg
END:VEVENT
BEGIN:VEVENT
DTSTART;VALUE=DATE:20211017
DTEND;VALUE=DATE:20211018
DTSTAMP:20260423T071008
CREATED:20230416T024817Z
LAST-MODIFIED:20230416T025127Z
UID:2803-1634428800-1634515199@namura.cc
SUMMARY:DROP POROX ダンス発表会
DESCRIPTION:□日時\n2021年10月17日（日）\nOPEN 11:00-\n※5部制になります。 \n□詳しくは\nhttp://porox.jp/
URL:https://namura.cc/event/2021-10-17/
ATTACH;FMTTYPE=:
END:VEVENT
BEGIN:VEVENT
DTSTART;VALUE=DATE:20211015
DTEND;VALUE=DATE:20211016
DTSTAMP:20260423T071008
CREATED:20230416T025525Z
LAST-MODIFIED:20230511T031035Z
UID:2808-1634256000-1634342399@namura.cc
SUMMARY:クリエイティブセンター大阪　ミニ見学ツアー vol.136
DESCRIPTION:近代化産業遺産に認定されている「名村造船跡地」=クリエイティブセンター大阪の館内見学ツアーです。\n造船所跡地の施設内をスタッフがご説明しながらご案内致します。\n※ツアー時間は40分程度を予定しております。（途中退場可） \n■日時　2021年10月15日（金）15:00 ※40分程度\nクリエイティブセンター大阪　入口警備員室前集合 \n■参加方法\n予約不要・現地集合／参加費は無料です。\n※マスク着用、もしくはご持参ください。\n※動画撮影はNGとしております。 \n■お問合せ\n06-4702-7085（クリエイティブセンター大阪）
URL:https://namura.cc/event/2021-10-15/
ATTACH;FMTTYPE=image/jpeg:https://namura.cc/wp-content/uploads/2022/12/b0f3769176eeffbd5abb90e91461dc87-e1677758490252.jpg
END:VEVENT
BEGIN:VEVENT
DTSTART;VALUE=DATE:20211009
DTEND;VALUE=DATE:20211010
DTSTAMP:20260423T071008
CREATED:20230416T030012Z
LAST-MODIFIED:20230416T030012Z
UID:2810-1633737600-1633823999@namura.cc
SUMMARY:YES SESSION　DAY 1
DESCRIPTION:□2021年10月9日(土)\nOPEN 12:00\nSTART 13:00\nCLOSE 20:00 \n□詳しくは\nhttps://yessession.base.shop/items/53028261
URL:https://namura.cc/event/2021-10-09/
ATTACH;FMTTYPE=:
END:VEVENT
BEGIN:VEVENT
DTSTART;VALUE=DATE:20211003
DTEND;VALUE=DATE:20211004
DTSTAMP:20260423T071008
CREATED:20230416T030428Z
LAST-MODIFIED:20230416T030459Z
UID:2814-1633219200-1633305599@namura.cc
SUMMARY:-ITAMI GREENJAM plesents- 「EVERGREEN LIVE」
DESCRIPTION:□日時\n2021年10月3日(日)\n※感染予防対策の為、2部制。両部共に約3時間入替制にて実施。\npart1(1部) OPEN 12:00 /STRAT 12:30\npart2(2部) OPEN 16:30 /STRAT 17:00 \n□チケット\npart1 ￥5000(+1drink) / part2￥5000(+1drink) \n□出演\n<1部出演アーティスト>\nガガガSP / ドミコ / 下津光史(踊ってばかりの国) / nayuta \n<2部出演アーティスト>\nTHA BLUE HERB / MOROHA / ONEDER \n□詳しくは\nhttp://itamigreenjam.com/
URL:https://namura.cc/event/2021-10-03/
ATTACH;FMTTYPE=image/jpeg:https://namura.cc/wp-content/uploads/2023/04/20210921-evergreen2021.jpg
END:VEVENT
BEGIN:VEVENT
DTSTART;VALUE=DATE:20211002
DTEND;VALUE=DATE:20211003
DTSTAMP:20260423T071008
CREATED:20230416T030640Z
LAST-MODIFIED:20230416T030640Z
UID:2817-1633132800-1633219199@namura.cc
SUMMARY:HIGHEST MOUNTAIN 2021 REVENGE
DESCRIPTION:□日時\n2021年10月2日(土)\n開場：14:00− \n□チケット\n前売券 7\,800円(タオル付)\n※ドリンク代別途必要 \n□詳しくは\nhttps://www.highestmountain.jp/
URL:https://namura.cc/event/2021-10-02/
ATTACH;FMTTYPE=image/jpeg:https://namura.cc/wp-content/uploads/2023/04/20210921-HM2021.jpg
END:VEVENT
BEGIN:VEVENT
DTSTART;VALUE=DATE:20210926
DTEND;VALUE=DATE:20210927
DTSTAMP:20260423T071008
CREATED:20230416T031355Z
LAST-MODIFIED:20230416T031523Z
UID:2819-1632614400-1632700799@namura.cc
SUMMARY:Fireloop presents KITAKAGAYA Fireloop FES'21
DESCRIPTION:□日時\n2021年9月26日（日）\nopen 11:00 / start 11:30 \n□チケット\n前売 3\,500円 / 当日 3\,500円\n※人数制限のため、TIGETでのご予約をお願いします。 \n□詳しくは\n寺田町Fireloop\nhttp://fireloop.net
URL:https://namura.cc/event/2021-09-26/
ATTACH;FMTTYPE=image/jpeg:https://namura.cc/wp-content/uploads/2023/04/20210913-KITAKAGAYAFireloop.jpg
END:VEVENT
BEGIN:VEVENT
DTSTART;VALUE=DATE:20210829
DTEND;VALUE=DATE:20210830
DTSTAMP:20260423T071008
CREATED:20230416T032116Z
LAST-MODIFIED:20230416T032116Z
UID:2825-1630195200-1630281599@namura.cc
SUMMARY:WOHH
DESCRIPTION:□日時\n2021年8月29日(日)\nOPEN　15:00\nSTART　16:00\nCLOSE　20:00 \n＠Redframe（屋外) \nTohji\nLoota\ngummyboy\n極onTheBeats\nJUMADIBA\nAJAH\nE.O.U\nnasthug\nShioriyBradshaw\nBaby Loci+sudden star\ni611021 \n□チケット\nLIMITED ADV : ¥4000\nイープラスにて発売中！ \nhttps://eplus.jp/wohh/
URL:https://namura.cc/event/2021-08-29/
ATTACH;FMTTYPE=image/jpeg:https://namura.cc/wp-content/uploads/2023/04/20210810-2108WOHH.jpg
END:VEVENT
BEGIN:VEVENT
DTSTART;VALUE=DATE:20210828
DTEND;VALUE=DATE:20210829
DTSTAMP:20260423T071008
CREATED:20230416T032519Z
LAST-MODIFIED:20230416T032519Z
UID:2834-1630108800-1630195199@namura.cc
SUMMARY:CRACKS MUSIC FESTIVAL
DESCRIPTION:東京と関西のストリート・レイブカルチャーをベースに、既存のジャンルや常識の枠を”CRACK(壊す)”した\n新世代のアートを発信するイベントがクリエイティブセンター大阪にて開催。\ninstagram.com/cracks_arts \n□日時\n2021年8月28日（土）\n14:00〜 \n□料 金\nlimited adv:3800yen\n＊別途１ドリンク代金¥600必要\nチケット予約はこちらから >> https://cracksmusicfestival.peatix.com \n□詳しくは\ninstagram.com/cracks_arts
URL:https://namura.cc/event/2021-08-28/
ATTACH;FMTTYPE=image/jpeg:https://namura.cc/wp-content/uploads/2023/04/20210806-202108crack.jpg
END:VEVENT
BEGIN:VEVENT
DTSTART;VALUE=DATE:20210825
DTEND;VALUE=DATE:20210826
DTSTAMP:20260423T071008
CREATED:20230416T032825Z
LAST-MODIFIED:20230416T032825Z
UID:2836-1629849600-1629935999@namura.cc
SUMMARY:BASS ON TOP presents SOUND SHOCK2021
DESCRIPTION:□日時\n2021年8月25日(水)\nOPEN 11:00\nSTART 11:30 \n□チケット\n2000円＋ドリンク代（500円）\ne+/チケットぴあ/ローチケにて販売！ \n※雨天決行（主催者側で危険と判断した際には、中止いたします。） \n□詳しくは\nhttp://www.sound-shock.com/index.html
URL:https://namura.cc/event/2021-08-25/
ATTACH;FMTTYPE=image/jpeg:https://namura.cc/wp-content/uploads/2023/04/20210820-SS2021tt.jpg
END:VEVENT
BEGIN:VEVENT
DTSTART;VALUE=DATE:20210821
DTEND;VALUE=DATE:20210822
DTSTAMP:20260423T071008
CREATED:20230416T033555Z
LAST-MODIFIED:20230416T041447Z
UID:2841-1629504000-1629590399@namura.cc
SUMMARY:『SECRET GARDEN PARTY#2』
DESCRIPTION:□日時\n2021年8月21日(土)\n開場17:00\n開演17:30 \n□詳しくは\nhttps://diaura.net/contents/435782
URL:https://namura.cc/event/2021-08-21/
ATTACH;FMTTYPE=:
END:VEVENT
BEGIN:VEVENT
DTSTART;VALUE=DATE:20210815
DTEND;VALUE=DATE:20210816
DTSTAMP:20260423T071008
CREATED:20230416T033106Z
LAST-MODIFIED:20230416T033106Z
UID:2838-1628985600-1629071999@namura.cc
SUMMARY:06BASE vol.2.5
DESCRIPTION:□日時\n2021年月8月15日（日）\nSTART 15:00-\nCLOSE 21:00
URL:https://namura.cc/event/2021-08-15/
ATTACH;FMTTYPE=image/jpeg:https://namura.cc/wp-content/uploads/2023/04/20210801-06BASE2021.jpg
END:VEVENT
BEGIN:VEVENT
DTSTART;VALUE=DATE:20210808
DTEND;VALUE=DATE:20210809
DTSTAMP:20260423T071008
CREATED:20230416T033915Z
LAST-MODIFIED:20230416T041336Z
UID:2845-1628380800-1628467199@namura.cc
SUMMARY:じゅじゅの「宴」in OSAKA
DESCRIPTION:□日時\n2021年8月8日（日）\nOPEN　12:45\nSTART　13:30\n※整理番号順入場・観覧位置自由 \n□出演\nじゅじゅ/BLACKNAZARENE \n□チケット料金(各+1D)\nS席　¥8\,000\n(前列優先入場/じゅじゅ・BLACKNAZARENE合同集合ワイドチェキ付き)\nA席　¥1\,500\n女性　無料 \nプレイガイド　https://t.livepocket.jp/e/utage-in-osaka \n□詳しくは\nhttps://www.jyujyu.info
URL:https://namura.cc/event/2021-08-08/
ATTACH;FMTTYPE=image/jpeg:https://namura.cc/wp-content/uploads/2023/04/20210723-202108zyuzyu.jpg
END:VEVENT
BEGIN:VEVENT
DTSTART;VALUE=DATE:20210807
DTEND;VALUE=DATE:20210808
DTSTAMP:20260423T071008
CREATED:20230416T034207Z
LAST-MODIFIED:20230416T034207Z
UID:2848-1628294400-1628380799@namura.cc
SUMMARY:Live House Pangea presents”新世界FESTIVAL2021”
DESCRIPTION:□日時\n2021年8月7日（土）\nOPEN 11:30\nSTART 12:00 \n□チケット\nADV ¥4\,000【＋1drink(¥600)】 \n□詳しくは\nhttps://livepangea.com/live/event-12262
URL:https://namura.cc/event/2021-08-07/
ATTACH;FMTTYPE=image/jpeg:https://namura.cc/wp-content/uploads/2023/04/20210731-shinsekai2021.jpg
END:VEVENT
BEGIN:VEVENT
DTSTART;VALUE=DATE:20210801
DTEND;VALUE=DATE:20210802
DTSTAMP:20260423T071008
CREATED:20230416T034412Z
LAST-MODIFIED:20230416T034412Z
UID:2852-1627776000-1627862399@namura.cc
SUMMARY:SUNSHINEJAM 6 "GREEN"
DESCRIPTION:□日時\n2021年8月1日（日）\nOPEN　11:00\nSTART 　12:00\nCLOSE　18:30 \n□FEE\nENTRY　3000YEN (事前エントリー)\nWATCH　2000YEN (観戦・入場)\n※小学生以下観戦無料 \n□詳しくは\nhttp://et-stage.net/event/NC82OTUz/\nInstagram: @sunshinejam_osaka \nSUNSHINEJAMでは、\n今回も新型コロナウィルス感染症対策のガイドラインを作成し、万全の対策を講じて開催致します。\nまた、会場での検温・アルコール消毒など、コロナ対策を講じて開催致しますので、ご来場いただく皆様にもご協力お願い申し上げます。
URL:https://namura.cc/event/2021-08-01/
ATTACH;FMTTYPE=image/jpeg:https://namura.cc/wp-content/uploads/2023/04/20210727-sunshinej6.jpg
END:VEVENT
BEGIN:VEVENT
DTSTART;VALUE=DATE:20210731
DTEND;VALUE=DATE:20210801
DTSTAMP:20260423T071008
CREATED:20230416T035037Z
LAST-MODIFIED:20230416T035037Z
UID:2855-1627689600-1627775999@namura.cc
SUMMARY:Bigfumi 夏のワンマンライブ〜音届者の夏祭り2021〜
DESCRIPTION:□日時\n2021年7月31日(土) \n□公演内容\n・11時15分：開場\n・12時20分：オープニングアクト（ゲスト未定）\n・13時00分：Bigfumiワンマン開演\n・15時00分：閉演予定\n※時間・内容は変更になる場合がございます \n□チケット\nhttps://passmarket.yahoo.co.jp/event/show/detail/02g1s7up8xk11.html \n□詳しくは\nhttps://linktr.ee/Bigfumi_staff
URL:https://namura.cc/event/2021-07-31/
ATTACH;FMTTYPE=image/jpeg:https://namura.cc/wp-content/uploads/2023/04/20210428-0731bigfumi.jpg
END:VEVENT
BEGIN:VEVENT
DTSTART;VALUE=DATE:20210724
DTEND;VALUE=DATE:20210725
DTSTAMP:20260423T071008
CREATED:20230416T035355Z
LAST-MODIFIED:20230416T035415Z
UID:2862-1627084800-1627171199@namura.cc
SUMMARY:Odd Number Festival 21
DESCRIPTION:□日時\n2021年\n7月24日（土）\n7月25日（日）
URL:https://namura.cc/event/2021-07-24/
ATTACH;FMTTYPE=image/jpeg:https://namura.cc/wp-content/uploads/2023/04/20210727-onf21.jpg
END:VEVENT
BEGIN:VEVENT
DTSTART;VALUE=DATE:20210723
DTEND;VALUE=DATE:20210724
DTSTAMP:20260423T071008
CREATED:20230416T035638Z
LAST-MODIFIED:20230416T035638Z
UID:2866-1626998400-1627084799@namura.cc
SUMMARY:CIRCUS OSAKA 9TH ANNIVERSARY SPECIAL"AUDIO TWO"
DESCRIPTION:□日時:\n2021年7月23日(金曜日/祝日）\nopen 13:00 close 21:00 \n□出演 : ＜ A TO Z＞ \nandrew/サイケアウツG/CHERRYBOY FUNCTION/DJ FULLTONO/DNT(POWWOW)/FOODMAN a.k.a 食品まつり/Guchon/ind_fris/Nari/nutsman/SEKITOVA/SOICHI TERADA/STONES TARO/TECHNOMAN\nresident :\nokadada / DJ WILDPARTY \n□チケット\nADV:3500YEN DOOR:4000YEN \n・イープラス : https://eplus.jp/sf/detail/3446920001\n・Peatix : https://audiotwospecial.peatix.com
URL:https://namura.cc/event/2021-07-23/
ATTACH;FMTTYPE=image/jpeg:https://namura.cc/wp-content/uploads/2023/04/20210630-audiotwo.jpg
END:VEVENT
BEGIN:VEVENT
DTSTART;VALUE=DATE:20210721
DTEND;VALUE=DATE:20210722
DTSTAMP:20260423T071008
CREATED:20230416T035834Z
LAST-MODIFIED:20230511T030217Z
UID:2871-1626825600-1626911999@namura.cc
SUMMARY:クリエイティブセンター大阪　ミニ見学ツアー vol.135
DESCRIPTION:近代化産業遺産に認定されている「名村造船跡地」=クリエイティブセンター大阪の館内見学ツアーです。\n造船所跡地の施設内をスタッフがご説明しながらご案内致します。\n※ツアー時間は40分程度を予定しております。（途中退場可） \n■日時　2021年7月21日（水）15:00 ※40分程度\nクリエイティブセンター大阪　入口警備員室前集合 \n■参加方法\n予約不要・現地集合／参加費は無料です。\n※マスク着用、もしくはご持参ください。\n※動画撮影はNGとしております。 \n■お問合せ\n06-4702-7085（クリエイティブセンター大阪）
URL:https://namura.cc/event/2021-07-21/
ATTACH;FMTTYPE=image/jpeg:https://namura.cc/wp-content/uploads/2022/12/b0f3769176eeffbd5abb90e91461dc87-e1677758490252.jpg
END:VEVENT
BEGIN:VEVENT
DTSTART;VALUE=DATE:20210718
DTEND;VALUE=DATE:20210719
DTSTAMP:20260423T071008
CREATED:20230416T041734Z
LAST-MODIFIED:20230416T041734Z
UID:2892-1626566400-1626652799@namura.cc
SUMMARY:STORY OF THE MESSAGE lll
DESCRIPTION:□日時\n2021年7月18日（日）\n開演：17:00～ (開場 16:00～) \n□チケット\n当日券はございません。
URL:https://namura.cc/event/2021-07-18/
ATTACH;FMTTYPE=image/jpeg:https://namura.cc/wp-content/uploads/2023/04/20210717-messe2021.jpg
END:VEVENT
BEGIN:VEVENT
DTSTART;VALUE=DATE:20210711
DTEND;VALUE=DATE:20210712
DTSTAMP:20260423T071008
CREATED:20230416T042027Z
LAST-MODIFIED:20230416T042027Z
UID:2894-1625961600-1626047999@namura.cc
SUMMARY:Earth Rhythm Market
DESCRIPTION:7/11(日)、大阪にてヴィーガンと音楽ビッグフェスが開催されます。\nかき氷、マフィンやタコス、餃子にハンバーガーなど40店舗のお店が出店されます！\n他にもダンサーやシンガーなどのパフォーマーが勢揃い！\nプラントベースアスリートとのトークショーも決定！\n一緒にイベントを楽しみましょう！\nお待ちしております！\nゴミゼロのマーケットを目指しておりますので！\nマイタッパーやコップフォークなどお忘れなくお持ちください！\n入場料は中学生から500円\n動物保護団体さんへ寄付されます！ \n□日時\n2021年7月11日（日）\n11:00〜17:00 \n□入場料\n500円 \n□詳しくは\nhttps://www.facebook.com/EarthRhythmMarket
URL:https://namura.cc/event/2021-07-11/
ATTACH;FMTTYPE=:
END:VEVENT
BEGIN:VEVENT
DTSTART;VALUE=DATE:20210704
DTEND;VALUE=DATE:20210705
DTSTAMP:20260423T071008
CREATED:20230416T042152Z
LAST-MODIFIED:20230416T043813Z
UID:2899-1625356800-1625443199@namura.cc
SUMMARY:HARUROC 2021
DESCRIPTION:□日時\n2021年7月4日（日）\nOPEN:12:00\nSTART:13:00 \n□詳しくは\nhttps://camuro.jp/haruroc2021/
URL:https://namura.cc/event/2021-07-04/
ATTACH;FMTTYPE=:
END:VEVENT
BEGIN:VEVENT
DTSTART;VALUE=DATE:20210703
DTEND;VALUE=DATE:20210704
DTSTAMP:20260423T071008
CREATED:20230416T042350Z
LAST-MODIFIED:20230416T042518Z
UID:2903-1625270400-1625356799@namura.cc
SUMMARY:acosta ＠名村造船所跡地
DESCRIPTION:□日時\n2021年7月3日（土）\n12:00-19:30 \n□詳しくは\nhttps://acosta.jp/event/210703namura/
URL:https://namura.cc/event/2021-07-03/
ATTACH;FMTTYPE=:
END:VEVENT
BEGIN:VEVENT
DTSTART;VALUE=DATE:20210502
DTEND;VALUE=DATE:20210503
DTSTAMP:20260423T071008
CREATED:20230416T043112Z
LAST-MODIFIED:20230416T043112Z
UID:2908-1619913600-1619999999@namura.cc
SUMMARY:【開催延期】BLOCK PARTY OSAKA 2021
DESCRIPTION:
URL:https://namura.cc/event/2021-05-02/
ATTACH;FMTTYPE=image/jpeg:https://namura.cc/wp-content/uploads/2023/04/20210427-BPO2021enki.jpg
END:VEVENT
BEGIN:VEVENT
DTSTART;VALUE=DATE:20210429
DTEND;VALUE=DATE:20210430
DTSTAMP:20260423T071008
CREATED:20230416T044037Z
LAST-MODIFIED:20230416T044037Z
UID:2913-1619654400-1619740799@namura.cc
SUMMARY:【開催延期】キャッツとタソガレ
DESCRIPTION:□日時\n2021年4月29日(木/祝)\nOPEN 14:00 CLOSE 20:00 \n□出演\n田我流 / TOCCHI / Final Weapon Company / TORAUMA / 空音 / kojikoji / DJ RYU-G / DJ HAMAYA / SHOTA-LOW / KINPON and more \n□チケット\n3800円\n別途1D代要 \n□プレイガイド\nイープラス (https://eplus.jp/sf/detail/3410290001-P0030001P021001 ) \n【感染症対策として以下の注意事項をご確認ください】\n※未就学児童のご入場はお断り致します。\n※モッシュ・ダイブ等の危険行為は一切禁止。\n※ご入場時に別途ドリンク代600円をいただきます。\n※未成年でも入場可能です。\n※アルコール類の提供には身分証明書の提示が必要になります。\n※体調の優れない方はご来場をお控えください。\n※マスク着用でご来場ください。\n※入場時に非接触型体温計による検温を行います。\n検温結果により入場をお断りする場合がございます(37.5℃以上の方は入場できません)。\n※入場時に手指へのアルコール消毒をさせていただきます。\n※場内では大声による発声はご遠慮ください。\n※コロナ追跡システムの登録にご協力ください。\n※ガイドラインに沿った運営を行います。\n遵守いただけない場合はご入場をお断りさせて頂きます。
URL:https://namura.cc/event/2021-04-29/
ATTACH;FMTTYPE=image/jpeg:https://namura.cc/wp-content/uploads/2023/04/20210424-catsenki.jpg
END:VEVENT
BEGIN:VEVENT
DTSTART;VALUE=DATE:20210423
DTEND;VALUE=DATE:20210424
DTSTAMP:20260423T071008
CREATED:20230416T044325Z
LAST-MODIFIED:20230416T044325Z
UID:2922-1619136000-1619222399@namura.cc
SUMMARY:【公演延期】RYUBOKU企画vol.1『流木、上か下か。』
DESCRIPTION:□出演\n柄谷吾史・日ノ西賢一・大西千保・泉希衣子 \n□日時\n2021年4月23日～25日【公演延期】\n4/23(金) 16:00-/19:00-\n4/24(土) 13:00-/16:00-/19:00-\n4/25(日) 13:00-/16:00-*トークイベント \n※上演時間は約１時間15分を予定しております。\n※4/25(日)千秋楽後にトークイベント(45分)を開催 \n□チケット\nhttps://quartet-online.net/ticket/ryuboku \n□詳しくは\nhttps://twitter.com/ryubokuk
URL:https://namura.cc/event/2021-04-23/
ATTACH;FMTTYPE=image/jpeg:https://namura.cc/wp-content/uploads/2023/04/20210409-ryubokuo.jpg
END:VEVENT
BEGIN:VEVENT
DTSTART;VALUE=DATE:20210420
DTEND;VALUE=DATE:20210421
DTSTAMP:20260423T071008
CREATED:20230416T044503Z
LAST-MODIFIED:20230511T031024Z
UID:2926-1618876800-1618963199@namura.cc
SUMMARY:クリエイティブセンター大阪　ミニ見学ツアー vol.134
DESCRIPTION:近代化産業遺産に認定されている「名村造船跡地」=クリエイティブセンター大阪の館内見学ツアーです。\n造船所跡地の施設内をスタッフがご説明しながらご案内致します。\n※ツアー時間は40分程度を予定しております。（途中退場可） \n■日時　2021年4月20日（火）15:00 ※40分程度\nクリエイティブセンター大阪　入口警備員室前集合 \n■参加方法\n予約不要・現地集合／参加費は無料です。\n※マスク着用、もしくはご持参ください。\n※動画撮影はNGとしております。 \n■お問合せ\n06-4702-7085（クリエイティブセンター大阪）
URL:https://namura.cc/event/2021-04-20/
ATTACH;FMTTYPE=image/jpeg:https://namura.cc/wp-content/uploads/2022/12/b0f3769176eeffbd5abb90e91461dc87-e1677758490252.jpg
END:VEVENT
END:VCALENDAR