BEGIN:VCALENDAR
VERSION:2.0
PRODID:-//クリエイティブセンター大阪（CCO） - ECPv6.2.1//NONSGML v1.0//EN
CALSCALE:GREGORIAN
METHOD:PUBLISH
X-WR-CALNAME:クリエイティブセンター大阪（CCO）
X-ORIGINAL-URL:https://namura.cc
X-WR-CALDESC:クリエイティブセンター大阪（CCO） のイベント
REFRESH-INTERVAL;VALUE=DURATION:PT1H
X-Robots-Tag:noindex
X-PUBLISHED-TTL:PT1H
BEGIN:VTIMEZONE
TZID:Asia/Tokyo
BEGIN:STANDARD
TZOFFSETFROM:+0900
TZOFFSETTO:+0900
TZNAME:JST
DTSTART:20260101T000000
END:STANDARD
END:VTIMEZONE
BEGIN:VEVENT
DTSTART;TZID=Asia/Tokyo:20260428T150000
DTEND;TZID=Asia/Tokyo:20260428T160000
DTSTAMP:20260421T145510
CREATED:20260320T093314Z
LAST-MODIFIED:20260326T071844Z
UID:6606-1777388400-1777392000@namura.cc
SUMMARY:クリエイティブセンター大阪　ミニ見学ツアー vol.191
DESCRIPTION:近代化産業遺産に認定されている「名村造船跡地」=クリエイティブセンター大阪の館内見学ツアーです。\n造船所跡地の施設内をスタッフが説明しながらご案内いたします。 \n■日時\n2026年4月28日（火）15:00〜 \n■参加方法\n予約不要・現地集合\nクリエイティブセンター大阪 入口警備員室前集合 \n■参加費\n無料 \n■備考\n・ツアーの所要時間は、40分〜1時間程度です（途中退場可）。\n・エレベーター設備が無いため、階段の昇り降りがございます。\n・ツアー中の写真撮影は可能ですが、動画撮影はご遠慮ください。 \n■お問合せ\n06-4702-7085（クリエイティブセンター大阪）
URL:https://namura.cc/event/20260428/
ATTACH;FMTTYPE=image/jpeg:https://namura.cc/wp-content/uploads/2026/03/partita_redframe.jpg
END:VEVENT
BEGIN:VEVENT
DTSTART;VALUE=DATE:20260425
DTEND;VALUE=DATE:20260427
DTSTAMP:20260421T145510
CREATED:20260411T053728Z
LAST-MODIFIED:20260411T053728Z
UID:6633-1777075200-1777247999@namura.cc
SUMMARY:大阪造船所アイドルフェス
DESCRIPTION:▪️日時\n2026年4月25日（土）、26日（日）\nOPEN 10:30 ／ START 11:30　※両日共 \n▪️入場料\n優先: 6\,000円 / 一般 3\,000円（＋各1D）\n当日券:各チケット+1\,000円 \nチケット販売ページはこちら\n1日目　　2日目 \n※入場順はチケットの番号順となります。\n優先▶︎一般▶︎当日優先▶︎当日一般 \n※観覧エリアには、前方エリアがございます。前方エリアは優先チケットをご購入の方のみご入場可能です。\n※チケット購入時には必ず日時と座席をご確認の上お求めください。購入後の変更・払い戻し等は一切できません。\n※チケットは興行中止の場合をのぞいて、他の日時や他の席の公演チケットとの交換または払い戻し等はいたしません。また、興行中止の場合でも交通費や宿泊費などの補償はできません。あらかじめご了承ください。\n※出演者の病気やその他の事由のため、演目・配役などに変更が生じることもありますのであらかじめご承知ください。その場合、払い戻し等はいたしません。その他、記載のない事柄につきましてはスタッフの指示に従っていただきます。スタッフの指示に従っていただけない場合は退場していただき、その際の払い戻しはいたしません。\n※周囲のお客様のご迷惑となる行為はおやめください。スタッフが注意しても聞き入れてもらえない場合は退場していただき、その際の返金はいたしません。\n※イベント当日、高潮注意報などが出た場合、イベントを中止または途中で打ち切りせざるを得ない場合があります。その際のチケットの返金はできませんので予めご了承下さい。 \n▪️詳しくは\nhttps://x.com/Osakazosenjo?s=20
URL:https://namura.cc/event/20260425-26/
ATTACH;FMTTYPE=image/jpeg:https://namura.cc/wp-content/uploads/2026/04/IMG_0845.jpg
END:VEVENT
BEGIN:VEVENT
DTSTART;VALUE=DATE:20260419
DTEND;VALUE=DATE:20260420
DTSTAMP:20260421T145510
CREATED:20260113T015523Z
LAST-MODIFIED:20260113T015523Z
UID:6518-1776556800-1776643199@namura.cc
SUMMARY:コスメル in CCO
DESCRIPTION:□日時\n2026年4月19日(日)\n12:00〜19:00 \n□チケット\nコスプレイヤー 4\,500円\nカメラマン 4\,500円\n※18歳未満参加不可 \n□詳しくは\nhttps://cosmel.link/cco.html
URL:https://namura.cc/event/20260419/
ATTACH;FMTTYPE=image/jpeg:https://namura.cc/wp-content/uploads/2026/01/20260419.jpg
END:VEVENT
BEGIN:VEVENT
DTSTART;VALUE=DATE:20260418
DTEND;VALUE=DATE:20260419
DTSTAMP:20260421T145510
CREATED:20251224T035805Z
LAST-MODIFIED:20260409T103859Z
UID:6461-1776470400-1776556799@namura.cc
SUMMARY:KANPAI PARADE cheers.that's culture. ～乾杯は文化だ～
DESCRIPTION:▪️日時\n2026年4月18日(土)\nOPEN 11:00 / START 12:00 \n▪️料金\n入場券：6\,500円(税込)\n　3枚セット券：18\,000円(税込)（1枚あたり6\,000円(税込))\n　5枚セット券：27\,500円(税込)（1枚あたり5\,500円(税込))\n※ドリンク代別途必要\n※小学生以下保護者同伴の元入場無料。中学生以上はチケットが必要となります。 \n▪️詳しくは\nhttps://kyodo-osaka.co.jp/search/detail/11885 \n▪️お問合せ\nキョードーインフォメーション 0570-200-888(12:00～17:00 土日祝休)
URL:https://namura.cc/event/20260418/
ATTACH;FMTTYPE=image/jpeg:https://namura.cc/wp-content/uploads/2025/12/poster.jpg
END:VEVENT
BEGIN:VEVENT
DTSTART;VALUE=DATE:20260411
DTEND;VALUE=DATE:20260413
DTSTAMP:20260421T145510
CREATED:20260327T103558Z
LAST-MODIFIED:20260327T103558Z
UID:6620-1775865600-1776038399@namura.cc
SUMMARY:ホロプレEXPO
DESCRIPTION:▪️日時\n2026年4月11日（土）、12日（日）\nOPEN 12:00 ／ CLOSE 19:00　※両日共 \n▪️入場料\nオールエリアパス ¥4\,500\nフィールドエリアパス ¥3\,000　他 \nチケット販売ページはこちら \n▪️詳しくは\nhttps://x.com/holopre1111
URL:https://namura.cc/event/20260411-12/
ATTACH;FMTTYPE=image/png:https://namura.cc/wp-content/uploads/2026/03/EXPO1.png
END:VEVENT
BEGIN:VEVENT
DTSTART;VALUE=DATE:20260405
DTEND;VALUE=DATE:20260406
DTSTAMP:20260421T145510
CREATED:20260319T061229Z
LAST-MODIFIED:20260319T061304Z
UID:6592-1775347200-1775433599@namura.cc
SUMMARY:極上 第四章
DESCRIPTION:▪️日時\n2026年\n4月5日（日）\nOPEN 13:00／CLOSE 21:00 \n▪️入場料\n前売 ¥3\,000\n当日 ¥3\,500\n※別途ドリンク代 ¥700 \n▪️詳しくは\nhttps://www.instagram.com/gokujyo_entertainment/
URL:https://namura.cc/event/20260405/
ATTACH;FMTTYPE=image/jpeg:https://namura.cc/wp-content/uploads/2026/03/e67ef6fb49ed402fb052894448d18026.jpeg
END:VEVENT
BEGIN:VEVENT
DTSTART;VALUE=DATE:20260404
DTEND;VALUE=DATE:20260405
DTSTAMP:20260421T145510
CREATED:20260317T050210Z
LAST-MODIFIED:20260317T050210Z
UID:6583-1775260800-1775347199@namura.cc
SUMMARY:ICE CREAM OSAKA 15th Anniversary
DESCRIPTION:▪️日時\n2026年\n4月4日（土）\nOPEN 14:00／CLOSE 21:00 \n▪️入場料\n前売 ¥5\,000\n当日 ¥6\,000\n※ドリンク・フード代別途要 \nチケット販売ページはこちら \n▪️詳しくは\nhttps://www.instagram.com/ice_cream_osaka/
URL:https://namura.cc/event/20260404/
ATTACH;FMTTYPE=image/jpeg:https://namura.cc/wp-content/uploads/2026/03/image0.jpeg
END:VEVENT
BEGIN:VEVENT
DTSTART;VALUE=DATE:20260328
DTEND;VALUE=DATE:20260330
DTSTAMP:20260421T145510
CREATED:20260319T063040Z
LAST-MODIFIED:20260319T063208Z
UID:6596-1774656000-1774828799@namura.cc
SUMMARY:miniちかっぱ祭 ver.28.0 in OSAKA
DESCRIPTION:▪️日時 \n2026年3月28日（土）、29日（日）\nOPEN 10:30 ／ START 11:30　※両日共 \n▪️入場料\nVIP入場チケット ¥12\,000\n一般入場チケット ¥4\,400\n※別途ドリンク代 ¥600 \nチケット販売ページはこちら\nDAY1　DAY2 \n▪️詳しくは\nhttps://info6970450.wixsite.com/my-site/minichicappasaiver28osaka
URL:https://namura.cc/event/20260328-29/
ATTACH;FMTTYPE=image/jpeg:https://namura.cc/wp-content/uploads/2026/03/a380be5335dc42692cd522bf02dc1db8.jpg
END:VEVENT
BEGIN:VEVENT
DTSTART;VALUE=DATE:20260326
DTEND;VALUE=DATE:20260327
DTSTAMP:20260421T145510
CREATED:20260306T062902Z
LAST-MODIFIED:20260306T062948Z
UID:6573-1774483200-1774569599@namura.cc
SUMMARY:CHOCOLATE SAVEGE vol.2
DESCRIPTION:▪️日時\n2026年\n3月26日（木）\nOPEN 13:30／START 14:30／CLOSE 20:00 \n▪️入場料\n前売 ¥4\,000\n当日 ¥4\,500 \n▪️詳しくは\nhttps://www.instagram.com/chocolate.x.savage/
URL:https://namura.cc/event/20260326/
ATTACH;FMTTYPE=image/jpeg:https://namura.cc/wp-content/uploads/2026/03/IMG_1088.jpg
END:VEVENT
BEGIN:VEVENT
DTSTART;TZID=Asia/Tokyo:20260324T150000
DTEND;TZID=Asia/Tokyo:20260324T154000
DTSTAMP:20260421T145510
CREATED:20260320T091305Z
LAST-MODIFIED:20260320T091305Z
UID:6604-1774364400-1774366800@namura.cc
SUMMARY:クリエイティブセンター大阪　ミニ見学ツアー vol.190
DESCRIPTION:近代化産業遺産に認定されている「名村造船跡地」=クリエイティブセンター大阪の館内見学ツアーです。\n造船所跡地の施設内をスタッフが説明しながらご案内いたします。\n※ツアー時間は40分程度を予定しております。（途中退場可） \n■日時\n2026年3月24日（火）15:00 ※30-40分程度\nクリエイティブセンター大阪　入口警備員室前集合 \n■参加方法\n予約不要・現地集合／参加費は無料です。\n※動画撮影はNGとしております。 \n※当日はイベントの撤収作業が入っておりますのでご了承下さい。 \n■お問合せ\n06-4702-7085（クリエイティブセンター大阪）
URL:https://namura.cc/event/20260324/
ATTACH;FMTTYPE=image/jpeg:https://namura.cc/wp-content/uploads/2022/11/top_image4.jpg
END:VEVENT
BEGIN:VEVENT
DTSTART;VALUE=DATE:20260319
DTEND;VALUE=DATE:20260324
DTSTAMP:20260421T145510
CREATED:20251224T051313Z
LAST-MODIFIED:20251224T051425Z
UID:6490-1773878400-1774310399@namura.cc
SUMMARY:kondaba港［おおさか創造千島財団スペース助成］
DESCRIPTION:▪️日時\n2026年\n3月19日(木)18:00\n3月20日(金)18:00\n3月21日(土)18:00\n3月22日(日)18:00\n3月23日(月)18:00 \n▪️チケット\n一般：前売3\,500円／当日4\,000円\n学生：前売・当日2\,000円　＊当日要証明書 \n▪️スタッフ\n演出・美術｜kondaba（石原菜々子　金子仁司）\n音楽｜日野浩志郎\n照明｜小松裕規（Jun1works）\n音響｜佐藤武紀\n衣装｜中村聡一朗（kiken）　伊吹佑紀子　\n舞台監督｜小林勇陽　綿中駿介\n美術制作｜白藤垂人\n演出助手｜菊池航（淡水）\nドラマトゥルク｜岡田蕗子\n宣伝美術｜中村詩おり\n宣伝写真｜中谷利明\n広報協力｜前田瑠佳\n制作｜kondaba\n制作協力｜山﨑佳奈子 \n▪️詳しくは\nhttps://kondaba.tumblr.com
URL:https://namura.cc/event/20260319-23/
ATTACH;FMTTYPE=:
END:VEVENT
BEGIN:VEVENT
DTSTART;VALUE=DATE:20260315
DTEND;VALUE=DATE:20260316
DTSTAMP:20260421T145510
CREATED:20260304T022110Z
LAST-MODIFIED:20260304T022110Z
UID:6566-1773532800-1773619199@namura.cc
SUMMARY:祭演 vol.5
DESCRIPTION:▪️日時\n2026年\n3月15日（日）\nOPEN 12:30／START 13:00／CLOSE 20:00 \n▪️入場料\n事前 ¥3\,500/人\n前日・当日 ¥4\,000/ 人\n※未就学児は無料 \n▪️詳しくは\nhttps://www.instagram.com/saien_danceevent/
URL:https://namura.cc/event/20260315/
ATTACH;FMTTYPE=image/jpeg:https://namura.cc/wp-content/uploads/2026/03/2d863685a1c5ae587f382d14fd4c4d3d.jpg
END:VEVENT
BEGIN:VEVENT
DTSTART;VALUE=DATE:20260309
DTEND;VALUE=DATE:20260312
DTSTAMP:20260421T145510
CREATED:20260210T052818Z
LAST-MODIFIED:20260210T052852Z
UID:6549-1773014400-1773273599@namura.cc
SUMMARY:吉増剛造×空間現代 作品展示『背』【休館日】
DESCRIPTION:
URL:https://namura.cc/event/20260309-11/
ATTACH;FMTTYPE=:
END:VEVENT
BEGIN:VEVENT
DTSTART;VALUE=DATE:20260307
DTEND;VALUE=DATE:20260316
DTSTAMP:20260421T145510
CREATED:20260210T052418Z
LAST-MODIFIED:20260210T052418Z
UID:6546-1772841600-1773619199@namura.cc
SUMMARY:吉増剛造×空間現代 作品展示『背』
DESCRIPTION:▪️日時\n2026年\n3月7日(土)14:00-18:00\n3月8日(日)12:00-18:00\n3月12日(木)12:00-18:00\n3月13日(金)12:00-18:00\n3月14日(土)12:00-18:00 \n▪️入館料：1\,000円 \nライブパフォーマンス \n空間現代 ×1729 without GOZO LIVE \n2026年3月15日(日) \n開場16:30　開演17:00 \nお問い合わせ info@kukangendai.com  \n主催:合同会社空間現代 \n舞台監督:大鹿 展明\n映像技術:小⻄小多郎\n音響:⻄川文章\n照明(ライブ):藤原康弘\n什器制作:dot architects 映像協力:鈴木余位 スピーカー制作:牟田口景/WHITELIGHT 宣伝美術:三重野龍 \n写真:井上嘉和 \n▪️詳しくは\nhttps://www.instagram.com/p/DUdNfdOjdbR/?img_index=1
URL:https://namura.cc/event/20260307-15/
ATTACH;FMTTYPE=application/pdf:https://namura.cc/wp-content/uploads/2026/02/fde7686e990f3cf20325d1a0cbb4af8c.pdf
END:VEVENT
BEGIN:VEVENT
DTSTART;VALUE=DATE:20260301
DTEND;VALUE=DATE:20260302
DTSTAMP:20260421T145510
CREATED:20260225T083334Z
LAST-MODIFIED:20260225T083415Z
UID:6558-1772323200-1772409599@namura.cc
SUMMARY:MARVELOUS大阪-16周年-
DESCRIPTION:▪️日時\n2026年\n3月1日（日）\nOPEN 14:00 CLOSE 20:00 \n▪️入場料\n前売　¥3\,000\n当日　¥5\,000\n※6歳未満入場料のみ無料（小学1年生〜入場料必要）\n※入場の際に別途¥2\,000必要（2drink 1food代） \n▪️詳しくは\nhttps://www.instagram.com/marvelous_group/
URL:https://namura.cc/event/20260301/
ATTACH;FMTTYPE=image/jpeg:https://namura.cc/wp-content/uploads/2026/02/image0-1.jpeg
END:VEVENT
BEGIN:VEVENT
DTSTART;VALUE=DATE:20260228
DTEND;VALUE=DATE:20260302
DTSTAMP:20260421T145510
CREATED:20251224T042452Z
LAST-MODIFIED:20260108T023140Z
UID:6469-1772236800-1772409599@namura.cc
SUMMARY:HOMEWORKS 2025 10th Anniversary
DESCRIPTION:▪️日時\n2026年\n2月28日（土）&3月1日（日）\n11:00〜18:30  \n▪️入場料\n1\,500円（会場払い）\n学生500円\n高校生以下無料（学生証、証明証を提示） \n▪️詳しくは\nhttps://homeworks2025.peatix.com/
URL:https://namura.cc/event/20260228-0301/
ATTACH;FMTTYPE=image/jpeg:https://namura.cc/wp-content/uploads/2025/12/20260228.jpg
END:VEVENT
BEGIN:VEVENT
DTSTART;TZID=Asia/Tokyo:20260226T150000
DTEND;TZID=Asia/Tokyo:20260226T154000
DTSTAMP:20260421T145510
CREATED:20260125T095252Z
LAST-MODIFIED:20260125T095252Z
UID:6534-1772118000-1772120400@namura.cc
SUMMARY:クリエイティブセンター大阪　ミニ見学ツアー vol.189
DESCRIPTION:近代化産業遺産に認定されている「名村造船跡地」=クリエイティブセンター大阪の館内見学ツアーです。\n造船所跡地の施設内をスタッフがご説明しながらご案内致します。\n※ツアー時間は40分程度を予定しております。（途中退場可） \n■日時\n2026年2月26日（木）15:00 ※30-40分程度\nクリエイティブセンター大阪　入口警備員室前集合 \n■参加方法\n予約不要・現地集合／参加費は無料です。\n※動画撮影はNGとしております。 \n※当日展示イベントの設営作業が入っておりますのでご了承下さい。 \n■お問合せ\n06-4702-7085（クリエイティブセンター大阪）
URL:https://namura.cc/event/20260226/
ATTACH;FMTTYPE=image/jpeg:https://namura.cc/wp-content/uploads/2022/12/9a1f83b5ea3772fe94e010ead633edc2.jpeg
END:VEVENT
BEGIN:VEVENT
DTSTART;VALUE=DATE:20260221
DTEND;VALUE=DATE:20260222
DTSTAMP:20260421T145510
CREATED:20251224T054404Z
LAST-MODIFIED:20251224T054404Z
UID:6498-1771632000-1771718399@namura.cc
SUMMARY:V-VILLAGE vol.1
DESCRIPTION:▪️日時\n2026年2月21日(土)\nOPEN：13:00\nSTART：14:00\nCLOSE：19:00 〔予定〕 \n▪️チケット\n前売り：¥3\,000\n当日：¥3\,500\nチケット + 1D ¥500 \n▪️詳しくは\nhttps://www.instagram.com/vvillage_official/
URL:https://namura.cc/event/20260221/
ATTACH;FMTTYPE=image/jpeg:https://namura.cc/wp-content/uploads/2025/12/20260221.jpg
END:VEVENT
BEGIN:VEVENT
DTSTART;VALUE=DATE:20260214
DTEND;VALUE=DATE:20260215
DTSTAMP:20260421T145510
CREATED:20251224T054810Z
LAST-MODIFIED:20260209T042856Z
UID:6501-1771027200-1771113599@namura.cc
SUMMARY:Double Ace Special Live 2026 "LOVE×2"
DESCRIPTION:▪️日時\n2026年2月14日(土)\n1部：13:30開場/14:30開演\n2部：17:00開場/18:00開演 \n▪️チケット \n▪️詳しくは\nhttps://www.supernova-sv.com/posts/news/ibyzui
URL:https://namura.cc/event/20260214/
ATTACH;FMTTYPE=:
END:VEVENT
BEGIN:VEVENT
DTSTART;TZID=Asia/Tokyo:20260212T000000
DTEND;TZID=Asia/Tokyo:20260212T235900
DTSTAMP:20260421T145510
CREATED:20251224T050233Z
LAST-MODIFIED:20251224T052131Z
UID:6486-1770854400-1770940740@namura.cc
SUMMARY:写真展休館日
DESCRIPTION:
URL:https://namura.cc/event/20260212/
ATTACH;FMTTYPE=:
END:VEVENT
BEGIN:VEVENT
DTSTART;TZID=Asia/Tokyo:20260209T000000
DTEND;TZID=Asia/Tokyo:20260209T235900
DTSTAMP:20260421T145510
CREATED:20251224T050145Z
LAST-MODIFIED:20251224T052117Z
UID:6484-1770595200-1770681540@namura.cc
SUMMARY:写真展休館日
DESCRIPTION:
URL:https://namura.cc/event/202602009/
ATTACH;FMTTYPE=:
END:VEVENT
BEGIN:VEVENT
DTSTART;VALUE=DATE:20260208
DTEND;VALUE=DATE:20260209
DTSTAMP:20260421T145510
CREATED:20260205T042532Z
LAST-MODIFIED:20260205T042558Z
UID:6540-1770508800-1770595199@namura.cc
SUMMARY:DROP POROX ダンス発表会
DESCRIPTION:□日時\n2026年2月8日(日)\nOPEN 11:30-\nSTART 12:00-\nCLOSE 17:35-
URL:https://namura.cc/event/20260208/
ATTACH;FMTTYPE=:
END:VEVENT
BEGIN:VEVENT
DTSTART;VALUE=DATE:20260207
DTEND;VALUE=DATE:20260216
DTSTAMP:20260421T145510
CREATED:20251224T050034Z
LAST-MODIFIED:20251224T050034Z
UID:6481-1770422400-1771199999@namura.cc
SUMMARY:IMME SIVE VOYAGE〜世界を旅する没入型写真展〜
DESCRIPTION:▪️日時\n2026年2月7日(土)〜15日(日)\n※日によって変動しますのでお気をつけください \n7日(土)：11:00 ~ 15:00(プレオープン)/15:30 ~ 20:30(通常営業)\n8日 (日)：11:00 ~ 20:30\n9日 (月)：休館日\n10日 (火)：14:00 ~ 20:30\n11日 (水/祝)：11:00 ~ 20:30\n12日 (木)：休館日\n13日 (金)：14:00 ~ 20:30\n14日 (土)：11:00 ~ 20:30\n15日 (日)：11:00 ~ 20:30 \n▪️チケット\n2\,000円〜 \n▪️詳しくは\nhttps://sites.google.com/view/immersive-voyage/
URL:https://namura.cc/event/20260207-15/
ATTACH;FMTTYPE=image/jpeg:https://namura.cc/wp-content/uploads/2025/12/20260207.jpg
END:VEVENT
BEGIN:VEVENT
DTSTART;VALUE=DATE:20260207
DTEND;VALUE=DATE:20260208
DTSTAMP:20260421T145510
CREATED:20251224T053019Z
LAST-MODIFIED:20251224T053019Z
UID:6496-1770422400-1770508799@namura.cc
SUMMARY:Where the End Begins by WACK
DESCRIPTION:▪️日時\n2026年2月7日(土)\nOPEN：16:00\nSTART：17:00 \n▪️出演\nASP／BiTE A SHOCK／ExWHYZ/KiSS KiSS/GANG PARADE/豆柴の大群 \n▪️チケット\nスタンディング¥5\,000(税込)\nhttps://t.pia.jp/pia/event/event.do?eventBundleCd=b2563810 \n▪️詳しくは\nhttps://www.sound-c.co.jp/schedule/detail/10001/ \n▪️問合せ\nサウンドクリエーター　06‐6357‐4400
URL:https://namura.cc/event/20260207/
ATTACH;FMTTYPE=:
END:VEVENT
BEGIN:VEVENT
DTSTART;VALUE=DATE:20260125
DTEND;VALUE=DATE:20260126
DTSTAMP:20260421T145510
CREATED:20260109T034044Z
LAST-MODIFIED:20260109T034044Z
UID:6514-1769299200-1769385599@namura.cc
SUMMARY:なにわ ink EXPO
DESCRIPTION:▪️日時\n2026年1月25日(日)\n12:00-20:00 \n▪️チケット\n5\,000円＋1ドリンク\n※18歳以下入場無料 \n▪️詳しくは\nhttps://naniwa-ink-expo.jp
URL:https://namura.cc/event/20260125/
ATTACH;FMTTYPE=image/jpeg:https://namura.cc/wp-content/uploads/2026/01/20260125.jpg
END:VEVENT
BEGIN:VEVENT
DTSTART;TZID=Asia/Tokyo:20260116T150000
DTEND;TZID=Asia/Tokyo:20260116T154000
DTSTAMP:20260421T145510
CREATED:20251224T040324Z
LAST-MODIFIED:20251224T040324Z
UID:6464-1768575600-1768578000@namura.cc
SUMMARY:クリエイティブセンター大阪　ミニ見学ツアー vol.188
DESCRIPTION:近代化産業遺産に認定されている「名村造船跡地」=クリエイティブセンター大阪の館内見学ツアーです。\n造船所跡地の施設内をスタッフがご説明しながらご案内致します。\n※ツアー時間は40分程度を予定しております。（途中退場可） \n■日時\n2026年1月16日（金）15:00 ※30-40分程度\nクリエイティブセンター大阪　入口警備員室前集合 \n■参加方法\n予約不要・現地集合／参加費は無料です。\n※動画撮影はNGとしております。 \n■お問合せ\n06-4702-7085（クリエイティブセンター大阪）
URL:https://namura.cc/event/20260116/
ATTACH;FMTTYPE=image/jpeg:https://namura.cc/wp-content/uploads/2022/12/9a1f83b5ea3772fe94e010ead633edc2.jpeg
END:VEVENT
BEGIN:VEVENT
DTSTART;VALUE=DATE:20260111
DTEND;VALUE=DATE:20260112
DTSTAMP:20260421T145510
CREATED:20251224T044003Z
LAST-MODIFIED:20251226T090930Z
UID:6472-1768089600-1768175999@namura.cc
SUMMARY:怪帰大作戦－帰ってきた見世物地獄篇－
DESCRIPTION:▪️日時\n2026年1月11日(日)\n開場：14:00\n開演：15:00 \n▪️チケット\n前売：￥6\,500\n当日：￥7\,000 \n※ドリンク代別途\nhttps://eplus.jp/sf/detail/4395610001-P0030001 \n▪️出演\nストロベリーソングオーケストラ｜大槻ケンヂと絶望苺楽團｜アーバンギャルド｜DEVILOOF｜首振りDolls｜マザリ｜一例｜体現帝国｜ぼけちゃん(笑女歌劇団ヒミツノミヤコ) \n▪️詳しくは\nhttps://dokudenpasha.com \n▪️お問合せ\n秘密倶楽部アニマアニムス\n06-4708-4255\n（月〜金18:00〜24:30 土19:00〜24:30 日曜定休）
URL:https://namura.cc/event/20260111/
ATTACH;FMTTYPE=image/jpeg:https://namura.cc/wp-content/uploads/2025/12/20260111.jpg
END:VEVENT
BEGIN:VEVENT
DTSTART;VALUE=DATE:20260110
DTEND;VALUE=DATE:20260111
DTSTAMP:20260421T145510
CREATED:20251224T045054Z
LAST-MODIFIED:20251226T060354Z
UID:6478-1768003200-1768089599@namura.cc
SUMMARY:Alright Feelin' Special
DESCRIPTION:▪️日時\n2026年1月10日(土)\nOPEN 12:00-\nSTART 13:00- \n▪️チケット\n・チケットをお持ちの方・・・¥1\,000\n・チケットをお持ちでない方・・・¥1\,000 + ¥3\,000（チケット代）\n・本イベントのナンバーに出演する方・・・¥500\n※ チケットは各ナンバー出演者、取置きフォーム、または当日に受付にてお求めください！ \n・参加資格\n24歳以下であること \n▪️詳しくは\nhttps://www.instagram.com/alrightfeelin_college/
URL:https://namura.cc/event/20260110/
ATTACH;FMTTYPE=image/jpeg:https://namura.cc/wp-content/uploads/2025/12/20260110.jpg
END:VEVENT
BEGIN:VEVENT
DTSTART;TZID=Asia/Tokyo:20260105T000000
DTEND;TZID=Asia/Tokyo:20260105T235900
DTSTAMP:20260421T145510
CREATED:20251224T051839Z
LAST-MODIFIED:20251224T051839Z
UID:6494-1767571200-1767657540@namura.cc
SUMMARY:休館日
DESCRIPTION:
URL:https://namura.cc/event/20260105/
ATTACH;FMTTYPE=:
END:VEVENT
BEGIN:VEVENT
DTSTART;TZID=Asia/Tokyo:20260104T000000
DTEND;TZID=Asia/Tokyo:20260104T235900
DTSTAMP:20260421T145510
CREATED:20251224T051739Z
LAST-MODIFIED:20251224T051739Z
UID:6492-1767484800-1767571140@namura.cc
SUMMARY:休館日
DESCRIPTION:
URL:https://namura.cc/event/20260104/
ATTACH;FMTTYPE=:
END:VEVENT
END:VCALENDAR