BEGIN:VCALENDAR
VERSION:2.0
PRODID:-//クリエイティブセンター大阪（CCO） - ECPv6.2.1//NONSGML v1.0//EN
CALSCALE:GREGORIAN
METHOD:PUBLISH
X-ORIGINAL-URL:https://namura.cc
X-WR-CALDESC:クリエイティブセンター大阪（CCO） のイベント
REFRESH-INTERVAL;VALUE=DURATION:PT1H
X-Robots-Tag:noindex
X-PUBLISHED-TTL:PT1H
BEGIN:VTIMEZONE
TZID:Asia/Tokyo
BEGIN:STANDARD
TZOFFSETFROM:+0900
TZOFFSETTO:+0900
TZNAME:JST
DTSTART:20260101T000000
END:STANDARD
END:VTIMEZONE
BEGIN:VEVENT
DTSTART;VALUE=DATE:20260419
DTEND;VALUE=DATE:20260420
DTSTAMP:20260421T092817
CREATED:20260113T015523Z
LAST-MODIFIED:20260113T015523Z
UID:6518-1776556800-1776643199@namura.cc
SUMMARY:コスメル in CCO
DESCRIPTION:□日時\n2026年4月19日(日)\n12:00〜19:00 \n□チケット\nコスプレイヤー 4\,500円\nカメラマン 4\,500円\n※18歳未満参加不可 \n□詳しくは\nhttps://cosmel.link/cco.html
URL:https://namura.cc/event/20260419/
ATTACH;FMTTYPE=image/jpeg:https://namura.cc/wp-content/uploads/2026/01/20260419.jpg
END:VEVENT
BEGIN:VEVENT
DTSTART;VALUE=DATE:20260425
DTEND;VALUE=DATE:20260427
DTSTAMP:20260421T092817
CREATED:20260411T053728Z
LAST-MODIFIED:20260411T053728Z
UID:6633-1777075200-1777247999@namura.cc
SUMMARY:大阪造船所アイドルフェス
DESCRIPTION:▪️日時\n2026年4月25日（土）、26日（日）\nOPEN 10:30 ／ START 11:30　※両日共 \n▪️入場料\n優先: 6\,000円 / 一般 3\,000円（＋各1D）\n当日券:各チケット+1\,000円 \nチケット販売ページはこちら\n1日目　　2日目 \n※入場順はチケットの番号順となります。\n優先▶︎一般▶︎当日優先▶︎当日一般 \n※観覧エリアには、前方エリアがございます。前方エリアは優先チケットをご購入の方のみご入場可能です。\n※チケット購入時には必ず日時と座席をご確認の上お求めください。購入後の変更・払い戻し等は一切できません。\n※チケットは興行中止の場合をのぞいて、他の日時や他の席の公演チケットとの交換または払い戻し等はいたしません。また、興行中止の場合でも交通費や宿泊費などの補償はできません。あらかじめご了承ください。\n※出演者の病気やその他の事由のため、演目・配役などに変更が生じることもありますのであらかじめご承知ください。その場合、払い戻し等はいたしません。その他、記載のない事柄につきましてはスタッフの指示に従っていただきます。スタッフの指示に従っていただけない場合は退場していただき、その際の払い戻しはいたしません。\n※周囲のお客様のご迷惑となる行為はおやめください。スタッフが注意しても聞き入れてもらえない場合は退場していただき、その際の返金はいたしません。\n※イベント当日、高潮注意報などが出た場合、イベントを中止または途中で打ち切りせざるを得ない場合があります。その際のチケットの返金はできませんので予めご了承下さい。 \n▪️詳しくは\nhttps://x.com/Osakazosenjo?s=20
URL:https://namura.cc/event/20260425-26/
ATTACH;FMTTYPE=image/jpeg:https://namura.cc/wp-content/uploads/2026/04/IMG_0845.jpg
END:VEVENT
BEGIN:VEVENT
DTSTART;TZID=Asia/Tokyo:20260428T150000
DTEND;TZID=Asia/Tokyo:20260428T160000
DTSTAMP:20260421T092817
CREATED:20260320T093314Z
LAST-MODIFIED:20260326T071844Z
UID:6606-1777388400-1777392000@namura.cc
SUMMARY:クリエイティブセンター大阪　ミニ見学ツアー vol.191
DESCRIPTION:近代化産業遺産に認定されている「名村造船跡地」=クリエイティブセンター大阪の館内見学ツアーです。\n造船所跡地の施設内をスタッフが説明しながらご案内いたします。 \n■日時\n2026年4月28日（火）15:00〜 \n■参加方法\n予約不要・現地集合\nクリエイティブセンター大阪 入口警備員室前集合 \n■参加費\n無料 \n■備考\n・ツアーの所要時間は、40分〜1時間程度です（途中退場可）。\n・エレベーター設備が無いため、階段の昇り降りがございます。\n・ツアー中の写真撮影は可能ですが、動画撮影はご遠慮ください。 \n■お問合せ\n06-4702-7085（クリエイティブセンター大阪）
URL:https://namura.cc/event/20260428/
ATTACH;FMTTYPE=image/jpeg:https://namura.cc/wp-content/uploads/2026/03/partita_redframe.jpg
END:VEVENT
BEGIN:VEVENT
DTSTART;TZID=Asia/Tokyo:20260525T150000
DTEND;TZID=Asia/Tokyo:20260525T160000
DTSTAMP:20260421T092817
CREATED:20260326T071646Z
LAST-MODIFIED:20260326T071646Z
UID:6615-1779721200-1779724800@namura.cc
SUMMARY:クリエイティブセンター大阪　ミニ見学ツアー vol.192
DESCRIPTION:近代化産業遺産に認定されている「名村造船跡地」=クリエイティブセンター大阪の館内見学ツアーです。\n造船所跡地の施設内をスタッフが説明しながらご案内いたします。 \n■日時\n2026年5月25日（月）15:00〜 \n■参加方法\n予約不要・現地集合\nクリエイティブセンター大阪 入口警備員室前集合 \n■参加費\n無料 \n■備考\n・ツアーの所要時間は、40分〜1時間程度です（途中退場可）。\n・エレベーター設備が無いため、階段の昇り降りがございます。\n・ツアー中の写真撮影は可能ですが、動画撮影はご遠慮ください。 \n■お問合せ\n06-4702-7085（クリエイティブセンター大阪）
URL:https://namura.cc/event/20260525/
ATTACH;FMTTYPE=image/jpeg:https://namura.cc/wp-content/uploads/2026/03/partita_redframe.jpg
END:VEVENT
BEGIN:VEVENT
DTSTART;VALUE=DATE:20260528
DTEND;VALUE=DATE:20260602
DTSTAMP:20260421T092817
CREATED:20260304T090804Z
LAST-MODIFIED:20260304T090804Z
UID:6569-1779926400-1780358399@namura.cc
SUMMARY:ART OSAKA 2026 Expanded Section
DESCRIPTION:□日時\n2026年5月28日(木)～6月1日(月)\n一般公開\n5月28日(木) 13:00–19:00\n5月29日(金)–31日(日) 11:00–19:00\n6月1日(月) 11:00–16:00 \n□チケット\n●ART OSAKA チケット（2セクション入場可能）\n早割チケット 2500円 / ペアチケット 4500円（販売期間：3月4日-4月15日）\n 3\,000円　(オンライン決済)　当日現地払い：3\,500円（販売期間：4月16日~当日まで）\n※Galleriesセクションは小学生以下無料です。但し保護者同伴が必要です。\n※Expandedセクションは大学生以下無料です。但し学生証の提示が必要です。 \n各セクション券もご用意いたします。 \n□詳しくは\nhttps://www.artosaka.jp/2026/jp/
URL:https://namura.cc/event/20260528-0601/
ATTACH;FMTTYPE=image/jpeg:https://namura.cc/wp-content/uploads/2026/03/ART-OSAKA2026_1600_900.jpg
END:VEVENT
BEGIN:VEVENT
DTSTART;VALUE=DATE:20260607
DTEND;VALUE=DATE:20260608
DTSTAMP:20260421T092817
CREATED:20260326T070858Z
LAST-MODIFIED:20260326T070858Z
UID:6612-1780790400-1780876799@namura.cc
SUMMARY:T.i.G skysea ONE MAN LIVE WAKAMiNATi with Unruly BE
DESCRIPTION:▪️日時\n2026年\n6月7日（日）\nOPEN 14:00／START 15:00／CLOSE 20:00 \n▪️入場料\nオールスタンディング（早割）： ¥3\,000\nオールスタンディング：¥4\,000\nオールスタンディング（当日）：¥5\,000\n※それぞれ別途ドリンク代 ¥600 \n■問合せ\nキョードーインフォメーション\nTEL: 0570-200-888（12:00-17:00 ※土日祝除く）
URL:https://namura.cc/event/20260607/
ATTACH;FMTTYPE=image/jpeg:https://namura.cc/wp-content/uploads/2026/03/29708c46f848e897ad0d121551c889ff.jpg
END:VEVENT
BEGIN:VEVENT
DTSTART;VALUE=DATE:20270101
DTEND;VALUE=DATE:20270104
DTSTAMP:20260421T092817
CREATED:20260203T085147Z
LAST-MODIFIED:20260203T085147Z
UID:6538-1798761600-1799020799@namura.cc
SUMMARY:休館日
DESCRIPTION:
URL:https://namura.cc/event/20270101-03/
ATTACH;FMTTYPE=:
END:VEVENT
END:VCALENDAR