BEGIN:VCALENDAR
VERSION:2.0
PRODID:-//クリエイティブセンター大阪（CCO） - ECPv6.2.1//NONSGML v1.0//EN
CALSCALE:GREGORIAN
METHOD:PUBLISH
X-WR-CALNAME:クリエイティブセンター大阪（CCO）
X-ORIGINAL-URL:https://namura.cc
X-WR-CALDESC:クリエイティブセンター大阪（CCO） のイベント
REFRESH-INTERVAL;VALUE=DURATION:PT1H
X-Robots-Tag:noindex
X-PUBLISHED-TTL:PT1H
BEGIN:VTIMEZONE
TZID:Asia/Tokyo
BEGIN:STANDARD
TZOFFSETFROM:+0900
TZOFFSETTO:+0900
TZNAME:JST
DTSTART:20200101T000000
END:STANDARD
END:VTIMEZONE
BEGIN:VEVENT
DTSTART;VALUE=DATE:20201004
DTEND;VALUE=DATE:20201005
DTSTAMP:20260426T124644
CREATED:20230416T070921Z
LAST-MODIFIED:20230416T070921Z
UID:3051-1601769600-1601855999@namura.cc
SUMMARY:VANTAN CUTTING EDGE 2020 ［大阪］
DESCRIPTION:□日時\n2020年10月4日（日） \n□詳しくは\nバンタンカッティングエッジ2020\nhttps://www.vantan.com/special/cuttingedge/osaka/
URL:https://namura.cc/event/2020-10-04/
ATTACH;FMTTYPE=:
END:VEVENT
BEGIN:VEVENT
DTSTART;VALUE=DATE:20201008
DTEND;VALUE=DATE:20201009
DTSTAMP:20260426T124644
CREATED:20230416T070735Z
LAST-MODIFIED:20230511T031304Z
UID:3049-1602115200-1602201599@namura.cc
SUMMARY:クリエイティブセンター大阪　ミニ見学ツアー vol.122
DESCRIPTION:近代化産業遺産に認定されている「名村造船跡地」=クリエイティブセンター大阪の館内見学ツアーです。\n造船所跡地の施設内をスタッフがご説明しながらご案内致します。\n※ツアー時間は40分程度を予定しております。（途中退場可） \n■日時　2020年10月8日（木）15:00 ※40分程度\nクリエイティブセンター大阪　入口警備員室前集合 \n■参加方法\n予約不要・現地集合／参加費は無料です。\n※マスク着用、もしくはご持参ください。 \n■お問合せ\n06-4702-7085（クリエイティブセンター大阪）
URL:https://namura.cc/event/2020-10-08/
ATTACH;FMTTYPE=image/jpeg:https://namura.cc/wp-content/uploads/2022/12/b0f3769176eeffbd5abb90e91461dc87-e1677758490252.jpg
END:VEVENT
BEGIN:VEVENT
DTSTART;VALUE=DATE:20201024
DTEND;VALUE=DATE:20201025
DTSTAMP:20260426T124644
CREATED:20230416T070418Z
LAST-MODIFIED:20230416T070418Z
UID:3047-1603497600-1603583999@namura.cc
SUMMARY:愛媛無双外伝 大阪編 2020
DESCRIPTION:□日時\n2020年10月24日（土）\nOPEN 11:00\nSTART 12:00 \n□チケット\n3\,500円 [オールスタンディング]\n※ドリンク別\nイープラス　https://eplus.jp/emgo/ \n□出演\nBUZZ THE BEARS/EGG BRAIN/GOOD4NOTHING/Hump Back/Nonfiction Cartoons/THE SKIPPERS/SABOTEN/SKA FREAKS/TETORA) \n□お問い合わせ\nサウンドクリエーター\n06-6357-4400\nhttps://www.sound-c.co.jp
URL:https://namura.cc/event/2020-10-24/
ATTACH;FMTTYPE=image/jpeg:https://namura.cc/wp-content/uploads/2023/04/20201022-ehime2020.jpg
END:VEVENT
BEGIN:VEVENT
DTSTART;VALUE=DATE:20201025
DTEND;VALUE=DATE:20201026
DTSTAMP:20260426T124644
CREATED:20230416T070211Z
LAST-MODIFIED:20230416T070211Z
UID:3045-1603584000-1603670399@namura.cc
SUMMARY:SUNSHINEJAM"STAND UP"
DESCRIPTION:□日時\n2020年10月25日(日)\nOPEN ：11:00\nBATTLE START ：12:00\nCLOSE：18:30 \n□料金\nENTRY▶︎3000YEN ( 1CREW 9000YEN )\nWATCH▶︎2000YEN (観戦・入場)\n※小学生以下観戦無料 \n※新型コロナウィルス感染症対策として、密を防ぐことや、換気の面も考え、屋外の会場で開催します。\nまた、会場での検温・アルコール消毒・マスク着用の推奨など、コロナ対策を講じて開催致しますので、ご来場いただく皆様にもご協力お願い申し上げます。 \n□詳しくは\nhttp://et-stage.net/event/NC82NjY1/
URL:https://namura.cc/event/2020-10-25/
ATTACH;FMTTYPE=image/jpeg:https://namura.cc/wp-content/uploads/2023/04/20201020-su20201.jpg
END:VEVENT
BEGIN:VEVENT
DTSTART;VALUE=DATE:20201029
DTEND;VALUE=DATE:20201030
DTSTAMP:20260426T124644
CREATED:20230416T065802Z
LAST-MODIFIED:20230511T031314Z
UID:3043-1603929600-1604015999@namura.cc
SUMMARY:クリエイティブセンター大阪　ミニ見学ツアー vol.123
DESCRIPTION:近代化産業遺産に認定されている「名村造船跡地」=クリエイティブセンター大阪の館内見学ツアーです。\n造船所跡地の施設内をスタッフがご説明しながらご案内致します。\n※ツアー時間は40分程度を予定しております。（途中退場可） \n■日時　2020年10月29日（木）15:00 ※40分程度\nクリエイティブセンター大阪　入口警備員室前集合 \n■参加方法\n予約不要・現地集合／参加費は無料です。\n※マスク着用、もしくはご持参ください。 \n■お問合せ\n06-4702-7085（クリエイティブセンター大阪）
URL:https://namura.cc/event/2020-10-29/
ATTACH;FMTTYPE=image/jpeg:https://namura.cc/wp-content/uploads/2022/12/b0f3769176eeffbd5abb90e91461dc87-e1677758490252.jpg
END:VEVENT
BEGIN:VEVENT
DTSTART;VALUE=DATE:20201031
DTEND;VALUE=DATE:20201101
DTSTAMP:20260426T124644
CREATED:20230416T065411Z
LAST-MODIFIED:20230416T065502Z
UID:3037-1604102400-1604188799@namura.cc
SUMMARY:タソガレコーヒースタンド 4TH ANNIVERSARY PARTY
DESCRIPTION:□日時：\n2020年10月31日(土)\n開場 14:00\n開演 15:00 \n※感染症対策として来場時に以下を実施します。\n・会場内はマスク着用必須\n・検温（37.5度以上は入場不可）\n・メールアドレスの登録\n・手指のアルコール消毒 \n□出演：\nRickie-G / 空音 / ZOMBIE-CHANG / pinoko / ニューリー / asmi / DJ KRO / DJ RYU-G / miyau-D / DJ YEN and more \n□チケット\n前売り：4500円 / 当日：5000円\n※別途1D代要 \nイープラスhttps://eplus.jp/sf/detail/3328820001-P0030001P021002?P1=1221
URL:https://namura.cc/event/2020-10-31/
ATTACH;FMTTYPE=image/jpeg:https://namura.cc/wp-content/uploads/2023/04/20201029-tasogare_4th.jpg
END:VEVENT
END:VCALENDAR