BEGIN:VCALENDAR
VERSION:2.0
PRODID:-//クリエイティブセンター大阪（CCO） - ECPv6.2.1//NONSGML v1.0//EN
CALSCALE:GREGORIAN
METHOD:PUBLISH
X-ORIGINAL-URL:https://namura.cc
X-WR-CALDESC:クリエイティブセンター大阪（CCO） のイベント
REFRESH-INTERVAL;VALUE=DURATION:PT1H
X-Robots-Tag:noindex
X-PUBLISHED-TTL:PT1H
BEGIN:VTIMEZONE
TZID:Asia/Tokyo
BEGIN:STANDARD
TZOFFSETFROM:+0900
TZOFFSETTO:+0900
TZNAME:JST
DTSTART:20210101T000000
END:STANDARD
END:VTIMEZONE
BEGIN:VEVENT
DTSTART;VALUE=DATE:20210207
DTEND;VALUE=DATE:20210208
DTSTAMP:20260426T063958
CREATED:20230416T054154Z
LAST-MODIFIED:20230416T054154Z
UID:2971-1612656000-1612742399@namura.cc
SUMMARY:KAMIYADO KANSAI TOUR 2021
DESCRIPTION:□日時\n2021年2月7日（日）\nOPEN：13:45 / START：14:30 ※FC限定\nOPEN：17:15 / START：18:00 \n□詳しくは\nhttps://kamiyado.jp
URL:https://namura.cc/event/2021-02-07/
ATTACH;FMTTYPE=:
END:VEVENT
BEGIN:VEVENT
DTSTART;VALUE=DATE:20210218
DTEND;VALUE=DATE:20210219
DTSTAMP:20260426T063958
CREATED:20230416T054039Z
LAST-MODIFIED:20230511T030130Z
UID:2969-1613606400-1613692799@namura.cc
SUMMARY:クリエイティブセンター大阪　ミニ見学ツアー vol.130
DESCRIPTION:近代化産業遺産に認定されている「名村造船跡地」=クリエイティブセンター大阪の館内見学ツアーです。\n造船所跡地の施設内をスタッフがご説明しながらご案内致します。\n※ツアー時間は40分程度を予定しております。（途中退場可） \n■日時　2021年2月18日（木）15:00 ※40分程度\nクリエイティブセンター大阪　入口警備員室前集合 \n■参加方法\n予約不要・現地集合／参加費は無料です。\n※マスク着用、もしくはご持参ください。\n※動画撮影はNGとしております。 \n■お問合せ\n06-4702-7085（クリエイティブセンター大阪）
URL:https://namura.cc/event/2021-02-18/
ATTACH;FMTTYPE=image/jpeg:https://namura.cc/wp-content/uploads/2022/12/b0f3769176eeffbd5abb90e91461dc87-e1677758490252.jpg
END:VEVENT
BEGIN:VEVENT
DTSTART;VALUE=DATE:20210225
DTEND;VALUE=DATE:20210226
DTSTAMP:20260426T063958
CREATED:20230416T053912Z
LAST-MODIFIED:20230511T030933Z
UID:2967-1614211200-1614297599@namura.cc
SUMMARY:クリエイティブセンター大阪　ミニ見学ツアー vol.131
DESCRIPTION:近代化産業遺産に認定されている「名村造船跡地」=クリエイティブセンター大阪の館内見学ツアーです。\n造船所跡地の施設内をスタッフがご説明しながらご案内致します。\n※ツアー時間は40分程度を予定しております。（途中退場可） \n■日時　2021年2月25日（木）15:00 ※40分程度\nクリエイティブセンター大阪　入口警備員室前集合 \n■参加方法\n予約不要・現地集合／参加費は無料です。\n※マスク着用、もしくはご持参ください。\n※動画撮影はNGとしております。 \n■お問合せ\n06-4702-7085（クリエイティブセンター大阪）
URL:https://namura.cc/event/2021-02-25/
ATTACH;FMTTYPE=image/jpeg:https://namura.cc/wp-content/uploads/2022/12/b0f3769176eeffbd5abb90e91461dc87-e1677758490252.jpg
END:VEVENT
BEGIN:VEVENT
DTSTART;VALUE=DATE:20210228
DTEND;VALUE=DATE:20210301
DTSTAMP:20260426T063958
CREATED:20230416T053638Z
LAST-MODIFIED:20230416T053638Z
UID:2965-1614470400-1614556799@namura.cc
SUMMARY:VANTAN STUDENT FINAL 2021 ［大阪］
DESCRIPTION:□日時\n2021年2月28日（日）\n14:00- \n□詳しくは\nhttps://www.vantan.co.jp/studentfinal/osaka/
URL:https://namura.cc/event/2021-02-28/
ATTACH;FMTTYPE=image/jpeg:https://namura.cc/wp-content/uploads/2023/04/20210318-vantansf2021.jpg
END:VEVENT
END:VCALENDAR