BEGIN:VCALENDAR
VERSION:2.0
PRODID:-//クリエイティブセンター大阪（CCO） - ECPv6.2.1//NONSGML v1.0//EN
CALSCALE:GREGORIAN
METHOD:PUBLISH
X-ORIGINAL-URL:https://namura.cc
X-WR-CALDESC:クリエイティブセンター大阪（CCO） のイベント
REFRESH-INTERVAL;VALUE=DURATION:PT1H
X-Robots-Tag:noindex
X-PUBLISHED-TTL:PT1H
BEGIN:VTIMEZONE
TZID:Asia/Tokyo
BEGIN:STANDARD
TZOFFSETFROM:+0900
TZOFFSETTO:+0900
TZNAME:JST
DTSTART:20210101T000000
END:STANDARD
END:VTIMEZONE
BEGIN:VEVENT
DTSTART;VALUE=DATE:20210408
DTEND;VALUE=DATE:20210409
DTSTAMP:20260426T034257
CREATED:20230416T044949Z
LAST-MODIFIED:20230511T031009Z
UID:2934-1617840000-1617926399@namura.cc
SUMMARY:クリエイティブセンター大阪　ミニ見学ツアー vol.133
DESCRIPTION:近代化産業遺産に認定されている「名村造船跡地」=クリエイティブセンター大阪の館内見学ツアーです。\n造船所跡地の施設内をスタッフがご説明しながらご案内致します。\n※ツアー時間は40分程度を予定しております。（途中退場可） \n■日時　2021年4月8日（木）15:00 ※40分程度\nクリエイティブセンター大阪　入口警備員室前集合 \n■参加方法\n予約不要・現地集合／参加費は無料です。\n※マスク着用、もしくはご持参ください。\n※動画撮影はNGとしております。 \n■お問合せ\n06-4702-7085（クリエイティブセンター大阪）
URL:https://namura.cc/event/2021-04-08/
ATTACH;FMTTYPE=image/jpeg:https://namura.cc/wp-content/uploads/2022/12/b0f3769176eeffbd5abb90e91461dc87-e1677758490252.jpg
END:VEVENT
BEGIN:VEVENT
DTSTART;VALUE=DATE:20210411
DTEND;VALUE=DATE:20210412
DTSTAMP:20260426T034257
CREATED:20230416T044736Z
LAST-MODIFIED:20230416T044736Z
UID:2931-1618099200-1618185599@namura.cc
SUMMARY:FRESH DANCE STUDIO10周年記念 “CITY ATTACK 零”
DESCRIPTION:□日時\n2021年4月11日（日）\nSTART : 13:00- \n□チケット\n入場チケット : ADV¥3\,000- (入場時にドリンク代500円)\nオンラインチケット : ¥2\,000- \n□詳しくは\nhttps://freshdancestudio.com/news/details/216.html
URL:https://namura.cc/event/2021-04-11/
ATTACH;FMTTYPE=image/jpeg:https://namura.cc/wp-content/uploads/2023/04/20210401-0411ca0.jpg
END:VEVENT
BEGIN:VEVENT
DTSTART;VALUE=DATE:20210420
DTEND;VALUE=DATE:20210421
DTSTAMP:20260426T034257
CREATED:20230416T044503Z
LAST-MODIFIED:20230511T031024Z
UID:2926-1618876800-1618963199@namura.cc
SUMMARY:クリエイティブセンター大阪　ミニ見学ツアー vol.134
DESCRIPTION:近代化産業遺産に認定されている「名村造船跡地」=クリエイティブセンター大阪の館内見学ツアーです。\n造船所跡地の施設内をスタッフがご説明しながらご案内致します。\n※ツアー時間は40分程度を予定しております。（途中退場可） \n■日時　2021年4月20日（火）15:00 ※40分程度\nクリエイティブセンター大阪　入口警備員室前集合 \n■参加方法\n予約不要・現地集合／参加費は無料です。\n※マスク着用、もしくはご持参ください。\n※動画撮影はNGとしております。 \n■お問合せ\n06-4702-7085（クリエイティブセンター大阪）
URL:https://namura.cc/event/2021-04-20/
ATTACH;FMTTYPE=image/jpeg:https://namura.cc/wp-content/uploads/2022/12/b0f3769176eeffbd5abb90e91461dc87-e1677758490252.jpg
END:VEVENT
BEGIN:VEVENT
DTSTART;VALUE=DATE:20210423
DTEND;VALUE=DATE:20210424
DTSTAMP:20260426T034257
CREATED:20230416T044325Z
LAST-MODIFIED:20230416T044325Z
UID:2922-1619136000-1619222399@namura.cc
SUMMARY:【公演延期】RYUBOKU企画vol.1『流木、上か下か。』
DESCRIPTION:□出演\n柄谷吾史・日ノ西賢一・大西千保・泉希衣子 \n□日時\n2021年4月23日～25日【公演延期】\n4/23(金) 16:00-/19:00-\n4/24(土) 13:00-/16:00-/19:00-\n4/25(日) 13:00-/16:00-*トークイベント \n※上演時間は約１時間15分を予定しております。\n※4/25(日)千秋楽後にトークイベント(45分)を開催 \n□チケット\nhttps://quartet-online.net/ticket/ryuboku \n□詳しくは\nhttps://twitter.com/ryubokuk
URL:https://namura.cc/event/2021-04-23/
ATTACH;FMTTYPE=image/jpeg:https://namura.cc/wp-content/uploads/2023/04/20210409-ryubokuo.jpg
END:VEVENT
BEGIN:VEVENT
DTSTART;VALUE=DATE:20210429
DTEND;VALUE=DATE:20210430
DTSTAMP:20260426T034257
CREATED:20230416T044037Z
LAST-MODIFIED:20230416T044037Z
UID:2913-1619654400-1619740799@namura.cc
SUMMARY:【開催延期】キャッツとタソガレ
DESCRIPTION:□日時\n2021年4月29日(木/祝)\nOPEN 14:00 CLOSE 20:00 \n□出演\n田我流 / TOCCHI / Final Weapon Company / TORAUMA / 空音 / kojikoji / DJ RYU-G / DJ HAMAYA / SHOTA-LOW / KINPON and more \n□チケット\n3800円\n別途1D代要 \n□プレイガイド\nイープラス (https://eplus.jp/sf/detail/3410290001-P0030001P021001 ) \n【感染症対策として以下の注意事項をご確認ください】\n※未就学児童のご入場はお断り致します。\n※モッシュ・ダイブ等の危険行為は一切禁止。\n※ご入場時に別途ドリンク代600円をいただきます。\n※未成年でも入場可能です。\n※アルコール類の提供には身分証明書の提示が必要になります。\n※体調の優れない方はご来場をお控えください。\n※マスク着用でご来場ください。\n※入場時に非接触型体温計による検温を行います。\n検温結果により入場をお断りする場合がございます(37.5℃以上の方は入場できません)。\n※入場時に手指へのアルコール消毒をさせていただきます。\n※場内では大声による発声はご遠慮ください。\n※コロナ追跡システムの登録にご協力ください。\n※ガイドラインに沿った運営を行います。\n遵守いただけない場合はご入場をお断りさせて頂きます。
URL:https://namura.cc/event/2021-04-29/
ATTACH;FMTTYPE=image/jpeg:https://namura.cc/wp-content/uploads/2023/04/20210424-catsenki.jpg
END:VEVENT
END:VCALENDAR