BEGIN:VCALENDAR
VERSION:2.0
PRODID:-//クリエイティブセンター大阪（CCO） - ECPv6.2.1//NONSGML v1.0//EN
CALSCALE:GREGORIAN
METHOD:PUBLISH
X-ORIGINAL-URL:https://namura.cc
X-WR-CALDESC:クリエイティブセンター大阪（CCO） のイベント
REFRESH-INTERVAL;VALUE=DURATION:PT1H
X-Robots-Tag:noindex
X-PUBLISHED-TTL:PT1H
BEGIN:VTIMEZONE
TZID:Asia/Tokyo
BEGIN:STANDARD
TZOFFSETFROM:+0900
TZOFFSETTO:+0900
TZNAME:JST
DTSTART:20220101T000000
END:STANDARD
END:VTIMEZONE
BEGIN:VEVENT
DTSTART;VALUE=DATE:20220419
DTEND;VALUE=DATE:20220420
DTSTAMP:20260425T080517
CREATED:20230415T091234Z
LAST-MODIFIED:20230415T091326Z
UID:2684-1650326400-1650412799@namura.cc
SUMMARY:クリエイティブセンター大阪　ミニ見学ツアー vol.147
DESCRIPTION:近代化産業遺産に認定されている「名村造船跡地」=クリエイティブセンター大阪の館内見学ツアーです。\n造船所跡地の施設内をスタッフがご説明しながらご案内致します。\n※ツアー時間は40分程度を予定しております。（途中退場可） \n■日時\n2022年 4月19日（火）15:00 ※40分程度\nクリエイティブセンター大阪　入口警備員室前集合 \n■参加方法\n予約不要・現地集合／参加費は無料です。\n※マスク着用、もしくはご持参ください。\n※動画撮影はNGとしております。 \n■お問合せ\n06-4702-7085（クリエイティブセンター大阪）
URL:https://namura.cc/event/2022-04-19/
ATTACH;FMTTYPE=image/jpeg:https://namura.cc/wp-content/uploads/2022/12/b0f3769176eeffbd5abb90e91461dc87-e1677758490252.jpg
END:VEVENT
BEGIN:VEVENT
DTSTART;VALUE=DATE:20220424
DTEND;VALUE=DATE:20220425
DTSTAMP:20260425T080517
CREATED:20230415T091015Z
LAST-MODIFIED:20230415T091030Z
UID:2682-1650758400-1650844799@namura.cc
SUMMARY:MARVELOUS FES 2022
DESCRIPTION:□日時\n2022年4月24日（日）\nOPEN 14:00 / CLOSE 21:00 \n□チケット\n完売\n※当日券ございません。 \n□詳しくは
URL:https://namura.cc/event/2022-04-24/
ATTACH;FMTTYPE=image/jpeg:https://namura.cc/wp-content/uploads/2023/04/20220412-marv2022.jpg
END:VEVENT
BEGIN:VEVENT
DTSTART;VALUE=DATE:20220430
DTEND;VALUE=DATE:20220501
DTSTAMP:20260425T080517
CREATED:20230415T090848Z
LAST-MODIFIED:20230415T090858Z
UID:2677-1651276800-1651363199@namura.cc
SUMMARY:Re:Connect
DESCRIPTION:□日時\n2022年4月30日 (土)\n15:00 – 20:30 \n□チケット\n¥4000- \n□詳しくは\nhttps://re-connect.zaiko.io/e/2022-0430
URL:https://namura.cc/event/2022-04-30/
ATTACH;FMTTYPE=image/jpeg:https://namura.cc/wp-content/uploads/2023/04/20220421-reconnect.jpg
END:VEVENT
END:VCALENDAR