BEGIN:VCALENDAR
VERSION:2.0
PRODID:-//クリエイティブセンター大阪（CCO） - ECPv6.2.1//NONSGML v1.0//EN
CALSCALE:GREGORIAN
METHOD:PUBLISH
X-WR-CALNAME:クリエイティブセンター大阪（CCO）
X-ORIGINAL-URL:https://namura.cc
X-WR-CALDESC:クリエイティブセンター大阪（CCO） のイベント
REFRESH-INTERVAL;VALUE=DURATION:PT1H
X-Robots-Tag:noindex
X-PUBLISHED-TTL:PT1H
BEGIN:VTIMEZONE
TZID:Asia/Tokyo
BEGIN:STANDARD
TZOFFSETFROM:+0900
TZOFFSETTO:+0900
TZNAME:JST
DTSTART:20220101T000000
END:STANDARD
END:VTIMEZONE
BEGIN:VEVENT
DTSTART;VALUE=DATE:20221103
DTEND;VALUE=DATE:20221104
DTSTAMP:20260424T040951
CREATED:20230415T070846Z
LAST-MODIFIED:20230415T070857Z
UID:2583-1667433600-1667519999@namura.cc
SUMMARY:サナギ vol 1.0
DESCRIPTION:□日時\n2022年11月3日(木祝）\n一部 13:00開演\n二部 15:30開演\n三部 18:00開演\n※オールスタンディング式となり、ショー終了後、展示会場へと変化します。 \n□チケット\n大人¥1500-\n学生¥1000-\n※受付にて学生証の提示をお願い致します。\n※チケットはサナギ Instagramのプロフィールに記載されているGoogleチケットフォームにてお申し込み下さい。 \n□詳しくは\nサナギInstagram
URL:https://namura.cc/event/2022-11-03/
ATTACH;FMTTYPE=image/jpeg:https://namura.cc/wp-content/uploads/2023/04/20221022-sanagi.jpg
END:VEVENT
BEGIN:VEVENT
DTSTART;VALUE=DATE:20221105
DTEND;VALUE=DATE:20221106
DTSTAMP:20260424T040951
CREATED:20230415T070558Z
LAST-MODIFIED:20230415T070611Z
UID:2581-1667606400-1667692799@namura.cc
SUMMARY:第3次スーパーロボコス大展
DESCRIPTION:□日時\n2022年\n11月5日（土）10:00-17:00\n11月6日（日）10:00-17:00 \n□入場料\nFREE \n□詳しくは\nhttps://www.s-r-e-2022.com
URL:https://namura.cc/event/2022-11-05/
ATTACH;FMTTYPE=image/jpeg:https://namura.cc/wp-content/uploads/2023/04/20221030-robocos2022.jpg
END:VEVENT
BEGIN:VEVENT
DTSTART;VALUE=DATE:20221106
DTEND;VALUE=DATE:20221107
DTSTAMP:20260424T040951
CREATED:20230415T070444Z
LAST-MODIFIED:20230415T070943Z
UID:2579-1667692800-1667779199@namura.cc
SUMMARY:DROP POROX ダンス発表会
DESCRIPTION:□日時\n2022年11月6日(日)\nOPEN 10:30-\nSTART 11:00- \n□詳しくは\nhttps://www.instagram.com/porox_dance/?hl=ja
URL:https://namura.cc/event/2022-11-06/
ATTACH;FMTTYPE=:
END:VEVENT
BEGIN:VEVENT
DTSTART;VALUE=DATE:20221113
DTEND;VALUE=DATE:20221114
DTSTAMP:20260424T040951
CREATED:20230415T070249Z
LAST-MODIFIED:20230416T011430Z
UID:2577-1668297600-1668383999@namura.cc
SUMMARY:すみのえアート・ビート2022
DESCRIPTION:□日時\n2022年11月13日(日)\n11:00-16:00 \n□入場料\n無料\n※雨天決行\n※会場へは公共交通機関でお越しください。\nできれば車でのご来場は御遠慮いただくとありがたいです。 \n□詳しくは\nhttps://suminoeartbeat.wixsite.com/home
URL:https://namura.cc/event/2022-11-13/
ATTACH;FMTTYPE=image/jpeg:https://namura.cc/wp-content/uploads/2023/04/20221007-suminoe2022.jpg
END:VEVENT
BEGIN:VEVENT
DTSTART;VALUE=DATE:20221118
DTEND;VALUE=DATE:20221119
DTSTAMP:20260424T040951
CREATED:20230415T070056Z
LAST-MODIFIED:20230415T070100Z
UID:2575-1668729600-1668815999@namura.cc
SUMMARY:菊地成孔とペペ・トルメント・アスカラール　コンサート2022 AW　大阪club side/standing
DESCRIPTION:□日時\n2022年11月18日(金)\n開場 19:00-\n開演 19:30- \n□チケット\nスタンディング¥6\,500 (税込・ドリンク代別途必要）\n※入場は整理番号順に行います。\n※入場時マスクの着用を必須とします。 \n□詳しくは\nhttps://kyodo-osaka.co.jp/search/detail/5609
URL:https://namura.cc/event/2022-11-18/
ATTACH;FMTTYPE=image/jpeg:https://namura.cc/wp-content/uploads/2023/04/20220930-kn1118.jpg
END:VEVENT
BEGIN:VEVENT
DTSTART;VALUE=DATE:20221120
DTEND;VALUE=DATE:20221121
DTSTAMP:20260424T040951
CREATED:20230415T065753Z
LAST-MODIFIED:20230415T065834Z
UID:2573-1668902400-1668988799@namura.cc
SUMMARY:MARVELOUS FES -12TH ANNIVERSARY-
DESCRIPTION:□日時\n2022年11月20日（日）\nOPEN 14:00-\nCLOSE 21:00- \n□入場料\n¥1\,000-(別途1Drink/1Food)\n※6才未満入場無料 \n□詳しくは\nhttps://www.instagram.com/marvelous_group/
URL:https://namura.cc/event/2022-11-20/
ATTACH;FMTTYPE=image/jpeg:https://namura.cc/wp-content/uploads/2023/04/20221115-marvelous12.jpg
END:VEVENT
BEGIN:VEVENT
DTSTART;VALUE=DATE:20221125
DTEND;VALUE=DATE:20221126
DTSTAMP:20260424T040951
CREATED:20230415T065326Z
LAST-MODIFIED:20230415T065343Z
UID:2571-1669334400-1669420799@namura.cc
SUMMARY:クリエイティブセンター大阪　ミニ見学ツアー vol.154
DESCRIPTION:近代化産業遺産に認定されている「名村造船跡地」=クリエイティブセンター大阪の館内見学ツアーです。\n造船所跡地の施設内をスタッフがご説明しながらご案内致します。\n※ツアー時間は40分程度を予定しております。（途中退場可） \n■日時\n2022年11月25日（金）15:00 ※30-40分程度\nクリエイティブセンター大阪　入口警備員室前集合 \n■参加方法\n予約不要・現地集合／参加費は無料です。\n※マスク着用、もしくはご持参ください。\n※動画撮影はNGとしております。 \n■お問合せ\n06-4702-7085（クリエイティブセンター大阪）
URL:https://namura.cc/event/2022-11-25/
ATTACH;FMTTYPE=image/jpeg:https://namura.cc/wp-content/uploads/2022/12/b0f3769176eeffbd5abb90e91461dc87-e1677758490252.jpg
END:VEVENT
BEGIN:VEVENT
DTSTART;VALUE=DATE:20221126
DTEND;VALUE=DATE:20221127
DTSTAMP:20260424T040951
CREATED:20230415T065030Z
LAST-MODIFIED:20230415T070901Z
UID:2569-1669420800-1669507199@namura.cc
SUMMARY:アリス九號.　TOUR 2022 LAST DANCE ACT.2「Graced The Beautiful Story」
DESCRIPTION:□日時\n2022年11月26日(土)\nOPEN 17:00 / START 17:30 \n□チケット\n【全自由】￥8\,000 (税込／ドリンク代別途必要)\n一般発売日：10月22日(土)AM10:00発売 \n□詳しくは\nhttps://www.sound-c.co.jp/schedule/detail/7131/ \n□お問い合わせ\nサウンドクリエーター 06-6357-4400
URL:https://namura.cc/event/2022-11-26/
ATTACH;FMTTYPE=:
END:VEVENT
BEGIN:VEVENT
DTSTART;VALUE=DATE:20221127
DTEND;VALUE=DATE:20221128
DTSTAMP:20260424T040951
CREATED:20230415T064446Z
LAST-MODIFIED:20230415T064900Z
UID:2561-1669507200-1669593599@namura.cc
SUMMARY:SYMBOL KOBE vol.19
DESCRIPTION:□日時\n2022年11月27日(日）\nOPEN 13:30-\nSTART 14:00-\nCLOSE 20:00- \n□詳しくは\nhttps://www.instagram.com/symbol_kobe/
URL:https://namura.cc/event/2022-11-27/
ATTACH;FMTTYPE=image/jpeg:https://namura.cc/wp-content/uploads/2023/04/20221120-symbolk19.jpg
END:VEVENT
END:VCALENDAR