BEGIN:VCALENDAR
VERSION:2.0
PRODID:-//クリエイティブセンター大阪（CCO） - ECPv6.2.1//NONSGML v1.0//EN
CALSCALE:GREGORIAN
METHOD:PUBLISH
X-ORIGINAL-URL:https://namura.cc
X-WR-CALDESC:クリエイティブセンター大阪（CCO） のイベント
REFRESH-INTERVAL;VALUE=DURATION:PT1H
X-Robots-Tag:noindex
X-PUBLISHED-TTL:PT1H
BEGIN:VTIMEZONE
TZID:Asia/Tokyo
BEGIN:STANDARD
TZOFFSETFROM:+0900
TZOFFSETTO:+0900
TZNAME:JST
DTSTART:20230101T000000
END:STANDARD
END:VTIMEZONE
BEGIN:VEVENT
DTSTART;VALUE=DATE:20230103
DTEND;VALUE=DATE:20230104
DTSTAMP:20260424T011345
CREATED:20230415T060119Z
LAST-MODIFIED:20230415T060128Z
UID:2474-1672704000-1672790399@namura.cc
SUMMARY:寿君 おめでた夜2023 -東阪SPECIAL BAND SHOW TOUR-
DESCRIPTION:□日時\n2023年1月3日(火)\n17:00 \n□チケット\n¥6000-\nドリンク代別途必要\nオールスタンディング\n入場整理番号付\n※3歳以上 有料/3歳未満 入場不可 \n□詳しくは\nhttps://kyodo-osaka.co.jp/search/detail/5328
URL:https://namura.cc/event/2023-01-03/
ATTACH;FMTTYPE=:
END:VEVENT
BEGIN:VEVENT
DTSTART;VALUE=DATE:20230114
DTEND;VALUE=DATE:20230115
DTSTAMP:20260424T011345
CREATED:20230415T054731Z
LAST-MODIFIED:20230415T054736Z
UID:2449-1673654400-1673740799@namura.cc
SUMMARY:4th Album Release Oneman "画鋲" in Osaka
DESCRIPTION:□日時\n2023年1月14日（土）\nOPEN 15:30\nSTART 16:30\n□チケット\n前売り￥2\,500/当日券￥3\,000\n※別途１ドリンク代金６００円必要\n・チケット発売日 2023年12月21日 10:00\n・イープラス : https://eplus.jp/sf/detail/3777950001-P0030001 \n□主催\nbetcover!! 企画:Matsuo\n□協力\ncircus
URL:https://namura.cc/event/2023-01-14/
ATTACH;FMTTYPE=image/jpeg:https://namura.cc/wp-content/uploads/2023/04/20221224-betcover2023.jpg
END:VEVENT
BEGIN:VEVENT
DTSTART;VALUE=DATE:20230114
DTEND;VALUE=DATE:20230115
DTSTAMP:20260424T011345
CREATED:20230415T054956Z
LAST-MODIFIED:20230415T063648Z
UID:2458-1673654400-1673740799@namura.cc
SUMMARY:Alright Feelin' Special
DESCRIPTION:□日時\n2023年1月14日（土）\nOPEN 12:30-\nSTART 13:30-\nCLOSE 20:00- \n□詳しくは\nhttps://www.instagram.com/alrightfeelin_japan/
URL:https://namura.cc/event/2023-01-14-2/
ATTACH;FMTTYPE=image/png:https://namura.cc/wp-content/uploads/2023/04/20221228-2023afs-SP.png
END:VEVENT
BEGIN:VEVENT
DTSTART;VALUE=DATE:20230122
DTEND;VALUE=DATE:20230123
DTSTAMP:20260424T011345
CREATED:20230415T054440Z
LAST-MODIFIED:20230415T063603Z
UID:2441-1674345600-1674431999@namura.cc
SUMMARY:ベトナムテト3
DESCRIPTION:□日時\n2023年1月22日(日)\nOPEN 10:00-\nSTART: 10:30- \n□入場料\n無料 \n□詳しくは\nhttps://www.facebook.com/hiephoithuongmainhatviet/)
URL:https://namura.cc/event/2023-01-22/
ATTACH;FMTTYPE=image/jpeg:https://namura.cc/wp-content/uploads/2023/04/20230111-teto2023.jpg
END:VEVENT
BEGIN:VEVENT
DTSTART;VALUE=DATE:20230125
DTEND;VALUE=DATE:20230126
DTSTAMP:20260424T011345
CREATED:20230415T054114Z
LAST-MODIFIED:20230415T054217Z
UID:2435-1674604800-1674691199@namura.cc
SUMMARY:クリエイティブセンター大阪　ミニ見学ツアー vol.156
DESCRIPTION:近代化産業遺産に認定されている「名村造船跡地」=クリエイティブセンター大阪の館内見学ツアーです。\n造船所跡地の施設内をスタッフがご説明しながらご案内致します。\n※ツアー時間は40分程度を予定しております。（途中退場可） \n■日時\n2023年1月25日（水）15:00 ※30-40分程度\nクリエイティブセンター大阪　入口警備員室前集合 \n■参加方法\n予約不要・現地集合／参加費は無料です。\n※マスク着用、もしくはご持参ください。\n※動画撮影はNGとしております。 \n■お問合せ\n06-4702-7085（クリエイティブセンター大阪）
URL:https://namura.cc/event/2023-01-25/
ATTACH;FMTTYPE=image/jpeg:https://namura.cc/wp-content/uploads/2022/12/b0f3769176eeffbd5abb90e91461dc87-e1677758490252.jpg
END:VEVENT
BEGIN:VEVENT
DTSTART;VALUE=DATE:20230128
DTEND;VALUE=DATE:20230129
DTSTAMP:20260424T011345
CREATED:20230415T053958Z
LAST-MODIFIED:20230415T054001Z
UID:2421-1674864000-1674950399@namura.cc
SUMMARY:Rickie-G 2nd Full Album Release Tour
DESCRIPTION:□日時\n2023年1月28日(土) \nライブ時間等詳細については随時更新いたします。
URL:https://namura.cc/event/2023-01-28/
ATTACH;FMTTYPE=image/jpeg:https://namura.cc/wp-content/uploads/2023/04/20221115-rickiegflyer.jpg
END:VEVENT
END:VCALENDAR