BEGIN:VCALENDAR
VERSION:2.0
PRODID:-//クリエイティブセンター大阪（CCO） - ECPv6.2.1//NONSGML v1.0//EN
CALSCALE:GREGORIAN
METHOD:PUBLISH
X-WR-CALNAME:クリエイティブセンター大阪（CCO）
X-ORIGINAL-URL:https://namura.cc
X-WR-CALDESC:クリエイティブセンター大阪（CCO） のイベント
REFRESH-INTERVAL;VALUE=DURATION:PT1H
X-Robots-Tag:noindex
X-PUBLISHED-TTL:PT1H
BEGIN:VTIMEZONE
TZID:Asia/Tokyo
BEGIN:STANDARD
TZOFFSETFROM:+0900
TZOFFSETTO:+0900
TZNAME:JST
DTSTART:20230101T000000
END:STANDARD
END:VTIMEZONE
BEGIN:VEVENT
DTSTART;VALUE=DATE:20230902
DTEND;VALUE=DATE:20230903
DTSTAMP:20260423T094723
CREATED:20230819T065839Z
LAST-MODIFIED:20230907T102500Z
UID:4451-1693612800-1693699199@namura.cc
SUMMARY:Improve vol.9
DESCRIPTION:□日時\n2023年9月2日(土)\nOPEN 12:00-\nSTART 13:00-\nCLOSE 20:00- \n□料金\n1ENTRY 3000円\n※3entryで2000円引\n※1drink 300円 \n□詳しくは\nhttps://www.instagram.com/improve_house/
URL:https://namura.cc/event/2023-09-02/
ATTACH;FMTTYPE=image/jpeg:https://namura.cc/wp-content/uploads/2023/08/20230814-improve9.jpg
END:VEVENT
BEGIN:VEVENT
DTSTART;VALUE=DATE:20230903
DTEND;VALUE=DATE:20230904
DTSTAMP:20260423T094723
CREATED:20230902T082536Z
LAST-MODIFIED:20230907T102433Z
UID:4489-1693699200-1693785599@namura.cc
SUMMARY:関西音楽万博
DESCRIPTION:□日時\n2023年9月3日(日)\nOPEN12:00- \n□チケット\n前売り　¥4500-\n当日 ¥5000- \n□詳しくは\nhttps://kanbaku.com
URL:https://namura.cc/event/2023-09-03/
ATTACH;FMTTYPE=image/jpeg:https://namura.cc/wp-content/uploads/2023/09/kansaipnpaku400.jpg
END:VEVENT
BEGIN:VEVENT
DTSTART;VALUE=DATE:20230910
DTEND;VALUE=DATE:20230911
DTSTAMP:20260423T094723
CREATED:20230902T082304Z
LAST-MODIFIED:20230902T082304Z
UID:4486-1694304000-1694390399@namura.cc
SUMMARY:ZERO vol.1
DESCRIPTION:□日時\n2023年9月10日（日）\nOPEN 12:00-\nSTART 13:00-\nCLOSE 21:00- \n□チケット\nADV ¥2500-\nDOOR ¥3000-\n※別途ドリンク¥500- \n□詳しくは
URL:https://namura.cc/event/2023-09-10/
ATTACH;FMTTYPE=image/jpeg:https://namura.cc/wp-content/uploads/2023/09/zero400.jpg
END:VEVENT
BEGIN:VEVENT
DTSTART;VALUE=DATE:20230916
DTEND;VALUE=DATE:20230917
DTSTAMP:20260423T094723
CREATED:20230908T035332Z
LAST-MODIFIED:20230908T035423Z
UID:4626-1694822400-1694908799@namura.cc
SUMMARY:SEA SIDE TOUR 2023 in Osaka『SEA SIDE FES 』
DESCRIPTION:□日時\n2023年9月16日(土)\nOPEN 15:00\nSTART(SHADY ONEMAN LIVE) 19:00~\nCLOSE 21:00 \n□チケット\n前売 4500 円\n当日5000 円(共に入場時 1D 別要) \n□詳しくは\nhttps://www.instagram.com/shady1988gk/
URL:https://namura.cc/event/20230916/
ATTACH;FMTTYPE=image/jpeg:https://namura.cc/wp-content/uploads/2023/09/ssf0916.jpg
END:VEVENT
BEGIN:VEVENT
DTSTART;VALUE=DATE:20230917
DTEND;VALUE=DATE:20230918
DTSTAMP:20260423T094723
CREATED:20230902T082044Z
LAST-MODIFIED:20230908T021329Z
UID:4483-1694908800-1694995199@namura.cc
SUMMARY:BOC vol.2
DESCRIPTION:□日時\n2023年9月17日（日）\nOPEN 13:00- \n□チケット\n¥2500-+1drink¥500 \n□詳しくは\nhttps://www.instagram.com/base_of_connection/
URL:https://namura.cc/event/boc-vol-2/
ATTACH;FMTTYPE=image/jpeg:https://namura.cc/wp-content/uploads/2023/09/boc2400.jpg
END:VEVENT
BEGIN:VEVENT
DTSTART;TZID=Asia/Tokyo:20230921T150000
DTEND;TZID=Asia/Tokyo:20230921T154000
DTSTAMP:20260423T094723
CREATED:20230908T043831Z
LAST-MODIFIED:20230908T043831Z
UID:4630-1695308400-1695310800@namura.cc
SUMMARY:クリエイティブセンター大阪　ミニ見学ツアー vol.163
DESCRIPTION:近代化産業遺産に認定されている「名村造船跡地」=クリエイティブセンター大阪の館内見学ツアーです。\n造船所跡地の施設内をスタッフがご説明しながらご案内致します。\n※ツアー時間は40分程度を予定しております。（途中退場可） \n■日時\n2023年9月21日（木）15:00 ※30-40分程度\nクリエイティブセンター大阪　入口警備員室前集合 \n■参加方法\n予約不要・現地集合／参加費は無料です。\n※マスク着用、もしくはご持参ください。\n※動画撮影はNGとしております。 \n■お問合せ\n06-4702-7085（クリエイティブセンター大阪）
URL:https://namura.cc/event/20230921/
ATTACH;FMTTYPE=image/jpeg:https://namura.cc/wp-content/uploads/2022/12/b0f3769176eeffbd5abb90e91461dc87-e1677758490252.jpg
END:VEVENT
BEGIN:VEVENT
DTSTART;VALUE=DATE:20230922
DTEND;VALUE=DATE:20230923
DTSTAMP:20260423T094723
CREATED:20230915T052530Z
LAST-MODIFIED:20230915T052758Z
UID:4720-1695340800-1695427199@namura.cc
SUMMARY:すたんぴっ！による、おたんぴっ！のためのすたんぴっ！だけのフェス ティバル
DESCRIPTION:■日時\n2023年9月22日(金)\nOPEN 17:30\nSTART 18:30 \n■チケット\nカメラ席　15\,000円（限定Tシャツ付き）\n優先入場　10\,000円（限定Tシャツ付き）\n手売り　2\,000円（ブロマイド付き）\nワンコインエリア　500円 \n■詳しくは\nhttps://www.mme.tokyo/stanpi
URL:https://namura.cc/event/20230922/
ATTACH;FMTTYPE=image/png:https://namura.cc/wp-content/uploads/2023/09/nophoto.png
END:VEVENT
BEGIN:VEVENT
DTSTART;VALUE=DATE:20230923
DTEND;VALUE=DATE:20230925
DTSTAMP:20260423T094723
CREATED:20230915T042705Z
LAST-MODIFIED:20230922T031023Z
UID:4715-1695427200-1695599999@namura.cc
SUMMARY:大阪造船所アイドルフェスmini
DESCRIPTION:□日時\n2023年\n9月23日(土) OPEN 10:30　 START 11:30\n9月24日(日) OPEN 10:30　 START 11:30 \n□チケット\n・9月23日チケットURL\nhttps://t.livepocket.jp/e/zosenjo230923\n・9月24日チケットURL\nhttps://t.livepocket.jp/e/zosenjo230924 \n□詳しくは\nhttps://twitter.com/Osakazosenjo \n 
URL:https://namura.cc/event/20230923-24/
ATTACH;FMTTYPE=image/jpeg:https://namura.cc/wp-content/uploads/2023/09/2023092324idol.jpeg
END:VEVENT
BEGIN:VEVENT
DTSTART;VALUE=DATE:20230930
DTEND;VALUE=DATE:20231001
DTSTAMP:20260423T094723
CREATED:20230911T055443Z
LAST-MODIFIED:20230911T060444Z
UID:4684-1696032000-1696118399@namura.cc
SUMMARY:狩人 JAM THE FINAL
DESCRIPTION:□日時\n2023年9月30日(土)\n10:20-21:00 \n□ENTRY&観戦\n¥3\,000(+1DRINK/当日エントリーは+¥500） \n□詳しくは \nhttps://www.instagram.com/kariudojam/
URL:https://namura.cc/event/20230930%ef%bd%82/
ATTACH;FMTTYPE=image/jpeg:https://namura.cc/wp-content/uploads/2023/09/kariudojamfinal.jpg
END:VEVENT
BEGIN:VEVENT
DTSTART;VALUE=DATE:20230930
DTEND;VALUE=DATE:20231001
DTSTAMP:20260423T094723
CREATED:20230922T070958Z
LAST-MODIFIED:20230922T082921Z
UID:4747-1696032000-1696118399@namura.cc
SUMMARY:SUMINOE TRIBE 2023
DESCRIPTION:■日時\n2023年9月30日(土)\nOPEN 13:00- \n■チケット\n前売り ￥3\,000-\n当日 ￥3\,500-\n18歳未満 ￥1\,500-\n未就学児 入場無料\n※入場時、受付にて別途ドリンク代（￥500）をいただきます。\n※18歳未満の方は、身分証のご提示をお願いする場合があります。 \n※レッドフレームエリア入場無料 \n■詳しくは\nhttps://suminoetribe.net
URL:https://namura.cc/event/20230930%ef%bd%90/
ATTACH;FMTTYPE=image/jpeg:https://namura.cc/wp-content/uploads/2023/09/st2023.jpg
END:VEVENT
END:VCALENDAR