BEGIN:VCALENDAR
VERSION:2.0
PRODID:-//クリエイティブセンター大阪（CCO） - ECPv6.2.1//NONSGML v1.0//EN
CALSCALE:GREGORIAN
METHOD:PUBLISH
X-ORIGINAL-URL:https://namura.cc
X-WR-CALDESC:クリエイティブセンター大阪（CCO） のイベント
REFRESH-INTERVAL;VALUE=DURATION:PT1H
X-Robots-Tag:noindex
X-PUBLISHED-TTL:PT1H
BEGIN:VTIMEZONE
TZID:Asia/Tokyo
BEGIN:STANDARD
TZOFFSETFROM:+0900
TZOFFSETTO:+0900
TZNAME:JST
DTSTART:20230101T000000
END:STANDARD
END:VTIMEZONE
BEGIN:VEVENT
DTSTART;VALUE=DATE:20231202
DTEND;VALUE=DATE:20231203
DTSTAMP:20260423T045604
CREATED:20231107T033214Z
LAST-MODIFIED:20231107T033429Z
UID:5133-1701475200-1701561599@namura.cc
SUMMARY:reunion2023 -リユニオン-
DESCRIPTION:■日時\n2023年12月2日(土)\nOPEN 13:00-\nSTART 15:00- \n■チケット\n◯前売り ¥ 4\,000 [当日 ¥ 5\,000]\n(中学生以下半額 / 未就学児童無料)\n＊別途ワンドリンク代 600円を当日ご用意ください \n◯オンラインチケット\n¥ 2\,500 \n■詳しくは\nhttps://www.you-glowlys.com/reunion2023
URL:https://namura.cc/event/20231202/
ATTACH;FMTTYPE=image/jpeg:https://namura.cc/wp-content/uploads/2023/11/reunion2023.jpg
END:VEVENT
BEGIN:VEVENT
DTSTART;VALUE=DATE:20231203
DTEND;VALUE=DATE:20231204
DTSTAMP:20260423T045604
CREATED:20231129T011830Z
LAST-MODIFIED:20231130T022034Z
UID:5215-1701561600-1701647999@namura.cc
SUMMARY:ARAKI PARTY #3【大阪】
DESCRIPTION:□日時\n2023年12月3日(日)\n1部[OPEN/START] 14:15/15:00\n2部[OPEN/START] 17:45/18:30 \n□チケット\nスタンディング(整理番号付き)\n￥4\,649 (税込・ドリンク代別)　\n※3歳以上有料\n※未就学児のみ、非会員でも同行者としてご来場いただけます。 \n□お問合せ\n・INFO(お問い合わせ)\naraki.information@gmail.com \n・詳しくは\nhttps://araki-axiz.com/schedules/30225?r=s51oc0
URL:https://namura.cc/event/20231203/
ATTACH;FMTTYPE=image/jpeg:https://namura.cc/wp-content/uploads/2023/11/PARTY3.jpg
END:VEVENT
BEGIN:VEVENT
DTSTART;VALUE=DATE:20231209
DTEND;VALUE=DATE:20231210
DTSTAMP:20260423T045604
CREATED:20231128T035654Z
LAST-MODIFIED:20231203T042449Z
UID:5211-1702080000-1702166399@namura.cc
SUMMARY:MARVELOUS  13TH ANNIVERSARY
DESCRIPTION:□日時\n2023年12月9日(土)\nOPEN 14:00\nCLOSE 21:00 \n□チケット\n¥1\,000\n※6歳未満入場無料\n※入場の際に別途¥2\,000必要(2drink1food代) \n□詳しくは\nhttps://www.instagram.com/marvelous_group/
URL:https://namura.cc/event/20231209/
ATTACH;FMTTYPE=image/jpeg:https://namura.cc/wp-content/uploads/2023/11/231209.jpeg
END:VEVENT
BEGIN:VEVENT
DTSTART;VALUE=DATE:20231210
DTEND;VALUE=DATE:20231211
DTSTAMP:20260423T045604
CREATED:20231125T040628Z
LAST-MODIFIED:20231125T040651Z
UID:5207-1702166400-1702252799@namura.cc
SUMMARY:SYMBOL OSAKA vol.20
DESCRIPTION:□日時\n2023年12月10日(日)\nOPEN 12:00-\nCLOSE 20:00- \n□詳しくは\nhttps://www.instagram.com/symbol_osaka/
URL:https://namura.cc/event/20231210/
ATTACH;FMTTYPE=image/png:https://namura.cc/wp-content/uploads/2023/11/20231210.png
END:VEVENT
BEGIN:VEVENT
DTSTART;TZID=Asia/Tokyo:20231215T150000
DTEND;TZID=Asia/Tokyo:20231215T154000
DTSTAMP:20260423T045604
CREATED:20231129T012714Z
LAST-MODIFIED:20231129T012714Z
UID:5218-1702652400-1702654800@namura.cc
SUMMARY:クリエイティブセンター大阪　ミニ見学ツアー vol.166
DESCRIPTION:近代化産業遺産に認定されている「名村造船跡地」=クリエイティブセンター大阪の館内見学ツアーです。\n造船所跡地の施設内をスタッフがご説明しながらご案内致します。\n※ツアー時間は40分程度を予定しております。（途中退場可） \n■日時\n2023年12月15日（金）15:00 ※30-40分程度\nクリエイティブセンター大阪　入口警備員室前集合 \n■参加方法\n予約不要・現地集合／参加費は無料です。\n※マスク着用、もしくはご持参ください。\n※動画撮影はNGとしております。 \n■お問合せ\n06-4702-7085（クリエイティブセンター大阪）
URL:https://namura.cc/event/20231215/
ATTACH;FMTTYPE=image/jpeg:https://namura.cc/wp-content/uploads/2022/12/b0f3769176eeffbd5abb90e91461dc87-e1677758490252.jpg
END:VEVENT
BEGIN:VEVENT
DTSTART;VALUE=DATE:20231226
DTEND;VALUE=DATE:20231227
DTSTAMP:20260423T045604
CREATED:20231221T041956Z
LAST-MODIFIED:20231221T042536Z
UID:5270-1703548800-1703635199@namura.cc
SUMMARY:GOOD TIME -Winter fes- DAY1
DESCRIPTION:□日時\n2023年12月26日(火)\nOpen：13:00\nStart：14:00 \n□チケット\n3\,500円＋500円(1ドリンク)\n＊ドリンク500円は当日入場時の支払い \n□詳しくは\nhttps://t.livepocket.jp/e/pnboy
URL:https://namura.cc/event/20231226/
ATTACH;FMTTYPE=image/jpeg:https://namura.cc/wp-content/uploads/2023/12/20231226a.jpeg
END:VEVENT
BEGIN:VEVENT
DTSTART;VALUE=DATE:20231227
DTEND;VALUE=DATE:20231228
DTSTAMP:20260423T045604
CREATED:20231221T042106Z
LAST-MODIFIED:20231221T042242Z
UID:5274-1703635200-1703721599@namura.cc
SUMMARY:GOOD TIME -Winter fes- DAY2
DESCRIPTION:□日時\n2023年12月27日(水)\nOpen：13:00\nStart：14:00 \n□チケット\n3\,500円＋500円(1ドリンク)\n＊ドリンク500円は当日入場時の支払い \n□詳しくは\nhttps://t.livepocket.jp/e/sztv4
URL:https://namura.cc/event/20231227/
ATTACH;FMTTYPE=image/jpeg:https://namura.cc/wp-content/uploads/2023/12/20231227a.jpeg
END:VEVENT
BEGIN:VEVENT
DTSTART;VALUE=DATE:20231230
DTEND;VALUE=DATE:20231231
DTSTAMP:20260423T045604
CREATED:20231109T011543Z
LAST-MODIFIED:20231226T005352Z
UID:5145-1703894400-1703980799@namura.cc
SUMMARY:Starfestival Closing 2023
DESCRIPTION:■日時\n2023年12月30日\n\nOPEN 20:00-5:00 \n\n■出演者 :\n\nGREEN ASSASSIN DOLLARL.O.S.TSKIN ON SKINLONDON ELEKTRICITYMC YALLAH & SCOTCH ROLEXゆるふわギャングANCHORSONGHEAVEN_goodbyeforever_SINJIN HAWKE & ZORA JONESFULLHOUSEFUMIYA TANAKAYOSHINORI SUNAHARAKOZEE-VISUAL-\n\n\n■チケット情報 :\n\n前売 : 5000円　当日 : 6\,000円 \n\nイープラス : https://eplus.jp/sf/detail/3994000001-P0030001Zaiko : https://circus.zaiko.io/e/starfestivalclosing2023チケットぴあ : http://ticket.pia.jp/pia/event.ds?eventCd=2342199\n\n\n■詳しくは
URL:https://namura.cc/event/20231230/
ATTACH;FMTTYPE=image/jpeg:https://namura.cc/wp-content/uploads/2023/11/TSF_CLOSING_2023.jpeg
END:VEVENT
BEGIN:VEVENT
DTSTART;VALUE=DATE:20231231
DTEND;VALUE=DATE:20240101
DTSTAMP:20260423T045604
CREATED:20231027T080435Z
LAST-MODIFIED:20231121T015440Z
UID:5113-1703980800-1704067199@namura.cc
SUMMARY:FUTURE TERROR
DESCRIPTION:今年21周年を迎えたFUTURE TERRORが新たな時代に向けて一歩を踏み出した6月の聖地UNIT に続いて大晦日は規模を拡大し大阪は名村造船所で開催。\nFTにゆかりのあるDJ、バンドを交えドメスティックなラインナップにこだわり新年を迎えます。\n\n■日時\n2023年12月31日(日) \n\n■チケット\n前売 : 5000YEN\n当日券 : 6000YEN\nチケットぴあ：http://ticket.pia.jp/pia/event.ds?eventCd=2340071\nイープラス : https://eplus.jp/sf/detail/3985340001-P0030001\n\nZAIKO : https://circus.zaiko.io/e/futureterrorosaka \n■出演者 : ・ROOM1:Studio Partita.  LIVE : GEZAN / goat \nDJ’s : ∈Y∋ / Shhhhh / imus / DJ HI-C / LoeSound design : KabamixDecoration : AKARIYALighting : Ruriko Hosono・ROOM2 : Black Chamber.DJ’s : Haruka / OCCA / DJ Nobu / ELLI ARAKAWA / SakumaVJ KozeeSound design : YORI・ROOM2 : Open Air.DJ’s : AKIRAM EN / YAMA / You Forgot / Chanaz / SSSSSHIN\n\n\n■詳しくは\nhttp://circus-osaka.com/event/future-terror/
URL:https://namura.cc/event/20231231/
ATTACH;FMTTYPE=image/jpeg:https://namura.cc/wp-content/uploads/2023/10/20231231-2.jpg
END:VEVENT
END:VCALENDAR