BEGIN:VCALENDAR
VERSION:2.0
PRODID:-//クリエイティブセンター大阪（CCO） - ECPv6.2.1//NONSGML v1.0//EN
CALSCALE:GREGORIAN
METHOD:PUBLISH
X-ORIGINAL-URL:https://namura.cc
X-WR-CALDESC:クリエイティブセンター大阪（CCO） のイベント
REFRESH-INTERVAL;VALUE=DURATION:PT1H
X-Robots-Tag:noindex
X-PUBLISHED-TTL:PT1H
BEGIN:VTIMEZONE
TZID:Asia/Tokyo
BEGIN:STANDARD
TZOFFSETFROM:+0900
TZOFFSETTO:+0900
TZNAME:JST
DTSTART:20240101T000000
END:STANDARD
END:VTIMEZONE
BEGIN:VEVENT
DTSTART;VALUE=DATE:20240801
DTEND;VALUE=DATE:20240802
DTSTAMP:20260422T171319
CREATED:20240718T053236Z
LAST-MODIFIED:20240718T053236Z
UID:5577-1722470400-1722556799@namura.cc
SUMMARY:GOOD TIME -summer fes-
DESCRIPTION:□日時\n2024年8月1日(木)\nOPEN 13:00　\nSTART 14:00　 \n□チケット\n3\,500円＋500円(1ドリンク)\n＊ドリンク500円は当日入場時の支払い \n□詳しくは\nhttps://t.livepocket.jp/e/v6j2t
URL:https://namura.cc/event/20240801/
ATTACH;FMTTYPE=image/jpeg:https://namura.cc/wp-content/uploads/2024/07/20240801.jpeg
END:VEVENT
BEGIN:VEVENT
DTSTART;VALUE=DATE:20240804
DTEND;VALUE=DATE:20240805
DTSTAMP:20260422T171319
CREATED:20240724T061834Z
LAST-MODIFIED:20240724T062001Z
UID:5574-1722729600-1722815999@namura.cc
SUMMARY:NATUMATURI
DESCRIPTION:□日時\n2024年8月4日（日）\n0PEN 12:30-\nSTART 13:30- \n□チケット\n¥4\,000- +1ドリンク \n□詳しくは\nhttps://www.instagram.com/na_tsu_matsuri2024/
URL:https://namura.cc/event/20240804/
ATTACH;FMTTYPE=image/png:https://namura.cc/wp-content/uploads/2024/07/20240804-1.png
END:VEVENT
BEGIN:VEVENT
DTSTART;VALUE=DATE:20240810
DTEND;VALUE=DATE:20240811
DTSTAMP:20260422T171319
CREATED:20240718T071930Z
LAST-MODIFIED:20240718T071930Z
UID:5580-1723248000-1723334399@namura.cc
SUMMARY:Alright Feelin' Summer Special
DESCRIPTION:□日時\nOPEN 12:00-\nSTART 13:00-\nCLOSE 20:00- \n□詳しくは\nhttps://www.instagram.com/alrightfeelin_japan/
URL:https://namura.cc/event/20240810/
ATTACH;FMTTYPE=image/png:https://namura.cc/wp-content/uploads/2024/07/20240810.png
END:VEVENT
BEGIN:VEVENT
DTSTART;VALUE=DATE:20240816
DTEND;VALUE=DATE:20240819
DTSTAMP:20260422T171319
CREATED:20240801T113904Z
LAST-MODIFIED:20240801T114309Z
UID:5605-1723766400-1724025599@namura.cc
SUMMARY:新作音楽公演「歌と逆に。歌に。」
DESCRIPTION:□日時\n2024年8月16日（金）〜18日（日）\n　①8月16日（金）19:30-\n　②8月17日（土）14:30-\n　③8月17日（土）19:30-\n　④8月18日（日）14:30-\n　※開場は各開演の30分前を予定 \n□チケット\n一般＝4\,000円、U25＝3\,000円\n当日＝5\,000円 \nZAIKOイベントページにて https://toritomokai.zaiko.io/ \n□詳しくは\nhttps://www.instagram.com/utagyaku \n□クレジット\n作曲：日野浩志郎\n詩・構成：池田昇太郎\n出演：池田昇太郎、坂井遥香、白丸たくト、田上敦巳、谷口かんな、中川裕貴、日野浩志郎\n舞台監督：小林勇陽\n音響：西川文章\n照明：中山奈美\n美術：LOYALTY FLOWERS\n宣伝美術：大槻智央\n宣伝写真：Katja Stuke & Oliver Sieber、Richard James Dunn\n宣伝・記録編集：永江大\n記録映像：Nishi Junnosuke\n記録写真：井上嘉和、Richard James Dunn\n制作：伴朱音\n主催：株式会社鳥友会、日野浩志郎\n共催：一般財団法人 おおさか創造千島財団「KCVセレクション」\n助成：大阪市助成事業、全国税理士共栄会\n協力：大阪文学学校、エル・ライブラリー\n問合：utagyaku@gmail.com
URL:https://namura.cc/event/20240816-18/
ATTACH;FMTTYPE=image/jpeg:https://namura.cc/wp-content/uploads/2024/08/hinoflyer.jpg
END:VEVENT
BEGIN:VEVENT
DTSTART;VALUE=DATE:20240821
DTEND;VALUE=DATE:20240822
DTSTAMP:20260422T171319
CREATED:20240801T054015Z
LAST-MODIFIED:20240801T054049Z
UID:5601-1724198400-1724284799@namura.cc
SUMMARY:SOUND SHOCK2024
DESCRIPTION:□日時\n2024年8月21日（水）\nOPEN 10:30\nSTART 11:00 \n□チケット\n2000円＋ドリンク代（500円）\nタオル付きチケット：2500円＋ドリンク代（500円） \n□詳しくは\nhttps://www.sound-shock.com
URL:https://namura.cc/event/20240821/
ATTACH;FMTTYPE=image/png:https://namura.cc/wp-content/uploads/2024/08/Soundshock2024.png
END:VEVENT
BEGIN:VEVENT
DTSTART;VALUE=DATE:20240824
DTEND;VALUE=DATE:20240826
DTSTAMP:20260422T171319
CREATED:20240819T030302Z
LAST-MODIFIED:20240819T030302Z
UID:5618-1724457600-1724630399@namura.cc
SUMMARY:miniちかっぱ祭ver.13.0inOSAKA
DESCRIPTION:□日時\n2024年\n8月24日(土)　開場10:30／開演11:30\n8月25日(日） 開場10:30／開演11:30  \n□チケット\n各日VIPチケット前売り券：12\,000円(当日1ドリンク600円別途必要)\n各日一般チケット前売り券 ：6\,000円(当日1ドリンク600円別途必要）\n※当日券の販売は状況によりご案内となります。\nhttps://tiget.net/events/337472 \n□詳しくは\nhttps://info6970450.wixsite.com/my-site
URL:https://namura.cc/event/20240824-25/
ATTACH;FMTTYPE=image/png:https://namura.cc/wp-content/uploads/2024/08/2024082425tikappa.png
END:VEVENT
BEGIN:VEVENT
DTSTART;VALUE=DATE:20240826
DTEND;VALUE=DATE:20240827
DTSTAMP:20260422T171319
CREATED:20240819T053453Z
LAST-MODIFIED:20240819T053453Z
UID:5621-1724630400-1724716799@namura.cc
SUMMARY:MARVELOUS summer
DESCRIPTION:□日時\n2024年8月26日(月)\nOPEN 14:00\nCLOSE 21:00 \n□チケット\nTICKET ¥1\,000\n※12歳未満入場無料のみ無料\n※入場の際に別途¥2\,000必要(2drink+1food代) \n□詳しくは\nhttps://www.instagram.com/marvelous_group/
URL:https://namura.cc/event/20240826/
ATTACH;FMTTYPE=image/jpeg:https://namura.cc/wp-content/uploads/2024/08/20240826.jpeg
END:VEVENT
BEGIN:VEVENT
DTSTART;TZID=Asia/Tokyo:20240829T150000
DTEND;TZID=Asia/Tokyo:20240829T154000
DTSTAMP:20260422T171319
CREATED:20240726T064717Z
LAST-MODIFIED:20240828T063950Z
UID:5593-1724943600-1724946000@namura.cc
SUMMARY:［中止］クリエイティブセンター大阪　ミニ見学ツアー vol.175
DESCRIPTION:お知らせ\n台風10号の接近にともない、8月29日に予定しておりました見学ツアーは中止させていただきます。\n（次回は未定ですが、9月の中旬ごろを検討しております。） \n申し訳ございませんが、ご了承いただければと思います。 \n＝＝＝＝＝＝＝＝＝＝＝＝＝＝ \n近代化産業遺産に認定されている「名村造船跡地」=クリエイティブセンター大阪の館内見学ツアーです。\n造船所跡地の施設内をスタッフがご説明しながらご案内致します。\n※ツアー時間は40分程度を予定しております。（途中退場可） \n■日時\n2024年8月29日（木）15:00 ※30-40分程度\nクリエイティブセンター大阪　入口警備員室前集合 \n■参加方法\n予約不要・現地集合／参加費は無料です。\n※マスク着用、もしくはご持参ください。\n※動画撮影はNGとしております。 \n■お問合せ\n06-4702-7085（クリエイティブセンター大阪）
URL:https://namura.cc/event/20240829/
ATTACH;FMTTYPE=image/jpeg:https://namura.cc/wp-content/uploads/2022/12/9a1f83b5ea3772fe94e010ead633edc2.jpeg
END:VEVENT
BEGIN:VEVENT
DTSTART;VALUE=DATE:20240831
DTEND;VALUE=DATE:20240902
DTSTAMP:20260422T171319
CREATED:20240809T052258Z
LAST-MODIFIED:20240829T170759Z
UID:5613-1725062400-1725235199@namura.cc
SUMMARY:［延期］NEW TC テント先行発表会！
DESCRIPTION:【 イベント延期のお知らせ 】\n・\n今週末に大阪市で予定しておりました【新製品「ウータTC」の先行発表会】は、台風10号の接近に伴う暴風・大雨が予想されるため、下記の通り延期とさせていただきます。\n・\n////// 延期日程 //////\n●場所／クリエイティブセンター大阪\n●日時／2024年9月28日（土）10:00〜17:00、29日（日）10:00〜16:00\n・\n本イベントへの参加をご予定されていた皆様には、多大なご迷惑をお掛けする事をお詫び申し上げます。\n・\n※ウータTCのWEBサイトへの情報公開は、9月3日を予定しております。大阪での展示イベントは情報公開後になる事をご了承ください。 \nhttps://www.instagram.com/zanearts_outdoor/p/C_PZCrUv6ku/ \n\n□日時\n2024年\n8月31日（土）\n9月1日（日） \n□展示製品\nNEWウータS、NEWウータL、クク1、クク2、ギモーグ、ロロ、ゼクーM、ギギ2 予定\n※会場の状況によって展示内容を変更する場合がございます。 \n□入場料\n無料 \n□詳しくは\nhttps://zanearts.com/blogs/journal/
URL:https://namura.cc/event/20240831-0901/
ATTACH;FMTTYPE=image/png:https://namura.cc/wp-content/uploads/2024/08/2024TCTENTenki.png
END:VEVENT
END:VCALENDAR