BEGIN:VCALENDAR
VERSION:2.0
PRODID:-//クリエイティブセンター大阪（CCO） - ECPv6.2.1//NONSGML v1.0//EN
CALSCALE:GREGORIAN
METHOD:PUBLISH
X-ORIGINAL-URL:https://namura.cc
X-WR-CALDESC:クリエイティブセンター大阪（CCO） のイベント
REFRESH-INTERVAL;VALUE=DURATION:PT1H
X-Robots-Tag:noindex
X-PUBLISHED-TTL:PT1H
BEGIN:VTIMEZONE
TZID:Asia/Tokyo
BEGIN:STANDARD
TZOFFSETFROM:+0900
TZOFFSETTO:+0900
TZNAME:JST
DTSTART:20250101T000000
END:STANDARD
END:VTIMEZONE
BEGIN:VEVENT
DTSTART;VALUE=DATE:20250504
DTEND;VALUE=DATE:20250505
DTSTAMP:20260422T005049
CREATED:20250416T033847Z
LAST-MODIFIED:20250416T034107Z
UID:6033-1746316800-1746403199@namura.cc
SUMMARY:55［FIFTY FIVE］
DESCRIPTION:□日時\n2025年5月4日（日）\nOPEN:14:30- \n□チケット\n前売り券　¥3\,000- + 1D\n当日券　¥3\,500- + 1D\n※1DRINK ¥600- \n□詳しくは\nhttps://www.instagram.com/55_fiftyfive_/
URL:https://namura.cc/event/20250504/
ATTACH;FMTTYPE=image/jpeg:https://namura.cc/wp-content/uploads/2025/04/20250504.jpeg
END:VEVENT
BEGIN:VEVENT
DTSTART;VALUE=DATE:20250510
DTEND;VALUE=DATE:20250511
DTSTAMP:20260422T005049
CREATED:20250430T060851Z
LAST-MODIFIED:20250430T060851Z
UID:6053-1746835200-1746921599@namura.cc
SUMMARY:唱店街-SHOWTENGAI-
DESCRIPTION:□日時\n2025年5月10日（土）\nOPEN 12:00-\nSTART 13:30-\nCLOSE 19:00- \n□チケット\n ¥4\,000-(1D.1F付き)※小学生以下無料 \n□詳しくは\nhttps://www.instagram.com/showtengai/
URL:https://namura.cc/event/20250510/
ATTACH;FMTTYPE=image/jpeg:https://namura.cc/wp-content/uploads/2025/04/20250510.jpg
END:VEVENT
BEGIN:VEVENT
DTSTART;VALUE=DATE:20250511
DTEND;VALUE=DATE:20250512
DTSTAMP:20260422T005049
CREATED:20250427T071446Z
LAST-MODIFIED:20250427T071446Z
UID:6046-1746921600-1747007999@namura.cc
SUMMARY:share vol.4
DESCRIPTION:□ CONTENTS\nNUMBER SHOWCASE / 50n5 SHUFFLE BATTLE / SPECIAL CONTENTS \n□日時\n2025年5月11日(日)\n13:00-20:00 (12:30ライブOPEN) \n□入場料\ndoor:2\,500（battle ently:+500） \n□ CAST\nDJ: takaaki / IDX\, shun\, S-ONE from KANADE x Rooftop / KOYAMAHOUSE \nAs our 25th onniversary party\, SHARE is a place for mony people\, both current and alumni\, to gather and socialize.\nEnjoy good music\, good dancing\, and good drinks. As a fomily that has danced in the same place\, it is a good time to discuss our history. You may also went to share the skills you have honed and share the love you heve for dance. Groove\, vibe\, flow\, and feel the moment with your whole body. We will give you a poge to color your life. We hope this event will make you want to continue dancing more\, and make you feel that parties are fun. We hope this event will make you want to keep on dancing.\nWith love to all cultures…
URL:https://namura.cc/event/20250511/
ATTACH;FMTTYPE=image/jpeg:https://namura.cc/wp-content/uploads/2025/04/20250511.jpeg
END:VEVENT
BEGIN:VEVENT
DTSTART;VALUE=DATE:20250517
DTEND;VALUE=DATE:20250518
DTSTAMP:20260422T005049
CREATED:20250404T014515Z
LAST-MODIFIED:20250404T024328Z
UID:6019-1747440000-1747526399@namura.cc
SUMMARY:山千世界 sanzensekai
DESCRIPTION:□日時\n2025年5月17日（土）\n10:00 ~ 16:30（最終入場16:00） \n□入場料\n500円　※中学生以下無料 \n□詳しくは\nhttps://www.instagram.com/sanzensekai_osaka/
URL:https://namura.cc/event/20250517/
ATTACH;FMTTYPE=image/jpeg:https://namura.cc/wp-content/uploads/2025/04/20250517.jpg
END:VEVENT
BEGIN:VEVENT
DTSTART;VALUE=DATE:20250518
DTEND;VALUE=DATE:20250519
DTSTAMP:20260422T005049
CREATED:20250510T053226Z
LAST-MODIFIED:20250510T053226Z
UID:6070-1747526400-1747612799@namura.cc
SUMMARY:HARUROC2025
DESCRIPTION:□日時\n2025年5月18日（日）\nOpen 12:30\nStart 13:30 \n□チケット\n前売自由 ¥4\,000［1drink代 入場時別途 ¥600］\n当日自由 ¥4\,500［1drink代 入場時別途 ¥600］ \n□詳しくは\nhttps://camuro.jp/haruroc2025/
URL:https://namura.cc/event/20250518/
ATTACH;FMTTYPE=image/jpeg:https://namura.cc/wp-content/uploads/2025/05/20250518.jpg
END:VEVENT
BEGIN:VEVENT
DTSTART;TZID=Asia/Tokyo:20250525T110000
DTEND;TZID=Asia/Tokyo:20250525T150000
DTSTAMP:20260422T005049
CREATED:20250328T041314Z
LAST-MODIFIED:20250525T015407Z
UID:6004-1748170800-1748185200@namura.cc
SUMMARY:クリエイティブセンター大阪 de フリマ
DESCRIPTION:本日雨天により主催者の判断で中止となっております。 \n□日時\n2025年5月25日(日)\n11:00～15:00（予定）\n※雨天順延 \n□入場料\n無料 \n□詳しくは\nhttps://swapmeet.ne.jp/info/placedetail.html?placeId=P038 \n□お問合せ\n日本スワップミート協会\nTEL: 06-6312-2220
URL:https://namura.cc/event/20250525/
ATTACH;FMTTYPE=image/jpeg:https://namura.cc/wp-content/uploads/2025/03/20250429hurima.jpg
END:VEVENT
BEGIN:VEVENT
DTSTART;TZID=Asia/Tokyo:20250529T150000
DTEND;TZID=Asia/Tokyo:20250529T154000
DTSTAMP:20260422T005049
CREATED:20250429T053612Z
LAST-MODIFIED:20250524T051638Z
UID:6050-1748530800-1748533200@namura.cc
SUMMARY:クリエイティブセンター大阪　ミニ見学ツアー vol.181
DESCRIPTION:近代化産業遺産に認定されている「名村造船跡地」=クリエイティブセンター大阪の館内見学ツアーです。\n造船所跡地の施設内をスタッフがご説明しながらご案内致します。\n※ツアー時間は40分程度を予定しております。（途中退場可） \n■日時\n2025年5月29日（木）15:00 ※30-40分程度\nクリエイティブセンター大阪　入口警備員室前集合 \n■参加方法\n予約不要・現地集合／参加費は無料です。\n※マスク着用、もしくはご持参ください。\n※動画撮影はNGとしております。 \n■お問合せ\n06-4702-7085（クリエイティブセンター大阪）
URL:https://namura.cc/event/20250529/
ATTACH;FMTTYPE=image/jpeg:https://namura.cc/wp-content/uploads/2022/12/9a1f83b5ea3772fe94e010ead633edc2.jpeg
END:VEVENT
END:VCALENDAR