BEGIN:VCALENDAR
VERSION:2.0
PRODID:-//クリエイティブセンター大阪（CCO） - ECPv6.2.1//NONSGML v1.0//EN
CALSCALE:GREGORIAN
METHOD:PUBLISH
X-WR-CALNAME:クリエイティブセンター大阪（CCO）
X-ORIGINAL-URL:https://namura.cc
X-WR-CALDESC:クリエイティブセンター大阪（CCO） のイベント
REFRESH-INTERVAL;VALUE=DURATION:PT1H
X-Robots-Tag:noindex
X-PUBLISHED-TTL:PT1H
BEGIN:VTIMEZONE
TZID:Asia/Tokyo
BEGIN:STANDARD
TZOFFSETFROM:+0900
TZOFFSETTO:+0900
TZNAME:JST
DTSTART:20250101T000000
END:STANDARD
END:VTIMEZONE
BEGIN:VEVENT
DTSTART;VALUE=DATE:20250602
DTEND;VALUE=DATE:20250610
DTSTAMP:20260421T230353
CREATED:20250611T083038Z
LAST-MODIFIED:20250611T083038Z
UID:6106-1748822400-1749513599@namura.cc
SUMMARY:ラバー・ダック特別展示
DESCRIPTION:オランダ人アーティスト フロレンタイン・ホフマンによる高さ 9.5Mの巨大なアヒルのアート作品《ラバー・ダック》がクリエイティブセンター大阪のドックに登場します。 \n□展示期間\n2025年6月2日（月）～9日（月） \n□入場料\n無料 \n□詳しくは\nhttps://chishima-foundation.com/topics/press/20250509.html
URL:https://namura.cc/event/20250602-9/
ATTACH;FMTTYPE=image/jpeg:https://namura.cc/wp-content/uploads/2025/06/8d1bea54a0892e844dcfcc8d9b2a251a.jpg
END:VEVENT
BEGIN:VEVENT
DTSTART;VALUE=DATE:20250605
DTEND;VALUE=DATE:20250610
DTSTAMP:20260421T230353
CREATED:20250513T052731Z
LAST-MODIFIED:20250513T052731Z
UID:6076-1749081600-1749513599@namura.cc
SUMMARY:ART OSAKA 2025  Expanded Section
DESCRIPTION:□日時\n2025年6月5日(木)–9日(月)\n一般公開\n6月5日(木) 13:00-19:00\n6月6日(金)-8日(日) 11:00-19:00\n6月9日(月) 11:00-17:00 \n□チケット\n●ART OSAKA チケット（2セクション入場可能）\nオンラインチケット： 3\,500円\n当日券： 4\,000円\n※小学生以下は無料です。但し保護者同伴が必要です。 \n●Expandedチケット\nオンラインチケット： 1\,500円\n当日券： 2\,000円\n※大学生以下は無料です。但し学生証の提示が必要です。 \n□詳しくは\nhttps://www.artosaka.jp/2025/jp/
URL:https://namura.cc/event/20250605-9/
ATTACH;FMTTYPE=image/jpeg:https://namura.cc/wp-content/uploads/2025/05/ARTOSAKA2025.jpg
END:VEVENT
BEGIN:VEVENT
DTSTART;VALUE=DATE:20250614
DTEND;VALUE=DATE:20250616
DTSTAMP:20260421T230353
CREATED:20250607T071234Z
LAST-MODIFIED:20250611T083723Z
UID:6101-1749859200-1750031999@namura.cc
SUMMARY:Nepal Festival Osaka
DESCRIPTION:□日時\n2025年\n6月14日(土) 10:00-21:00\n6月15日(日) 10:00-20:00 \n□入場料\n入場無料 \n□詳しくは\nイベントの詳細は、ネパールフェスティバルの公式Facebookページ「Nepal Festival Osaka Official」にて順次ご案内いたします。\nWe will inform you more details about this event via Nepal Festival’s Facebook ” Nepal Festival osaka Official
URL:https://namura.cc/event/20250614-15/
ATTACH;FMTTYPE=image/jpeg:https://namura.cc/wp-content/uploads/2025/06/20250614-15.jpg
END:VEVENT
BEGIN:VEVENT
DTSTART;TZID=Asia/Tokyo:20250626T150000
DTEND;TZID=Asia/Tokyo:20250626T154000
DTSTAMP:20260421T230353
CREATED:20250529T070328Z
LAST-MODIFIED:20250529T070328Z
UID:6086-1750950000-1750952400@namura.cc
SUMMARY:クリエイティブセンター大阪　ミニ見学ツアー vol.182
DESCRIPTION:近代化産業遺産に認定されている「名村造船跡地」=クリエイティブセンター大阪の館内見学ツアーです。\n造船所跡地の施設内をスタッフがご説明しながらご案内致します。\n※ツアー時間は40分程度を予定しております。（途中退場可） \n■日時\n2025年6月26日（木）15:00 ※30-40分程度\nクリエイティブセンター大阪　入口警備員室前集合 \n■参加方法\n予約不要・現地集合／参加費は無料です。\n※マスク着用、もしくはご持参ください。\n※動画撮影はNGとしております。 \n■お問合せ\n06-4702-7085（クリエイティブセンター大阪）
URL:https://namura.cc/event/20250626/
ATTACH;FMTTYPE=image/jpeg:https://namura.cc/wp-content/uploads/2022/12/9a1f83b5ea3772fe94e010ead633edc2.jpeg
END:VEVENT
BEGIN:VEVENT
DTSTART;TZID=Asia/Tokyo:20250629T110000
DTEND;TZID=Asia/Tokyo:20250629T150000
DTSTAMP:20260421T230353
CREATED:20250328T041553Z
LAST-MODIFIED:20250328T041747Z
UID:6006-1751194800-1751209200@namura.cc
SUMMARY:クリエイティブセンター大阪 de フリマ
DESCRIPTION:□日時\n2025年6月29日(日)\n11:00～15:00（予定）\n※雨天順延 \n□入場料\n無料 \n□詳しくは\nhttps://swapmeet.ne.jp/info/placedetail.html?placeId=P038 \n□お問合せ\n日本スワップミート協会\nTEL: 06-6312-2220
URL:https://namura.cc/event/20250629/
ATTACH;FMTTYPE=image/jpeg:https://namura.cc/wp-content/uploads/2025/03/20250429hurima.jpg
END:VEVENT
END:VCALENDAR